{"text_format":"1","workbook":"xlsx","n_sheets":5,"sheets":["Invoer","DataIKNL","Berekening","TabelOndergrens","Sheet1"],"not_rendered":{"charts":0,"images":0,"macros":1,"external_links":0,"defined_names":5,"comments":0,"pivot_tables":0},"unopened":[],"bounds":{"document_bytes":16777216,"sheet_cells":100000,"rows_first":2000,"rows_last":500,"rows_between":2000,"halvings":0,"cell_chars":16384,"cell_head_chars":4096},"cells_cut":0,"cells_raw":0,"read":"whole","date_system":"1900"}

{"sheet":"Invoer","index":0,"n_rows":35,"n_cols":19,"rows_kept":35,"cut":false,"hidden":false,"merged":[[10,5,10,6],[11,5,11,6],[5,10,34,16],[21,5,34,8],[12,0,12,3],[7,2,7,3],[8,0,8,1],[7,0,7,1],[14,7,14,8],[14,5,14,6],[1,2,1,4],[2,2,2,4],[1,0,1,1],[2,0,2,1],[9,5,9,6],[3,2,3,4]]}
["Info berekening",null,null,null,null,null,null,null,null,null,null,null,null,null,null,null,null,null,"Alle tumoren"]
["Locatie:",null,null,null,null,null,null,null,null,null,null,null,null,null,null,null,null,null,"Acute leukemie (ALL+AML)"]
["Ref. nummer: ",null,null,null,null,null,null,null,null,null,null,null,null,null,null,null,null,null,"Long & Luchtpijp"]
["Berekende periode:",null,{"$f":"Invoer!B11-(Invoer!A11-1)&\" jaar\"","v":"16 jaar"},null,null,null,null,null,null,null,null,null,null,null,null,null,null,null,"Mesothelioom"]
[null,null,null,null,null,null,null,null,null,null,"Instructies"]
[null,null,null,null,null,null,null,null,null,null,"Stap 1:\nVul in het linkerdeel alle grijze velden in.\n\nHet gaat om\n- De periode waarmee je het aantal kankerpatiënten wil vergelijken (default 10 jaar)\n- Het type kanker waar het over gaat (alle typen samen, leukemie, longkanker)\n- Het aantal mensen in de betreffende buurt per leeftijd, apart voor mannen en vrouwen\n- Kies het spreidingspercentage van de berekening onder Betrouwbaarheidsinterval\n  (standaard 98), bijvoorbeeld:\n      - 95%-spreiding (boven- en ondergrens = 0,025), bij grote groepen\n      - 99%-spreiding (boven- en ondergrens = 0,005), bij zeldzame vormen van kanker.\n\nStap 2:\nVoer de berekening uit door te klikken op ‘bereken verwachte aantal’ \n\nStap 3:\nLees in het rechterdeel af in welk interval het verwachte aantal valt in een buurt met deze leeftijdsopbouw en verdeling over man/vrouw. De spreiding bij ‘mannen+vrouwen’ is geen optelsom van de spreiding bij mannen en vrouwen apart. Bij ‘mannen+vrouwen’ gaat het namelijk om een grotere groep mensen. De spreiding (toevalsvariatie) is dan relatief minder groot.\n\nNB: \nDe achtergronden en interpretatie van deze cijfers zijn beschreven in de richtlijn ‘kankerclusters’ (RIVM rapport 609400002). Raadpleeg deze richtlijn bij het gebruik van deze cijfers.\n"]
[null,null,null,null,null,"Verwachte aantal op basis van landelijke incidentie"]
["Periode",null,"Kankersoort",null,null,{"$f":"\"in \"&Invoer!B11-(Invoer!A11-1)&\" jaar tijd\"","v":"in 16 jaar tijd"}]
[" (1989 tot 2016)",null,null,null,null,null,null,"ondergrens","bovengrens"]
["vanaf","t/m",null,null,null,"Mannen",null,{"$f":"IF(ISNA(VLOOKUP(Berekening!B56,TabelOndergrens!A4:B5004,2,TRUE)+1),0,IF((VLOOKUP(Berekening!B56,TabelOndergrens!A4:B5004,2,TRUE)+1)=5001,\"> 5000\",VLOOKUP(Berekening!B56,TabelOndergrens!A4:B5004,2,TRUE)+1))","v":0},{"$f":"IF(ISNA(VLOOKUP((1-Berekening!B56),TabelOndergrens!A4:B5004,2,TRUE)+1),0,IF((VLOOKUP((1-Berekening!B56),TabelOndergrens!A4:B5004,2,TRUE)+1)=5001,\"> 5000\",VLOOKUP((1-Berekening!B56),TabelOndergrens!A4:B5004,2,TRUE)+1))","v":0}]
[2001,2016,"*leuk*",null,null,"Vrouwen",null,{"$f":"IF(ISNA(VLOOKUP(Berekening!$B$56,TabelOndergrens!$C$4:$D$5004,2,TRUE)+1),0,IF((VLOOKUP(Berekening!$B$56,TabelOndergrens!$C$4:$D$5004,2,TRUE)+1)=5001,\"> 5000\",VLOOKUP(Berekening!$B$56,TabelOndergrens!$C$4:$D$5004,2,TRUE)+1))","v":0},{"$f":"IF(ISNA(VLOOKUP((1-Berekening!B56),TabelOndergrens!C4:D5004,2,TRUE)+1),0,IF((VLOOKUP((1-Berekening!B56),TabelOndergrens!C4:D5004,2,TRUE)+1)=5001,\"> 5000\",VLOOKUP((1-Berekening!B56),TabelOndergrens!C4:D5004,2,TRUE)+1))","v":0}]
[null,null,null,null,null,"Mannen+vrouwen",null,{"$f":"IF(ISNA(VLOOKUP(Berekening!B56,TabelOndergrens!E4:F5004,2,TRUE)+1),0,IF((VLOOKUP(Berekening!B56,TabelOndergrens!E4:F5004,2,TRUE)+1)=5001,\"> 5000\",VLOOKUP(Berekening!B56,TabelOndergrens!E4:F5004,2,TRUE)+1))","v":0},{"$f":"IF(ISNA(VLOOKUP((1-Berekening!B56),TabelOndergrens!E4:F5004,2,TRUE)+1),0,IF((VLOOKUP((1-Berekening!B56),TabelOndergrens!E4:F5004,2,TRUE)+1)=5001,\"> 5000\",VLOOKUP((1-Berekening!B56),TabelOndergrens!E4:F5004,2,TRUE)+1))","v":0}]
["Aantal inwoners in gebied"]
["Leeftijd","Mannen","Vrouwen","Totaal"]
["0-4",null,null,{"$f":"SUM(B15,C15)","v":0},null,"Betrouwbaarheidsinterval",null,98]
["5-9 jr",null,null,0]
["10-14jr",null,null,0]
["15-19",null,null,0]
["20-24",null,null,0]
["25-29",null,null,0]
["30-34",null,null,0,null,"Aantekeningen"]
["35-39",null,null,0]
["40-44",null,null,0]
["45-49",null,null,0]
["50-54",null,null,0]
["55-59",null,null,0]
["60-64",null,null,0]
["65-69",null,null,0]
["70-74",null,null,0]
["75-79",null,null,0]
["80-84",null,null,0]
["85-89",null,null,0]
["90-94",null,null,0]
["95+",null,null,0]
["totaal",{"$f":"SUM(B15:B34)","v":0},{"$f":"SUM(C15:C34)","v":0},{"$f":"SUM(D15:D34)","v":0}]

{"sheet":"DataIKNL","index":1,"n_rows":118,"n_cols":63,"rows_kept":118,"cut":false,"hidden":false,"merged":[[3,3,3,22],[3,23,3,42],[3,43,3,62]]}
["Tumor",null,"Vanaf","Tot",null,null,null,null,null,null,null,null,null,"Bron: www.cijfersoverkanker.nl"]
[2,null,{"$f":"\">=\"&Invoer!A11","v":">=2001"},{"$f":"\"<=\"&Invoer!B11","v":"<=2016"},null,null,null,null,null,null,null,null,null,"Incidentie per 100.000 CR"]
[null,null,{"$f":"Invoer!A10","v":"vanaf"}]
[null,null,null,"Man",null,null,null,null,null,null,null,null,null,null,null,null,null,null,null,null,null,null,null,"Vrouw",null,null,null,null,null,null,null,null,null,null,null,null,null,null,null,null,null,null,null,"Man & Vrouw"]
["Gemiddelde",null,null,{"$f":" SUBTOTAL(1,D7:D118)","v":7.4081249999999992},{"$f":" SUBTOTAL(1,E7:E118)","v":4.5644642857142852},4.3219642857142855,6.6916964285714302,9.3163392857142888,13.038750000000009,16.677678571428576,22.392232142857164,35.196964285714301,63.454821428571456,119.22696428571423,221.70419642857146,382.98026785714302,594.39839285714311,819.83392857142815,1012.7825892857145,1077.1466964285712,1021.0893750000001,841.99633928571495,627.74785714285713,6.4576785714285734,3.3609821428571416,3.5550892857142844,5.3505357142857166,8.0094642857142837,14.287500000000009,26.359107142857159,43.269821428571412,71.44910714285713,115.3830357142857,165.86053571428565,210.92419642857152,276.40160714285724,346.1149999999999,406.77874999999995,447.64982142857144,486.91258928571426,477.82526785714288,415.62705357142846,312.33883928571424,6.9330357142857162,3.9626785714285719,3.9386607142857137,6.0216071428571487,8.6632142857142878,13.663928571428576,21.518660714285705,32.831428571428596,53.322857142857174,89.419107142857072,142.5441964285715,216.31410714285713,329.69053571428566,470.25669642857116,613.30642857142891,730.21589285714288,782.03044642857162,749.4570535714289,628.81187500000033,470.04330357142862]
["Tumor",null,"periode","0-4","5-9","10-14","15-19","20-24","25-29","30-34","35-39","40-44","45-49","50-54","55-59","60-64","65-69","70-74","75-79","80-84","85-89","90-94","95-99","0-4","5-9","10-14","15-19","20-24","25-29","30-34","35-39","40-44","45-49","50-54","55-59","60-64","65-69","70-74","75-79","80-84","85-89","90-94","95-99","0-4","5-9","10-14","15-19","20-24","25-29","30-34","35-39","40-44","45-49","50-54","55-59","60-64","65-69","70-74","75-79","80-84","85-89","90-94","95-99"]
["Alle tumoren",1,1989,17.46,13.03,13.58,19.489999999999998,23.74,41.12,50.47,66.92,131.97,218.75,409.14,691.85,1151.96,1763.64,2509.6999999999998,3067.93,3494.97,3476.89,2986.81,1971.43,20.65,9.69,11.53,13.3,27.47,46.64,88.88,153.99,242.06,354.4,468.47,623.29,770.81,996.6,1190.1600000000001,1380.67,1539.91,1538.18,1410.27,1233.93,19.059999999999999,11.36,12.56,16.39,25.61,43.88,69.680000000000007,110.46,187.02,286.57,438.81,657.57,961.39,1380.12,1849.93,2224.3000000000002,2517.44,2507.54,2198.54,1602.68]
["Alle tumoren",1,1990,19.850000000000001,11.69,12.99,21.64,29.89,38.82,51.86,71.73,119.39,223.11,383.67,696.26,1144.75,1781.52,2540.83,3177.71,3450.63,3348,3056.38,2258.4699999999998,15.26,9.2200000000000006,11.13,18.190000000000001,28.73,45.59,84.85,145.44999999999999,249.08,357.23,482,619.80999999999995,801.4,1015.75,1206.31,1422.1,1589.44,1574.27,1563.12,1130.18,17.559999999999999,10.45,12.06,19.920000000000002,29.31,42.2,68.349999999999994,108.59,184.24,290.17,432.83,658.04,973.08,1398.64,1873.57,2299.91,2520.04,2461.13,2309.75,1694.33]
["Alle tumoren",1,1991,20.079999999999998,11.86,11.66,18.010000000000002,29.28,34.909999999999997,50.55,77.959999999999994,112.51,224.47,382.27,704.71,1164.07,1802.58,2547.61,3174.94,3557.98,3573.5,3074.18,2127.66,15,7.33,9.73,15.18,26.47,44.91,88.84,145.63,247.65,381.35,492.57,621.22,823.16,1048.76,1224.77,1406.23,1566.26,1686.3,1422.59,1049.8699999999999,17.54,9.6,10.69,16.600000000000001,27.88,39.909999999999997,69.7,111.8,180.08,302.91000000000003,437.42,662.96,993.62,1425.67,1886.19,2290.58,2562.12,2629.9,2248.38,1588.76]
["Alle tumoren",1,1992,20.62,14.5,13.6,21.27,26.74,35.58,51.5,78.760000000000005,124.55,225.94,390.56,732.42,1179.55,1842.9,2563.2600000000002,3243.05,3685.65,3734.49,3336.71,1937.25,13.76,13.33,9.25,20.09,23.07,46.97,90.86,153.13,245.79,365.41,532.1,684.04,884.17,1103.5899999999999,1228.6500000000001,1479.91,1669.53,1670.18,1550.05,1270.78,17.190000000000001,13.92,11.43,20.68,24.9,41.28,71.180000000000007,115.94,185.17,295.68,461.33,708.23,1031.8599999999999,1473.24,1895.96,2361.48,2677.59,2702.33,2443.38,1604.01]
["Alle tumoren",1,1993,18.21,15.5,11.68,21.95,29.46,48.34,53.67,74.88,118.06,211.81,371.68,697.8,1205.42,1803.63,2556.59,3354.85,3621.5,3623.72,2980.25,1829.4,17.18,9.76,10.85,19.89,26.19,47.35,89.9,148.05000000000001,233.5,394.99,546.48,694.85,897.16,1121.76,1199.4000000000001,1448.83,1641.33,1682.36,1407.57,1068.06,17.7,12.63,11.26,20.92,27.82,47.85,71.790000000000006,111.47,175.78,303.39999999999998,459.08,696.33,1051.29,1462.7,1877.99,2401.84,2631.41,2653.04,2193.91,1448.73]
["Alle tumoren",1,1994,17.260000000000002,13.15,11.26,20.23,28.43,37.29,52.27,74.58,118.88,214.47,389.49,717.83,1221.3800000000001,1891.26,2694.7,3339.11,3809.47,3708.25,3353.31,2639.1,19.739999999999998,9.3699999999999992,10.41,18.940000000000001,26.24,45.99,88.86,165.87,245.59,392.8,554.1,712.08,891.16,1134.3399999999999,1246.31,1515.68,1699.39,1790.45,1581.07,1039.27,18.5,11.26,10.83,19.59,27.34,41.64,70.56,120.23,182.24,303.64,471.79,714.95,1056.27,1512.8,1970.51,2427.39,2754.43,2749.35,2467.19,1839.19]
["Alle tumoren",1,1995,20.440000000000001,13.12,13.42,22.24,28.01,41.49,58.7,69.430000000000007,121.8,215.6,396.61,678.14,1218.1300000000001,1892.47,2650.1,3454.76,3782.6,3620.16,2923.75,2735.98,17.47,10.07,11.09,18.64,25.71,45.7,96.97,150.96,239.2,389.27,568.35,686.99,897.7,1071.24,1224.1199999999999,1503.41,1625.28,1615.71,1478.72,1240.8499999999999,18.95,11.6,12.26,20.440000000000001,26.86,43.6,77.84,110.2,180.5,302.44,482.48,682.57,1057.92,1481.86,1937.11,2479.08,2703.94,2617.9299999999998,2201.2399999999998,1988.42]
["Alle tumoren",1,1996,25.2,11.28,14.67,23.25,30.55,44.06,54.7,79,128.80000000000001,221.86,392.04,702.84,1208.3699999999999,1950.51,2736.31,3376.77,3586.14,3732.84,3218.6,2053.86,20.76,8.43,10.59,20.81,30.58,48.66,94.31,158.34,251.41,399.76,566.22,696.2,869.79,1103.52,1230.0899999999999,1510.73,1685.04,1628.08,1524.35,1436.75,22.98,9.86,12.63,22.03,30.56,46.36,74.5,118.67,190.1,310.81,479.13,699.52,1039.08,1527.02,1983.2,2443.75,2635.59,2680.46,2371.48,1745.3]
["Alle tumoren",1,1997,23.14,10.16,10.85,20.059999999999999,30.04,39.11,52.74,71.5,122.26,221.73,387.44,708.4,1200.31,1950.69,2628.37,3239.77,3562.77,3499.51,2797.79,2191.9,17.72,8.1300000000000008,13.12,18.78,26.96,48.38,91.75,151.58000000000001,248.71,416.48,600.16,713.97,875.25,1101.44,1210.42,1495.11,1651.49,1733.18,1382.49,1113.01,20.43,9.14,11.99,19.420000000000002,28.5,43.75,72.239999999999995,111.54,185.48,319.11,493.8,711.18,1037.78,1526.06,1919.39,2367.44,2607.13,2616.34,2090.14,1652.46]
["Alle tumoren",1,1998,25.11,12.44,13.79,23.25,34.21,42.9,52.79,68.680000000000007,111.95,207.83,390.73,697.94,1205.6400000000001,1881.92,2627.83,3270.35,3381.14,3504.82,2997.42,2230.9699999999998,17.89,10.54,11.14,19.03,29.43,49.96,101.17,157.27000000000001,253.99,412.77,587.61,688.01,893.06,1087.27,1292.8399999999999,1559.7,1643.18,1637.52,1553.95,1088.2,21.5,11.49,12.47,21.14,31.82,46.43,76.98,112.98,182.97,310.3,489.17,692.97,1049.3499999999999,1484.6,1960.33,2415.02,2512.16,2571.17,2275.6799999999998,1659.58]
["Alle tumoren",1,1999,22.33,14.89,11.51,23.64,34.340000000000003,45.7,56.01,75.84,112.73,200.73,393.51,696.22,1207.18,1896.44,2644.5,3282.27,3375.22,3227.08,2779.7,2223.17,16.100000000000001,5.95,11.16,17.04,28.82,55.82,97.37,157.87,276.98,412.19,594.09,702.31,904.32,1101.8599999999999,1423,1599.63,1724.45,1567.04,1498.33,1139.8599999999999,19.21,10.42,11.33,20.34,31.58,50.76,76.69,116.86,194.85,306.45999999999998,493.8,699.26,1055.75,1499.15,2033.75,2440.9499999999998,2549.83,2397.06,2139.02,1681.52]
["Alle tumoren",1,2000,20.079999999999998,15.07,14.72,23.12,32.78,47.45,57.33,72.61,124.34,203.18,389.24,713.16,1211.97,1883.79,2587.34,3178.34,3439.56,3304.06,2463.75,2298.85,20.239999999999998,10.039999999999999,10.11,16.11,27.62,53.34,88.92,155.38999999999999,250.35,436.16,585.97,752.19,901.45,1136.8499999999999,1431.19,1542.73,1616.77,1681.74,1437.59,1054.07,20.16,12.56,12.42,19.61,30.2,50.4,73.12,114,187.34,319.67,487.61,732.67,1056.71,1510.32,2009.27,2360.5300000000002,2528.17,2492.9,1950.67,1676.46]
["Alle tumoren",1,2001,21.14,14.57,14.06,22.72,38.28,49.07,55.83,78.180000000000007,114.7,202.12,392.4,714.42,1196.07,1879.62,2639.06,3224.68,3373.1,3375.05,2675,2208.0700000000002,20.92,9.2799999999999994,10.57,19.71,33.049999999999997,52.1,99.43,163.15,278.85000000000002,419.97,613.85,758.82,950.59,1117.17,1399.2,1538.91,1721.82,1744.26,1406.16,1015.71,21.03,11.93,12.31,21.21,35.67,50.59,77.63,120.67,196.77,311.04000000000002,503.13,736.62,1073.33,1498.4,2019.13,2381.79,2547.46,2559.66,2040.58,1611.89]
["Alle tumoren",1,2002,23.61,16.04,13.12,23.8,37.479999999999997,44.94,61.45,83.58,119.91,207.25,399.25,703.93,1202.18,1876.24,2657.32,3285.48,3445.75,3357.01,3065.69,1740.98,18.489999999999998,9.75,11.89,20.079999999999998,30.38,56.32,96.08,164.44,262.98,428.12,597.44000000000005,762.49,963.24,1185.27,1396.55,1543.24,1760.17,1702.06,1467.2,820.57,21.05,12.9,12.5,21.94,33.93,50.63,78.77,124.01,191.45,317.68,498.35,733.21,1082.71,1530.75,2026.93,2414.36,2602.96,2529.5300000000002,2266.4499999999998,1280.77]
["Alle tumoren",1,2003,23.71,12.3,16.53,24.26,40.35,49.11,56.63,82.62,123.27,216.36,404.99,725.66,1238.43,1943.04,2672.45,3277.16,3546.14,3534.54,2879.51,2162.39,16.84,11.01,13.23,16.57,32.07,51.47,101.91,156.66,278.08999999999997,443.72,604.48,812.97,958.86,1182.98,1449.32,1559.7,1812.41,1816.67,1515.23,1291.6400000000001,20.27,11.65,14.88,20.41,36.21,50.29,79.27,119.64,200.68,330.04,504.74,769.32,1098.6400000000001,1563.01,2060.88,2418.4299999999998,2679.28,2675.6,2197.37,1727.02]
["Alle tumoren",1,2004,19.62,15.24,16.850000000000001,27.45,38.99,51.13,66.430000000000007,84.18,135.19999999999999,221.05,416,785.63,1304.53,2068.42,2827.67,3347.73,3741.08,3431.62,3093.77,2211.1,19.350000000000001,10.79,12.58,14.06,27.75,54.37,104.47,160.68,283.83,454.1,629.88,785.56,997.16,1239.58,1441.99,1601.23,1860.71,1882.45,1741.39,1152.19,19.489999999999998,13.01,14.72,20.76,33.369999999999997,52.75,85.45,122.43,209.51,337.58,522.94000000000005,785.6,1150.8499999999999,1654,2134.83,2474.48,2800.9,2657.04,2417.58,1681.64]
["Alle tumoren",1,2005,27.58,13.18,11.68,24.83,39.9,51.85,67.98,86.48,118.28,219.56,414,752.14,1318.58,1985,2790.16,3364.36,3582.83,3518.71,3191.71,2234.86,20.69,11.55,10.199999999999999,22.62,31.78,48.3,102.4,158.6,283.89,432.13,616.75,806.59,1007.11,1236.3599999999999,1523.94,1654.18,1890.55,1984.8,1735.27,1153.83,24.14,12.36,10.94,23.73,35.840000000000003,50.08,85.19,122.54,201.09,325.83999999999997,515.37,779.37,1162.8499999999999,1610.68,2157.0500000000002,2509.27,2736.69,2751.75,2463.4899999999998,1694.35]
["Alle tumoren",1,2006,22.59,15.61,13.79,21.44,36.89,56.43,67.44,88.43,121.21,208.96,409.71,788.92,1355.75,2033.89,2696.11,3411.47,3671.85,3670.06,2999.43,3072.68,19.899999999999999,10.82,11.98,21.79,29.74,54.6,106.23,167.62,274.20999999999998,465.44,650.21,791.34,1043.22,1246.07,1552.72,1651.27,1932.88,1992.37,1705.43,1169.17,21.25,13.22,12.88,21.62,33.32,55.52,86.83,128.02000000000001,197.71,337.2,529.96,790.13,1199.48,1639.98,2124.41,2531.37,2802.37,2831.21,2352.4299999999998,2120.92]
["Alle tumoren",1,2007,22.07,12.22,13.53,24.61,40.29,56.92,67.08,88.8,125.24,212.53,407.61,785.4,1367.77,2039.81,2833.78,3463.48,3685.48,3735.36,3123.47,2709.82,22.48,9.5299999999999994,11.47,20.010000000000002,35.18,60.3,112.55,176.62,291.88,461.74,647.41,817.76,1059.4000000000001,1288.33,1588.48,1703.36,1906.76,1983.82,1741.37,1499.54,22.28,10.88,12.5,22.31,37.729999999999997,58.61,89.82,132.71,208.56,337.14,527.51,801.58,1213.58,1664.07,2211.13,2583.42,2796.12,2859.59,2432.42,2104.6799999999998]
["Alle tumoren",1,2008,20.41,16.239999999999998,13.16,25.83,36.64,52.91,74.92,90.51,131.16,224.21,432.23,777.45,1368.32,2060.08,2830.24,3510.74,3840.59,3678.91,3201.07,2780.25,18.98,16,15.47,22.32,31.98,68.650000000000006,106.26,173.68,286.14999999999998,455.24,681.21,811.47,1102.79,1347.98,1616.8,1733.02,2044.93,2072.6,1791.49,1214.56,19.690000000000001,16.12,14.31,24.08,34.31,60.78,90.59,132.09,208.66,339.72,556.72,794.46,1235.56,1704.03,2223.52,2621.88,2942.76,2875.75,2496.2800000000002,1997.41]
["Alle tumoren",1,2009,19.37,13.98,13.52,24.91,34.83,68.5,73.61,90.59,129.63,226.93,421.48,789.88,1338.67,2095.52,2820.29,3530.86,3924.09,3826.14,3499.38,2547.14,15.45,10.57,12.71,21,33.42,61.62,114.89,188.14,297.45,468.88,663.74,816.58,1079.04,1399.12,1582.37,1789.15,2001.64,2047.89,1840.44,1501.98,17.41,12.28,13.12,22.96,34.130000000000003,65.06,94.25,139.36000000000001,213.54,347.91,542.61,803.23,1208.8499999999999,1747.32,2201.33,2660,2962.87,2937.01,2669.91,2024.56]
["Alle tumoren",1,2010,25.59,12.79,16.350000000000001,23.21,37.119999999999997,60.17,79.88,90.48,129.83000000000001,238.7,425.14,782.57,1356.8,2133.4299999999998,2803.42,3661.05,3993.49,3841.2,3738.9,2855.35,26.38,10.7,11.15,20.85,32.770000000000003,60.98,109.57,178.65,268.22000000000003,454.81,669.77,824.35,1120.6500000000001,1422.93,1697.85,1825.28,2066.5100000000002,2166.17,1889.23,1550.03,25.98,11.74,13.75,22.03,34.94,60.58,94.72,134.57,199.02,346.75,547.45000000000005,803.46,1238.73,1778.18,2250.64,2743.16,3030,3003.68,2814.06,2202.69]
["Alle tumoren",1,2011,22.07,12.2,14.81,26.51,45.19,55.06,82.9,102.08,141.77000000000001,231.1,425.82,832.06,1395.88,2176.48,2902.77,3647.76,4025.1,3924.53,3514.25,2340.4299999999998,22.46,12.16,14.47,23.09,37.049999999999997,63.44,108,183.96,297.12,495.59,686.44,859.49,1141.68,1480.32,1711.2,1876.39,2137.6,2155.3000000000002,1926.57,1483.38,22.26,12.18,14.64,24.8,41.12,59.25,95.45,143.02000000000001,219.44,363.35,556.13,845.77,1268.78,1828.4,2306.98,2762.07,3081.35,3039.91,2720.41,1911.9]
["Alle tumoren",1,2012,20.7,13.24,13.53,24.34,38.130000000000003,61.46,78.37,99.13,133.97,231.33,410.69,789.41,1359.47,2120.1,2852.19,3546.94,3791.7,3991.94,3273.61,2703.1,21.94,10.46,13.13,22.22,33.799999999999997,64.38,118.83,172.01,282.7,465.48,661.9,850.19,1141.18,1489.48,1795.9,1885.89,2056.0300000000002,2126.42,1808.66,1414.64,21.32,11.85,13.33,23.28,35.96,62.92,98.6,135.57,208.34,348.41,536.29,819.8,1250.33,1804.79,2324.04,2716.42,2923.86,3059.18,2541.14,2058.87]
["Alle tumoren",1,2013,26.75,13.47,14.82,25.17,43.47,62.23,81.77,97.56,134.55000000000001,238.25,420.47,794.01,1313.35,2064.5300000000002,2799.56,3358.83,3775.82,3696.07,3013.82,2476.7800000000002,19.48,11.51,14.1,19.760000000000002,32.090000000000003,63.6,111.91,178.78,307.49,461.01,655.30999999999995,822.58,1148.67,1467.25,1745.08,1877.53,2061.85,1988.2,1736.98,1444.69,23.12,12.49,14.46,22.46,37.78,62.91,96.84,138.16999999999999,221.02,349.63,537.89,808.3,1231.01,1765.89,2272.3200000000002,2618.1799999999998,2918.84,2842.14,2375.4,1960.73]
["Alle tumoren",1,2014,20.99,14.87,17.77,27.01,46.11,62.36,75.400000000000006,94.34,141.97999999999999,229.74,410.96,719.39,1302.3699999999999,2037.11,2669.82,3523.53,3627.55,3555.01,3117.1,2184.92,19.28,12.96,11.52,24.2,34.619999999999997,68.37,129.97999999999999,185.76,300.62,466.61,658.19,810.4,1132.5899999999999,1534.27,1835.97,1969.25,2077.7800000000002,1952.2,1772.5,1241.08,20.14,13.91,14.64,25.61,40.369999999999997,65.37,102.69,140.05000000000001,221.3,348.17,534.57000000000005,764.89,1217.48,1785.69,2252.89,2746.39,2852.67,2753.6,2444.8000000000002,1713]
["Alle tumoren",1,2015,23.89,15.34,16.809999999999999,27.47,34.520000000000003,59.43,72.95,96.57,152.56,221.54,401.74,712.26,1381.48,2156.2199999999998,2708.88,3282.69,3622.96,3407.9,2789.41,2439.61,19.739999999999998,10.14,12.88,22.52,30.05,66.760000000000005,114.03,198.82,284.97000000000003,448.95,678.92,810.76,1194.3,1565.42,1765.38,1862.88,2020.36,1898.54,1713.45,1184.31,21.82,12.74,14.84,24.99,32.29,63.1,93.49,147.69999999999999,218.77,335.24,540.33000000000004,761.51,1287.8900000000001,1860.82,2237.13,2572.7800000000002,2821.66,2653.22,2251.4299999999998,1811.96]
["Alle tumoren",1,2016,23.65,12.61,14.86,28.14,38.58,60.21,79.92,100.29,132.78,233.25,407.22,774.58,1383.39,2010.98,2908.73,3327.29,3701.03,3510.12,2997.8,2558.04,19.7,9.92,14.53,23.35,34.9,68.709999999999994,126.07,192,297.86,460.26,689.66,841.57,1185.96,1460.13,1907.8,1911.31,2107.92,1942.25,1683.62,1396,21.68,11.26,14.69,25.74,36.74,64.459999999999994,103,146.15,215.32,346.75,548.44000000000005,808.07,1284.68,1735.55,2408.2600000000002,2619.3000000000002,2904.47,2726.19,2340.71,1977.02]
["Mesothelioom",4,1989,0,0,0,0,0,0,0.16,0,1.34,2.2000000000000002,7.41,9.18,12.28,16.03,19.149999999999999,15.99,13.46,19.329999999999998,35.880000000000003,40.229999999999997,0,0,0,0,0,0,0,0.18,0.18,1.4,0.26,1.63,1.1399999999999999,1.47,1.48,2.13,4.21,2.27,3.27,0,0,0,0,0,0,0,0.08,0.09,0.76,1.8,3.84,5.41,6.71,8.75,10.31,9.06,8.84,10.8,19.57,20.12]
["Mesothelioom",4,1990,0,0,0,0,0.15,0,0,0.51,0.82,3,5.75,8.8800000000000008,12.45,18.690000000000001,18.760000000000002,13.7,16.91,16.34,8.9600000000000009,0,0,0,0,0,0,0,0,0.18,0.17,0.45,0.26,1.0900000000000001,1.99,2.04,2.1800000000000002,2.96,0.59,1.1000000000000001,0,0,0,0,0,0,0.08,0,0,0.34,0.49,1.73,3,4.99,7.22,10.36,10.47,8.33,8.75,8.7200000000000006,4.4800000000000004,0]
["Mesothelioom",4,1991,0,0,0,0,0,0,0.16,0.34,0.65,1.82,4.8899999999999997,9.1199999999999992,10.42,15.9,20.86,25.06,22.71,8.08,8.91,0,0,0,0,0,0,0.16,0,0,0,0.85,0.51,1.0900000000000001,0.85,3.23,1.75,1.26,0.57999999999999996,0,0,0,0,0,0,0,0,0.08,0.08,0.17,0.33,1.34,2.7,5.1100000000000003,5.63,9.56,11.31,13.16,11.65,4.04,4.46,0]
["Mesothelioom",4,1992,0,0,0,0,0,0,0.31,0.17,1.34,3.35,5.75,14.01,11.49,26.12,23.34,36.31,21.09,13.3,35.22,0,0,0,0,0,0,0,0,0.35,0.18,0.2,0.75,1.64,1.4,2.36,2.72,2.09,2.29,2.0699999999999998,2.88,0,0,0,0,0,0,0,0.15,0.26,0.76,1.77,3.25,7.83,6.44,14.24,13.03,19.2,11.69,7.68,19.05,0]
["Mesothelioom",4,1993,0,0,0,0,0,0,0.15,0,0.17,1.58,4.8899999999999997,7.33,16.149999999999999,17.63,21.6,24.32,27.44,13.12,8.74,42.54,0,0,0,0,0,0,0,0.34,0.36,0,0,0.27,1.68,1.78,2.96,1.26,2.82,5.0199999999999996,0,0,0,0,0,0,0,0,0.08,0.17,0.26,0.79,2.4500000000000002,3.8,8.91,9.7100000000000009,12.28,12.79,15.13,9.07,4.37,21.27]
["Mesothelioom",4,1994,0,0,0,0,0,0,0,0,0,1.19,4.0599999999999996,9.83,13.67,17.55,26.84,27.16,25.7,36.15,8.69,0,0,0,0,0,0,0,0.16,0.17,0.18,0.18,0.71,1.34,0.84,1.19,3.51,3.83,4.99,3.91,2.69,0,0,0,0,0,0,0,0.08,0.08,0.09,0.68,2.38,5.59,7.25,9.3699999999999992,15.17,15.5,15.35,20.03,5.69,0]
["Mesothelioom",4,1995,0,0,0,0,0.18,0,0.44,0.48,0.51,2.64,3.95,9.09,15.09,19.399999999999999,24.83,21.18,21.97,45.7,8.52,0,0,0,0,0,0,0,0,0.17,0.35,0,0.23,0.52,1.97,2.38,3.16,3.76,1.65,2.86,0,11.71,0,0,0,0,0.09,0,0.22,0.32,0.43,1.32,2.09,4.8099999999999996,8.5299999999999994,10.89,13.99,12.47,11.81,24.28,4.26,5.85]
["Mesothelioom",4,1996,0,0,0,0.21,0,0,0,0.32,0.68,2.3199999999999998,4.5599999999999996,13.22,17.97,23.88,18.940000000000001,27.86,27.18,27.65,8.43,45.64,0,0,0,0,0,0,0,0,0.35,0.17,0.43,0.26,1.98,2.37,3.18,2.02,2.1800000000000002,1.88,2.5,11.22,0,0,0,0.11,0,0,0,0.16,0.51,1.25,2.5,6.74,9.98,13.13,11.06,14.94,14.68,14.77,5.46,28.43]
["Mesothelioom",4,1997,0,0,0,0,0,0,0,0,0.67,2.5499999999999998,3.62,8.7100000000000009,15.81,22.19,19.73,28.63,22.62,22.21,16.649999999999999,0,0,0,0,0,0,0,0,0,0.52,0.18,0.79,0.76,1.7,2.06,2.2400000000000002,1.56,3.8,4.6399999999999997,0,0,0,0,0,0,0,0,0,0,0.6,1.37,2.21,4.74,8.75,12.13,10.99,15.1,13.21,13.43,8.33,0]
["Mesothelioom",4,1998,0,0,0,0,0,0,0,0.15,0.33,2.77,3.78,10.16,12.99,19.27,23.01,30.94,24.77,11.99,8.19,0,0,0,0,0,0,0,0,0,0,0.36,0.37,0.5,0.56000000000000005,0.88,3.22,3.03,1.64,0.91,0,0,0,0,0,0,0,0,0,0.08,0.17,1.56,2.08,5.33,6.77,10.08,13.12,16.98,13.2,6.45,4.09,0]
["Mesothelioom",4,1999,0,0,0,0,0,0,0.3,0.15,0.82,2.4300000000000002,3.48,8.18,12.42,27.67,26.14,44.95,22.62,16.29,0,0,0,0,0,0,0,0,0,0.16,0.34,0.9,0.54,0.96,2.21,1.77,3.56,3.3,2.75,2.67,0,0,0,0,0,0,0,0,0.15,0.15,0.57999999999999996,1.66,2.0099999999999998,4.57,7.32,14.72,14.85,24.13,12.68,9.48,0,0]
["Mesothelioom",4,2000,0,0,0,0,0,0.17,0,0.15,0.32,2.4300000000000002,3.38,9.7799999999999994,16.510000000000002,22.24,26.5,35.42,16.670000000000002,22.72,8.08,0,0,0,0,0,0,0.18,0,0,0.33,0.18,0.35,0.7,1.89,3.25,3.23,5.8,1.08,1.76,0,0,0,0,0,0,0,0.17,0,7.0000000000000007E-2,0.33,1.3,1.87,5.24,9.1999999999999993,12.74,14.87,20.61,8.8699999999999992,12.24,4.04,0]
["Mesothelioom",4,2001,0,0,0,0,0,0,0,0.15,0.32,0.69,4.0599999999999996,7.29,16.12,21.41,26.39,28.62,28.57,26.89,15.83,0,0,0,0,0,0,0,0,0,0.33,0.35,0.52,0.66,2.13,2.96,4.18,5.84,3.63,2.63,0,0,0,0,0,0,0,0,0,7.0000000000000007E-2,0.32,0.52,2.29,3.97,9.1199999999999992,12.19,15.29,17.23,16.100000000000001,14.76,7.91,0]
["Mesothelioom",4,2002,0,0,0,0,0,0,0,0.3,0.16,1.02,3.82,4.7300000000000004,11.81,23.14,21.99,29.48,19.72,31.02,23.05,0,0,0,0,0,0,0,0,0,0.32,0.52,0.54,1.82,1.57,2.67,4.47,1.1000000000000001,3.51,2.62,0,0,0,0,0,0,0,0,0,0.15,0.24,0.77,2.1800000000000002,3.27,6.69,12.9,13.23,15.29,11.62,16.82,11.53,0]
["Mesothelioom",4,2003,0,0,0,0,0,0.19,0.16,0,0,0.51,2.12,8.75,13.26,23.07,26.68,31.91,34.89,17.690000000000001,29.69,0,0,0,0,0,0,0,0,0.15,0.79,0.69,0.54,0.95,0.77,3.82,0.95,4.8099999999999996,1.45,1.75,2.14,0,0,0,0,0,0,0.1,0.08,0.08,0.39,0.6,1.33,4.8499999999999996,7.01,13.45,13.82,18.36,18.170000000000002,9.7200000000000006,15.91,0]
["Mesothelioom",4,2004,0,0,0,0,0,0,0,0.15,0.46,1.33,3.55,7.19,13.8,24.03,30.18,40.44,30.79,13.14,14.22,0,0,0,0,0,0,0,0,0.31,0.31,0.34,0.54,1.66,2.48,1.45,0.64,3.34,3.75,3.52,0,0,0,0,0,0,0,0,0,0.23,0.38,0.83,2.0499999999999998,4.42,8.14,12.74,15.41,21.89,17.27,8.33,7.11,0]
["Mesothelioom",4,2005,0,0,0,0,0,0,0,0,0.3,0.66,2.13,7.52,12.23,26.37,43.78,41.5,34.25,33.08,13.73,40.630000000000003,0,0,0,0,0,0,0,0,0,0.17,0.18,1.79,1.69,3.68,2.23,5.16,3.24,2.5499999999999998,0,0,0,0,0,0,0,0,0,0,0.15,0.41,1.1599999999999999,4.6500000000000004,6.96,15.02,23.01,23.33,18.739999999999998,17.82,6.86,20.32]
["Mesothelioom",4,2006,0,0,0,0,0,0,0,0,0.15,1.29,1.06,6.66,14.24,26.87,32.770000000000003,42.91,32.869999999999997,26.75,13.45,0,0,0,0,0,0,0,0,0.16,0.62,0.16,0.89,1.61,2.2799999999999998,1.39,2.5499999999999998,4.75,4.63,4.8499999999999996,3.99,0,0,0,0,0,0,0,0,0.08,0.38,0.73,0.98,4.1399999999999997,8.26,14.13,17.66,23.83,18.75,15.8,8.7200000000000006,0]
["Mesothelioom",4,2007,0,0,0,0,0,0,0,0,0.3,0.64,2.97,5.58,10.79,22.51,36.67,36.85,21.71,37.51,13.07,0,0,0,0,0,0,0,0,0,0,0.16,0.88,0.73,1.88,2.74,3.5,4.7,3.24,2.3199999999999998,1.95,7.69,0,0,0,0,0,0,0,0,0.15,0.4,1.93,3.16,6.34,12.62,20.09,20.77,12.47,19.920000000000002,7.51,3.84]
["Mesothelioom",4,2008,0,0,0,0,0,0,0,0,0.15,1.1000000000000001,2.94,6.77,13.12,25.68,35.49,34.99,26.68,25.07,25.46,0,0,0,0,0,0,0,0.2,0,0,0.16,0.87,1.49,1.77,1.87,4.0999999999999996,4.3099999999999996,5.08,2.95,0,0,0,0,0,0,0,0,0.1,0,0.08,0.63,1.91,4.13,7.45,13.78,19.8,19.649999999999999,15.88,14.01,12.73,0]
["Mesothelioom",4,2009,0,0,0,0,0,0,0,0.17,0.46,0.62,2.2200000000000002,5.88,11.71,18.64,37.21,36.61,38.07,25.23,12.3,0,0,0,0,0,0,0,0,0,0.16,0.16,0.52,0.74,1.52,1.55,3.4,4.29,1.84,3.54,5.7,0,0,0,0,0,0,0,0,0.08,0.31,0.39,1.37,3.31,6.61,10.09,20.3,20.45,19.95,14.39,9,0]
["Mesothelioom",4,2010,0,0,0,0,0,0,0,0,0.31,0.77,1.68,4.95,9.91,20.16,35.33,52,45.45,39.43,33.840000000000003,0,0,0,0,0.2,0,0,0,0.17,0,0.16,0.34,0.74,2.0299999999999998,3.28,3.32,2.85,3.19,2.77,1.81,0,0,0,0,0.1,0,0,0,0.09,0.15,0.46,1.01,2.84,5.97,11.72,19.329999999999998,27.43,24.32,21.1,17.82,0]
["Mesothelioom",4,2011,0,0,0,0,0,0,0,0.18,0.15,0.31,2.31,5.63,10.28,20.399999999999999,33.299999999999997,33.36,52.86,42.5,45.31,0,0,0,0,0,0,0,0,0,0,0.31,0.5,1.28,1.29,1.66,4.45,3.56,5.39,4.12,0,6.42,0,0,0,0,0,0,0,0.09,0.08,0.31,1.41,3.46,5.78,11.03,18.87,18.46,29.12,23.31,22.66,3.21]
["Mesothelioom",4,2012,0,0,0,0,0,0,0.2,0.19,0.16,0,2.76,5.94,11.66,19.559999999999999,26.34,49.37,37.4,26.86,13.87,0,0,0,0,0,0,0.4,0.2,0.19,0.16,0,0.49,1.08,1.32,1.0900000000000001,4.37,4.96,6.19,4.78,1.59,0,0,0,0,0,0,0.2,0.2,0.19,0.16,0,1.63,3.51,6.49,10.33,15.35,27.16,21.8,15.82,7.73,0]
["Mesothelioom",4,2013,0,0,0,0,0,0,0,0,0,0.46,1.28,4.09,12.01,15.07,29.75,45.34,50.75,40.96,17.2,0,0,0,0,0.21,0,0,0,0,0,0,0.81,0.89,1.53,2.06,3.41,4.2,4.37,2.72,4.5599999999999996,0,0,0,0,0.1,0,0,0,0,0,0.23,1.04,2.4900000000000002,6.77,8.57,16.579999999999998,24.77,27.56,21.84,10.88,0]
["Mesothelioom",4,2014,0,0,0,0,0,0,0.2,0.2,0.33,1.24,1.42,1.75,8.8000000000000007,16.940000000000001,27.13,50.26,49.25,24.92,12.04,26.65,0,0,0,0,0,0,0.2,0.2,0.17,0.31,0.48,1.05,0.77,2.58,2.2000000000000002,8.2200000000000006,3.04,1.34,2.9,6.02,0,0,0,0,0,0,0.2,0.2,0.25,0.77,0.95,1.4,4.78,9.76,14.67,29.24,26.15,13.13,7.47,16.329999999999998]
["Mesothelioom",4,2015,0,0,0,0,0,0.19,0,0,0.52,0.31,0.62,2.76,6.68,18.579999999999998,27.72,42.83,46.59,38.83,19.21,0,0,0,0,0.2,0,0,0,0.2,0,0.16,1.26,0.86,1.1399999999999999,2.7,3.76,3.68,5.18,1.99,4.26,5.72,0,0,0,0.1,0,0.09,0,0.1,0.26,0.23,0.94,1.81,3.91,10.64,15.74,23.25,25.88,20.41,11.73,2.86]
["Mesothelioom",4,2016,0,0,0,0,0,0.18,0,0.2,0.37,0.16,1.4,2.2000000000000002,10.02,18.18,29.2,41.04,47.12,43.16,7.41,64.489999999999995,0,0,0,0,0,0,0,0,0,0.16,0.79,0.85,0.94,2.5,3.29,5.57,9.01,3.91,4.24,0,0,0,0,0,0,0.09,0,0.1,0.18,0.16,1.0900000000000001,1.52,5.48,10.34,16.25,23.3,28.06,23.53,5.83,32.24]
["Long & Luchtpijp",3,1989,0,0,0,0,0,0.46,0.49,3.07,16.12,45.82,100.94000000000001,207.24,330.35,504.85999999999996,699.63,755.51,708.29,497.09,197.33,40.229999999999997,0,0,0,0.18,0.16,0.48,2.04,5.89,9.74,19.78,30.18,53.82,57.11,59.1,57.18,55.93,36.72,37.520000000000003,22.9,0,0,0,0,0.09,0.08,0.47,1.26,4.49,12.93,32.799999999999997,65.56,130.53,193.72,281.98,378.4,405.72,372.51,267.31,110.12,20.12]
["Long & Luchtpijp",3,1990,0,0,0.43,0,0,0.75,2.09,6.3,17.64,36.04,84.98,183.43,342.9,501.71,723.34,850.27,679.01,454.94,224.07,0,0,0,0,0,0,0.79,2.84,3.02,10.48,16.09,32.17,43.63,70.63,62.92,63.89,52.9,51.35,35.08,18.91,0,0,0,0.22,0,0,0.77,2.46,4.66,14.06,26.06,58.580000000000005,113.53,206.76,282.31,393.61,451.59,365.18,245.01,121.49,0]
["Long & Luchtpijp",3,1991,0,0,0.22,0,0.15,0.45,0.79,5.23,15.05,40.89,83.94,199.33,352.87,508.67,723.90000000000009,789.83999999999992,709.93000000000006,463.18,329.69,83.44,0,0,0,0,0.48,0.31,1.81,5.96,8.92,20.7,33.11,49.76,80.680000000000007,68.37,68.31,52.52,43.099999999999994,35.090000000000003,24.11,40.380000000000003,0,0,0.11,0,0.32,0.38,1.3,5.59,11.98,30.8,58.519999999999996,124.55,216.78,288.52,396.1,421.17999999999995,376.51,249.13,176.9,61.91]
["Long & Luchtpijp",3,1992,0,0,0,0,0,0.15,1.55,3.84,14.94,41.88,80.03,193.4,337.96000000000004,501.84,675.49,786.05000000000007,725.41,513.36,264.12,84.23,0,0,0,0,0.16,0,2.2599999999999998,6.23,10.01,17.810000000000002,31.55,52.51,72.05,80.62,69.709999999999994,64.430000000000007,49.910000000000004,36.15,20.13,25.67,0,0,0,0,0.08,7.0000000000000007E-2,1.9,5.03,12.47,29.849999999999998,55.79,122.96,205,291.23,372.59999999999997,425.24,387.67,274.76,142.12,54.95]
["Long & Luchtpijp",3,1993,0,0,0.22,0,0,0.15,1.37,5.44,15.84,36.21,80.63,181.23,341.8,472.15000000000003,633.86,761.36,659.8,480.18,235.97,127.63,0,0,0,0,0,1.1000000000000001,1.59,5.29,11.01,23.41,34.67,53.78,88.12,87.64,74.06,69.47,53,42.18,27.76,0,0,0,0.11,0,0,0.63,1.48,5.37,13.43,29.81,57.65,117.50999999999999,214.96,279.89,353.96000000000004,415.41999999999996,356.4,261.18,131.87,63.82]
["Long & Luchtpijp",3,1994,0,0.21,0,0,0,0.45,0.75,3.57,13.7,33.450000000000003,79.11,189.49,311.36,471.06,635.13,700.15,707.36,539.71,304.06,175.94,0,0,0,0,0.35,0.31,1.25,7.9,11.92,24.35,33.619999999999997,56.96,81.320000000000007,97.29,72.39,72.28,49.92,46.94,13.44,24.17,0,0.1,0,0,0.17,0.38,1,5.73,12.81,28.9,56.37,123.23,196.34,284.18,353.76,386.21,378.64,293.32,158.75,100.05]
["Long & Luchtpijp",3,1995,0,0.21,0,0.21,0.35,0.15,1.63,4.8,13.69,37.67,81.649999999999991,153.69999999999999,305.04999999999995,461.34000000000003,605.17999999999995,760.44,667.78,462.04,221.63,228,0,0,0,0.22,0.36,0.47,1.4,6.62,16.27,21.57,37.58,55.08,81.89,99.55,84.029999999999987,79.460000000000008,64.180000000000007,36.29,20.68,11.71,0,0.1,0,0.22,0.36,0.31,1.51,5.71,14.98,29.62,59.62,104.39,193.48000000000002,280.45,344.61,419.95,365.98,249.16,121.15,119.85]
["Long & Luchtpijp",3,1996,0,0,0.22,0.21,0.37,0,0.74,5.36,14.78,36.950000000000003,78.319999999999993,139.29,291.11,450.95,615.36,743.35,618.53,497.71,286.47000000000003,182.57,0,0,0,0.44,0.19,0.47,1.55,6.03,11.73,26.9,39.35,58.02,80.180000000000007,104.45,89.11999999999999,82.25,59.9,39.57,30.04,11.22,0,0,0.11,0.33,0.28000000000000003,0.24,1.1499999999999999,5.7,13.26,31.919999999999998,58.84,98.66,185.65,277.70000000000005,352.23999999999995,412.81,339.21,268.64000000000004,158.25,96.89]
["Long & Luchtpijp",3,1997,0,0,0,0,0.39,0.31,1.19,3.42,14.82,37.300000000000004,71.11999999999999,143.38,282.14999999999998,465.91,601.25,642.72,617.32000000000005,436.82000000000005,233.15,134.19999999999999,0,0,0,0.22,0,0.48,1.24,7.71,15.92,27.22,43.27,63.4,83.06,112.39,95.2,84.08,63.43,38.97,21.87,0,0,0,0,0.11,0.2,0.39,1.21,5.56,15.37,32.25,57.19,103.39,182.6,289.14999999999998,348.22999999999996,363.39,340.38,237.89,127.51,67.099999999999994]
["Long & Luchtpijp",3,1998,0,0,0,0,0,0.63,0.6,3.21,14.5,29.39,74.010000000000005,143.69999999999999,272.19,426.21999999999997,555.09999999999991,669.6,582.74,455.79,237.5,87.49,0,0,0,0.22,0,0.49,0.78,7.44,17.09,33.44,40.94,64.12,83.61,119.46000000000001,107.71,91.929999999999993,56.68,37.26,11.77,20.73,0,0,0,0.11,0,0.56000000000000005,0.67999999999999994,5.32,15.790000000000001,31.419999999999998,57.47,103.91,177.89,272.83999999999997,331.4,380.76,319.71000000000004,246.53,124.64,54.11]
["Long & Luchtpijp",3,1999,0,0,0,0,0,0.66,2.23,3.46,12.8,26.94,70.429999999999993,137.24,248.72,409.46000000000004,549.73,654.66,582.83000000000004,430.43,228.25,42.75,0,0,0,0,0,0.34,1.25,6.86,15.98,27.77,45.78,65.77,84.2,116.44,113.72,91.58,62.059999999999995,32.090000000000003,13.75,20.170000000000002,0,0,0,0,0,0.5,1.74,5.16,14.39,27.35,58.1,101.5,166.45,262.94,331.72,373.12,322.44,231.26,121,31.47]
["Long & Luchtpijp",3,2000,0,0,0,0.21,0.21,0,0.89,4.9000000000000004,14.19,27.39,64.06,128.48999999999998,230.62,396.71,544.71,617.08000000000004,566.83000000000004,452.21,201.95,170.29,0,0,0,0.22,0.21,0.35,1.71,4.78,14.72,35.07,49.66,64.790000000000006,89.820000000000007,117.61999999999999,126.79,98.66,66.849999999999994,40.549999999999997,15.7,9.76,0,0,0,0.22,0.21,0.18,1.3,4.84,14.45,31.23,56.86,96.63,160.22,257.16000000000003,335.75,357.87,316.83999999999997,246.38,108.82,90.02]
["Long & Luchtpijp",3,2001,0.19,0,0,0.21,0.2,0.36,0.45,4.57,10.46,31.28,65.820000000000007,130.93,217.08,381.25,521.01,594.41,542.80999999999995,347.37,237.43,127.39,0,0,0,0,0,0.18,2.3199999999999998,4.76,17.239999999999998,33.43,47.150000000000006,79.61,91.66,119.06,130.21,100.79,65.83,39.4,22.11,0,0.1,0,0,0.1,0.1,0.27,1.39,4.67,13.85,32.360000000000007,56.49,105.27,154.35999999999999,250.15,325.61,347.6,304.32,193.38,129.77000000000001,63.69]
["Long & Luchtpijp",3,2002,0,0,0,0.21,0.2,0.19,0.75,3.25,10.92,28.590000000000003,65.150000000000006,119.75,225.47,376.59999999999997,519.13,637.55000000000007,540.95000000000005,350.11,253.55,42.46,0,0,0.21,0,0.21,0.19,1.0900000000000001,5.53,16,36.67,51.87,73.069999999999993,90.910000000000011,130.61000000000001,143.07,117.3,69.72,44.47,26.2,9.1199999999999992,0,0,0.1,0.1,0.21,0.19,0.92999999999999994,4.4000000000000004,13.46,32.630000000000003,58.510000000000005,96.41,158.19,253.6,331.11,377.43,305.33999999999997,197.29000000000002,139.88,25.79]
["Long & Luchtpijp",3,2003,0,0,0.19,0,0,0.57999999999999996,1.71,4.6100000000000003,10.91,30.33,66.360000000000014,115.36,197.31,351.38,519.71999999999991,593.34,577.9,429.1,215.22,169.6,0,0.21,0,0,0.42,0.99,1.75,3.86,14.67,40.010000000000005,61.41,81.089999999999989,96.960000000000008,128.21,155.02000000000001,128.28,97.89,49.12,25.68,26.72,0,0.1,0.1,0,0.21,0.79,1.73,4.2300000000000004,12.79,35.180000000000007,63.88,98.22,147.13,239.79,337.37,360.81,337.9,239.11,120.45,98.16]
["Long & Luchtpijp",3,2004,0,0,0,0.4,0.2,0,1.3,3.59,11.99,29.27,68.39,124.05000000000001,213.11,342.28000000000003,514.5,581.01,597.86,407.33,284.48,125.16,0.2,0,0,0,0,0.8,1.81,4.0199999999999996,17.3,41.1,60.12,88,110.91,131.31,150.31,141.93,94.63,60.67,29.13,0,0.1,0,0,0.2,0.1,0.4,1.56,3.8,14.64,35.19,64.25,106.02000000000001,162,236.79,332.41,361.46999999999997,346.24,234,156.81,62.58]
["Long & Luchtpijp",3,2005,0,0,0,0.2,0.2,0.4,0.69000000000000006,3.31,9.18,25.58,64.44,109.32,219.16,325.39000000000004,494.78,572.14,544.65,386.6,288.28000000000003,121.9,0.2,0,0,0,0.21,1.01,1.56,4.0199999999999996,16.54,37.659999999999997,66.16,86.2,113.73,147.32,168.65,156.75,102.64,60.43,32.47,8.24,0.1,0,0,0.1,0.21,0.71,1.1300000000000001,3.6599999999999997,12.86,31.62,65.3,97.76,166.44,236.35000000000002,331.72,364.45,323.65000000000003,223.52,160.38,65.069999999999993]
["Long & Luchtpijp",3,2006,0,0,0.2,0,0.2,0.6,1.82,3.34,10.98,26.69,61.73,120.12,205.20999999999998,318.39000000000004,498.63,609.29,584.31000000000006,458.52000000000004,235.38,118.18,0,0,0,0,0.63,0.61,1.83,3.88,15.6,37.79,71.75,94.09,124.39,147.19999999999999,186.88,164.87,124.48,77.56,43.88,0,0,0,0.1,0,0.42,0.61,1.82,3.61,13.290000000000001,32.24,66.739999999999995,107.1,164.8,232.79999999999998,342.76,387.08,354.39,268.04000000000002,139.63,59.09]
["Long & Luchtpijp",3,2007,0,0,0,0,0,1.21,1.72,3.86,8.76,24.41,61.550000000000004,117.99000000000001,195.73,333.08,487.39,607.21,573.24,455.54,254.84,37.64,0,0,0,0.41,0,0.4,1.72,3.45,16.14,38.21,75.2,93.320000000000007,133.45000000000002,146.37,178.16,191.03,119.33999999999999,71.819999999999993,39.090000000000003,23.07,0,0,0,0.2,0,0.81,1.72,3.66,12.45,31.31,68.37,105.66000000000001,164.58,239.73,332.78,399.12,346.29,263.66999999999996,146.97,30.35]
["Long & Luchtpijp",3,2008,0,0,0,0.39,0,0.6,1.18,5.07,6.99,22.64,59.89,113.92,194.02,316.74,475.41,603.98,604.13,429.57,267.29000000000002,249.51,0,0,0,0.2,0.41,1.01,0.98,4.4800000000000004,14.03,39.919999999999995,75.16,100.25,137.22999999999999,162.63000000000002,196.31,182.42,138.61000000000001,87.8,52.01,0,0,0,0,0.3,0.2,0.81,1.08,4.78,10.51,31.28,67.53,107.08,165.63,239.68,335.86,393.20000000000005,371.37,258.69,159.65,124.75]
["Long & Luchtpijp",3,2009,0.21,0,0.4,0,0.2,1.2,0.99,2.97,9.76,22.15,61.230000000000004,113.37,190.16,323.2,466.63,604.51,596.91,473.14,356.7,396.96,0,0,0,0.2,0.81,0.61,1.2,5.47,15.93,31.84,71.23,105.45,129.72,165.96,192.62,199.99,148.24,83.5,43.68,27.81,0.11,0,0.2,0.1,0.5,0.9,1.1000000000000001,4.22,12.84,27,66.23,109.4,159.94,244.59,329.63,402.24,372.57,278.32,200.19,212.39]
["Long & Luchtpijp",3,2010,0,0,0.39,0.19,0.19,0,1.2,4.8600000000000003,8.4,25.43,54.7,113.26,193.15,312.24,433.7,635.56000000000006,593.74,413.99,332.72,219.64,0,0,0,0.2,0.39,0.2,0.8,6.26,11.69,32,63.3,109.26,149.72,180.64,206.75,206.22000000000003,163.44,101.73,52.43,33.26,0,0,0.2,0.2,0.28999999999999998,0.1,1,5.56,10.039999999999999,28.72,59,111.26,171.44,246.44,320.23,420.89000000000004,378.6,257.86,192.58,126.45]
["Long & Luchtpijp",3,2011,0,0,0,0.39,0.19,0.2,1.39,3.47,11.21,22.59,56.620000000000005,108.48,200.04,303.99,425.03999999999996,581.57999999999993,644.89,457.23,276.91000000000003,60.79,0,0,0.41,0,0.78,1.2,1.39,3.28,11.7,36.72,69.11,113.51,142.38,180.52,197.74,227.3,164.71,119.4,62.31,19.260000000000002,0,0,0.2,0.19,0.48,0.7,1.39,3.37,11.46,29.659999999999997,62.86,111,171.21,242.26000000000002,311.39000000000004,404.44,404.8,288.31,169.61,40.03]
["Long & Luchtpijp",3,2012,0,0,0,0.59,0,0.2,1.58,3.24,9.34,20.65,46.97,107.92,183.03,275.23,396.31,576.1,531.08000000000004,520.20000000000005,221.94,232.52,0.22,0,0,0,0.38,0.4,1.59,3.04,12.41,32.76,68.319999999999993,116.63000000000001,160.9,190.11,212.22,215.6,179.07,98.92,50.99,24.93,0.11,0,0,0.28999999999999998,0.19,0.3,1.59,3.14,10.87,26.709999999999997,57.64,112.27,171.96,232.67,304.27000000000004,395.85,355.08,309.56,136.47,128.72999999999999]
["Long & Luchtpijp",3,2013,0,0,0.19,0,0.56000000000000005,0.96,1.58,3.34,9.58,24.15,52.04,113.87,177.66,270.29000000000002,400.59,512.9,574.04999999999995,483.34,240.76,253.31,0,0,0,0,0.19,0.78,1.79,3.71,11.04,30.38,59.559999999999995,115.65,164.5,196.65,211.21,215.79999999999998,205.49,115.4,54.66,24.59,0,0,0.1,0,0.38,0.87,1.69,3.52,10.31,27.27,55.8,114.76,171.08,233.46,305.89999999999998,364.34999999999997,389.77,299.37,147.71,138.94999999999999]
["Long & Luchtpijp",3,2014,0,0,0,0.2,0.19,0.38,1.78,3.78,10.47,19.760000000000002,43.87,96.37,181.79,266.35999999999996,391.09,494.36,554.59,411.91,224.66,159.87,0.23,0,0,0.21,0,0.38,1.59,3.96,10.61,29.15,64.319999999999993,115.68,163.98,206.69,225.16,204.7,170.11,98.82,56.52,30.12,0.11,0,0,0.2,0.09,0.39,1.68,3.87,10.54,24.46,54.1,106.02000000000001,172.89,236.52,308.13,349.53,362.35,255.37,140.59,95]
["Long & Luchtpijp",3,2015,0,0,0,0.19,0.37,0.19,1.57,2.99,11.01,21.33,47.58,95.92,177.02,273.85999999999996,389.19,478.64,555.37,397.02,219,71.75,0,0,0.2,0.2,0.38,0.19,0.59,4.57,7.46,25.65,63.84,112.18,177.07999999999998,216.81,237.21,229.89000000000001,211.44,108.52,56.74,22.89,0,0,0.1,0.2,0.37,0.19,1.08,3.7800000000000002,9.24,23.49,55.71,104.05,177.04999999999998,245.32999999999998,313.2,354.27000000000004,383.41,252.77,137.87,47.32]
["Long & Luchtpijp",3,2016,0.22,0,0.2,0,0.18,0.18,1.36,3.55,10.81,22.96,46.09,94.09,173.73,257.48,380.7,473.3,508.01,444.76,203.81,85.98,0,0,0.21,0,0.38,0.94,1.37,5.13,11.25,25.32,60,114.2,172.35,213.21,244.8,223.65,196.16,115.21,59.37,16.170000000000002,0.11,0,0.2,0,0.28000000000000003,0.56000000000000005,1.37,4.34,11.03,24.139999999999997,53.04,104.15,173.03,235.35,312.75,348.48,352.08,279.98,131.59,51.08]
["Acute leukemie (ALL+AML)",2,1989,5.54,5.08,2.58,2.2400000000000002,1.4,1.07,1.3,2.0500000000000003,2.8600000000000003,2.4200000000000004,4.5999999999999996,6.12,10.39,15.32,10.59,17.38,18.349999999999998,19.329999999999998,26.910000000000004,40.229999999999997,6.88,2.31,3.1700000000000004,1.08,1.1300000000000001,1.59,1.53,1.79,2.48,2.8,3.9299999999999997,3.8,4.83,5.88,10.7,13.23,7.8199999999999994,14.780000000000001,16.36,0,6.21,3.7,2.88,1.6600000000000001,1.26,1.33,1.42,1.92,2.66,2.5999999999999996,4.2699999999999996,4.9599999999999991,7.6099999999999994,10.610000000000001,10.639999999999999,15.299999999999999,13.09,17.059999999999999,21.64,20.12]
["Acute leukemie (ALL+AML)",2,1990,6.27,4.41,3.47,1.82,2.0100000000000002,0.9,2.09,2.89,1.8,1.93,3.75,6.94,5.6,10.23,19.259999999999998,24.660000000000004,26.58,19.059999999999999,35.85,0,6.54,2.76,2.95,1.52,0.97,1.89,0.84000000000000008,1.77,2.0700000000000003,2.95,2.06,4.6399999999999997,6.24,8.74,6.53,9.73,10.029999999999999,12.06,3.15,0,6.4,3.5900000000000003,3.21,1.67,1.49,1.4,1.46,2.34,1.93,2.44,2.9099999999999997,5.7899999999999991,5.92,9.49,12.9,17.2,18.310000000000002,15.56,19.5,0]
["Acute leukemie (ALL+AML)",2,1991,7.58,3.73,1.29,3.06,2.48,1.79,1.5699999999999998,1.85,1.47,3.24,5.6300000000000008,4.9800000000000004,6.74,11.66,12.8,19.64,25.1,37.699999999999996,8.91,83.44,6,2.06,2.4900000000000002,0.8,2.2599999999999998,0.95000000000000007,0.98,2.1,1.2,2.35,3.2800000000000002,3.55,5.93,7.05,7.71,14.7,13.98,14.88,3.01,0,6.79,2.89,1.89,1.94,2.37,1.37,1.28,1.98,1.34,2.79,4.45,4.26,6.33,9.35,10.25,17.18,19.54,26.3,5.96,41.72]
["Acute leukemie (ALL+AML)",2,1992,6.27,5.2,2.81,4.8099999999999996,1.56,0.89,1.86,3.51,2.02,4.0999999999999996,5.03,7.6899999999999995,10.28,13.77,13.28,15.47,26.950000000000003,29.26,35.22,42.11,6.35,4.97,1.81,1.26,0.81,1.72,1.6099999999999999,1.73,1.23,2.15,2.98,6.83,4.4800000000000004,6.5,14.62,12.14,13.2,9.3000000000000007,5.75,12.84,6.31,5.08,2.31,3.04,1.1800000000000002,1.31,1.74,2.62,1.6300000000000001,3.12,4.01,7.26,7.39,10.130000000000001,13.950000000000001,13.8,20.07,19.27,20.48,27.48]
["Acute leukemie (ALL+AML)",2,1993,5.8000000000000007,3.82,2.59,3.32,2.08,2.09,2.13,1.3099999999999998,2.04,2.63,4.9000000000000004,5.15,10.17,13.05,16.309999999999999,22.970000000000002,17.149999999999999,31.49,26.22,0,4.4000000000000004,3.1,2.2600000000000002,1.94,1.49,0.94,1.43,1.36,2.13,2.39,2.91,2.44,4.2,8.61,11.52,9.68,15.79,15.06,2.78,12.42,5.1100000000000003,3.46,2.4299999999999997,2.63,1.78,1.52,1.7799999999999998,1.34,2.08,2.5099999999999998,3.9000000000000004,3.8000000000000003,7.1800000000000006,10.83,13.91,16.32,16.47,23.27,14.5,6.21]
["Acute leukemie (ALL+AML)",2,1994,7.34,4.8,2.3800000000000003,2.31,2.17,1.5,1.05,0.98,3.09,4.08,5.64,3.99,9.51,10.53,16.190000000000001,24.45,17.87,18.079999999999998,17.37,0,7.69,1.96,2.2600000000000002,1.1000000000000001,2.0699999999999998,0.63,2.0299999999999998,2.35,1.96,1.78,3.53,5.08,4.49,8.9499999999999993,5.74,17.43,12.2,8.8000000000000007,13.44,12.08,7.51,3.38,2.3200000000000003,1.71,2.13,1.06,1.55,1.67,2.52,2.9299999999999997,4.58,4.53,7,9.7399999999999984,10.97,20.94,15.04,13.440000000000001,15.41,6.04]
["Acute leukemie (ALL+AML)",2,1995,7.9399999999999995,4.51,4.33,2.54,1.4100000000000001,1.65,2.08,1.92,2.7399999999999998,3.8000000000000003,3.73,6.75,12.129999999999999,13.51,14.31,23.16,17.57,33,17.05,0,5.62,2.57,1.81,1.7800000000000002,0.72,1.4200000000000002,2.02,1.49,1.95,1.56,4.3600000000000003,4.9800000000000004,6.1899999999999995,7.45,11.37,12.12,10.42,16.23,5.17,0,6.77,3.54,3.07,2.16,1.0699999999999998,1.54,2.04,1.7000000000000002,2.34,2.67,4.04,5.87,9.16,10.479999999999999,12.85,17.650000000000002,14,24.62,11.11,0]
["Acute leukemie (ALL+AML)",2,1996,9.1999999999999993,3.02,3.02,5.07,2.81,2.42,0.8899999999999999,1.89,2.04,1.9900000000000002,3.11,6.1,9.7200000000000006,13.99,18.100000000000001,24.7,26.089999999999996,20.11,25.28,0,7.76,2.95,2.0300000000000002,1.55,2.31,0.94,2.02,2.29,3.1500000000000004,3.4499999999999997,2.16,4.9000000000000004,4.8,8.3000000000000007,8.2799999999999994,15.73,15.79,6.6,0,11.22,8.48,2.99,2.52,3.3100000000000005,2.56,1.68,1.45,2.09,2.6,2.72,2.64,5.5,7.2700000000000005,11.15,13.19,20.21,20.95,13.35,12.64,5.61]
["Acute leukemie (ALL+AML)",2,1997,10.059999999999999,4.1899999999999995,2.77,2.5299999999999998,2.16,1.8399999999999999,1.92,2.33,2.02,3.58,4.1900000000000004,6.47,9.9499999999999993,10.42,14.28,20.71,30.16,22.220000000000002,16.649999999999999,44.73,5.0599999999999996,3.34,2,1.54,2.0099999999999998,1.9100000000000001,2.33,2.73,2.77,3.71,2.98,4.5599999999999996,4.24,6.7799999999999994,7.05,15.639999999999999,13.55,12.99,12.15,0,7.57,3.76,2.39,2.04,2.08,1.88,2.13,2.5300000000000002,2.39,3.6399999999999997,3.5900000000000003,5.52,7.1,8.6,10.66,18.18,21.86,17.600000000000001,14.4,22.37]
["Acute leukemie (ALL+AML)",2,1998,7.43,4.34,3.13,2.54,2.4299999999999997,1.8900000000000001,0.59,1.6800000000000002,2,3.63,4.1400000000000006,2.1799999999999997,10.399999999999999,11.62,14.22,25.69,21.54,9.6,8.19,0,6.7299999999999995,3.0999999999999996,3.06,1.55,1.45,1.29,2.34,3.16,2.73,1.97,4.1100000000000003,6.19,6.45,9.120000000000001,8.7100000000000009,15.89,16.900000000000002,10.91,16.48,10.36,7.08,3.73,3.1,2.04,1.94,1.5899999999999999,1.46,2.42,2.37,2.8,4.13,4.18,8.42,10.379999999999999,11.46,20.79,19.220000000000002,10.25,12.34,5.18]
["Acute leukemie (ALL+AML)",2,1999,9.17,7.25,3.29,2.5299999999999998,1.23,2.13,2.23,2.1,1.9700000000000002,3.12,3.48,5.6199999999999992,9.879999999999999,12.85,21.15,18.540000000000003,25.849999999999998,23.27,24.45,0,4.6000000000000005,2.2599999999999998,1.5,1.54,1.47,1.6800000000000002,2.8000000000000003,0.47,2.52,1.97,3.24,4.5600000000000005,7.7299999999999995,5.89,11.01,16.12,10.98,15.149999999999999,9.16,0,6.88,4.75,2.39,2.04,1.3599999999999999,1.9,2.52,1.29,2.25,2.5500000000000003,3.36,5.09,8.8099999999999987,9.3699999999999992,16.080000000000002,17.330000000000002,18.420000000000002,19.21,16.809999999999999,0]
["Acute leukemie (ALL+AML)",2,2000,7.48,5.48,4.6400000000000006,2.31,2.68,1.21,1.19,1.6400000000000001,1.29,2.77,2.87,5.91,7.99,12.76,14.68,26.009999999999998,20.84,18.18,0,0,7.43,3.07,2.3199999999999998,1.32,1.26,1.06,1.4,1.55,2.48,3.2,4.2,5.38,5.68,8.2799999999999994,10.989999999999998,10.149999999999999,14.56,13.22,8.9700000000000006,0,7.4600000000000009,4.28,3.4800000000000004,1.8199999999999998,1.97,1.1399999999999999,1.2999999999999998,1.5899999999999999,1.8900000000000001,2.9899999999999998,3.54,5.65,6.83,10.52,12.84,18.080000000000002,17.7,15.700000000000001,4.49,0]
["Acute leukemie (ALL+AML)",2,2001,8.5300000000000011,4.9300000000000006,3.96,2.71,2.66,2.1800000000000002,1.79,2.21,2.2199999999999998,2.75,5.2399999999999993,6.4300000000000006,7.8000000000000007,16.22,17.59,32.47,32.51,29.13,15.83,42.46,7.7200000000000006,2.89,1.03,0.66,2.31,1.29,1.55,1.69,2.27,2.46,3.66,3.9699999999999998,4.79,5.04,10.93,10.229999999999999,14,11.39,8.84,9.4,8.1199999999999992,3.9000000000000004,2.5,1.69,2.48,1.73,1.6700000000000002,1.96,2.25,2.61,4.46,5.2,6.29,10.629999999999999,14.26,21.35,23.25,20.260000000000002,12.34,25.93]
["Acute leukemie (ALL+AML)",2,2002,8.83,6.13,4.9000000000000004,2.2599999999999998,1.63,2.2599999999999998,1.81,1.6300000000000001,1.87,4.42,4.6899999999999995,6.3000000000000007,7.6099999999999994,14.46,23.17,23.48,21.6,26.59,23.05,42.46,4.83,2.2800000000000002,2.46,1.51,1.6600000000000001,1.1499999999999999,1.4000000000000001,1.38,2.08,3.65,3.04,6.08,6.7899999999999991,8,13.09,13.239999999999998,18.05,13.96,8.73,0,6.83,4.21,3.67,1.88,1.6400000000000001,1.7000000000000002,1.6099999999999999,1.51,1.98,4.04,3.87,6.1899999999999995,7.1999999999999993,11.23,18.130000000000003,18.36,19.830000000000002,20.270000000000003,15.89,21.23]
["Acute leukemie (ALL+AML)",2,2003,8.99,4.17,4.28,3.84,3.06,2.14,1.87,1.64,2.46,2.6999999999999997,4.41,6.8900000000000006,10.199999999999999,13.280000000000001,18.18,16.23,32.200000000000003,24.330000000000002,29.69,0,8.42,3.53,3.6599999999999997,1.27,1.04,2.5599999999999996,1.9000000000000001,2.16,2.0499999999999998,2.2400000000000002,3.26,5.53,8.16,10,12.1,17.38,17.45,14.04,4.28,8.91,8.6999999999999993,3.8499999999999996,3.9800000000000004,2.56,2.0499999999999998,2.3600000000000003,1.88,1.9000000000000001,2.2599999999999998,2.46,3.83,6.21,9.19,11.639999999999999,15.14,16.8,24.82,19.189999999999998,16.98,4.45]
["Acute leukemie (ALL+AML)",2,2004,6.92,3.96,3.68,1.7999999999999998,1.8399999999999999,1.2000000000000002,1.1400000000000001,2.1,2.4300000000000002,3.3200000000000003,4.62,5.57,7.88,13.870000000000001,19.100000000000001,16.5,32.51,35.04,35.56,0,6.8500000000000005,2.4899999999999998,2.0299999999999998,1.26,1.25,0.8,1.3099999999999998,2.3200000000000003,3.2800000000000002,4.4000000000000004,2.9,5.52,5.45,10.41,12.1,12.97,19.21,13.19,18.72,0,6.8900000000000006,3.2199999999999998,2.8499999999999996,1.53,1.54,1,1.23,2.21,2.85,3.86,3.76,5.55,6.66,12.129999999999999,15.6,14.73,25.86,24.11,27.14,0]
["Acute leukemie (ALL+AML)",2,2005,9.19,4.72,3.7,3.1799999999999997,1.43,1.81,1.3699999999999999,1.9500000000000002,1.65,1.9700000000000002,3.1900000000000004,5.9499999999999993,8.6300000000000008,10.19,17.739999999999998,28.009999999999998,28.4,14.47,13.73,81.27,7.9899999999999993,4.13,1.23,3.53,0.84,2.23,0.52,2.0099999999999998,3.71,2.66,2.17,4.82,7,7.08,9.57,13.65,13.4,15.32,12.18,8.24,8.59,4.42,2.46,3.36,1.1299999999999999,2.0099999999999998,0.95000000000000007,1.99,2.6799999999999997,2.31,2.68,5.39,7.8199999999999994,8.64,13.65,20.82,20.91,14.9,12.95,44.75]
["Acute leukemie (ALL+AML)",2,2006,7.4,4.68,3.75,2.56,1.8399999999999999,2.02,1.27,1.82,1.65,3.5599999999999996,2.64,5.9700000000000006,8.14,14.02,14.889999999999999,22.720000000000002,18.899999999999999,30.57,26.91,39.39,7.13,3.47,2.68,2.67,1.47,1.42,2.2000000000000002,2.79,2.31,3.28,4.6499999999999995,5.1899999999999995,5.46,8.6199999999999992,9.57,14.620000000000001,20.36,11.32,17.95,0,7.26,4.08,3.21,2.61,1.66,1.72,1.73,2.31,1.99,3.4299999999999997,3.65,5.57,6.8,11.32,12.23,18.670000000000002,19.630000000000003,20.939999999999998,22.43,19.7]
["Acute leukemie (ALL+AML)",2,2007,6.54,5.23,2.98,2.7399999999999998,2.65,1.01,1.52,1.08,1.36,3.35,3.15,6.66,6.22,14.25,16.5,24.57,28.94,17.86,19.600000000000001,0,7.07,3.66,2.71,2.0499999999999998,2.92,1.42,1.3399999999999999,2.67,2.33,3.07,3.1799999999999997,4.95,5.4399999999999995,7.3900000000000006,7.95,14.84,15.73,15.44,7.82,7.69,6.8,4.4399999999999995,2.85,2.39,2.7800000000000002,1.22,1.43,1.8800000000000001,1.8399999999999999,3.21,3.17,5.8,5.8400000000000007,10.82,12.22,19.7,22.34,16.66,13.71,3.84]
["Acute leukemie (ALL+AML)",2,2008,6.67,6.1899999999999995,2.79,3.3000000000000003,1,1.61,1.96,1.9000000000000001,1.52,4.25,4.1500000000000004,5.48,8.0300000000000011,11.600000000000001,19,29.240000000000002,32.950000000000003,16.71,6.36,0,7.63,4.45,2.5099999999999998,1.22,1.22,2.23,1.38,2.56,2.4900000000000002,2.72,3.5,4.6399999999999997,6.7,8.82,10.4,13.649999999999999,14.78,22.14,11.56,0,7.15,5.32,2.65,2.2600000000000002,1.1199999999999999,1.92,1.68,2.23,2.0099999999999998,3.4799999999999995,3.8200000000000003,5.0599999999999996,7.37,10.209999999999999,14.700000000000001,21.44,23.87,19.43,8.9600000000000009,0]
["Acute leukemie (ALL+AML)",2,2009,7.58,4.08,2.79,2.3199999999999998,1.1800000000000002,1.8,2.19,2.31,3.05,2.78,3.07,7.53,9.82,12.770000000000001,16.689999999999998,23,32.74,20.5,43.05,33.08,5.07,2.6500000000000004,1.46,1.81,0.8,2.63,2.39,1,2.5,2.36,3.61,4.46,7.04,9.0599999999999987,10.209999999999999,17.88,13.35,23.35,9.5,0,6.33,3.3600000000000003,2.12,2.0700000000000003,1,2.21,2.29,1.65,2.77,2.58,3.34,6,8.43,10.920000000000002,13.44,20.439999999999998,23.040000000000003,21.93,26.27,16.54]
["Acute leukemie (ALL+AML)",2,2010,7.1899999999999995,3.15,3.7399999999999998,2.9,2.9,2.98,2,2.78,1.53,3.2199999999999998,3.86,6.96,9.17,12.149999999999999,18.170000000000002,18.87,34.450000000000003,18.2,28.2,0,8.6399999999999988,3.09,1.24,1.82,2.17,0.6,1.4,2.09,2.02,2.96,3.56,5.18,5.54,9.58,16.32,16.05,20.490000000000002,13.84,7.23,0,7.92,3.12,2.5,2.36,2.5300000000000002,1.8,1.7000000000000002,2.4299999999999997,1.78,3.1,3.71,6.07,7.35,10.86,17.240000000000002,17.47,27.470000000000002,16.02,17.71,0]
["Acute leukemie (ALL+AML)",2,2011,6.7900000000000009,3.4,3.11,4.09,1.9,1.98,1.19,2.0099999999999998,2.15,3.51,3.47,5.27,10.649999999999999,14.09,20.889999999999997,29.3,31.009999999999998,29.31,15.1,0,8,3.56,2.8600000000000003,2.65,1.75,1.2,1.3900000000000001,2.1800000000000002,2.0300000000000002,3.43,3.33,3.84,5.3500000000000005,10.94,12.450000000000001,13.879999999999999,21.1,18.53,10.1,0,7.4,3.48,2.99,3.38,1.8199999999999998,1.58,1.29,2.09,2.09,3.46,3.4,4.5600000000000005,7.99,12.51,16.669999999999998,21.59,26.05,23.92,12.6,0]
["Acute leukemie (ALL+AML)",2,2012,6.83,4.07,4.25,3.15,2.63,2.34,1.98,2.1,1.8699999999999999,4.13,4.07,5.4,5.83,15.34,20.3,23.36,29.919999999999998,21.2,13.870000000000001,0,6.71,4.4800000000000004,3.4299999999999997,1.23,1.1499999999999999,0.99,1,1.71,1.57,3.12,4.26,5.23,6.8,8.07,9.6,11.32,19.009999999999998,16.37,14.34,0,6.77,4.2799999999999994,3.84,2.19,1.89,1.67,1.48,1.9,1.71,3.63,4.16,5.3100000000000005,6.3199999999999994,11.7,14.96,17.350000000000001,24.46,18.79,14.1,0]
["Acute leukemie (ALL+AML)",2,2013,9.06,4.7699999999999996,3.66,2.75,1.4900000000000002,1.54,2.1799999999999997,1.97,1.6,1.8399999999999999,3.68,6.23,10.86,11.520000000000001,15.95,23.53,18.45,24.58,30.1,0,5.8900000000000006,2.39,2.62,2.6799999999999997,0.95,1.77,0.8,2.35,1.1200000000000001,3.13,3.8699999999999997,5.88,5.35,7.62,12.209999999999999,14.34,15.299999999999999,15.61,6.07,6.15,7.47,3.58,3.14,2.71,1.23,1.65,1.48,2.15,1.3599999999999999,2.4900000000000002,3.7800000000000002,6.0500000000000007,8.1,9.57,14.08,18.940000000000001,16.88,20.100000000000001,18.079999999999998,3.07]
["Acute leukemie (ALL+AML)",2,2014,7.2100000000000009,3.77,3.0900000000000003,5.28,1.6700000000000002,1.52,1.5799999999999998,1.8,2.83,2.16,4.26,5.79,8.61,14.72,19.759999999999998,22.66,27.51,17.05,48.14,0,8.26,3.08,2.42,1.03,1.52,1.7400000000000002,1.78,3.17,2.15,2.5100000000000002,4.1399999999999997,4.5600000000000005,6.8900000000000006,10.31,15.14,13.01,13.01,9.41,15.94,0,7.7299999999999995,3.42,2.76,3.15,1.6,1.63,1.69,2.48,2.4899999999999998,2.34,4.2,5.17,7.75,12.52,17.45,17.829999999999998,20.27,13.23,32.04,0]
["Acute leukemie (ALL+AML)",2,2015,10.4,5.04,3.52,3.48,0.55000000000000004,1.87,1.37,2.79,2.9699999999999998,3.0900000000000003,4.83,5.68,6.87,12.129999999999999,15.43,24.189999999999998,32.299999999999997,23.8,19.21,23.92,8.129999999999999,2.86,2.4500000000000002,1.21,1.71,1.9,0.99,3.18,2.25,1.72,4.25,4.66,6.4700000000000006,6.9300000000000006,10.199999999999999,12.03,13.8,11.25,9.93,5.72,9.26,3.96,2.99,2.35,1.1299999999999999,1.8900000000000001,1.18,2.99,2.61,2.41,4.54,5.17,6.67,9.5300000000000011,12.809999999999999,18.11,23.060000000000002,17.52,14.57,14.82]
["Acute leukemie (ALL+AML)",2,2016,7.3599999999999994,6.09,1.98,4.37,1.6600000000000001,2.0099999999999998,1.1599999999999999,1.77,1.6500000000000001,3.1100000000000003,3.42,5.76,8.5,14.66,17.150000000000002,30.3,25.37,28.77,7.41,21.5,5.16,3.75,2.7,2,1.33,0.75,0.39,0.99,1.63,2.65,4.25,5.42,6.76,7.89,12.9,11.46,13.739999999999998,12.370000000000001,12.72,0,6.26,4.92,2.34,3.19,1.5,1.38,0.78,1.3900000000000001,1.65,2.88,3.83,5.59,7.64,11.280000000000001,15.020000000000001,20.88,19.559999999999999,20.57,10.07,10.75]

{"sheet":"Berekening","index":2,"n_rows":56,"n_cols":7,"rows_kept":56,"cut":false,"hidden":false,"merged":[[0,1,0,3],[1,1,1,3]]}
["Locatie:",{"$f":"Invoer!C2","v":0},null,null,null,null,"verwacht aantal"]
["INCIDENTIE ",null,null,null,null,null,"personen met"]
[]
[null,null,"aantal inwoners","incidentie per ",null,{"$f":"\"P (\"&Invoer!B11 - (Invoer!A11-1)& \" jr)\"","v":"P (16 jr)"},"xxx"]
[null,null,null,"100.000 pers.jaren",null,{"$f":"\"(ref NL \"&Invoer!A11&\" - \"&Invoer!B11&\")\"","v":"(ref NL 2001 - 2016)"},{"$f":"\"in \"&Invoer!B11-(Invoer!A11-1)&\" jaar tijd\"","v":"in 16 jaar tijd"}]
["mannen"]
["0-4",null,{"$f":"Invoer!B15","v":0},{"$f":"DataIKNL!D5","v":7.4081249999999992},null,{"$f":"PRODUCT(D7,(Invoer!$B$11 - (Invoer!$A$11-1))/100000)","v":1.1853E-3},{"$f":"PRODUCT(C7,F7)","v":0}]
["5-9 jr",null,{"$f":"Invoer!B16","v":0},{"$f":"DataIKNL!E5","v":4.5644642857142852},null,{"$f":"PRODUCT(D8,(Invoer!$B$11 - (Invoer!$A$11-1))/100000)","v":7.303142857142857E-4},{"$f":"PRODUCT(C8,F8)","v":0}]
["10-14jr",null,{"$f":"Invoer!B17","v":0},{"$f":"DataIKNL!F5","v":4.3219642857142855},null,{"$f":"PRODUCT(D9,(Invoer!$B$11 - (Invoer!$A$11-1))/100000)","v":6.9151428571428573E-4},0]
["15-19",null,{"$f":"Invoer!B18","v":0},{"$f":"DataIKNL!G5","v":6.6916964285714302},null,{"$f":"PRODUCT(D10,(Invoer!$B$11 - (Invoer!$A$11-1))/100000)","v":1.0706714285714288E-3},0]
["20-24",null,{"$f":"Invoer!B19","v":0},{"$f":"DataIKNL!H5","v":9.3163392857142888},null,{"$f":"PRODUCT(D11,(Invoer!$B$11 - (Invoer!$A$11-1))/100000)","v":1.4906142857142863E-3},0]
["25-29",null,{"$f":"Invoer!B20","v":0},{"$f":"DataIKNL!I5","v":13.038750000000009},null,{"$f":"PRODUCT(D12,(Invoer!$B$11 - (Invoer!$A$11-1))/100000)","v":2.0862000000000016E-3},0]
["30-34",null,{"$f":"Invoer!B21","v":0},{"$f":"DataIKNL!J5","v":16.677678571428576},null,{"$f":"PRODUCT(D13,(Invoer!$B$11 - (Invoer!$A$11-1))/100000)","v":2.6684285714285725E-3},0]
["35-39",null,{"$f":"Invoer!B22","v":0},{"$f":"DataIKNL!K5","v":22.392232142857164},null,{"$f":"PRODUCT(D14,(Invoer!$B$11 - (Invoer!$A$11-1))/100000)","v":3.5827571428571465E-3},0]
["40-44",null,{"$f":"Invoer!B23","v":0},{"$f":"DataIKNL!L5","v":35.196964285714301},null,{"$f":"PRODUCT(D15,(Invoer!$B$11 - (Invoer!$A$11-1))/100000)","v":5.6315142857142888E-3},0]
["45-49",null,{"$f":"Invoer!B24","v":0},{"$f":"DataIKNL!M5","v":63.454821428571456},null,{"$f":"PRODUCT(D16,(Invoer!$B$11 - (Invoer!$A$11-1))/100000)","v":1.0152771428571433E-2},0]
["50-54",null,{"$f":"Invoer!B25","v":0},{"$f":"DataIKNL!N5","v":119.22696428571423},null,{"$f":"PRODUCT(D17,(Invoer!$B$11 - (Invoer!$A$11-1))/100000)","v":1.9076314285714279E-2},0]
["55-59",null,{"$f":"Invoer!B26","v":0},{"$f":"DataIKNL!O5","v":221.70419642857146},null,{"$f":"PRODUCT(D18,(Invoer!$B$11 - (Invoer!$A$11-1))/100000)","v":3.547267142857144E-2},0]
["60-64",null,{"$f":"Invoer!B27","v":0},{"$f":"DataIKNL!P5","v":382.98026785714302},null,{"$f":"PRODUCT(D19,(Invoer!$B$11 - (Invoer!$A$11-1))/100000)","v":6.1276842857142889E-2},0]
["65-69",null,{"$f":"Invoer!B28","v":0},{"$f":"DataIKNL!Q5","v":594.39839285714311},null,{"$f":"PRODUCT(D20,(Invoer!$B$11 - (Invoer!$A$11-1))/100000)","v":9.5103742857142903E-2},0]
["70-74",null,{"$f":"Invoer!B29","v":0},{"$f":"DataIKNL!R5","v":819.83392857142815},null,{"$f":"PRODUCT(D21,(Invoer!$B$11 - (Invoer!$A$11-1))/100000)","v":0.13117342857142852},0]
["75-79",null,{"$f":"Invoer!B30","v":0},{"$f":"DataIKNL!S5","v":1012.7825892857145},null,{"$f":"PRODUCT(D22,(Invoer!$B$11 - (Invoer!$A$11-1))/100000)","v":0.16204521428571433},0]
["80-84",null,{"$f":"Invoer!B31","v":0},{"$f":"DataIKNL!T5","v":1077.1466964285712},null,{"$f":"PRODUCT(D23,(Invoer!$B$11 - (Invoer!$A$11-1))/100000)","v":0.1723434714285714},0]
["85-89",null,{"$f":"Invoer!B32","v":0},{"$f":"DataIKNL!U5","v":1021.0893750000001},null,{"$f":"PRODUCT(D24,(Invoer!$B$11 - (Invoer!$A$11-1))/100000)","v":0.16337430000000003},0]
["90-94",null,{"$f":"Invoer!B33","v":0},{"$f":"DataIKNL!V5","v":841.99633928571495},null,{"$f":"PRODUCT(D25,(Invoer!$B$11 - (Invoer!$A$11-1))/100000)","v":0.13471941428571441},0]
["95+",null,{"$f":"Invoer!B34","v":0},{"$f":"DataIKNL!W5","v":627.74785714285713},null,{"$f":"PRODUCT(D26,(Invoer!$B$11 - (Invoer!$A$11-1))/100000)","v":0.10043965714285714},0]
["totaal",null,{"$f":"SUM(C7:C26)","v":0},null,null,null,{"$f":"SUM(G7:G26)","v":0}]
[]
["vrouwen"]
["0-4",null,{"$f":"Invoer!C15","v":0},{"$f":"DataIKNL!X5","v":6.4576785714285734},null,{"$f":"PRODUCT(D30,(Invoer!$B$11 - (Invoer!$A$11-1))/100000)","v":1.0332285714285717E-3},{"$f":"PRODUCT(C30,F30)","v":0}]
["5-9 jr",null,{"$f":"Invoer!C16","v":0},{"$f":"DataIKNL!Y5","v":3.3609821428571416},null,{"$f":"PRODUCT(D31,(Invoer!$B$11 - (Invoer!$A$11-1))/100000)","v":5.3775714285714271E-4},{"$f":"PRODUCT(C31,F31)","v":0}]
["10-14jr",null,{"$f":"Invoer!C17","v":0},{"$f":"DataIKNL!Z5","v":3.5550892857142844},null,{"$f":"PRODUCT(D32,(Invoer!$B$11 - (Invoer!$A$11-1))/100000)","v":5.6881428571428552E-4},0]
["15-19",null,{"$f":"Invoer!C18","v":0},{"$f":"DataIKNL!AA5","v":5.3505357142857166},null,{"$f":"PRODUCT(D33,(Invoer!$B$11 - (Invoer!$A$11-1))/100000)","v":8.560857142857147E-4},0]
["20-24",null,{"$f":"Invoer!C19","v":0},{"$f":"DataIKNL!AB5","v":8.0094642857142837},null,{"$f":"PRODUCT(D34,(Invoer!$B$11 - (Invoer!$A$11-1))/100000)","v":1.2815142857142854E-3},0]
["25-29",null,{"$f":"Invoer!C20","v":0},{"$f":"DataIKNL!AC5","v":14.287500000000009},null,{"$f":"PRODUCT(D35,(Invoer!$B$11 - (Invoer!$A$11-1))/100000)","v":2.2860000000000016E-3},0]
["30-34",null,{"$f":"Invoer!C21","v":0},{"$f":"DataIKNL!AD5","v":26.359107142857159},null,{"$f":"PRODUCT(D36,(Invoer!$B$11 - (Invoer!$A$11-1))/100000)","v":4.2174571428571454E-3},0]
["35-39",null,{"$f":"Invoer!C22","v":0},{"$f":"DataIKNL!AE5","v":43.269821428571412},null,{"$f":"PRODUCT(D37,(Invoer!$B$11 - (Invoer!$A$11-1))/100000)","v":6.9231714285714263E-3},0]
["40-44",null,{"$f":"Invoer!C23","v":0},{"$f":"DataIKNL!AF5","v":71.44910714285713},null,{"$f":"PRODUCT(D38,(Invoer!$B$11 - (Invoer!$A$11-1))/100000)","v":1.1431857142857141E-2},0]
["45-49",null,{"$f":"Invoer!C24","v":0},{"$f":"DataIKNL!AG5","v":115.3830357142857},null,{"$f":"PRODUCT(D39,(Invoer!$B$11 - (Invoer!$A$11-1))/100000)","v":1.8461285714285711E-2},0]
["50-54",null,{"$f":"Invoer!C25","v":0},{"$f":"DataIKNL!AH5","v":165.86053571428565},null,{"$f":"PRODUCT(D40,(Invoer!$B$11 - (Invoer!$A$11-1))/100000)","v":2.6537685714285705E-2},0]
["55-59",null,{"$f":"Invoer!C26","v":0},{"$f":"DataIKNL!AI5","v":210.92419642857152},null,{"$f":"PRODUCT(D41,(Invoer!$B$11 - (Invoer!$A$11-1))/100000)","v":3.3747871428571448E-2},0]
["60-64",null,{"$f":"Invoer!C27","v":0},{"$f":"DataIKNL!AJ5","v":276.40160714285724},null,{"$f":"PRODUCT(D42,(Invoer!$B$11 - (Invoer!$A$11-1))/100000)","v":4.422425714285716E-2},0]
["65-69",null,{"$f":"Invoer!C28","v":0},{"$f":"DataIKNL!AK5","v":346.1149999999999},null,{"$f":"PRODUCT(D43,(Invoer!$B$11 - (Invoer!$A$11-1))/100000)","v":5.5378399999999987E-2},0]
["70-74",null,{"$f":"Invoer!C29","v":0},{"$f":"DataIKNL!AL5","v":406.77874999999995},null,{"$f":"PRODUCT(D44,(Invoer!$B$11 - (Invoer!$A$11-1))/100000)","v":6.5084599999999992E-2},0]
["75-79",null,{"$f":"Invoer!C30","v":0},{"$f":"DataIKNL!AM5","v":447.64982142857144},null,{"$f":"PRODUCT(D45,(Invoer!$B$11 - (Invoer!$A$11-1))/100000)","v":7.1623971428571437E-2},0]
["80-84",null,{"$f":"Invoer!C31","v":0},{"$f":"DataIKNL!AN5","v":486.91258928571426},null,{"$f":"PRODUCT(D46,(Invoer!$B$11 - (Invoer!$A$11-1))/100000)","v":7.7906014285714295E-2},0]
["85-89",null,{"$f":"Invoer!C32","v":0},{"$f":"DataIKNL!AO5","v":477.82526785714288},null,{"$f":"PRODUCT(D47,(Invoer!$B$11 - (Invoer!$A$11-1))/100000)","v":7.6452042857142868E-2},0]
["90-94",null,{"$f":"Invoer!C33","v":0},{"$f":"DataIKNL!AP5","v":415.62705357142846},null,{"$f":"PRODUCT(D48,(Invoer!$B$11 - (Invoer!$A$11-1))/100000)","v":6.6500328571428555E-2},0]
["95+",null,{"$f":"Invoer!C34","v":0},{"$f":"DataIKNL!AQ5","v":312.33883928571424},null,{"$f":"PRODUCT(D49,(Invoer!$B$11 - (Invoer!$A$11-1))/100000)","v":4.9974214285714282E-2},0]
["totaal",null,{"$f":"SUM(C30:C49)","v":0},null,null,null,{"$f":"SUM(G30:G49)","v":0}]
[]
["totaal M+V",null,{"$f":"SUM(C50+C27)","v":0},null,null,null,{"$f":"SUM(G27+G50)","v":0}]
[]
[]
["cumulatieve Poisson-verdeling:"]
[{"$f":"Invoer!H15","v":98},{"$f":"(100-A56)/200","v":0.01}]

{"sheet":"TabelOndergrens","index":3,"n_rows":5004,"n_cols":6,"rows_kept":5004,"cut":false,"hidden":false,"merged":[]}
["mannen",null,"vrouwen",null,"mannen en vrouwen"]
[]
["ondergrens","aantal gevallen","ondergrens","aantal gevallen","ondergrens","aantal gevallen"]
[{"$f":"POISSON(B4,Berekening!$G$27,TRUE)","v":1},0,{"$f":"POISSON(D4,Berekening!$G$50,TRUE)","v":1},0,{"$f":"POISSON(F4,Berekening!$G$52,TRUE)","v":1},0]
[{"$f":"POISSON(B5,Berekening!$G$27,TRUE)","v":1},1,{"$f":"POISSON(D5,Berekening!$G$50,TRUE)","v":1},1,{"$f":"POISSON(F5,Berekening!$G$52,TRUE)","v":1},1]
[{"$f":"POISSON(B6,Berekening!$G$27,TRUE)","v":1},2,{"$f":"POISSON(D6,Berekening!$G$50,TRUE)","v":1},2,{"$f":"POISSON(F6,Berekening!$G$52,TRUE)","v":1},2]
[{"$f":"POISSON(B7,Berekening!$G$27,TRUE)","v":1},3,{"$f":"POISSON(D7,Berekening!$G$50,TRUE)","v":1},3,{"$f":"POISSON(F7,Berekening!$G$52,TRUE)","v":1},3]
[{"$f":"POISSON(B8,Berekening!$G$27,TRUE)","v":1},4,{"$f":"POISSON(D8,Berekening!$G$50,TRUE)","v":1},4,{"$f":"POISSON(F8,Berekening!$G$52,TRUE)","v":1},4]
[{"$f":"POISSON(B9,Berekening!$G$27,TRUE)","v":1},5,{"$f":"POISSON(D9,Berekening!$G$50,TRUE)","v":1},5,{"$f":"POISSON(F9,Berekening!$G$52,TRUE)","v":1},5]
[{"$f":"POISSON(B10,Berekening!$G$27,TRUE)","v":1},6,{"$f":"POISSON(D10,Berekening!$G$50,TRUE)","v":1},6,{"$f":"POISSON(F10,Berekening!$G$52,TRUE)","v":1},6]
[{"$f":"POISSON(B11,Berekening!$G$27,TRUE)","v":1},7,{"$f":"POISSON(D11,Berekening!$G$50,TRUE)","v":1},7,{"$f":"POISSON(F11,Berekening!$G$52,TRUE)","v":1},7]
[{"$f":"POISSON(B12,Berekening!$G$27,TRUE)","v":1},8,{"$f":"POISSON(D12,Berekening!$G$50,TRUE)","v":1},8,{"$f":"POISSON(F12,Berekening!$G$52,TRUE)","v":1},8]
[{"$f":"POISSON(B13,Berekening!$G$27,TRUE)","v":1},9,{"$f":"POISSON(D13,Berekening!$G$50,TRUE)","v":1},9,{"$f":"POISSON(F13,Berekening!$G$52,TRUE)","v":1},9]
[{"$f":"POISSON(B14,Berekening!$G$27,TRUE)","v":1},10,{"$f":"POISSON(D14,Berekening!$G$50,TRUE)","v":1},10,{"$f":"POISSON(F14,Berekening!$G$52,TRUE)","v":1},10]
[{"$f":"POISSON(B15,Berekening!$G$27,TRUE)","v":1},11,{"$f":"POISSON(D15,Berekening!$G$50,TRUE)","v":1},11,{"$f":"POISSON(F15,Berekening!$G$52,TRUE)","v":1},11]
[{"$f":"POISSON(B16,Berekening!$G$27,TRUE)","v":1},12,{"$f":"POISSON(D16,Berekening!$G$50,TRUE)","v":1},12,{"$f":"POISSON(F16,Berekening!$G$52,TRUE)","v":1},12]
[{"$f":"POISSON(B17,Berekening!$G$27,TRUE)","v":1},13,{"$f":"POISSON(D17,Berekening!$G$50,TRUE)","v":1},13,{"$f":"POISSON(F17,Berekening!$G$52,TRUE)","v":1},13]
[{"$f":"POISSON(B18,Berekening!$G$27,TRUE)","v":1},14,{"$f":"POISSON(D18,Berekening!$G$50,TRUE)","v":1},14,{"$f":"POISSON(F18,Berekening!$G$52,TRUE)","v":1},14]
[{"$f":"POISSON(B19,Berekening!$G$27,TRUE)","v":1},15,{"$f":"POISSON(D19,Berekening!$G$50,TRUE)","v":1},15,{"$f":"POISSON(F19,Berekening!$G$52,TRUE)","v":1},15]
[{"$f":"POISSON(B20,Berekening!$G$27,TRUE)","v":1},16,{"$f":"POISSON(D20,Berekening!$G$50,TRUE)","v":1},16,{"$f":"POISSON(F20,Berekening!$G$52,TRUE)","v":1},16]
[{"$f":"POISSON(B21,Berekening!$G$27,TRUE)","v":1},17,{"$f":"POISSON(D21,Berekening!$G$50,TRUE)","v":1},17,{"$f":"POISSON(F21,Berekening!$G$52,TRUE)","v":1},17]
[{"$f":"POISSON(B22,Berekening!$G$27,TRUE)","v":1},18,{"$f":"POISSON(D22,Berekening!$G$50,TRUE)","v":1},18,{"$f":"POISSON(F22,Berekening!$G$52,TRUE)","v":1},18]
[{"$f":"POISSON(B23,Berekening!$G$27,TRUE)","v":1},19,{"$f":"POISSON(D23,Berekening!$G$50,TRUE)","v":1},19,{"$f":"POISSON(F23,Berekening!$G$52,TRUE)","v":1},19]
[{"$f":"POISSON(B24,Berekening!$G$27,TRUE)","v":1},20,{"$f":"POISSON(D24,Berekening!$G$50,TRUE)","v":1},20,{"$f":"POISSON(F24,Berekening!$G$52,TRUE)","v":1},20]
[{"$f":"POISSON(B25,Berekening!$G$27,TRUE)","v":1},21,{"$f":"POISSON(D25,Berekening!$G$50,TRUE)","v":1},21,{"$f":"POISSON(F25,Berekening!$G$52,TRUE)","v":1},21]
[{"$f":"POISSON(B26,Berekening!$G$27,TRUE)","v":1},22,{"$f":"POISSON(D26,Berekening!$G$50,TRUE)","v":1},22,{"$f":"POISSON(F26,Berekening!$G$52,TRUE)","v":1},22]
[{"$f":"POISSON(B27,Berekening!$G$27,TRUE)","v":1},23,{"$f":"POISSON(D27,Berekening!$G$50,TRUE)","v":1},23,{"$f":"POISSON(F27,Berekening!$G$52,TRUE)","v":1},23]
[{"$f":"POISSON(B28,Berekening!$G$27,TRUE)","v":1},24,{"$f":"POISSON(D28,Berekening!$G$50,TRUE)","v":1},24,{"$f":"POISSON(F28,Berekening!$G$52,TRUE)","v":1},24]
[{"$f":"POISSON(B29,Berekening!$G$27,TRUE)","v":1},25,{"$f":"POISSON(D29,Berekening!$G$50,TRUE)","v":1},25,{"$f":"POISSON(F29,Berekening!$G$52,TRUE)","v":1},25]
[{"$f":"POISSON(B30,Berekening!$G$27,TRUE)","v":1},26,{"$f":"POISSON(D30,Berekening!$G$50,TRUE)","v":1},26,{"$f":"POISSON(F30,Berekening!$G$52,TRUE)","v":1},26]
[{"$f":"POISSON(B31,Berekening!$G$27,TRUE)","v":1},27,{"$f":"POISSON(D31,Berekening!$G$50,TRUE)","v":1},27,{"$f":"POISSON(F31,Berekening!$G$52,TRUE)","v":1},27]
[{"$f":"POISSON(B32,Berekening!$G$27,TRUE)","v":1},28,{"$f":"POISSON(D32,Berekening!$G$50,TRUE)","v":1},28,{"$f":"POISSON(F32,Berekening!$G$52,TRUE)","v":1},28]
[{"$f":"POISSON(B33,Berekening!$G$27,TRUE)","v":1},29,{"$f":"POISSON(D33,Berekening!$G$50,TRUE)","v":1},29,{"$f":"POISSON(F33,Berekening!$G$52,TRUE)","v":1},29]
[{"$f":"POISSON(B34,Berekening!$G$27,TRUE)","v":1},30,{"$f":"POISSON(D34,Berekening!$G$50,TRUE)","v":1},30,{"$f":"POISSON(F34,Berekening!$G$52,TRUE)","v":1},30]
[{"$f":"POISSON(B35,Berekening!$G$27,TRUE)","v":1},31,{"$f":"POISSON(D35,Berekening!$G$50,TRUE)","v":1},31,{"$f":"POISSON(F35,Berekening!$G$52,TRUE)","v":1},31]
[{"$f":"POISSON(B36,Berekening!$G$27,TRUE)","v":1},32,{"$f":"POISSON(D36,Berekening!$G$50,TRUE)","v":1},32,{"$f":"POISSON(F36,Berekening!$G$52,TRUE)","v":1},32]
[{"$f":"POISSON(B37,Berekening!$G$27,TRUE)","v":1},33,{"$f":"POISSON(D37,Berekening!$G$50,TRUE)","v":1},33,{"$f":"POISSON(F37,Berekening!$G$52,TRUE)","v":1},33]
[{"$f":"POISSON(B38,Berekening!$G$27,TRUE)","v":1},34,{"$f":"POISSON(D38,Berekening!$G$50,TRUE)","v":1},34,{"$f":"POISSON(F38,Berekening!$G$52,TRUE)","v":1},34]
[{"$f":"POISSON(B39,Berekening!$G$27,TRUE)","v":1},35,{"$f":"POISSON(D39,Berekening!$G$50,TRUE)","v":1},35,{"$f":"POISSON(F39,Berekening!$G$52,TRUE)","v":1},35]
[{"$f":"POISSON(B40,Berekening!$G$27,TRUE)","v":1},36,{"$f":"POISSON(D40,Berekening!$G$50,TRUE)","v":1},36,{"$f":"POISSON(F40,Berekening!$G$52,TRUE)","v":1},36]
[{"$f":"POISSON(B41,Berekening!$G$27,TRUE)","v":1},37,{"$f":"POISSON(D41,Berekening!$G$50,TRUE)","v":1},37,{"$f":"POISSON(F41,Berekening!$G$52,TRUE)","v":1},37]
[{"$f":"POISSON(B42,Berekening!$G$27,TRUE)","v":1},38,{"$f":"POISSON(D42,Berekening!$G$50,TRUE)","v":1},38,{"$f":"POISSON(F42,Berekening!$G$52,TRUE)","v":1},38]
[{"$f":"POISSON(B43,Berekening!$G$27,TRUE)","v":1},39,{"$f":"POISSON(D43,Berekening!$G$50,TRUE)","v":1},39,{"$f":"POISSON(F43,Berekening!$G$52,TRUE)","v":1},39]
[{"$f":"POISSON(B44,Berekening!$G$27,TRUE)","v":1},40,{"$f":"POISSON(D44,Berekening!$G$50,TRUE)","v":1},40,{"$f":"POISSON(F44,Berekening!$G$52,TRUE)","v":1},40]
[{"$f":"POISSON(B45,Berekening!$G$27,TRUE)","v":1},41,{"$f":"POISSON(D45,Berekening!$G$50,TRUE)","v":1},41,{"$f":"POISSON(F45,Berekening!$G$52,TRUE)","v":1},41]
[{"$f":"POISSON(B46,Berekening!$G$27,TRUE)","v":1},42,{"$f":"POISSON(D46,Berekening!$G$50,TRUE)","v":1},42,{"$f":"POISSON(F46,Berekening!$G$52,TRUE)","v":1},42]
[{"$f":"POISSON(B47,Berekening!$G$27,TRUE)","v":1},43,{"$f":"POISSON(D47,Berekening!$G$50,TRUE)","v":1},43,{"$f":"POISSON(F47,Berekening!$G$52,TRUE)","v":1},43]
[{"$f":"POISSON(B48,Berekening!$G$27,TRUE)","v":1},44,{"$f":"POISSON(D48,Berekening!$G$50,TRUE)","v":1},44,{"$f":"POISSON(F48,Berekening!$G$52,TRUE)","v":1},44]
[{"$f":"POISSON(B49,Berekening!$G$27,TRUE)","v":1},45,{"$f":"POISSON(D49,Berekening!$G$50,TRUE)","v":1},45,{"$f":"POISSON(F49,Berekening!$G$52,TRUE)","v":1},45]
[{"$f":"POISSON(B50,Berekening!$G$27,TRUE)","v":1},46,{"$f":"POISSON(D50,Berekening!$G$50,TRUE)","v":1},46,{"$f":"POISSON(F50,Berekening!$G$52,TRUE)","v":1},46]
[{"$f":"POISSON(B51,Berekening!$G$27,TRUE)","v":1},47,{"$f":"POISSON(D51,Berekening!$G$50,TRUE)","v":1},47,{"$f":"POISSON(F51,Berekening!$G$52,TRUE)","v":1},47]
[{"$f":"POISSON(B52,Berekening!$G$27,TRUE)","v":1},48,{"$f":"POISSON(D52,Berekening!$G$50,TRUE)","v":1},48,{"$f":"POISSON(F52,Berekening!$G$52,TRUE)","v":1},48]
[{"$f":"POISSON(B53,Berekening!$G$27,TRUE)","v":1},49,{"$f":"POISSON(D53,Berekening!$G$50,TRUE)","v":1},49,{"$f":"POISSON(F53,Berekening!$G$52,TRUE)","v":1},49]
[{"$f":"POISSON(B54,Berekening!$G$27,TRUE)","v":1},50,{"$f":"POISSON(D54,Berekening!$G$50,TRUE)","v":1},50,{"$f":"POISSON(F54,Berekening!$G$52,TRUE)","v":1},50]
[{"$f":"POISSON(B55,Berekening!$G$27,TRUE)","v":1},51,{"$f":"POISSON(D55,Berekening!$G$50,TRUE)","v":1},51,{"$f":"POISSON(F55,Berekening!$G$52,TRUE)","v":1},51]
[{"$f":"POISSON(B56,Berekening!$G$27,TRUE)","v":1},52,{"$f":"POISSON(D56,Berekening!$G$50,TRUE)","v":1},52,{"$f":"POISSON(F56,Berekening!$G$52,TRUE)","v":1},52]
[{"$f":"POISSON(B57,Berekening!$G$27,TRUE)","v":1},53,{"$f":"POISSON(D57,Berekening!$G$50,TRUE)","v":1},53,{"$f":"POISSON(F57,Berekening!$G$52,TRUE)","v":1},53]
[{"$f":"POISSON(B58,Berekening!$G$27,TRUE)","v":1},54,{"$f":"POISSON(D58,Berekening!$G$50,TRUE)","v":1},54,{"$f":"POISSON(F58,Berekening!$G$52,TRUE)","v":1},54]
[{"$f":"POISSON(B59,Berekening!$G$27,TRUE)","v":1},55,{"$f":"POISSON(D59,Berekening!$G$50,TRUE)","v":1},55,{"$f":"POISSON(F59,Berekening!$G$52,TRUE)","v":1},55]
[{"$f":"POISSON(B60,Berekening!$G$27,TRUE)","v":1},56,{"$f":"POISSON(D60,Berekening!$G$50,TRUE)","v":1},56,{"$f":"POISSON(F60,Berekening!$G$52,TRUE)","v":1},56]
[{"$f":"POISSON(B61,Berekening!$G$27,TRUE)","v":1},57,{"$f":"POISSON(D61,Berekening!$G$50,TRUE)","v":1},57,{"$f":"POISSON(F61,Berekening!$G$52,TRUE)","v":1},57]
[{"$f":"POISSON(B62,Berekening!$G$27,TRUE)","v":1},58,{"$f":"POISSON(D62,Berekening!$G$50,TRUE)","v":1},58,{"$f":"POISSON(F62,Berekening!$G$52,TRUE)","v":1},58]
[{"$f":"POISSON(B63,Berekening!$G$27,TRUE)","v":1},59,{"$f":"POISSON(D63,Berekening!$G$50,TRUE)","v":1},59,{"$f":"POISSON(F63,Berekening!$G$52,TRUE)","v":1},59]
[{"$f":"POISSON(B64,Berekening!$G$27,TRUE)","v":1},60,{"$f":"POISSON(D64,Berekening!$G$50,TRUE)","v":1},60,{"$f":"POISSON(F64,Berekening!$G$52,TRUE)","v":1},60]
[{"$f":"POISSON(B65,Berekening!$G$27,TRUE)","v":1},61,{"$f":"POISSON(D65,Berekening!$G$50,TRUE)","v":1},61,{"$f":"POISSON(F65,Berekening!$G$52,TRUE)","v":1},61]
[{"$f":"POISSON(B66,Berekening!$G$27,TRUE)","v":1},62,{"$f":"POISSON(D66,Berekening!$G$50,TRUE)","v":1},62,{"$f":"POISSON(F66,Berekening!$G$52,TRUE)","v":1},62]
[{"$f":"POISSON(B67,Berekening!$G$27,TRUE)","v":1},63,{"$f":"POISSON(D67,Berekening!$G$50,TRUE)","v":1},63,{"$f":"POISSON(F67,Berekening!$G$52,TRUE)","v":1},63]
[{"$f":"POISSON(B68,Berekening!$G$27,TRUE)","v":1},64,{"$f":"POISSON(D68,Berekening!$G$50,TRUE)","v":1},64,{"$f":"POISSON(F68,Berekening!$G$52,TRUE)","v":1},64]
[{"$f":"POISSON(B69,Berekening!$G$27,TRUE)","v":1},65,{"$f":"POISSON(D69,Berekening!$G$50,TRUE)","v":1},65,{"$f":"POISSON(F69,Berekening!$G$52,TRUE)","v":1},65]
[{"$f":"POISSON(B70,Berekening!$G$27,TRUE)","v":1},66,{"$f":"POISSON(D70,Berekening!$G$50,TRUE)","v":1},66,{"$f":"POISSON(F70,Berekening!$G$52,TRUE)","v":1},66]
[{"$f":"POISSON(B71,Berekening!$G$27,TRUE)","v":1},67,{"$f":"POISSON(D71,Berekening!$G$50,TRUE)","v":1},67,{"$f":"POISSON(F71,Berekening!$G$52,TRUE)","v":1},67]
[{"$f":"POISSON(B72,Berekening!$G$27,TRUE)","v":1},68,{"$f":"POISSON(D72,Berekening!$G$50,TRUE)","v":1},68,{"$f":"POISSON(F72,Berekening!$G$52,TRUE)","v":1},68]
[{"$f":"POISSON(B73,Berekening!$G$27,TRUE)","v":1},69,{"$f":"POISSON(D73,Berekening!$G$50,TRUE)","v":1},69,{"$f":"POISSON(F73,Berekening!$G$52,TRUE)","v":1},69]
[{"$f":"POISSON(B74,Berekening!$G$27,TRUE)","v":1},70,{"$f":"POISSON(D74,Berekening!$G$50,TRUE)","v":1},70,{"$f":"POISSON(F74,Berekening!$G$52,TRUE)","v":1},70]
[{"$f":"POISSON(B75,Berekening!$G$27,TRUE)","v":1},71,{"$f":"POISSON(D75,Berekening!$G$50,TRUE)","v":1},71,{"$f":"POISSON(F75,Berekening!$G$52,TRUE)","v":1},71]
[{"$f":"POISSON(B76,Berekening!$G$27,TRUE)","v":1},72,{"$f":"POISSON(D76,Berekening!$G$50,TRUE)","v":1},72,{"$f":"POISSON(F76,Berekening!$G$52,TRUE)","v":1},72]
[{"$f":"POISSON(B77,Berekening!$G$27,TRUE)","v":1},73,{"$f":"POISSON(D77,Berekening!$G$50,TRUE)","v":1},73,{"$f":"POISSON(F77,Berekening!$G$52,TRUE)","v":1},73]
[{"$f":"POISSON(B78,Berekening!$G$27,TRUE)","v":1},74,{"$f":"POISSON(D78,Berekening!$G$50,TRUE)","v":1},74,{"$f":"POISSON(F78,Berekening!$G$52,TRUE)","v":1},74]
[{"$f":"POISSON(B79,Berekening!$G$27,TRUE)","v":1},75,{"$f":"POISSON(D79,Berekening!$G$50,TRUE)","v":1},75,{"$f":"POISSON(F79,Berekening!$G$52,TRUE)","v":1},75]
[{"$f":"POISSON(B80,Berekening!$G$27,TRUE)","v":1},76,{"$f":"POISSON(D80,Berekening!$G$50,TRUE)","v":1},76,{"$f":"POISSON(F80,Berekening!$G$52,TRUE)","v":1},76]
[{"$f":"POISSON(B81,Berekening!$G$27,TRUE)","v":1},77,{"$f":"POISSON(D81,Berekening!$G$50,TRUE)","v":1},77,{"$f":"POISSON(F81,Berekening!$G$52,TRUE)","v":1},77]
[{"$f":"POISSON(B82,Berekening!$G$27,TRUE)","v":1},78,{"$f":"POISSON(D82,Berekening!$G$50,TRUE)","v":1},78,{"$f":"POISSON(F82,Berekening!$G$52,TRUE)","v":1},78]
[{"$f":"POISSON(B83,Berekening!$G$27,TRUE)","v":1},79,{"$f":"POISSON(D83,Berekening!$G$50,TRUE)","v":1},79,{"$f":"POISSON(F83,Berekening!$G$52,TRUE)","v":1},79]
[{"$f":"POISSON(B84,Berekening!$G$27,TRUE)","v":1},80,{"$f":"POISSON(D84,Berekening!$G$50,TRUE)","v":1},80,{"$f":"POISSON(F84,Berekening!$G$52,TRUE)","v":1},80]
[{"$f":"POISSON(B85,Berekening!$G$27,TRUE)","v":1},81,{"$f":"POISSON(D85,Berekening!$G$50,TRUE)","v":1},81,{"$f":"POISSON(F85,Berekening!$G$52,TRUE)","v":1},81]
[{"$f":"POISSON(B86,Berekening!$G$27,TRUE)","v":1},82,{"$f":"POISSON(D86,Berekening!$G$50,TRUE)","v":1},82,{"$f":"POISSON(F86,Berekening!$G$52,TRUE)","v":1},82]
[{"$f":"POISSON(B87,Berekening!$G$27,TRUE)","v":1},83,{"$f":"POISSON(D87,Berekening!$G$50,TRUE)","v":1},83,{"$f":"POISSON(F87,Berekening!$G$52,TRUE)","v":1},83]
[{"$f":"POISSON(B88,Berekening!$G$27,TRUE)","v":1},84,{"$f":"POISSON(D88,Berekening!$G$50,TRUE)","v":1},84,{"$f":"POISSON(F88,Berekening!$G$52,TRUE)","v":1},84]
[{"$f":"POISSON(B89,Berekening!$G$27,TRUE)","v":1},85,{"$f":"POISSON(D89,Berekening!$G$50,TRUE)","v":1},85,{"$f":"POISSON(F89,Berekening!$G$52,TRUE)","v":1},85]
[{"$f":"POISSON(B90,Berekening!$G$27,TRUE)","v":1},86,{"$f":"POISSON(D90,Berekening!$G$50,TRUE)","v":1},86,{"$f":"POISSON(F90,Berekening!$G$52,TRUE)","v":1},86]
[{"$f":"POISSON(B91,Berekening!$G$27,TRUE)","v":1},87,{"$f":"POISSON(D91,Berekening!$G$50,TRUE)","v":1},87,{"$f":"POISSON(F91,Berekening!$G$52,TRUE)","v":1},87]
[{"$f":"POISSON(B92,Berekening!$G$27,TRUE)","v":1},88,{"$f":"POISSON(D92,Berekening!$G$50,TRUE)","v":1},88,{"$f":"POISSON(F92,Berekening!$G$52,TRUE)","v":1},88]
[{"$f":"POISSON(B93,Berekening!$G$27,TRUE)","v":1},89,{"$f":"POISSON(D93,Berekening!$G$50,TRUE)","v":1},89,{"$f":"POISSON(F93,Berekening!$G$52,TRUE)","v":1},89]
[{"$f":"POISSON(B94,Berekening!$G$27,TRUE)","v":1},90,{"$f":"POISSON(D94,Berekening!$G$50,TRUE)","v":1},90,{"$f":"POISSON(F94,Berekening!$G$52,TRUE)","v":1},90]
[{"$f":"POISSON(B95,Berekening!$G$27,TRUE)","v":1},91,{"$f":"POISSON(D95,Berekening!$G$50,TRUE)","v":1},91,{"$f":"POISSON(F95,Berekening!$G$52,TRUE)","v":1},91]
[{"$f":"POISSON(B96,Berekening!$G$27,TRUE)","v":1},92,{"$f":"POISSON(D96,Berekening!$G$50,TRUE)","v":1},92,{"$f":"POISSON(F96,Berekening!$G$52,TRUE)","v":1},92]
[{"$f":"POISSON(B97,Berekening!$G$27,TRUE)","v":1},93,{"$f":"POISSON(D97,Berekening!$G$50,TRUE)","v":1},93,{"$f":"POISSON(F97,Berekening!$G$52,TRUE)","v":1},93]
[{"$f":"POISSON(B98,Berekening!$G$27,TRUE)","v":1},94,{"$f":"POISSON(D98,Berekening!$G$50,TRUE)","v":1},94,{"$f":"POISSON(F98,Berekening!$G$52,TRUE)","v":1},94]
[{"$f":"POISSON(B99,Berekening!$G$27,TRUE)","v":1},95,{"$f":"POISSON(D99,Berekening!$G$50,TRUE)","v":1},95,{"$f":"POISSON(F99,Berekening!$G$52,TRUE)","v":1},95]
[{"$f":"POISSON(B100,Berekening!$G$27,TRUE)","v":1},96,{"$f":"POISSON(D100,Berekening!$G$50,TRUE)","v":1},96,{"$f":"POISSON(F100,Berekening!$G$52,TRUE)","v":1},96]
[{"$f":"POISSON(B101,Berekening!$G$27,TRUE)","v":1},97,{"$f":"POISSON(D101,Berekening!$G$50,TRUE)","v":1},97,{"$f":"POISSON(F101,Berekening!$G$52,TRUE)","v":1},97]
[{"$f":"POISSON(B102,Berekening!$G$27,TRUE)","v":1},98,{"$f":"POISSON(D102,Berekening!$G$50,TRUE)","v":1},98,{"$f":"POISSON(F102,Berekening!$G$52,TRUE)","v":1},98]
[{"$f":"POISSON(B103,Berekening!$G$27,TRUE)","v":1},99,{"$f":"POISSON(D103,Berekening!$G$50,TRUE)","v":1},99,{"$f":"POISSON(F103,Berekening!$G$52,TRUE)","v":1},99]
[{"$f":"POISSON(B104,Berekening!$G$27,TRUE)","v":1},100,{"$f":"POISSON(D104,Berekening!$G$50,TRUE)","v":1},100,{"$f":"POISSON(F104,Berekening!$G$52,TRUE)","v":1},100]
[{"$f":"POISSON(B105,Berekening!$G$27,TRUE)","v":1},101,{"$f":"POISSON(D105,Berekening!$G$50,TRUE)","v":1},101,{"$f":"POISSON(F105,Berekening!$G$52,TRUE)","v":1},101]
[{"$f":"POISSON(B106,Berekening!$G$27,TRUE)","v":1},102,{"$f":"POISSON(D106,Berekening!$G$50,TRUE)","v":1},102,{"$f":"POISSON(F106,Berekening!$G$52,TRUE)","v":1},102]
[{"$f":"POISSON(B107,Berekening!$G$27,TRUE)","v":1},103,{"$f":"POISSON(D107,Berekening!$G$50,TRUE)","v":1},103,{"$f":"POISSON(F107,Berekening!$G$52,TRUE)","v":1},103]
[{"$f":"POISSON(B108,Berekening!$G$27,TRUE)","v":1},104,{"$f":"POISSON(D108,Berekening!$G$50,TRUE)","v":1},104,{"$f":"POISSON(F108,Berekening!$G$52,TRUE)","v":1},104]
[{"$f":"POISSON(B109,Berekening!$G$27,TRUE)","v":1},105,{"$f":"POISSON(D109,Berekening!$G$50,TRUE)","v":1},105,{"$f":"POISSON(F109,Berekening!$G$52,TRUE)","v":1},105]
[{"$f":"POISSON(B110,Berekening!$G$27,TRUE)","v":1},106,{"$f":"POISSON(D110,Berekening!$G$50,TRUE)","v":1},106,{"$f":"POISSON(F110,Berekening!$G$52,TRUE)","v":1},106]
[{"$f":"POISSON(B111,Berekening!$G$27,TRUE)","v":1},107,{"$f":"POISSON(D111,Berekening!$G$50,TRUE)","v":1},107,{"$f":"POISSON(F111,Berekening!$G$52,TRUE)","v":1},107]
[{"$f":"POISSON(B112,Berekening!$G$27,TRUE)","v":1},108,{"$f":"POISSON(D112,Berekening!$G$50,TRUE)","v":1},108,{"$f":"POISSON(F112,Berekening!$G$52,TRUE)","v":1},108]
[{"$f":"POISSON(B113,Berekening!$G$27,TRUE)","v":1},109,{"$f":"POISSON(D113,Berekening!$G$50,TRUE)","v":1},109,{"$f":"POISSON(F113,Berekening!$G$52,TRUE)","v":1},109]
[{"$f":"POISSON(B114,Berekening!$G$27,TRUE)","v":1},110,{"$f":"POISSON(D114,Berekening!$G$50,TRUE)","v":1},110,{"$f":"POISSON(F114,Berekening!$G$52,TRUE)","v":1},110]
[{"$f":"POISSON(B115,Berekening!$G$27,TRUE)","v":1},111,{"$f":"POISSON(D115,Berekening!$G$50,TRUE)","v":1},111,{"$f":"POISSON(F115,Berekening!$G$52,TRUE)","v":1},111]
[{"$f":"POISSON(B116,Berekening!$G$27,TRUE)","v":1},112,{"$f":"POISSON(D116,Berekening!$G$50,TRUE)","v":1},112,{"$f":"POISSON(F116,Berekening!$G$52,TRUE)","v":1},112]
[{"$f":"POISSON(B117,Berekening!$G$27,TRUE)","v":1},113,{"$f":"POISSON(D117,Berekening!$G$50,TRUE)","v":1},113,{"$f":"POISSON(F117,Berekening!$G$52,TRUE)","v":1},113]
[{"$f":"POISSON(B118,Berekening!$G$27,TRUE)","v":1},114,{"$f":"POISSON(D118,Berekening!$G$50,TRUE)","v":1},114,{"$f":"POISSON(F118,Berekening!$G$52,TRUE)","v":1},114]
[{"$f":"POISSON(B119,Berekening!$G$27,TRUE)","v":1},115,{"$f":"POISSON(D119,Berekening!$G$50,TRUE)","v":1},115,{"$f":"POISSON(F119,Berekening!$G$52,TRUE)","v":1},115]
[{"$f":"POISSON(B120,Berekening!$G$27,TRUE)","v":1},116,{"$f":"POISSON(D120,Berekening!$G$50,TRUE)","v":1},116,{"$f":"POISSON(F120,Berekening!$G$52,TRUE)","v":1},116]
[{"$f":"POISSON(B121,Berekening!$G$27,TRUE)","v":1},117,{"$f":"POISSON(D121,Berekening!$G$50,TRUE)","v":1},117,{"$f":"POISSON(F121,Berekening!$G$52,TRUE)","v":1},117]
[{"$f":"POISSON(B122,Berekening!$G$27,TRUE)","v":1},118,{"$f":"POISSON(D122,Berekening!$G$50,TRUE)","v":1},118,{"$f":"POISSON(F122,Berekening!$G$52,TRUE)","v":1},118]
[{"$f":"POISSON(B123,Berekening!$G$27,TRUE)","v":1},119,{"$f":"POISSON(D123,Berekening!$G$50,TRUE)","v":1},119,{"$f":"POISSON(F123,Berekening!$G$52,TRUE)","v":1},119]
[{"$f":"POISSON(B124,Berekening!$G$27,TRUE)","v":1},120,{"$f":"POISSON(D124,Berekening!$G$50,TRUE)","v":1},120,{"$f":"POISSON(F124,Berekening!$G$52,TRUE)","v":1},120]
[{"$f":"POISSON(B125,Berekening!$G$27,TRUE)","v":1},121,{"$f":"POISSON(D125,Berekening!$G$50,TRUE)","v":1},121,{"$f":"POISSON(F125,Berekening!$G$52,TRUE)","v":1},121]
[{"$f":"POISSON(B126,Berekening!$G$27,TRUE)","v":1},122,{"$f":"POISSON(D126,Berekening!$G$50,TRUE)","v":1},122,{"$f":"POISSON(F126,Berekening!$G$52,TRUE)","v":1},122]
[{"$f":"POISSON(B127,Berekening!$G$27,TRUE)","v":1},123,{"$f":"POISSON(D127,Berekening!$G$50,TRUE)","v":1},123,{"$f":"POISSON(F127,Berekening!$G$52,TRUE)","v":1},123]
[{"$f":"POISSON(B128,Berekening!$G$27,TRUE)","v":1},124,{"$f":"POISSON(D128,Berekening!$G$50,TRUE)","v":1},124,{"$f":"POISSON(F128,Berekening!$G$52,TRUE)","v":1},124]
[{"$f":"POISSON(B129,Berekening!$G$27,TRUE)","v":1},125,{"$f":"POISSON(D129,Berekening!$G$50,TRUE)","v":1},125,{"$f":"POISSON(F129,Berekening!$G$52,TRUE)","v":1},125]
[{"$f":"POISSON(B130,Berekening!$G$27,TRUE)","v":1},126,{"$f":"POISSON(D130,Berekening!$G$50,TRUE)","v":1},126,{"$f":"POISSON(F130,Berekening!$G$52,TRUE)","v":1},126]
[{"$f":"POISSON(B131,Berekening!$G$27,TRUE)","v":1},127,{"$f":"POISSON(D131,Berekening!$G$50,TRUE)","v":1},127,{"$f":"POISSON(F131,Berekening!$G$52,TRUE)","v":1},127]
[{"$f":"POISSON(B132,Berekening!$G$27,TRUE)","v":1},128,{"$f":"POISSON(D132,Berekening!$G$50,TRUE)","v":1},128,{"$f":"POISSON(F132,Berekening!$G$52,TRUE)","v":1},128]
[{"$f":"POISSON(B133,Berekening!$G$27,TRUE)","v":1},129,{"$f":"POISSON(D133,Berekening!$G$50,TRUE)","v":1},129,{"$f":"POISSON(F133,Berekening!$G$52,TRUE)","v":1},129]
[{"$f":"POISSON(B134,Berekening!$G$27,TRUE)","v":1},130,{"$f":"POISSON(D134,Berekening!$G$50,TRUE)","v":1},130,{"$f":"POISSON(F134,Berekening!$G$52,TRUE)","v":1},130]
[{"$f":"POISSON(B135,Berekening!$G$27,TRUE)","v":1},131,{"$f":"POISSON(D135,Berekening!$G$50,TRUE)","v":1},131,{"$f":"POISSON(F135,Berekening!$G$52,TRUE)","v":1},131]
[{"$f":"POISSON(B136,Berekening!$G$27,TRUE)","v":1},132,{"$f":"POISSON(D136,Berekening!$G$50,TRUE)","v":1},132,{"$f":"POISSON(F136,Berekening!$G$52,TRUE)","v":1},132]
[{"$f":"POISSON(B137,Berekening!$G$27,TRUE)","v":1},133,{"$f":"POISSON(D137,Berekening!$G$50,TRUE)","v":1},133,{"$f":"POISSON(F137,Berekening!$G$52,TRUE)","v":1},133]
[{"$f":"POISSON(B138,Berekening!$G$27,TRUE)","v":1},134,{"$f":"POISSON(D138,Berekening!$G$50,TRUE)","v":1},134,{"$f":"POISSON(F138,Berekening!$G$52,TRUE)","v":1},134]
[{"$f":"POISSON(B139,Berekening!$G$27,TRUE)","v":1},135,{"$f":"POISSON(D139,Berekening!$G$50,TRUE)","v":1},135,{"$f":"POISSON(F139,Berekening!$G$52,TRUE)","v":1},135]
[{"$f":"POISSON(B140,Berekening!$G$27,TRUE)","v":1},136,{"$f":"POISSON(D140,Berekening!$G$50,TRUE)","v":1},136,{"$f":"POISSON(F140,Berekening!$G$52,TRUE)","v":1},136]
[{"$f":"POISSON(B141,Berekening!$G$27,TRUE)","v":1},137,{"$f":"POISSON(D141,Berekening!$G$50,TRUE)","v":1},137,{"$f":"POISSON(F141,Berekening!$G$52,TRUE)","v":1},137]
[{"$f":"POISSON(B142,Berekening!$G$27,TRUE)","v":1},138,{"$f":"POISSON(D142,Berekening!$G$50,TRUE)","v":1},138,{"$f":"POISSON(F142,Berekening!$G$52,TRUE)","v":1},138]
[{"$f":"POISSON(B143,Berekening!$G$27,TRUE)","v":1},139,{"$f":"POISSON(D143,Berekening!$G$50,TRUE)","v":1},139,{"$f":"POISSON(F143,Berekening!$G$52,TRUE)","v":1},139]
[{"$f":"POISSON(B144,Berekening!$G$27,TRUE)","v":1},140,{"$f":"POISSON(D144,Berekening!$G$50,TRUE)","v":1},140,{"$f":"POISSON(F144,Berekening!$G$52,TRUE)","v":1},140]
[{"$f":"POISSON(B145,Berekening!$G$27,TRUE)","v":1},141,{"$f":"POISSON(D145,Berekening!$G$50,TRUE)","v":1},141,{"$f":"POISSON(F145,Berekening!$G$52,TRUE)","v":1},141]
[{"$f":"POISSON(B146,Berekening!$G$27,TRUE)","v":1},142,{"$f":"POISSON(D146,Berekening!$G$50,TRUE)","v":1},142,{"$f":"POISSON(F146,Berekening!$G$52,TRUE)","v":1},142]
[{"$f":"POISSON(B147,Berekening!$G$27,TRUE)","v":1},143,{"$f":"POISSON(D147,Berekening!$G$50,TRUE)","v":1},143,{"$f":"POISSON(F147,Berekening!$G$52,TRUE)","v":1},143]
[{"$f":"POISSON(B148,Berekening!$G$27,TRUE)","v":1},144,{"$f":"POISSON(D148,Berekening!$G$50,TRUE)","v":1},144,{"$f":"POISSON(F148,Berekening!$G$52,TRUE)","v":1},144]
[{"$f":"POISSON(B149,Berekening!$G$27,TRUE)","v":1},145,{"$f":"POISSON(D149,Berekening!$G$50,TRUE)","v":1},145,{"$f":"POISSON(F149,Berekening!$G$52,TRUE)","v":1},145]
[{"$f":"POISSON(B150,Berekening!$G$27,TRUE)","v":1},146,{"$f":"POISSON(D150,Berekening!$G$50,TRUE)","v":1},146,{"$f":"POISSON(F150,Berekening!$G$52,TRUE)","v":1},146]
[{"$f":"POISSON(B151,Berekening!$G$27,TRUE)","v":1},147,{"$f":"POISSON(D151,Berekening!$G$50,TRUE)","v":1},147,{"$f":"POISSON(F151,Berekening!$G$52,TRUE)","v":1},147]
[{"$f":"POISSON(B152,Berekening!$G$27,TRUE)","v":1},148,{"$f":"POISSON(D152,Berekening!$G$50,TRUE)","v":1},148,{"$f":"POISSON(F152,Berekening!$G$52,TRUE)","v":1},148]
[{"$f":"POISSON(B153,Berekening!$G$27,TRUE)","v":1},149,{"$f":"POISSON(D153,Berekening!$G$50,TRUE)","v":1},149,{"$f":"POISSON(F153,Berekening!$G$52,TRUE)","v":1},149]
[{"$f":"POISSON(B154,Berekening!$G$27,TRUE)","v":1},150,{"$f":"POISSON(D154,Berekening!$G$50,TRUE)","v":1},150,{"$f":"POISSON(F154,Berekening!$G$52,TRUE)","v":1},150]
[{"$f":"POISSON(B155,Berekening!$G$27,TRUE)","v":1},151,{"$f":"POISSON(D155,Berekening!$G$50,TRUE)","v":1},151,{"$f":"POISSON(F155,Berekening!$G$52,TRUE)","v":1},151]
[{"$f":"POISSON(B156,Berekening!$G$27,TRUE)","v":1},152,{"$f":"POISSON(D156,Berekening!$G$50,TRUE)","v":1},152,{"$f":"POISSON(F156,Berekening!$G$52,TRUE)","v":1},152]
[{"$f":"POISSON(B157,Berekening!$G$27,TRUE)","v":1},153,{"$f":"POISSON(D157,Berekening!$G$50,TRUE)","v":1},153,{"$f":"POISSON(F157,Berekening!$G$52,TRUE)","v":1},153]
[{"$f":"POISSON(B158,Berekening!$G$27,TRUE)","v":1},154,{"$f":"POISSON(D158,Berekening!$G$50,TRUE)","v":1},154,{"$f":"POISSON(F158,Berekening!$G$52,TRUE)","v":1},154]
[{"$f":"POISSON(B159,Berekening!$G$27,TRUE)","v":1},155,{"$f":"POISSON(D159,Berekening!$G$50,TRUE)","v":1},155,{"$f":"POISSON(F159,Berekening!$G$52,TRUE)","v":1},155]
[{"$f":"POISSON(B160,Berekening!$G$27,TRUE)","v":1},156,{"$f":"POISSON(D160,Berekening!$G$50,TRUE)","v":1},156,{"$f":"POISSON(F160,Berekening!$G$52,TRUE)","v":1},156]
[{"$f":"POISSON(B161,Berekening!$G$27,TRUE)","v":1},157,{"$f":"POISSON(D161,Berekening!$G$50,TRUE)","v":1},157,{"$f":"POISSON(F161,Berekening!$G$52,TRUE)","v":1},157]
[{"$f":"POISSON(B162,Berekening!$G$27,TRUE)","v":1},158,{"$f":"POISSON(D162,Berekening!$G$50,TRUE)","v":1},158,{"$f":"POISSON(F162,Berekening!$G$52,TRUE)","v":1},158]
[{"$f":"POISSON(B163,Berekening!$G$27,TRUE)","v":1},159,{"$f":"POISSON(D163,Berekening!$G$50,TRUE)","v":1},159,{"$f":"POISSON(F163,Berekening!$G$52,TRUE)","v":1},159]
[{"$f":"POISSON(B164,Berekening!$G$27,TRUE)","v":1},160,{"$f":"POISSON(D164,Berekening!$G$50,TRUE)","v":1},160,{"$f":"POISSON(F164,Berekening!$G$52,TRUE)","v":1},160]
[{"$f":"POISSON(B165,Berekening!$G$27,TRUE)","v":1},161,{"$f":"POISSON(D165,Berekening!$G$50,TRUE)","v":1},161,{"$f":"POISSON(F165,Berekening!$G$52,TRUE)","v":1},161]
[{"$f":"POISSON(B166,Berekening!$G$27,TRUE)","v":1},162,{"$f":"POISSON(D166,Berekening!$G$50,TRUE)","v":1},162,{"$f":"POISSON(F166,Berekening!$G$52,TRUE)","v":1},162]
[{"$f":"POISSON(B167,Berekening!$G$27,TRUE)","v":1},163,{"$f":"POISSON(D167,Berekening!$G$50,TRUE)","v":1},163,{"$f":"POISSON(F167,Berekening!$G$52,TRUE)","v":1},163]
[{"$f":"POISSON(B168,Berekening!$G$27,TRUE)","v":1},164,{"$f":"POISSON(D168,Berekening!$G$50,TRUE)","v":1},164,{"$f":"POISSON(F168,Berekening!$G$52,TRUE)","v":1},164]
[{"$f":"POISSON(B169,Berekening!$G$27,TRUE)","v":1},165,{"$f":"POISSON(D169,Berekening!$G$50,TRUE)","v":1},165,{"$f":"POISSON(F169,Berekening!$G$52,TRUE)","v":1},165]
[{"$f":"POISSON(B170,Berekening!$G$27,TRUE)","v":1},166,{"$f":"POISSON(D170,Berekening!$G$50,TRUE)","v":1},166,{"$f":"POISSON(F170,Berekening!$G$52,TRUE)","v":1},166]
[{"$f":"POISSON(B171,Berekening!$G$27,TRUE)","v":1},167,{"$f":"POISSON(D171,Berekening!$G$50,TRUE)","v":1},167,{"$f":"POISSON(F171,Berekening!$G$52,TRUE)","v":1},167]
[{"$f":"POISSON(B172,Berekening!$G$27,TRUE)","v":1},168,{"$f":"POISSON(D172,Berekening!$G$50,TRUE)","v":1},168,{"$f":"POISSON(F172,Berekening!$G$52,TRUE)","v":1},168]
[{"$f":"POISSON(B173,Berekening!$G$27,TRUE)","v":1},169,{"$f":"POISSON(D173,Berekening!$G$50,TRUE)","v":1},169,{"$f":"POISSON(F173,Berekening!$G$52,TRUE)","v":1},169]
[{"$f":"POISSON(B174,Berekening!$G$27,TRUE)","v":1},170,{"$f":"POISSON(D174,Berekening!$G$50,TRUE)","v":1},170,{"$f":"POISSON(F174,Berekening!$G$52,TRUE)","v":1},170]
[{"$f":"POISSON(B175,Berekening!$G$27,TRUE)","v":1},171,{"$f":"POISSON(D175,Berekening!$G$50,TRUE)","v":1},171,{"$f":"POISSON(F175,Berekening!$G$52,TRUE)","v":1},171]
[{"$f":"POISSON(B176,Berekening!$G$27,TRUE)","v":1},172,{"$f":"POISSON(D176,Berekening!$G$50,TRUE)","v":1},172,{"$f":"POISSON(F176,Berekening!$G$52,TRUE)","v":1},172]
[{"$f":"POISSON(B177,Berekening!$G$27,TRUE)","v":1},173,{"$f":"POISSON(D177,Berekening!$G$50,TRUE)","v":1},173,{"$f":"POISSON(F177,Berekening!$G$52,TRUE)","v":1},173]
[{"$f":"POISSON(B178,Berekening!$G$27,TRUE)","v":1},174,{"$f":"POISSON(D178,Berekening!$G$50,TRUE)","v":1},174,{"$f":"POISSON(F178,Berekening!$G$52,TRUE)","v":1},174]
[{"$f":"POISSON(B179,Berekening!$G$27,TRUE)","v":1},175,{"$f":"POISSON(D179,Berekening!$G$50,TRUE)","v":1},175,{"$f":"POISSON(F179,Berekening!$G$52,TRUE)","v":1},175]
[{"$f":"POISSON(B180,Berekening!$G$27,TRUE)","v":1},176,{"$f":"POISSON(D180,Berekening!$G$50,TRUE)","v":1},176,{"$f":"POISSON(F180,Berekening!$G$52,TRUE)","v":1},176]
[{"$f":"POISSON(B181,Berekening!$G$27,TRUE)","v":1},177,{"$f":"POISSON(D181,Berekening!$G$50,TRUE)","v":1},177,{"$f":"POISSON(F181,Berekening!$G$52,TRUE)","v":1},177]
[{"$f":"POISSON(B182,Berekening!$G$27,TRUE)","v":1},178,{"$f":"POISSON(D182,Berekening!$G$50,TRUE)","v":1},178,{"$f":"POISSON(F182,Berekening!$G$52,TRUE)","v":1},178]
[{"$f":"POISSON(B183,Berekening!$G$27,TRUE)","v":1},179,{"$f":"POISSON(D183,Berekening!$G$50,TRUE)","v":1},179,{"$f":"POISSON(F183,Berekening!$G$52,TRUE)","v":1},179]
[{"$f":"POISSON(B184,Berekening!$G$27,TRUE)","v":1},180,{"$f":"POISSON(D184,Berekening!$G$50,TRUE)","v":1},180,{"$f":"POISSON(F184,Berekening!$G$52,TRUE)","v":1},180]
[{"$f":"POISSON(B185,Berekening!$G$27,TRUE)","v":1},181,{"$f":"POISSON(D185,Berekening!$G$50,TRUE)","v":1},181,{"$f":"POISSON(F185,Berekening!$G$52,TRUE)","v":1},181]
[{"$f":"POISSON(B186,Berekening!$G$27,TRUE)","v":1},182,{"$f":"POISSON(D186,Berekening!$G$50,TRUE)","v":1},182,{"$f":"POISSON(F186,Berekening!$G$52,TRUE)","v":1},182]
[{"$f":"POISSON(B187,Berekening!$G$27,TRUE)","v":1},183,{"$f":"POISSON(D187,Berekening!$G$50,TRUE)","v":1},183,{"$f":"POISSON(F187,Berekening!$G$52,TRUE)","v":1},183]
[{"$f":"POISSON(B188,Berekening!$G$27,TRUE)","v":1},184,{"$f":"POISSON(D188,Berekening!$G$50,TRUE)","v":1},184,{"$f":"POISSON(F188,Berekening!$G$52,TRUE)","v":1},184]
[{"$f":"POISSON(B189,Berekening!$G$27,TRUE)","v":1},185,{"$f":"POISSON(D189,Berekening!$G$50,TRUE)","v":1},185,{"$f":"POISSON(F189,Berekening!$G$52,TRUE)","v":1},185]
[{"$f":"POISSON(B190,Berekening!$G$27,TRUE)","v":1},186,{"$f":"POISSON(D190,Berekening!$G$50,TRUE)","v":1},186,{"$f":"POISSON(F190,Berekening!$G$52,TRUE)","v":1},186]
[{"$f":"POISSON(B191,Berekening!$G$27,TRUE)","v":1},187,{"$f":"POISSON(D191,Berekening!$G$50,TRUE)","v":1},187,{"$f":"POISSON(F191,Berekening!$G$52,TRUE)","v":1},187]
[{"$f":"POISSON(B192,Berekening!$G$27,TRUE)","v":1},188,{"$f":"POISSON(D192,Berekening!$G$50,TRUE)","v":1},188,{"$f":"POISSON(F192,Berekening!$G$52,TRUE)","v":1},188]
[{"$f":"POISSON(B193,Berekening!$G$27,TRUE)","v":1},189,{"$f":"POISSON(D193,Berekening!$G$50,TRUE)","v":1},189,{"$f":"POISSON(F193,Berekening!$G$52,TRUE)","v":1},189]
[{"$f":"POISSON(B194,Berekening!$G$27,TRUE)","v":1},190,{"$f":"POISSON(D194,Berekening!$G$50,TRUE)","v":1},190,{"$f":"POISSON(F194,Berekening!$G$52,TRUE)","v":1},190]
[{"$f":"POISSON(B195,Berekening!$G$27,TRUE)","v":1},191,{"$f":"POISSON(D195,Berekening!$G$50,TRUE)","v":1},191,{"$f":"POISSON(F195,Berekening!$G$52,TRUE)","v":1},191]
[{"$f":"POISSON(B196,Berekening!$G$27,TRUE)","v":1},192,{"$f":"POISSON(D196,Berekening!$G$50,TRUE)","v":1},192,{"$f":"POISSON(F196,Berekening!$G$52,TRUE)","v":1},192]
[{"$f":"POISSON(B197,Berekening!$G$27,TRUE)","v":1},193,{"$f":"POISSON(D197,Berekening!$G$50,TRUE)","v":1},193,{"$f":"POISSON(F197,Berekening!$G$52,TRUE)","v":1},193]
[{"$f":"POISSON(B198,Berekening!$G$27,TRUE)","v":1},194,{"$f":"POISSON(D198,Berekening!$G$50,TRUE)","v":1},194,{"$f":"POISSON(F198,Berekening!$G$52,TRUE)","v":1},194]
[{"$f":"POISSON(B199,Berekening!$G$27,TRUE)","v":1},195,{"$f":"POISSON(D199,Berekening!$G$50,TRUE)","v":1},195,{"$f":"POISSON(F199,Berekening!$G$52,TRUE)","v":1},195]
[{"$f":"POISSON(B200,Berekening!$G$27,TRUE)","v":1},196,{"$f":"POISSON(D200,Berekening!$G$50,TRUE)","v":1},196,{"$f":"POISSON(F200,Berekening!$G$52,TRUE)","v":1},196]
[{"$f":"POISSON(B201,Berekening!$G$27,TRUE)","v":1},197,{"$f":"POISSON(D201,Berekening!$G$50,TRUE)","v":1},197,{"$f":"POISSON(F201,Berekening!$G$52,TRUE)","v":1},197]
[{"$f":"POISSON(B202,Berekening!$G$27,TRUE)","v":1},198,{"$f":"POISSON(D202,Berekening!$G$50,TRUE)","v":1},198,{"$f":"POISSON(F202,Berekening!$G$52,TRUE)","v":1},198]
[{"$f":"POISSON(B203,Berekening!$G$27,TRUE)","v":1},199,{"$f":"POISSON(D203,Berekening!$G$50,TRUE)","v":1},199,{"$f":"POISSON(F203,Berekening!$G$52,TRUE)","v":1},199]
[{"$f":"POISSON(B204,Berekening!$G$27,TRUE)","v":1},200,{"$f":"POISSON(D204,Berekening!$G$50,TRUE)","v":1},200,{"$f":"POISSON(F204,Berekening!$G$52,TRUE)","v":1},200]
[{"$f":"POISSON(B205,Berekening!$G$27,TRUE)","v":1},201,{"$f":"POISSON(D205,Berekening!$G$50,TRUE)","v":1},201,{"$f":"POISSON(F205,Berekening!$G$52,TRUE)","v":1},201]
[{"$f":"POISSON(B206,Berekening!$G$27,TRUE)","v":1},202,{"$f":"POISSON(D206,Berekening!$G$50,TRUE)","v":1},202,{"$f":"POISSON(F206,Berekening!$G$52,TRUE)","v":1},202]
[{"$f":"POISSON(B207,Berekening!$G$27,TRUE)","v":1},203,{"$f":"POISSON(D207,Berekening!$G$50,TRUE)","v":1},203,{"$f":"POISSON(F207,Berekening!$G$52,TRUE)","v":1},203]
[{"$f":"POISSON(B208,Berekening!$G$27,TRUE)","v":1},204,{"$f":"POISSON(D208,Berekening!$G$50,TRUE)","v":1},204,{"$f":"POISSON(F208,Berekening!$G$52,TRUE)","v":1},204]
[{"$f":"POISSON(B209,Berekening!$G$27,TRUE)","v":1},205,{"$f":"POISSON(D209,Berekening!$G$50,TRUE)","v":1},205,{"$f":"POISSON(F209,Berekening!$G$52,TRUE)","v":1},205]
[{"$f":"POISSON(B210,Berekening!$G$27,TRUE)","v":1},206,{"$f":"POISSON(D210,Berekening!$G$50,TRUE)","v":1},206,{"$f":"POISSON(F210,Berekening!$G$52,TRUE)","v":1},206]
[{"$f":"POISSON(B211,Berekening!$G$27,TRUE)","v":1},207,{"$f":"POISSON(D211,Berekening!$G$50,TRUE)","v":1},207,{"$f":"POISSON(F211,Berekening!$G$52,TRUE)","v":1},207]
[{"$f":"POISSON(B212,Berekening!$G$27,TRUE)","v":1},208,{"$f":"POISSON(D212,Berekening!$G$50,TRUE)","v":1},208,{"$f":"POISSON(F212,Berekening!$G$52,TRUE)","v":1},208]
[{"$f":"POISSON(B213,Berekening!$G$27,TRUE)","v":1},209,{"$f":"POISSON(D213,Berekening!$G$50,TRUE)","v":1},209,{"$f":"POISSON(F213,Berekening!$G$52,TRUE)","v":1},209]
[{"$f":"POISSON(B214,Berekening!$G$27,TRUE)","v":1},210,{"$f":"POISSON(D214,Berekening!$G$50,TRUE)","v":1},210,{"$f":"POISSON(F214,Berekening!$G$52,TRUE)","v":1},210]
[{"$f":"POISSON(B215,Berekening!$G$27,TRUE)","v":1},211,{"$f":"POISSON(D215,Berekening!$G$50,TRUE)","v":1},211,{"$f":"POISSON(F215,Berekening!$G$52,TRUE)","v":1},211]
[{"$f":"POISSON(B216,Berekening!$G$27,TRUE)","v":1},212,{"$f":"POISSON(D216,Berekening!$G$50,TRUE)","v":1},212,{"$f":"POISSON(F216,Berekening!$G$52,TRUE)","v":1},212]
[{"$f":"POISSON(B217,Berekening!$G$27,TRUE)","v":1},213,{"$f":"POISSON(D217,Berekening!$G$50,TRUE)","v":1},213,{"$f":"POISSON(F217,Berekening!$G$52,TRUE)","v":1},213]
[{"$f":"POISSON(B218,Berekening!$G$27,TRUE)","v":1},214,{"$f":"POISSON(D218,Berekening!$G$50,TRUE)","v":1},214,{"$f":"POISSON(F218,Berekening!$G$52,TRUE)","v":1},214]
[{"$f":"POISSON(B219,Berekening!$G$27,TRUE)","v":1},215,{"$f":"POISSON(D219,Berekening!$G$50,TRUE)","v":1},215,{"$f":"POISSON(F219,Berekening!$G$52,TRUE)","v":1},215]
[{"$f":"POISSON(B220,Berekening!$G$27,TRUE)","v":1},216,{"$f":"POISSON(D220,Berekening!$G$50,TRUE)","v":1},216,{"$f":"POISSON(F220,Berekening!$G$52,TRUE)","v":1},216]
[{"$f":"POISSON(B221,Berekening!$G$27,TRUE)","v":1},217,{"$f":"POISSON(D221,Berekening!$G$50,TRUE)","v":1},217,{"$f":"POISSON(F221,Berekening!$G$52,TRUE)","v":1},217]
[{"$f":"POISSON(B222,Berekening!$G$27,TRUE)","v":1},218,{"$f":"POISSON(D222,Berekening!$G$50,TRUE)","v":1},218,{"$f":"POISSON(F222,Berekening!$G$52,TRUE)","v":1},218]
[{"$f":"POISSON(B223,Berekening!$G$27,TRUE)","v":1},219,{"$f":"POISSON(D223,Berekening!$G$50,TRUE)","v":1},219,{"$f":"POISSON(F223,Berekening!$G$52,TRUE)","v":1},219]
[{"$f":"POISSON(B224,Berekening!$G$27,TRUE)","v":1},220,{"$f":"POISSON(D224,Berekening!$G$50,TRUE)","v":1},220,{"$f":"POISSON(F224,Berekening!$G$52,TRUE)","v":1},220]
[{"$f":"POISSON(B225,Berekening!$G$27,TRUE)","v":1},221,{"$f":"POISSON(D225,Berekening!$G$50,TRUE)","v":1},221,{"$f":"POISSON(F225,Berekening!$G$52,TRUE)","v":1},221]
[{"$f":"POISSON(B226,Berekening!$G$27,TRUE)","v":1},222,{"$f":"POISSON(D226,Berekening!$G$50,TRUE)","v":1},222,{"$f":"POISSON(F226,Berekening!$G$52,TRUE)","v":1},222]
[{"$f":"POISSON(B227,Berekening!$G$27,TRUE)","v":1},223,{"$f":"POISSON(D227,Berekening!$G$50,TRUE)","v":1},223,{"$f":"POISSON(F227,Berekening!$G$52,TRUE)","v":1},223]
[{"$f":"POISSON(B228,Berekening!$G$27,TRUE)","v":1},224,{"$f":"POISSON(D228,Berekening!$G$50,TRUE)","v":1},224,{"$f":"POISSON(F228,Berekening!$G$52,TRUE)","v":1},224]
[{"$f":"POISSON(B229,Berekening!$G$27,TRUE)","v":1},225,{"$f":"POISSON(D229,Berekening!$G$50,TRUE)","v":1},225,{"$f":"POISSON(F229,Berekening!$G$52,TRUE)","v":1},225]
[{"$f":"POISSON(B230,Berekening!$G$27,TRUE)","v":1},226,{"$f":"POISSON(D230,Berekening!$G$50,TRUE)","v":1},226,{"$f":"POISSON(F230,Berekening!$G$52,TRUE)","v":1},226]
[{"$f":"POISSON(B231,Berekening!$G$27,TRUE)","v":1},227,{"$f":"POISSON(D231,Berekening!$G$50,TRUE)","v":1},227,{"$f":"POISSON(F231,Berekening!$G$52,TRUE)","v":1},227]
[{"$f":"POISSON(B232,Berekening!$G$27,TRUE)","v":1},228,{"$f":"POISSON(D232,Berekening!$G$50,TRUE)","v":1},228,{"$f":"POISSON(F232,Berekening!$G$52,TRUE)","v":1},228]
[{"$f":"POISSON(B233,Berekening!$G$27,TRUE)","v":1},229,{"$f":"POISSON(D233,Berekening!$G$50,TRUE)","v":1},229,{"$f":"POISSON(F233,Berekening!$G$52,TRUE)","v":1},229]
[{"$f":"POISSON(B234,Berekening!$G$27,TRUE)","v":1},230,{"$f":"POISSON(D234,Berekening!$G$50,TRUE)","v":1},230,{"$f":"POISSON(F234,Berekening!$G$52,TRUE)","v":1},230]
[{"$f":"POISSON(B235,Berekening!$G$27,TRUE)","v":1},231,{"$f":"POISSON(D235,Berekening!$G$50,TRUE)","v":1},231,{"$f":"POISSON(F235,Berekening!$G$52,TRUE)","v":1},231]
[{"$f":"POISSON(B236,Berekening!$G$27,TRUE)","v":1},232,{"$f":"POISSON(D236,Berekening!$G$50,TRUE)","v":1},232,{"$f":"POISSON(F236,Berekening!$G$52,TRUE)","v":1},232]
[{"$f":"POISSON(B237,Berekening!$G$27,TRUE)","v":1},233,{"$f":"POISSON(D237,Berekening!$G$50,TRUE)","v":1},233,{"$f":"POISSON(F237,Berekening!$G$52,TRUE)","v":1},233]
[{"$f":"POISSON(B238,Berekening!$G$27,TRUE)","v":1},234,{"$f":"POISSON(D238,Berekening!$G$50,TRUE)","v":1},234,{"$f":"POISSON(F238,Berekening!$G$52,TRUE)","v":1},234]
[{"$f":"POISSON(B239,Berekening!$G$27,TRUE)","v":1},235,{"$f":"POISSON(D239,Berekening!$G$50,TRUE)","v":1},235,{"$f":"POISSON(F239,Berekening!$G$52,TRUE)","v":1},235]
[{"$f":"POISSON(B240,Berekening!$G$27,TRUE)","v":1},236,{"$f":"POISSON(D240,Berekening!$G$50,TRUE)","v":1},236,{"$f":"POISSON(F240,Berekening!$G$52,TRUE)","v":1},236]
[{"$f":"POISSON(B241,Berekening!$G$27,TRUE)","v":1},237,{"$f":"POISSON(D241,Berekening!$G$50,TRUE)","v":1},237,{"$f":"POISSON(F241,Berekening!$G$52,TRUE)","v":1},237]
[{"$f":"POISSON(B242,Berekening!$G$27,TRUE)","v":1},238,{"$f":"POISSON(D242,Berekening!$G$50,TRUE)","v":1},238,{"$f":"POISSON(F242,Berekening!$G$52,TRUE)","v":1},238]
[{"$f":"POISSON(B243,Berekening!$G$27,TRUE)","v":1},239,{"$f":"POISSON(D243,Berekening!$G$50,TRUE)","v":1},239,{"$f":"POISSON(F243,Berekening!$G$52,TRUE)","v":1},239]
[{"$f":"POISSON(B244,Berekening!$G$27,TRUE)","v":1},240,{"$f":"POISSON(D244,Berekening!$G$50,TRUE)","v":1},240,{"$f":"POISSON(F244,Berekening!$G$52,TRUE)","v":1},240]
[{"$f":"POISSON(B245,Berekening!$G$27,TRUE)","v":1},241,{"$f":"POISSON(D245,Berekening!$G$50,TRUE)","v":1},241,{"$f":"POISSON(F245,Berekening!$G$52,TRUE)","v":1},241]
[{"$f":"POISSON(B246,Berekening!$G$27,TRUE)","v":1},242,{"$f":"POISSON(D246,Berekening!$G$50,TRUE)","v":1},242,{"$f":"POISSON(F246,Berekening!$G$52,TRUE)","v":1},242]
[{"$f":"POISSON(B247,Berekening!$G$27,TRUE)","v":1},243,{"$f":"POISSON(D247,Berekening!$G$50,TRUE)","v":1},243,{"$f":"POISSON(F247,Berekening!$G$52,TRUE)","v":1},243]
[{"$f":"POISSON(B248,Berekening!$G$27,TRUE)","v":1},244,{"$f":"POISSON(D248,Berekening!$G$50,TRUE)","v":1},244,{"$f":"POISSON(F248,Berekening!$G$52,TRUE)","v":1},244]
[{"$f":"POISSON(B249,Berekening!$G$27,TRUE)","v":1},245,{"$f":"POISSON(D249,Berekening!$G$50,TRUE)","v":1},245,{"$f":"POISSON(F249,Berekening!$G$52,TRUE)","v":1},245]
[{"$f":"POISSON(B250,Berekening!$G$27,TRUE)","v":1},246,{"$f":"POISSON(D250,Berekening!$G$50,TRUE)","v":1},246,{"$f":"POISSON(F250,Berekening!$G$52,TRUE)","v":1},246]
[{"$f":"POISSON(B251,Berekening!$G$27,TRUE)","v":1},247,{"$f":"POISSON(D251,Berekening!$G$50,TRUE)","v":1},247,{"$f":"POISSON(F251,Berekening!$G$52,TRUE)","v":1},247]
[{"$f":"POISSON(B252,Berekening!$G$27,TRUE)","v":1},248,{"$f":"POISSON(D252,Berekening!$G$50,TRUE)","v":1},248,{"$f":"POISSON(F252,Berekening!$G$52,TRUE)","v":1},248]
[{"$f":"POISSON(B253,Berekening!$G$27,TRUE)","v":1},249,{"$f":"POISSON(D253,Berekening!$G$50,TRUE)","v":1},249,{"$f":"POISSON(F253,Berekening!$G$52,TRUE)","v":1},249]
[{"$f":"POISSON(B254,Berekening!$G$27,TRUE)","v":1},250,{"$f":"POISSON(D254,Berekening!$G$50,TRUE)","v":1},250,{"$f":"POISSON(F254,Berekening!$G$52,TRUE)","v":1},250]
[{"$f":"POISSON(B255,Berekening!$G$27,TRUE)","v":1},251,{"$f":"POISSON(D255,Berekening!$G$50,TRUE)","v":1},251,{"$f":"POISSON(F255,Berekening!$G$52,TRUE)","v":1},251]
[{"$f":"POISSON(B256,Berekening!$G$27,TRUE)","v":1},252,{"$f":"POISSON(D256,Berekening!$G$50,TRUE)","v":1},252,{"$f":"POISSON(F256,Berekening!$G$52,TRUE)","v":1},252]
[{"$f":"POISSON(B257,Berekening!$G$27,TRUE)","v":1},253,{"$f":"POISSON(D257,Berekening!$G$50,TRUE)","v":1},253,{"$f":"POISSON(F257,Berekening!$G$52,TRUE)","v":1},253]
[{"$f":"POISSON(B258,Berekening!$G$27,TRUE)","v":1},254,{"$f":"POISSON(D258,Berekening!$G$50,TRUE)","v":1},254,{"$f":"POISSON(F258,Berekening!$G$52,TRUE)","v":1},254]
[{"$f":"POISSON(B259,Berekening!$G$27,TRUE)","v":1},255,{"$f":"POISSON(D259,Berekening!$G$50,TRUE)","v":1},255,{"$f":"POISSON(F259,Berekening!$G$52,TRUE)","v":1},255]
[{"$f":"POISSON(B260,Berekening!$G$27,TRUE)","v":1},256,{"$f":"POISSON(D260,Berekening!$G$50,TRUE)","v":1},256,{"$f":"POISSON(F260,Berekening!$G$52,TRUE)","v":1},256]
[{"$f":"POISSON(B261,Berekening!$G$27,TRUE)","v":1},257,{"$f":"POISSON(D261,Berekening!$G$50,TRUE)","v":1},257,{"$f":"POISSON(F261,Berekening!$G$52,TRUE)","v":1},257]
[{"$f":"POISSON(B262,Berekening!$G$27,TRUE)","v":1},258,{"$f":"POISSON(D262,Berekening!$G$50,TRUE)","v":1},258,{"$f":"POISSON(F262,Berekening!$G$52,TRUE)","v":1},258]
[{"$f":"POISSON(B263,Berekening!$G$27,TRUE)","v":1},259,{"$f":"POISSON(D263,Berekening!$G$50,TRUE)","v":1},259,{"$f":"POISSON(F263,Berekening!$G$52,TRUE)","v":1},259]
[{"$f":"POISSON(B264,Berekening!$G$27,TRUE)","v":1},260,{"$f":"POISSON(D264,Berekening!$G$50,TRUE)","v":1},260,{"$f":"POISSON(F264,Berekening!$G$52,TRUE)","v":1},260]
[{"$f":"POISSON(B265,Berekening!$G$27,TRUE)","v":1},261,{"$f":"POISSON(D265,Berekening!$G$50,TRUE)","v":1},261,{"$f":"POISSON(F265,Berekening!$G$52,TRUE)","v":1},261]
[{"$f":"POISSON(B266,Berekening!$G$27,TRUE)","v":1},262,{"$f":"POISSON(D266,Berekening!$G$50,TRUE)","v":1},262,{"$f":"POISSON(F266,Berekening!$G$52,TRUE)","v":1},262]
[{"$f":"POISSON(B267,Berekening!$G$27,TRUE)","v":1},263,{"$f":"POISSON(D267,Berekening!$G$50,TRUE)","v":1},263,{"$f":"POISSON(F267,Berekening!$G$52,TRUE)","v":1},263]
[{"$f":"POISSON(B268,Berekening!$G$27,TRUE)","v":1},264,{"$f":"POISSON(D268,Berekening!$G$50,TRUE)","v":1},264,{"$f":"POISSON(F268,Berekening!$G$52,TRUE)","v":1},264]
[{"$f":"POISSON(B269,Berekening!$G$27,TRUE)","v":1},265,{"$f":"POISSON(D269,Berekening!$G$50,TRUE)","v":1},265,{"$f":"POISSON(F269,Berekening!$G$52,TRUE)","v":1},265]
[{"$f":"POISSON(B270,Berekening!$G$27,TRUE)","v":1},266,{"$f":"POISSON(D270,Berekening!$G$50,TRUE)","v":1},266,{"$f":"POISSON(F270,Berekening!$G$52,TRUE)","v":1},266]
[{"$f":"POISSON(B271,Berekening!$G$27,TRUE)","v":1},267,{"$f":"POISSON(D271,Berekening!$G$50,TRUE)","v":1},267,{"$f":"POISSON(F271,Berekening!$G$52,TRUE)","v":1},267]
[{"$f":"POISSON(B272,Berekening!$G$27,TRUE)","v":1},268,{"$f":"POISSON(D272,Berekening!$G$50,TRUE)","v":1},268,{"$f":"POISSON(F272,Berekening!$G$52,TRUE)","v":1},268]
[{"$f":"POISSON(B273,Berekening!$G$27,TRUE)","v":1},269,{"$f":"POISSON(D273,Berekening!$G$50,TRUE)","v":1},269,{"$f":"POISSON(F273,Berekening!$G$52,TRUE)","v":1},269]
[{"$f":"POISSON(B274,Berekening!$G$27,TRUE)","v":1},270,{"$f":"POISSON(D274,Berekening!$G$50,TRUE)","v":1},270,{"$f":"POISSON(F274,Berekening!$G$52,TRUE)","v":1},270]
[{"$f":"POISSON(B275,Berekening!$G$27,TRUE)","v":1},271,{"$f":"POISSON(D275,Berekening!$G$50,TRUE)","v":1},271,{"$f":"POISSON(F275,Berekening!$G$52,TRUE)","v":1},271]
[{"$f":"POISSON(B276,Berekening!$G$27,TRUE)","v":1},272,{"$f":"POISSON(D276,Berekening!$G$50,TRUE)","v":1},272,{"$f":"POISSON(F276,Berekening!$G$52,TRUE)","v":1},272]
[{"$f":"POISSON(B277,Berekening!$G$27,TRUE)","v":1},273,{"$f":"POISSON(D277,Berekening!$G$50,TRUE)","v":1},273,{"$f":"POISSON(F277,Berekening!$G$52,TRUE)","v":1},273]
[{"$f":"POISSON(B278,Berekening!$G$27,TRUE)","v":1},274,{"$f":"POISSON(D278,Berekening!$G$50,TRUE)","v":1},274,{"$f":"POISSON(F278,Berekening!$G$52,TRUE)","v":1},274]
[{"$f":"POISSON(B279,Berekening!$G$27,TRUE)","v":1},275,{"$f":"POISSON(D279,Berekening!$G$50,TRUE)","v":1},275,{"$f":"POISSON(F279,Berekening!$G$52,TRUE)","v":1},275]
[{"$f":"POISSON(B280,Berekening!$G$27,TRUE)","v":1},276,{"$f":"POISSON(D280,Berekening!$G$50,TRUE)","v":1},276,{"$f":"POISSON(F280,Berekening!$G$52,TRUE)","v":1},276]
[{"$f":"POISSON(B281,Berekening!$G$27,TRUE)","v":1},277,{"$f":"POISSON(D281,Berekening!$G$50,TRUE)","v":1},277,{"$f":"POISSON(F281,Berekening!$G$52,TRUE)","v":1},277]
[{"$f":"POISSON(B282,Berekening!$G$27,TRUE)","v":1},278,{"$f":"POISSON(D282,Berekening!$G$50,TRUE)","v":1},278,{"$f":"POISSON(F282,Berekening!$G$52,TRUE)","v":1},278]
[{"$f":"POISSON(B283,Berekening!$G$27,TRUE)","v":1},279,{"$f":"POISSON(D283,Berekening!$G$50,TRUE)","v":1},279,{"$f":"POISSON(F283,Berekening!$G$52,TRUE)","v":1},279]
[{"$f":"POISSON(B284,Berekening!$G$27,TRUE)","v":1},280,{"$f":"POISSON(D284,Berekening!$G$50,TRUE)","v":1},280,{"$f":"POISSON(F284,Berekening!$G$52,TRUE)","v":1},280]
[{"$f":"POISSON(B285,Berekening!$G$27,TRUE)","v":1},281,{"$f":"POISSON(D285,Berekening!$G$50,TRUE)","v":1},281,{"$f":"POISSON(F285,Berekening!$G$52,TRUE)","v":1},281]
[{"$f":"POISSON(B286,Berekening!$G$27,TRUE)","v":1},282,{"$f":"POISSON(D286,Berekening!$G$50,TRUE)","v":1},282,{"$f":"POISSON(F286,Berekening!$G$52,TRUE)","v":1},282]
[{"$f":"POISSON(B287,Berekening!$G$27,TRUE)","v":1},283,{"$f":"POISSON(D287,Berekening!$G$50,TRUE)","v":1},283,{"$f":"POISSON(F287,Berekening!$G$52,TRUE)","v":1},283]
[{"$f":"POISSON(B288,Berekening!$G$27,TRUE)","v":1},284,{"$f":"POISSON(D288,Berekening!$G$50,TRUE)","v":1},284,{"$f":"POISSON(F288,Berekening!$G$52,TRUE)","v":1},284]
[{"$f":"POISSON(B289,Berekening!$G$27,TRUE)","v":1},285,{"$f":"POISSON(D289,Berekening!$G$50,TRUE)","v":1},285,{"$f":"POISSON(F289,Berekening!$G$52,TRUE)","v":1},285]
[{"$f":"POISSON(B290,Berekening!$G$27,TRUE)","v":1},286,{"$f":"POISSON(D290,Berekening!$G$50,TRUE)","v":1},286,{"$f":"POISSON(F290,Berekening!$G$52,TRUE)","v":1},286]
[{"$f":"POISSON(B291,Berekening!$G$27,TRUE)","v":1},287,{"$f":"POISSON(D291,Berekening!$G$50,TRUE)","v":1},287,{"$f":"POISSON(F291,Berekening!$G$52,TRUE)","v":1},287]
[{"$f":"POISSON(B292,Berekening!$G$27,TRUE)","v":1},288,{"$f":"POISSON(D292,Berekening!$G$50,TRUE)","v":1},288,{"$f":"POISSON(F292,Berekening!$G$52,TRUE)","v":1},288]
[{"$f":"POISSON(B293,Berekening!$G$27,TRUE)","v":1},289,{"$f":"POISSON(D293,Berekening!$G$50,TRUE)","v":1},289,{"$f":"POISSON(F293,Berekening!$G$52,TRUE)","v":1},289]
[{"$f":"POISSON(B294,Berekening!$G$27,TRUE)","v":1},290,{"$f":"POISSON(D294,Berekening!$G$50,TRUE)","v":1},290,{"$f":"POISSON(F294,Berekening!$G$52,TRUE)","v":1},290]
[{"$f":"POISSON(B295,Berekening!$G$27,TRUE)","v":1},291,{"$f":"POISSON(D295,Berekening!$G$50,TRUE)","v":1},291,{"$f":"POISSON(F295,Berekening!$G$52,TRUE)","v":1},291]
[{"$f":"POISSON(B296,Berekening!$G$27,TRUE)","v":1},292,{"$f":"POISSON(D296,Berekening!$G$50,TRUE)","v":1},292,{"$f":"POISSON(F296,Berekening!$G$52,TRUE)","v":1},292]
[{"$f":"POISSON(B297,Berekening!$G$27,TRUE)","v":1},293,{"$f":"POISSON(D297,Berekening!$G$50,TRUE)","v":1},293,{"$f":"POISSON(F297,Berekening!$G$52,TRUE)","v":1},293]
[{"$f":"POISSON(B298,Berekening!$G$27,TRUE)","v":1},294,{"$f":"POISSON(D298,Berekening!$G$50,TRUE)","v":1},294,{"$f":"POISSON(F298,Berekening!$G$52,TRUE)","v":1},294]
[{"$f":"POISSON(B299,Berekening!$G$27,TRUE)","v":1},295,{"$f":"POISSON(D299,Berekening!$G$50,TRUE)","v":1},295,{"$f":"POISSON(F299,Berekening!$G$52,TRUE)","v":1},295]
[{"$f":"POISSON(B300,Berekening!$G$27,TRUE)","v":1},296,{"$f":"POISSON(D300,Berekening!$G$50,TRUE)","v":1},296,{"$f":"POISSON(F300,Berekening!$G$52,TRUE)","v":1},296]
[{"$f":"POISSON(B301,Berekening!$G$27,TRUE)","v":1},297,{"$f":"POISSON(D301,Berekening!$G$50,TRUE)","v":1},297,{"$f":"POISSON(F301,Berekening!$G$52,TRUE)","v":1},297]
[{"$f":"POISSON(B302,Berekening!$G$27,TRUE)","v":1},298,{"$f":"POISSON(D302,Berekening!$G$50,TRUE)","v":1},298,{"$f":"POISSON(F302,Berekening!$G$52,TRUE)","v":1},298]
[{"$f":"POISSON(B303,Berekening!$G$27,TRUE)","v":1},299,{"$f":"POISSON(D303,Berekening!$G$50,TRUE)","v":1},299,{"$f":"POISSON(F303,Berekening!$G$52,TRUE)","v":1},299]
[{"$f":"POISSON(B304,Berekening!$G$27,TRUE)","v":1},300,{"$f":"POISSON(D304,Berekening!$G$50,TRUE)","v":1},300,{"$f":"POISSON(F304,Berekening!$G$52,TRUE)","v":1},300]
[{"$f":"POISSON(B305,Berekening!$G$27,TRUE)","v":1},301,{"$f":"POISSON(D305,Berekening!$G$50,TRUE)","v":1},301,{"$f":"POISSON(F305,Berekening!$G$52,TRUE)","v":1},301]
[{"$f":"POISSON(B306,Berekening!$G$27,TRUE)","v":1},302,{"$f":"POISSON(D306,Berekening!$G$50,TRUE)","v":1},302,{"$f":"POISSON(F306,Berekening!$G$52,TRUE)","v":1},302]
[{"$f":"POISSON(B307,Berekening!$G$27,TRUE)","v":1},303,{"$f":"POISSON(D307,Berekening!$G$50,TRUE)","v":1},303,{"$f":"POISSON(F307,Berekening!$G$52,TRUE)","v":1},303]
[{"$f":"POISSON(B308,Berekening!$G$27,TRUE)","v":1},304,{"$f":"POISSON(D308,Berekening!$G$50,TRUE)","v":1},304,{"$f":"POISSON(F308,Berekening!$G$52,TRUE)","v":1},304]
[{"$f":"POISSON(B309,Berekening!$G$27,TRUE)","v":1},305,{"$f":"POISSON(D309,Berekening!$G$50,TRUE)","v":1},305,{"$f":"POISSON(F309,Berekening!$G$52,TRUE)","v":1},305]
[{"$f":"POISSON(B310,Berekening!$G$27,TRUE)","v":1},306,{"$f":"POISSON(D310,Berekening!$G$50,TRUE)","v":1},306,{"$f":"POISSON(F310,Berekening!$G$52,TRUE)","v":1},306]
[{"$f":"POISSON(B311,Berekening!$G$27,TRUE)","v":1},307,{"$f":"POISSON(D311,Berekening!$G$50,TRUE)","v":1},307,{"$f":"POISSON(F311,Berekening!$G$52,TRUE)","v":1},307]
[{"$f":"POISSON(B312,Berekening!$G$27,TRUE)","v":1},308,{"$f":"POISSON(D312,Berekening!$G$50,TRUE)","v":1},308,{"$f":"POISSON(F312,Berekening!$G$52,TRUE)","v":1},308]
[{"$f":"POISSON(B313,Berekening!$G$27,TRUE)","v":1},309,{"$f":"POISSON(D313,Berekening!$G$50,TRUE)","v":1},309,{"$f":"POISSON(F313,Berekening!$G$52,TRUE)","v":1},309]
[{"$f":"POISSON(B314,Berekening!$G$27,TRUE)","v":1},310,{"$f":"POISSON(D314,Berekening!$G$50,TRUE)","v":1},310,{"$f":"POISSON(F314,Berekening!$G$52,TRUE)","v":1},310]
[{"$f":"POISSON(B315,Berekening!$G$27,TRUE)","v":1},311,{"$f":"POISSON(D315,Berekening!$G$50,TRUE)","v":1},311,{"$f":"POISSON(F315,Berekening!$G$52,TRUE)","v":1},311]
[{"$f":"POISSON(B316,Berekening!$G$27,TRUE)","v":1},312,{"$f":"POISSON(D316,Berekening!$G$50,TRUE)","v":1},312,{"$f":"POISSON(F316,Berekening!$G$52,TRUE)","v":1},312]
[{"$f":"POISSON(B317,Berekening!$G$27,TRUE)","v":1},313,{"$f":"POISSON(D317,Berekening!$G$50,TRUE)","v":1},313,{"$f":"POISSON(F317,Berekening!$G$52,TRUE)","v":1},313]
[{"$f":"POISSON(B318,Berekening!$G$27,TRUE)","v":1},314,{"$f":"POISSON(D318,Berekening!$G$50,TRUE)","v":1},314,{"$f":"POISSON(F318,Berekening!$G$52,TRUE)","v":1},314]
[{"$f":"POISSON(B319,Berekening!$G$27,TRUE)","v":1},315,{"$f":"POISSON(D319,Berekening!$G$50,TRUE)","v":1},315,{"$f":"POISSON(F319,Berekening!$G$52,TRUE)","v":1},315]
[{"$f":"POISSON(B320,Berekening!$G$27,TRUE)","v":1},316,{"$f":"POISSON(D320,Berekening!$G$50,TRUE)","v":1},316,{"$f":"POISSON(F320,Berekening!$G$52,TRUE)","v":1},316]
[{"$f":"POISSON(B321,Berekening!$G$27,TRUE)","v":1},317,{"$f":"POISSON(D321,Berekening!$G$50,TRUE)","v":1},317,{"$f":"POISSON(F321,Berekening!$G$52,TRUE)","v":1},317]
[{"$f":"POISSON(B322,Berekening!$G$27,TRUE)","v":1},318,{"$f":"POISSON(D322,Berekening!$G$50,TRUE)","v":1},318,{"$f":"POISSON(F322,Berekening!$G$52,TRUE)","v":1},318]
[{"$f":"POISSON(B323,Berekening!$G$27,TRUE)","v":1},319,{"$f":"POISSON(D323,Berekening!$G$50,TRUE)","v":1},319,{"$f":"POISSON(F323,Berekening!$G$52,TRUE)","v":1},319]
[{"$f":"POISSON(B324,Berekening!$G$27,TRUE)","v":1},320,{"$f":"POISSON(D324,Berekening!$G$50,TRUE)","v":1},320,{"$f":"POISSON(F324,Berekening!$G$52,TRUE)","v":1},320]
[{"$f":"POISSON(B325,Berekening!$G$27,TRUE)","v":1},321,{"$f":"POISSON(D325,Berekening!$G$50,TRUE)","v":1},321,{"$f":"POISSON(F325,Berekening!$G$52,TRUE)","v":1},321]
[{"$f":"POISSON(B326,Berekening!$G$27,TRUE)","v":1},322,{"$f":"POISSON(D326,Berekening!$G$50,TRUE)","v":1},322,{"$f":"POISSON(F326,Berekening!$G$52,TRUE)","v":1},322]
[{"$f":"POISSON(B327,Berekening!$G$27,TRUE)","v":1},323,{"$f":"POISSON(D327,Berekening!$G$50,TRUE)","v":1},323,{"$f":"POISSON(F327,Berekening!$G$52,TRUE)","v":1},323]
[{"$f":"POISSON(B328,Berekening!$G$27,TRUE)","v":1},324,{"$f":"POISSON(D328,Berekening!$G$50,TRUE)","v":1},324,{"$f":"POISSON(F328,Berekening!$G$52,TRUE)","v":1},324]
[{"$f":"POISSON(B329,Berekening!$G$27,TRUE)","v":1},325,{"$f":"POISSON(D329,Berekening!$G$50,TRUE)","v":1},325,{"$f":"POISSON(F329,Berekening!$G$52,TRUE)","v":1},325]
[{"$f":"POISSON(B330,Berekening!$G$27,TRUE)","v":1},326,{"$f":"POISSON(D330,Berekening!$G$50,TRUE)","v":1},326,{"$f":"POISSON(F330,Berekening!$G$52,TRUE)","v":1},326]
[{"$f":"POISSON(B331,Berekening!$G$27,TRUE)","v":1},327,{"$f":"POISSON(D331,Berekening!$G$50,TRUE)","v":1},327,{"$f":"POISSON(F331,Berekening!$G$52,TRUE)","v":1},327]
[{"$f":"POISSON(B332,Berekening!$G$27,TRUE)","v":1},328,{"$f":"POISSON(D332,Berekening!$G$50,TRUE)","v":1},328,{"$f":"POISSON(F332,Berekening!$G$52,TRUE)","v":1},328]
[{"$f":"POISSON(B333,Berekening!$G$27,TRUE)","v":1},329,{"$f":"POISSON(D333,Berekening!$G$50,TRUE)","v":1},329,{"$f":"POISSON(F333,Berekening!$G$52,TRUE)","v":1},329]
[{"$f":"POISSON(B334,Berekening!$G$27,TRUE)","v":1},330,{"$f":"POISSON(D334,Berekening!$G$50,TRUE)","v":1},330,{"$f":"POISSON(F334,Berekening!$G$52,TRUE)","v":1},330]
[{"$f":"POISSON(B335,Berekening!$G$27,TRUE)","v":1},331,{"$f":"POISSON(D335,Berekening!$G$50,TRUE)","v":1},331,{"$f":"POISSON(F335,Berekening!$G$52,TRUE)","v":1},331]
[{"$f":"POISSON(B336,Berekening!$G$27,TRUE)","v":1},332,{"$f":"POISSON(D336,Berekening!$G$50,TRUE)","v":1},332,{"$f":"POISSON(F336,Berekening!$G$52,TRUE)","v":1},332]
[{"$f":"POISSON(B337,Berekening!$G$27,TRUE)","v":1},333,{"$f":"POISSON(D337,Berekening!$G$50,TRUE)","v":1},333,{"$f":"POISSON(F337,Berekening!$G$52,TRUE)","v":1},333]
[{"$f":"POISSON(B338,Berekening!$G$27,TRUE)","v":1},334,{"$f":"POISSON(D338,Berekening!$G$50,TRUE)","v":1},334,{"$f":"POISSON(F338,Berekening!$G$52,TRUE)","v":1},334]
[{"$f":"POISSON(B339,Berekening!$G$27,TRUE)","v":1},335,{"$f":"POISSON(D339,Berekening!$G$50,TRUE)","v":1},335,{"$f":"POISSON(F339,Berekening!$G$52,TRUE)","v":1},335]
[{"$f":"POISSON(B340,Berekening!$G$27,TRUE)","v":1},336,{"$f":"POISSON(D340,Berekening!$G$50,TRUE)","v":1},336,{"$f":"POISSON(F340,Berekening!$G$52,TRUE)","v":1},336]
[{"$f":"POISSON(B341,Berekening!$G$27,TRUE)","v":1},337,{"$f":"POISSON(D341,Berekening!$G$50,TRUE)","v":1},337,{"$f":"POISSON(F341,Berekening!$G$52,TRUE)","v":1},337]
[{"$f":"POISSON(B342,Berekening!$G$27,TRUE)","v":1},338,{"$f":"POISSON(D342,Berekening!$G$50,TRUE)","v":1},338,{"$f":"POISSON(F342,Berekening!$G$52,TRUE)","v":1},338]
[{"$f":"POISSON(B343,Berekening!$G$27,TRUE)","v":1},339,{"$f":"POISSON(D343,Berekening!$G$50,TRUE)","v":1},339,{"$f":"POISSON(F343,Berekening!$G$52,TRUE)","v":1},339]
[{"$f":"POISSON(B344,Berekening!$G$27,TRUE)","v":1},340,{"$f":"POISSON(D344,Berekening!$G$50,TRUE)","v":1},340,{"$f":"POISSON(F344,Berekening!$G$52,TRUE)","v":1},340]
[{"$f":"POISSON(B345,Berekening!$G$27,TRUE)","v":1},341,{"$f":"POISSON(D345,Berekening!$G$50,TRUE)","v":1},341,{"$f":"POISSON(F345,Berekening!$G$52,TRUE)","v":1},341]
[{"$f":"POISSON(B346,Berekening!$G$27,TRUE)","v":1},342,{"$f":"POISSON(D346,Berekening!$G$50,TRUE)","v":1},342,{"$f":"POISSON(F346,Berekening!$G$52,TRUE)","v":1},342]
[{"$f":"POISSON(B347,Berekening!$G$27,TRUE)","v":1},343,{"$f":"POISSON(D347,Berekening!$G$50,TRUE)","v":1},343,{"$f":"POISSON(F347,Berekening!$G$52,TRUE)","v":1},343]
[{"$f":"POISSON(B348,Berekening!$G$27,TRUE)","v":1},344,{"$f":"POISSON(D348,Berekening!$G$50,TRUE)","v":1},344,{"$f":"POISSON(F348,Berekening!$G$52,TRUE)","v":1},344]
[{"$f":"POISSON(B349,Berekening!$G$27,TRUE)","v":1},345,{"$f":"POISSON(D349,Berekening!$G$50,TRUE)","v":1},345,{"$f":"POISSON(F349,Berekening!$G$52,TRUE)","v":1},345]
[{"$f":"POISSON(B350,Berekening!$G$27,TRUE)","v":1},346,{"$f":"POISSON(D350,Berekening!$G$50,TRUE)","v":1},346,{"$f":"POISSON(F350,Berekening!$G$52,TRUE)","v":1},346]
[{"$f":"POISSON(B351,Berekening!$G$27,TRUE)","v":1},347,{"$f":"POISSON(D351,Berekening!$G$50,TRUE)","v":1},347,{"$f":"POISSON(F351,Berekening!$G$52,TRUE)","v":1},347]
[{"$f":"POISSON(B352,Berekening!$G$27,TRUE)","v":1},348,{"$f":"POISSON(D352,Berekening!$G$50,TRUE)","v":1},348,{"$f":"POISSON(F352,Berekening!$G$52,TRUE)","v":1},348]
[{"$f":"POISSON(B353,Berekening!$G$27,TRUE)","v":1},349,{"$f":"POISSON(D353,Berekening!$G$50,TRUE)","v":1},349,{"$f":"POISSON(F353,Berekening!$G$52,TRUE)","v":1},349]
[{"$f":"POISSON(B354,Berekening!$G$27,TRUE)","v":1},350,{"$f":"POISSON(D354,Berekening!$G$50,TRUE)","v":1},350,{"$f":"POISSON(F354,Berekening!$G$52,TRUE)","v":1},350]
[{"$f":"POISSON(B355,Berekening!$G$27,TRUE)","v":1},351,{"$f":"POISSON(D355,Berekening!$G$50,TRUE)","v":1},351,{"$f":"POISSON(F355,Berekening!$G$52,TRUE)","v":1},351]
[{"$f":"POISSON(B356,Berekening!$G$27,TRUE)","v":1},352,{"$f":"POISSON(D356,Berekening!$G$50,TRUE)","v":1},352,{"$f":"POISSON(F356,Berekening!$G$52,TRUE)","v":1},352]
[{"$f":"POISSON(B357,Berekening!$G$27,TRUE)","v":1},353,{"$f":"POISSON(D357,Berekening!$G$50,TRUE)","v":1},353,{"$f":"POISSON(F357,Berekening!$G$52,TRUE)","v":1},353]
[{"$f":"POISSON(B358,Berekening!$G$27,TRUE)","v":1},354,{"$f":"POISSON(D358,Berekening!$G$50,TRUE)","v":1},354,{"$f":"POISSON(F358,Berekening!$G$52,TRUE)","v":1},354]
[{"$f":"POISSON(B359,Berekening!$G$27,TRUE)","v":1},355,{"$f":"POISSON(D359,Berekening!$G$50,TRUE)","v":1},355,{"$f":"POISSON(F359,Berekening!$G$52,TRUE)","v":1},355]
[{"$f":"POISSON(B360,Berekening!$G$27,TRUE)","v":1},356,{"$f":"POISSON(D360,Berekening!$G$50,TRUE)","v":1},356,{"$f":"POISSON(F360,Berekening!$G$52,TRUE)","v":1},356]
[{"$f":"POISSON(B361,Berekening!$G$27,TRUE)","v":1},357,{"$f":"POISSON(D361,Berekening!$G$50,TRUE)","v":1},357,{"$f":"POISSON(F361,Berekening!$G$52,TRUE)","v":1},357]
[{"$f":"POISSON(B362,Berekening!$G$27,TRUE)","v":1},358,{"$f":"POISSON(D362,Berekening!$G$50,TRUE)","v":1},358,{"$f":"POISSON(F362,Berekening!$G$52,TRUE)","v":1},358]
[{"$f":"POISSON(B363,Berekening!$G$27,TRUE)","v":1},359,{"$f":"POISSON(D363,Berekening!$G$50,TRUE)","v":1},359,{"$f":"POISSON(F363,Berekening!$G$52,TRUE)","v":1},359]
[{"$f":"POISSON(B364,Berekening!$G$27,TRUE)","v":1},360,{"$f":"POISSON(D364,Berekening!$G$50,TRUE)","v":1},360,{"$f":"POISSON(F364,Berekening!$G$52,TRUE)","v":1},360]
[{"$f":"POISSON(B365,Berekening!$G$27,TRUE)","v":1},361,{"$f":"POISSON(D365,Berekening!$G$50,TRUE)","v":1},361,{"$f":"POISSON(F365,Berekening!$G$52,TRUE)","v":1},361]
[{"$f":"POISSON(B366,Berekening!$G$27,TRUE)","v":1},362,{"$f":"POISSON(D366,Berekening!$G$50,TRUE)","v":1},362,{"$f":"POISSON(F366,Berekening!$G$52,TRUE)","v":1},362]
[{"$f":"POISSON(B367,Berekening!$G$27,TRUE)","v":1},363,{"$f":"POISSON(D367,Berekening!$G$50,TRUE)","v":1},363,{"$f":"POISSON(F367,Berekening!$G$52,TRUE)","v":1},363]
[{"$f":"POISSON(B368,Berekening!$G$27,TRUE)","v":1},364,{"$f":"POISSON(D368,Berekening!$G$50,TRUE)","v":1},364,{"$f":"POISSON(F368,Berekening!$G$52,TRUE)","v":1},364]
[{"$f":"POISSON(B369,Berekening!$G$27,TRUE)","v":1},365,{"$f":"POISSON(D369,Berekening!$G$50,TRUE)","v":1},365,{"$f":"POISSON(F369,Berekening!$G$52,TRUE)","v":1},365]
[{"$f":"POISSON(B370,Berekening!$G$27,TRUE)","v":1},366,{"$f":"POISSON(D370,Berekening!$G$50,TRUE)","v":1},366,{"$f":"POISSON(F370,Berekening!$G$52,TRUE)","v":1},366]
[{"$f":"POISSON(B371,Berekening!$G$27,TRUE)","v":1},367,{"$f":"POISSON(D371,Berekening!$G$50,TRUE)","v":1},367,{"$f":"POISSON(F371,Berekening!$G$52,TRUE)","v":1},367]
[{"$f":"POISSON(B372,Berekening!$G$27,TRUE)","v":1},368,{"$f":"POISSON(D372,Berekening!$G$50,TRUE)","v":1},368,{"$f":"POISSON(F372,Berekening!$G$52,TRUE)","v":1},368]
[{"$f":"POISSON(B373,Berekening!$G$27,TRUE)","v":1},369,{"$f":"POISSON(D373,Berekening!$G$50,TRUE)","v":1},369,{"$f":"POISSON(F373,Berekening!$G$52,TRUE)","v":1},369]
[{"$f":"POISSON(B374,Berekening!$G$27,TRUE)","v":1},370,{"$f":"POISSON(D374,Berekening!$G$50,TRUE)","v":1},370,{"$f":"POISSON(F374,Berekening!$G$52,TRUE)","v":1},370]
[{"$f":"POISSON(B375,Berekening!$G$27,TRUE)","v":1},371,{"$f":"POISSON(D375,Berekening!$G$50,TRUE)","v":1},371,{"$f":"POISSON(F375,Berekening!$G$52,TRUE)","v":1},371]
[{"$f":"POISSON(B376,Berekening!$G$27,TRUE)","v":1},372,{"$f":"POISSON(D376,Berekening!$G$50,TRUE)","v":1},372,{"$f":"POISSON(F376,Berekening!$G$52,TRUE)","v":1},372]
[{"$f":"POISSON(B377,Berekening!$G$27,TRUE)","v":1},373,{"$f":"POISSON(D377,Berekening!$G$50,TRUE)","v":1},373,{"$f":"POISSON(F377,Berekening!$G$52,TRUE)","v":1},373]
[{"$f":"POISSON(B378,Berekening!$G$27,TRUE)","v":1},374,{"$f":"POISSON(D378,Berekening!$G$50,TRUE)","v":1},374,{"$f":"POISSON(F378,Berekening!$G$52,TRUE)","v":1},374]
[{"$f":"POISSON(B379,Berekening!$G$27,TRUE)","v":1},375,{"$f":"POISSON(D379,Berekening!$G$50,TRUE)","v":1},375,{"$f":"POISSON(F379,Berekening!$G$52,TRUE)","v":1},375]
[{"$f":"POISSON(B380,Berekening!$G$27,TRUE)","v":1},376,{"$f":"POISSON(D380,Berekening!$G$50,TRUE)","v":1},376,{"$f":"POISSON(F380,Berekening!$G$52,TRUE)","v":1},376]
[{"$f":"POISSON(B381,Berekening!$G$27,TRUE)","v":1},377,{"$f":"POISSON(D381,Berekening!$G$50,TRUE)","v":1},377,{"$f":"POISSON(F381,Berekening!$G$52,TRUE)","v":1},377]
[{"$f":"POISSON(B382,Berekening!$G$27,TRUE)","v":1},378,{"$f":"POISSON(D382,Berekening!$G$50,TRUE)","v":1},378,{"$f":"POISSON(F382,Berekening!$G$52,TRUE)","v":1},378]
[{"$f":"POISSON(B383,Berekening!$G$27,TRUE)","v":1},379,{"$f":"POISSON(D383,Berekening!$G$50,TRUE)","v":1},379,{"$f":"POISSON(F383,Berekening!$G$52,TRUE)","v":1},379]
[{"$f":"POISSON(B384,Berekening!$G$27,TRUE)","v":1},380,{"$f":"POISSON(D384,Berekening!$G$50,TRUE)","v":1},380,{"$f":"POISSON(F384,Berekening!$G$52,TRUE)","v":1},380]
[{"$f":"POISSON(B385,Berekening!$G$27,TRUE)","v":1},381,{"$f":"POISSON(D385,Berekening!$G$50,TRUE)","v":1},381,{"$f":"POISSON(F385,Berekening!$G$52,TRUE)","v":1},381]
[{"$f":"POISSON(B386,Berekening!$G$27,TRUE)","v":1},382,{"$f":"POISSON(D386,Berekening!$G$50,TRUE)","v":1},382,{"$f":"POISSON(F386,Berekening!$G$52,TRUE)","v":1},382]
[{"$f":"POISSON(B387,Berekening!$G$27,TRUE)","v":1},383,{"$f":"POISSON(D387,Berekening!$G$50,TRUE)","v":1},383,{"$f":"POISSON(F387,Berekening!$G$52,TRUE)","v":1},383]
[{"$f":"POISSON(B388,Berekening!$G$27,TRUE)","v":1},384,{"$f":"POISSON(D388,Berekening!$G$50,TRUE)","v":1},384,{"$f":"POISSON(F388,Berekening!$G$52,TRUE)","v":1},384]
[{"$f":"POISSON(B389,Berekening!$G$27,TRUE)","v":1},385,{"$f":"POISSON(D389,Berekening!$G$50,TRUE)","v":1},385,{"$f":"POISSON(F389,Berekening!$G$52,TRUE)","v":1},385]
[{"$f":"POISSON(B390,Berekening!$G$27,TRUE)","v":1},386,{"$f":"POISSON(D390,Berekening!$G$50,TRUE)","v":1},386,{"$f":"POISSON(F390,Berekening!$G$52,TRUE)","v":1},386]
[{"$f":"POISSON(B391,Berekening!$G$27,TRUE)","v":1},387,{"$f":"POISSON(D391,Berekening!$G$50,TRUE)","v":1},387,{"$f":"POISSON(F391,Berekening!$G$52,TRUE)","v":1},387]
[{"$f":"POISSON(B392,Berekening!$G$27,TRUE)","v":1},388,{"$f":"POISSON(D392,Berekening!$G$50,TRUE)","v":1},388,{"$f":"POISSON(F392,Berekening!$G$52,TRUE)","v":1},388]
[{"$f":"POISSON(B393,Berekening!$G$27,TRUE)","v":1},389,{"$f":"POISSON(D393,Berekening!$G$50,TRUE)","v":1},389,{"$f":"POISSON(F393,Berekening!$G$52,TRUE)","v":1},389]
[{"$f":"POISSON(B394,Berekening!$G$27,TRUE)","v":1},390,{"$f":"POISSON(D394,Berekening!$G$50,TRUE)","v":1},390,{"$f":"POISSON(F394,Berekening!$G$52,TRUE)","v":1},390]
[{"$f":"POISSON(B395,Berekening!$G$27,TRUE)","v":1},391,{"$f":"POISSON(D395,Berekening!$G$50,TRUE)","v":1},391,{"$f":"POISSON(F395,Berekening!$G$52,TRUE)","v":1},391]
[{"$f":"POISSON(B396,Berekening!$G$27,TRUE)","v":1},392,{"$f":"POISSON(D396,Berekening!$G$50,TRUE)","v":1},392,{"$f":"POISSON(F396,Berekening!$G$52,TRUE)","v":1},392]
[{"$f":"POISSON(B397,Berekening!$G$27,TRUE)","v":1},393,{"$f":"POISSON(D397,Berekening!$G$50,TRUE)","v":1},393,{"$f":"POISSON(F397,Berekening!$G$52,TRUE)","v":1},393]
[{"$f":"POISSON(B398,Berekening!$G$27,TRUE)","v":1},394,{"$f":"POISSON(D398,Berekening!$G$50,TRUE)","v":1},394,{"$f":"POISSON(F398,Berekening!$G$52,TRUE)","v":1},394]
[{"$f":"POISSON(B399,Berekening!$G$27,TRUE)","v":1},395,{"$f":"POISSON(D399,Berekening!$G$50,TRUE)","v":1},395,{"$f":"POISSON(F399,Berekening!$G$52,TRUE)","v":1},395]
[{"$f":"POISSON(B400,Berekening!$G$27,TRUE)","v":1},396,{"$f":"POISSON(D400,Berekening!$G$50,TRUE)","v":1},396,{"$f":"POISSON(F400,Berekening!$G$52,TRUE)","v":1},396]
[{"$f":"POISSON(B401,Berekening!$G$27,TRUE)","v":1},397,{"$f":"POISSON(D401,Berekening!$G$50,TRUE)","v":1},397,{"$f":"POISSON(F401,Berekening!$G$52,TRUE)","v":1},397]
[{"$f":"POISSON(B402,Berekening!$G$27,TRUE)","v":1},398,{"$f":"POISSON(D402,Berekening!$G$50,TRUE)","v":1},398,{"$f":"POISSON(F402,Berekening!$G$52,TRUE)","v":1},398]
[{"$f":"POISSON(B403,Berekening!$G$27,TRUE)","v":1},399,{"$f":"POISSON(D403,Berekening!$G$50,TRUE)","v":1},399,{"$f":"POISSON(F403,Berekening!$G$52,TRUE)","v":1},399]
[{"$f":"POISSON(B404,Berekening!$G$27,TRUE)","v":1},400,{"$f":"POISSON(D404,Berekening!$G$50,TRUE)","v":1},400,{"$f":"POISSON(F404,Berekening!$G$52,TRUE)","v":1},400]
[{"$f":"POISSON(B405,Berekening!$G$27,TRUE)","v":1},401,{"$f":"POISSON(D405,Berekening!$G$50,TRUE)","v":1},401,{"$f":"POISSON(F405,Berekening!$G$52,TRUE)","v":1},401]
[{"$f":"POISSON(B406,Berekening!$G$27,TRUE)","v":1},402,{"$f":"POISSON(D406,Berekening!$G$50,TRUE)","v":1},402,{"$f":"POISSON(F406,Berekening!$G$52,TRUE)","v":1},402]
[{"$f":"POISSON(B407,Berekening!$G$27,TRUE)","v":1},403,{"$f":"POISSON(D407,Berekening!$G$50,TRUE)","v":1},403,{"$f":"POISSON(F407,Berekening!$G$52,TRUE)","v":1},403]
[{"$f":"POISSON(B408,Berekening!$G$27,TRUE)","v":1},404,{"$f":"POISSON(D408,Berekening!$G$50,TRUE)","v":1},404,{"$f":"POISSON(F408,Berekening!$G$52,TRUE)","v":1},404]
[{"$f":"POISSON(B409,Berekening!$G$27,TRUE)","v":1},405,{"$f":"POISSON(D409,Berekening!$G$50,TRUE)","v":1},405,{"$f":"POISSON(F409,Berekening!$G$52,TRUE)","v":1},405]
[{"$f":"POISSON(B410,Berekening!$G$27,TRUE)","v":1},406,{"$f":"POISSON(D410,Berekening!$G$50,TRUE)","v":1},406,{"$f":"POISSON(F410,Berekening!$G$52,TRUE)","v":1},406]
[{"$f":"POISSON(B411,Berekening!$G$27,TRUE)","v":1},407,{"$f":"POISSON(D411,Berekening!$G$50,TRUE)","v":1},407,{"$f":"POISSON(F411,Berekening!$G$52,TRUE)","v":1},407]
[{"$f":"POISSON(B412,Berekening!$G$27,TRUE)","v":1},408,{"$f":"POISSON(D412,Berekening!$G$50,TRUE)","v":1},408,{"$f":"POISSON(F412,Berekening!$G$52,TRUE)","v":1},408]
[{"$f":"POISSON(B413,Berekening!$G$27,TRUE)","v":1},409,{"$f":"POISSON(D413,Berekening!$G$50,TRUE)","v":1},409,{"$f":"POISSON(F413,Berekening!$G$52,TRUE)","v":1},409]
[{"$f":"POISSON(B414,Berekening!$G$27,TRUE)","v":1},410,{"$f":"POISSON(D414,Berekening!$G$50,TRUE)","v":1},410,{"$f":"POISSON(F414,Berekening!$G$52,TRUE)","v":1},410]
[{"$f":"POISSON(B415,Berekening!$G$27,TRUE)","v":1},411,{"$f":"POISSON(D415,Berekening!$G$50,TRUE)","v":1},411,{"$f":"POISSON(F415,Berekening!$G$52,TRUE)","v":1},411]
[{"$f":"POISSON(B416,Berekening!$G$27,TRUE)","v":1},412,{"$f":"POISSON(D416,Berekening!$G$50,TRUE)","v":1},412,{"$f":"POISSON(F416,Berekening!$G$52,TRUE)","v":1},412]
[{"$f":"POISSON(B417,Berekening!$G$27,TRUE)","v":1},413,{"$f":"POISSON(D417,Berekening!$G$50,TRUE)","v":1},413,{"$f":"POISSON(F417,Berekening!$G$52,TRUE)","v":1},413]
[{"$f":"POISSON(B418,Berekening!$G$27,TRUE)","v":1},414,{"$f":"POISSON(D418,Berekening!$G$50,TRUE)","v":1},414,{"$f":"POISSON(F418,Berekening!$G$52,TRUE)","v":1},414]
[{"$f":"POISSON(B419,Berekening!$G$27,TRUE)","v":1},415,{"$f":"POISSON(D419,Berekening!$G$50,TRUE)","v":1},415,{"$f":"POISSON(F419,Berekening!$G$52,TRUE)","v":1},415]
[{"$f":"POISSON(B420,Berekening!$G$27,TRUE)","v":1},416,{"$f":"POISSON(D420,Berekening!$G$50,TRUE)","v":1},416,{"$f":"POISSON(F420,Berekening!$G$52,TRUE)","v":1},416]
[{"$f":"POISSON(B421,Berekening!$G$27,TRUE)","v":1},417,{"$f":"POISSON(D421,Berekening!$G$50,TRUE)","v":1},417,{"$f":"POISSON(F421,Berekening!$G$52,TRUE)","v":1},417]
[{"$f":"POISSON(B422,Berekening!$G$27,TRUE)","v":1},418,{"$f":"POISSON(D422,Berekening!$G$50,TRUE)","v":1},418,{"$f":"POISSON(F422,Berekening!$G$52,TRUE)","v":1},418]
[{"$f":"POISSON(B423,Berekening!$G$27,TRUE)","v":1},419,{"$f":"POISSON(D423,Berekening!$G$50,TRUE)","v":1},419,{"$f":"POISSON(F423,Berekening!$G$52,TRUE)","v":1},419]
[{"$f":"POISSON(B424,Berekening!$G$27,TRUE)","v":1},420,{"$f":"POISSON(D424,Berekening!$G$50,TRUE)","v":1},420,{"$f":"POISSON(F424,Berekening!$G$52,TRUE)","v":1},420]
[{"$f":"POISSON(B425,Berekening!$G$27,TRUE)","v":1},421,{"$f":"POISSON(D425,Berekening!$G$50,TRUE)","v":1},421,{"$f":"POISSON(F425,Berekening!$G$52,TRUE)","v":1},421]
[{"$f":"POISSON(B426,Berekening!$G$27,TRUE)","v":1},422,{"$f":"POISSON(D426,Berekening!$G$50,TRUE)","v":1},422,{"$f":"POISSON(F426,Berekening!$G$52,TRUE)","v":1},422]
[{"$f":"POISSON(B427,Berekening!$G$27,TRUE)","v":1},423,{"$f":"POISSON(D427,Berekening!$G$50,TRUE)","v":1},423,{"$f":"POISSON(F427,Berekening!$G$52,TRUE)","v":1},423]
[{"$f":"POISSON(B428,Berekening!$G$27,TRUE)","v":1},424,{"$f":"POISSON(D428,Berekening!$G$50,TRUE)","v":1},424,{"$f":"POISSON(F428,Berekening!$G$52,TRUE)","v":1},424]
[{"$f":"POISSON(B429,Berekening!$G$27,TRUE)","v":1},425,{"$f":"POISSON(D429,Berekening!$G$50,TRUE)","v":1},425,{"$f":"POISSON(F429,Berekening!$G$52,TRUE)","v":1},425]
[{"$f":"POISSON(B430,Berekening!$G$27,TRUE)","v":1},426,{"$f":"POISSON(D430,Berekening!$G$50,TRUE)","v":1},426,{"$f":"POISSON(F430,Berekening!$G$52,TRUE)","v":1},426]
[{"$f":"POISSON(B431,Berekening!$G$27,TRUE)","v":1},427,{"$f":"POISSON(D431,Berekening!$G$50,TRUE)","v":1},427,{"$f":"POISSON(F431,Berekening!$G$52,TRUE)","v":1},427]
[{"$f":"POISSON(B432,Berekening!$G$27,TRUE)","v":1},428,{"$f":"POISSON(D432,Berekening!$G$50,TRUE)","v":1},428,{"$f":"POISSON(F432,Berekening!$G$52,TRUE)","v":1},428]
[{"$f":"POISSON(B433,Berekening!$G$27,TRUE)","v":1},429,{"$f":"POISSON(D433,Berekening!$G$50,TRUE)","v":1},429,{"$f":"POISSON(F433,Berekening!$G$52,TRUE)","v":1},429]
[{"$f":"POISSON(B434,Berekening!$G$27,TRUE)","v":1},430,{"$f":"POISSON(D434,Berekening!$G$50,TRUE)","v":1},430,{"$f":"POISSON(F434,Berekening!$G$52,TRUE)","v":1},430]
[{"$f":"POISSON(B435,Berekening!$G$27,TRUE)","v":1},431,{"$f":"POISSON(D435,Berekening!$G$50,TRUE)","v":1},431,{"$f":"POISSON(F435,Berekening!$G$52,TRUE)","v":1},431]
[{"$f":"POISSON(B436,Berekening!$G$27,TRUE)","v":1},432,{"$f":"POISSON(D436,Berekening!$G$50,TRUE)","v":1},432,{"$f":"POISSON(F436,Berekening!$G$52,TRUE)","v":1},432]
[{"$f":"POISSON(B437,Berekening!$G$27,TRUE)","v":1},433,{"$f":"POISSON(D437,Berekening!$G$50,TRUE)","v":1},433,{"$f":"POISSON(F437,Berekening!$G$52,TRUE)","v":1},433]
[{"$f":"POISSON(B438,Berekening!$G$27,TRUE)","v":1},434,{"$f":"POISSON(D438,Berekening!$G$50,TRUE)","v":1},434,{"$f":"POISSON(F438,Berekening!$G$52,TRUE)","v":1},434]
[{"$f":"POISSON(B439,Berekening!$G$27,TRUE)","v":1},435,{"$f":"POISSON(D439,Berekening!$G$50,TRUE)","v":1},435,{"$f":"POISSON(F439,Berekening!$G$52,TRUE)","v":1},435]
[{"$f":"POISSON(B440,Berekening!$G$27,TRUE)","v":1},436,{"$f":"POISSON(D440,Berekening!$G$50,TRUE)","v":1},436,{"$f":"POISSON(F440,Berekening!$G$52,TRUE)","v":1},436]
[{"$f":"POISSON(B441,Berekening!$G$27,TRUE)","v":1},437,{"$f":"POISSON(D441,Berekening!$G$50,TRUE)","v":1},437,{"$f":"POISSON(F441,Berekening!$G$52,TRUE)","v":1},437]
[{"$f":"POISSON(B442,Berekening!$G$27,TRUE)","v":1},438,{"$f":"POISSON(D442,Berekening!$G$50,TRUE)","v":1},438,{"$f":"POISSON(F442,Berekening!$G$52,TRUE)","v":1},438]
[{"$f":"POISSON(B443,Berekening!$G$27,TRUE)","v":1},439,{"$f":"POISSON(D443,Berekening!$G$50,TRUE)","v":1},439,{"$f":"POISSON(F443,Berekening!$G$52,TRUE)","v":1},439]
[{"$f":"POISSON(B444,Berekening!$G$27,TRUE)","v":1},440,{"$f":"POISSON(D444,Berekening!$G$50,TRUE)","v":1},440,{"$f":"POISSON(F444,Berekening!$G$52,TRUE)","v":1},440]
[{"$f":"POISSON(B445,Berekening!$G$27,TRUE)","v":1},441,{"$f":"POISSON(D445,Berekening!$G$50,TRUE)","v":1},441,{"$f":"POISSON(F445,Berekening!$G$52,TRUE)","v":1},441]
[{"$f":"POISSON(B446,Berekening!$G$27,TRUE)","v":1},442,{"$f":"POISSON(D446,Berekening!$G$50,TRUE)","v":1},442,{"$f":"POISSON(F446,Berekening!$G$52,TRUE)","v":1},442]
[{"$f":"POISSON(B447,Berekening!$G$27,TRUE)","v":1},443,{"$f":"POISSON(D447,Berekening!$G$50,TRUE)","v":1},443,{"$f":"POISSON(F447,Berekening!$G$52,TRUE)","v":1},443]
[{"$f":"POISSON(B448,Berekening!$G$27,TRUE)","v":1},444,{"$f":"POISSON(D448,Berekening!$G$50,TRUE)","v":1},444,{"$f":"POISSON(F448,Berekening!$G$52,TRUE)","v":1},444]
[{"$f":"POISSON(B449,Berekening!$G$27,TRUE)","v":1},445,{"$f":"POISSON(D449,Berekening!$G$50,TRUE)","v":1},445,{"$f":"POISSON(F449,Berekening!$G$52,TRUE)","v":1},445]
[{"$f":"POISSON(B450,Berekening!$G$27,TRUE)","v":1},446,{"$f":"POISSON(D450,Berekening!$G$50,TRUE)","v":1},446,{"$f":"POISSON(F450,Berekening!$G$52,TRUE)","v":1},446]
[{"$f":"POISSON(B451,Berekening!$G$27,TRUE)","v":1},447,{"$f":"POISSON(D451,Berekening!$G$50,TRUE)","v":1},447,{"$f":"POISSON(F451,Berekening!$G$52,TRUE)","v":1},447]
[{"$f":"POISSON(B452,Berekening!$G$27,TRUE)","v":1},448,{"$f":"POISSON(D452,Berekening!$G$50,TRUE)","v":1},448,{"$f":"POISSON(F452,Berekening!$G$52,TRUE)","v":1},448]
[{"$f":"POISSON(B453,Berekening!$G$27,TRUE)","v":1},449,{"$f":"POISSON(D453,Berekening!$G$50,TRUE)","v":1},449,{"$f":"POISSON(F453,Berekening!$G$52,TRUE)","v":1},449]
[{"$f":"POISSON(B454,Berekening!$G$27,TRUE)","v":1},450,{"$f":"POISSON(D454,Berekening!$G$50,TRUE)","v":1},450,{"$f":"POISSON(F454,Berekening!$G$52,TRUE)","v":1},450]
[{"$f":"POISSON(B455,Berekening!$G$27,TRUE)","v":1},451,{"$f":"POISSON(D455,Berekening!$G$50,TRUE)","v":1},451,{"$f":"POISSON(F455,Berekening!$G$52,TRUE)","v":1},451]
[{"$f":"POISSON(B456,Berekening!$G$27,TRUE)","v":1},452,{"$f":"POISSON(D456,Berekening!$G$50,TRUE)","v":1},452,{"$f":"POISSON(F456,Berekening!$G$52,TRUE)","v":1},452]
[{"$f":"POISSON(B457,Berekening!$G$27,TRUE)","v":1},453,{"$f":"POISSON(D457,Berekening!$G$50,TRUE)","v":1},453,{"$f":"POISSON(F457,Berekening!$G$52,TRUE)","v":1},453]
[{"$f":"POISSON(B458,Berekening!$G$27,TRUE)","v":1},454,{"$f":"POISSON(D458,Berekening!$G$50,TRUE)","v":1},454,{"$f":"POISSON(F458,Berekening!$G$52,TRUE)","v":1},454]
[{"$f":"POISSON(B459,Berekening!$G$27,TRUE)","v":1},455,{"$f":"POISSON(D459,Berekening!$G$50,TRUE)","v":1},455,{"$f":"POISSON(F459,Berekening!$G$52,TRUE)","v":1},455]
[{"$f":"POISSON(B460,Berekening!$G$27,TRUE)","v":1},456,{"$f":"POISSON(D460,Berekening!$G$50,TRUE)","v":1},456,{"$f":"POISSON(F460,Berekening!$G$52,TRUE)","v":1},456]
[{"$f":"POISSON(B461,Berekening!$G$27,TRUE)","v":1},457,{"$f":"POISSON(D461,Berekening!$G$50,TRUE)","v":1},457,{"$f":"POISSON(F461,Berekening!$G$52,TRUE)","v":1},457]
[{"$f":"POISSON(B462,Berekening!$G$27,TRUE)","v":1},458,{"$f":"POISSON(D462,Berekening!$G$50,TRUE)","v":1},458,{"$f":"POISSON(F462,Berekening!$G$52,TRUE)","v":1},458]
[{"$f":"POISSON(B463,Berekening!$G$27,TRUE)","v":1},459,{"$f":"POISSON(D463,Berekening!$G$50,TRUE)","v":1},459,{"$f":"POISSON(F463,Berekening!$G$52,TRUE)","v":1},459]
[{"$f":"POISSON(B464,Berekening!$G$27,TRUE)","v":1},460,{"$f":"POISSON(D464,Berekening!$G$50,TRUE)","v":1},460,{"$f":"POISSON(F464,Berekening!$G$52,TRUE)","v":1},460]
[{"$f":"POISSON(B465,Berekening!$G$27,TRUE)","v":1},461,{"$f":"POISSON(D465,Berekening!$G$50,TRUE)","v":1},461,{"$f":"POISSON(F465,Berekening!$G$52,TRUE)","v":1},461]
[{"$f":"POISSON(B466,Berekening!$G$27,TRUE)","v":1},462,{"$f":"POISSON(D466,Berekening!$G$50,TRUE)","v":1},462,{"$f":"POISSON(F466,Berekening!$G$52,TRUE)","v":1},462]
[{"$f":"POISSON(B467,Berekening!$G$27,TRUE)","v":1},463,{"$f":"POISSON(D467,Berekening!$G$50,TRUE)","v":1},463,{"$f":"POISSON(F467,Berekening!$G$52,TRUE)","v":1},463]
[{"$f":"POISSON(B468,Berekening!$G$27,TRUE)","v":1},464,{"$f":"POISSON(D468,Berekening!$G$50,TRUE)","v":1},464,{"$f":"POISSON(F468,Berekening!$G$52,TRUE)","v":1},464]
[{"$f":"POISSON(B469,Berekening!$G$27,TRUE)","v":1},465,{"$f":"POISSON(D469,Berekening!$G$50,TRUE)","v":1},465,{"$f":"POISSON(F469,Berekening!$G$52,TRUE)","v":1},465]
[{"$f":"POISSON(B470,Berekening!$G$27,TRUE)","v":1},466,{"$f":"POISSON(D470,Berekening!$G$50,TRUE)","v":1},466,{"$f":"POISSON(F470,Berekening!$G$52,TRUE)","v":1},466]
[{"$f":"POISSON(B471,Berekening!$G$27,TRUE)","v":1},467,{"$f":"POISSON(D471,Berekening!$G$50,TRUE)","v":1},467,{"$f":"POISSON(F471,Berekening!$G$52,TRUE)","v":1},467]
[{"$f":"POISSON(B472,Berekening!$G$27,TRUE)","v":1},468,{"$f":"POISSON(D472,Berekening!$G$50,TRUE)","v":1},468,{"$f":"POISSON(F472,Berekening!$G$52,TRUE)","v":1},468]
[{"$f":"POISSON(B473,Berekening!$G$27,TRUE)","v":1},469,{"$f":"POISSON(D473,Berekening!$G$50,TRUE)","v":1},469,{"$f":"POISSON(F473,Berekening!$G$52,TRUE)","v":1},469]
[{"$f":"POISSON(B474,Berekening!$G$27,TRUE)","v":1},470,{"$f":"POISSON(D474,Berekening!$G$50,TRUE)","v":1},470,{"$f":"POISSON(F474,Berekening!$G$52,TRUE)","v":1},470]
[{"$f":"POISSON(B475,Berekening!$G$27,TRUE)","v":1},471,{"$f":"POISSON(D475,Berekening!$G$50,TRUE)","v":1},471,{"$f":"POISSON(F475,Berekening!$G$52,TRUE)","v":1},471]
[{"$f":"POISSON(B476,Berekening!$G$27,TRUE)","v":1},472,{"$f":"POISSON(D476,Berekening!$G$50,TRUE)","v":1},472,{"$f":"POISSON(F476,Berekening!$G$52,TRUE)","v":1},472]
[{"$f":"POISSON(B477,Berekening!$G$27,TRUE)","v":1},473,{"$f":"POISSON(D477,Berekening!$G$50,TRUE)","v":1},473,{"$f":"POISSON(F477,Berekening!$G$52,TRUE)","v":1},473]
[{"$f":"POISSON(B478,Berekening!$G$27,TRUE)","v":1},474,{"$f":"POISSON(D478,Berekening!$G$50,TRUE)","v":1},474,{"$f":"POISSON(F478,Berekening!$G$52,TRUE)","v":1},474]
[{"$f":"POISSON(B479,Berekening!$G$27,TRUE)","v":1},475,{"$f":"POISSON(D479,Berekening!$G$50,TRUE)","v":1},475,{"$f":"POISSON(F479,Berekening!$G$52,TRUE)","v":1},475]
[{"$f":"POISSON(B480,Berekening!$G$27,TRUE)","v":1},476,{"$f":"POISSON(D480,Berekening!$G$50,TRUE)","v":1},476,{"$f":"POISSON(F480,Berekening!$G$52,TRUE)","v":1},476]
[{"$f":"POISSON(B481,Berekening!$G$27,TRUE)","v":1},477,{"$f":"POISSON(D481,Berekening!$G$50,TRUE)","v":1},477,{"$f":"POISSON(F481,Berekening!$G$52,TRUE)","v":1},477]
[{"$f":"POISSON(B482,Berekening!$G$27,TRUE)","v":1},478,{"$f":"POISSON(D482,Berekening!$G$50,TRUE)","v":1},478,{"$f":"POISSON(F482,Berekening!$G$52,TRUE)","v":1},478]
[{"$f":"POISSON(B483,Berekening!$G$27,TRUE)","v":1},479,{"$f":"POISSON(D483,Berekening!$G$50,TRUE)","v":1},479,{"$f":"POISSON(F483,Berekening!$G$52,TRUE)","v":1},479]
[{"$f":"POISSON(B484,Berekening!$G$27,TRUE)","v":1},480,{"$f":"POISSON(D484,Berekening!$G$50,TRUE)","v":1},480,{"$f":"POISSON(F484,Berekening!$G$52,TRUE)","v":1},480]
[{"$f":"POISSON(B485,Berekening!$G$27,TRUE)","v":1},481,{"$f":"POISSON(D485,Berekening!$G$50,TRUE)","v":1},481,{"$f":"POISSON(F485,Berekening!$G$52,TRUE)","v":1},481]
[{"$f":"POISSON(B486,Berekening!$G$27,TRUE)","v":1},482,{"$f":"POISSON(D486,Berekening!$G$50,TRUE)","v":1},482,{"$f":"POISSON(F486,Berekening!$G$52,TRUE)","v":1},482]
[{"$f":"POISSON(B487,Berekening!$G$27,TRUE)","v":1},483,{"$f":"POISSON(D487,Berekening!$G$50,TRUE)","v":1},483,{"$f":"POISSON(F487,Berekening!$G$52,TRUE)","v":1},483]
[{"$f":"POISSON(B488,Berekening!$G$27,TRUE)","v":1},484,{"$f":"POISSON(D488,Berekening!$G$50,TRUE)","v":1},484,{"$f":"POISSON(F488,Berekening!$G$52,TRUE)","v":1},484]
[{"$f":"POISSON(B489,Berekening!$G$27,TRUE)","v":1},485,{"$f":"POISSON(D489,Berekening!$G$50,TRUE)","v":1},485,{"$f":"POISSON(F489,Berekening!$G$52,TRUE)","v":1},485]
[{"$f":"POISSON(B490,Berekening!$G$27,TRUE)","v":1},486,{"$f":"POISSON(D490,Berekening!$G$50,TRUE)","v":1},486,{"$f":"POISSON(F490,Berekening!$G$52,TRUE)","v":1},486]
[{"$f":"POISSON(B491,Berekening!$G$27,TRUE)","v":1},487,{"$f":"POISSON(D491,Berekening!$G$50,TRUE)","v":1},487,{"$f":"POISSON(F491,Berekening!$G$52,TRUE)","v":1},487]
[{"$f":"POISSON(B492,Berekening!$G$27,TRUE)","v":1},488,{"$f":"POISSON(D492,Berekening!$G$50,TRUE)","v":1},488,{"$f":"POISSON(F492,Berekening!$G$52,TRUE)","v":1},488]
[{"$f":"POISSON(B493,Berekening!$G$27,TRUE)","v":1},489,{"$f":"POISSON(D493,Berekening!$G$50,TRUE)","v":1},489,{"$f":"POISSON(F493,Berekening!$G$52,TRUE)","v":1},489]
[{"$f":"POISSON(B494,Berekening!$G$27,TRUE)","v":1},490,{"$f":"POISSON(D494,Berekening!$G$50,TRUE)","v":1},490,{"$f":"POISSON(F494,Berekening!$G$52,TRUE)","v":1},490]
[{"$f":"POISSON(B495,Berekening!$G$27,TRUE)","v":1},491,{"$f":"POISSON(D495,Berekening!$G$50,TRUE)","v":1},491,{"$f":"POISSON(F495,Berekening!$G$52,TRUE)","v":1},491]
[{"$f":"POISSON(B496,Berekening!$G$27,TRUE)","v":1},492,{"$f":"POISSON(D496,Berekening!$G$50,TRUE)","v":1},492,{"$f":"POISSON(F496,Berekening!$G$52,TRUE)","v":1},492]
[{"$f":"POISSON(B497,Berekening!$G$27,TRUE)","v":1},493,{"$f":"POISSON(D497,Berekening!$G$50,TRUE)","v":1},493,{"$f":"POISSON(F497,Berekening!$G$52,TRUE)","v":1},493]
[{"$f":"POISSON(B498,Berekening!$G$27,TRUE)","v":1},494,{"$f":"POISSON(D498,Berekening!$G$50,TRUE)","v":1},494,{"$f":"POISSON(F498,Berekening!$G$52,TRUE)","v":1},494]
[{"$f":"POISSON(B499,Berekening!$G$27,TRUE)","v":1},495,{"$f":"POISSON(D499,Berekening!$G$50,TRUE)","v":1},495,{"$f":"POISSON(F499,Berekening!$G$52,TRUE)","v":1},495]
[{"$f":"POISSON(B500,Berekening!$G$27,TRUE)","v":1},496,{"$f":"POISSON(D500,Berekening!$G$50,TRUE)","v":1},496,{"$f":"POISSON(F500,Berekening!$G$52,TRUE)","v":1},496]
[{"$f":"POISSON(B501,Berekening!$G$27,TRUE)","v":1},497,{"$f":"POISSON(D501,Berekening!$G$50,TRUE)","v":1},497,{"$f":"POISSON(F501,Berekening!$G$52,TRUE)","v":1},497]
[{"$f":"POISSON(B502,Berekening!$G$27,TRUE)","v":1},498,{"$f":"POISSON(D502,Berekening!$G$50,TRUE)","v":1},498,{"$f":"POISSON(F502,Berekening!$G$52,TRUE)","v":1},498]
[{"$f":"POISSON(B503,Berekening!$G$27,TRUE)","v":1},499,{"$f":"POISSON(D503,Berekening!$G$50,TRUE)","v":1},499,{"$f":"POISSON(F503,Berekening!$G$52,TRUE)","v":1},499]
[{"$f":"POISSON(B504,Berekening!$G$27,TRUE)","v":1},500,{"$f":"POISSON(D504,Berekening!$G$50,TRUE)","v":1},500,{"$f":"POISSON(F504,Berekening!$G$52,TRUE)","v":1},500]
[{"$f":"POISSON(B505,Berekening!$G$27,TRUE)","v":1},501,{"$f":"POISSON(D505,Berekening!$G$50,TRUE)","v":1},501,{"$f":"POISSON(F505,Berekening!$G$52,TRUE)","v":1},501]
[{"$f":"POISSON(B506,Berekening!$G$27,TRUE)","v":1},502,{"$f":"POISSON(D506,Berekening!$G$50,TRUE)","v":1},502,{"$f":"POISSON(F506,Berekening!$G$52,TRUE)","v":1},502]
[{"$f":"POISSON(B507,Berekening!$G$27,TRUE)","v":1},503,{"$f":"POISSON(D507,Berekening!$G$50,TRUE)","v":1},503,{"$f":"POISSON(F507,Berekening!$G$52,TRUE)","v":1},503]
[{"$f":"POISSON(B508,Berekening!$G$27,TRUE)","v":1},504,{"$f":"POISSON(D508,Berekening!$G$50,TRUE)","v":1},504,{"$f":"POISSON(F508,Berekening!$G$52,TRUE)","v":1},504]
[{"$f":"POISSON(B509,Berekening!$G$27,TRUE)","v":1},505,{"$f":"POISSON(D509,Berekening!$G$50,TRUE)","v":1},505,{"$f":"POISSON(F509,Berekening!$G$52,TRUE)","v":1},505]
[{"$f":"POISSON(B510,Berekening!$G$27,TRUE)","v":1},506,{"$f":"POISSON(D510,Berekening!$G$50,TRUE)","v":1},506,{"$f":"POISSON(F510,Berekening!$G$52,TRUE)","v":1},506]
[{"$f":"POISSON(B511,Berekening!$G$27,TRUE)","v":1},507,{"$f":"POISSON(D511,Berekening!$G$50,TRUE)","v":1},507,{"$f":"POISSON(F511,Berekening!$G$52,TRUE)","v":1},507]
[{"$f":"POISSON(B512,Berekening!$G$27,TRUE)","v":1},508,{"$f":"POISSON(D512,Berekening!$G$50,TRUE)","v":1},508,{"$f":"POISSON(F512,Berekening!$G$52,TRUE)","v":1},508]
[{"$f":"POISSON(B513,Berekening!$G$27,TRUE)","v":1},509,{"$f":"POISSON(D513,Berekening!$G$50,TRUE)","v":1},509,{"$f":"POISSON(F513,Berekening!$G$52,TRUE)","v":1},509]
[{"$f":"POISSON(B514,Berekening!$G$27,TRUE)","v":1},510,{"$f":"POISSON(D514,Berekening!$G$50,TRUE)","v":1},510,{"$f":"POISSON(F514,Berekening!$G$52,TRUE)","v":1},510]
[{"$f":"POISSON(B515,Berekening!$G$27,TRUE)","v":1},511,{"$f":"POISSON(D515,Berekening!$G$50,TRUE)","v":1},511,{"$f":"POISSON(F515,Berekening!$G$52,TRUE)","v":1},511]
[{"$f":"POISSON(B516,Berekening!$G$27,TRUE)","v":1},512,{"$f":"POISSON(D516,Berekening!$G$50,TRUE)","v":1},512,{"$f":"POISSON(F516,Berekening!$G$52,TRUE)","v":1},512]
[{"$f":"POISSON(B517,Berekening!$G$27,TRUE)","v":1},513,{"$f":"POISSON(D517,Berekening!$G$50,TRUE)","v":1},513,{"$f":"POISSON(F517,Berekening!$G$52,TRUE)","v":1},513]
[{"$f":"POISSON(B518,Berekening!$G$27,TRUE)","v":1},514,{"$f":"POISSON(D518,Berekening!$G$50,TRUE)","v":1},514,{"$f":"POISSON(F518,Berekening!$G$52,TRUE)","v":1},514]
[{"$f":"POISSON(B519,Berekening!$G$27,TRUE)","v":1},515,{"$f":"POISSON(D519,Berekening!$G$50,TRUE)","v":1},515,{"$f":"POISSON(F519,Berekening!$G$52,TRUE)","v":1},515]
[{"$f":"POISSON(B520,Berekening!$G$27,TRUE)","v":1},516,{"$f":"POISSON(D520,Berekening!$G$50,TRUE)","v":1},516,{"$f":"POISSON(F520,Berekening!$G$52,TRUE)","v":1},516]
[{"$f":"POISSON(B521,Berekening!$G$27,TRUE)","v":1},517,{"$f":"POISSON(D521,Berekening!$G$50,TRUE)","v":1},517,{"$f":"POISSON(F521,Berekening!$G$52,TRUE)","v":1},517]
[{"$f":"POISSON(B522,Berekening!$G$27,TRUE)","v":1},518,{"$f":"POISSON(D522,Berekening!$G$50,TRUE)","v":1},518,{"$f":"POISSON(F522,Berekening!$G$52,TRUE)","v":1},518]
[{"$f":"POISSON(B523,Berekening!$G$27,TRUE)","v":1},519,{"$f":"POISSON(D523,Berekening!$G$50,TRUE)","v":1},519,{"$f":"POISSON(F523,Berekening!$G$52,TRUE)","v":1},519]
[{"$f":"POISSON(B524,Berekening!$G$27,TRUE)","v":1},520,{"$f":"POISSON(D524,Berekening!$G$50,TRUE)","v":1},520,{"$f":"POISSON(F524,Berekening!$G$52,TRUE)","v":1},520]
[{"$f":"POISSON(B525,Berekening!$G$27,TRUE)","v":1},521,{"$f":"POISSON(D525,Berekening!$G$50,TRUE)","v":1},521,{"$f":"POISSON(F525,Berekening!$G$52,TRUE)","v":1},521]
[{"$f":"POISSON(B526,Berekening!$G$27,TRUE)","v":1},522,{"$f":"POISSON(D526,Berekening!$G$50,TRUE)","v":1},522,{"$f":"POISSON(F526,Berekening!$G$52,TRUE)","v":1},522]
[{"$f":"POISSON(B527,Berekening!$G$27,TRUE)","v":1},523,{"$f":"POISSON(D527,Berekening!$G$50,TRUE)","v":1},523,{"$f":"POISSON(F527,Berekening!$G$52,TRUE)","v":1},523]
[{"$f":"POISSON(B528,Berekening!$G$27,TRUE)","v":1},524,{"$f":"POISSON(D528,Berekening!$G$50,TRUE)","v":1},524,{"$f":"POISSON(F528,Berekening!$G$52,TRUE)","v":1},524]
[{"$f":"POISSON(B529,Berekening!$G$27,TRUE)","v":1},525,{"$f":"POISSON(D529,Berekening!$G$50,TRUE)","v":1},525,{"$f":"POISSON(F529,Berekening!$G$52,TRUE)","v":1},525]
[{"$f":"POISSON(B530,Berekening!$G$27,TRUE)","v":1},526,{"$f":"POISSON(D530,Berekening!$G$50,TRUE)","v":1},526,{"$f":"POISSON(F530,Berekening!$G$52,TRUE)","v":1},526]
[{"$f":"POISSON(B531,Berekening!$G$27,TRUE)","v":1},527,{"$f":"POISSON(D531,Berekening!$G$50,TRUE)","v":1},527,{"$f":"POISSON(F531,Berekening!$G$52,TRUE)","v":1},527]
[{"$f":"POISSON(B532,Berekening!$G$27,TRUE)","v":1},528,{"$f":"POISSON(D532,Berekening!$G$50,TRUE)","v":1},528,{"$f":"POISSON(F532,Berekening!$G$52,TRUE)","v":1},528]
[{"$f":"POISSON(B533,Berekening!$G$27,TRUE)","v":1},529,{"$f":"POISSON(D533,Berekening!$G$50,TRUE)","v":1},529,{"$f":"POISSON(F533,Berekening!$G$52,TRUE)","v":1},529]
[{"$f":"POISSON(B534,Berekening!$G$27,TRUE)","v":1},530,{"$f":"POISSON(D534,Berekening!$G$50,TRUE)","v":1},530,{"$f":"POISSON(F534,Berekening!$G$52,TRUE)","v":1},530]
[{"$f":"POISSON(B535,Berekening!$G$27,TRUE)","v":1},531,{"$f":"POISSON(D535,Berekening!$G$50,TRUE)","v":1},531,{"$f":"POISSON(F535,Berekening!$G$52,TRUE)","v":1},531]
[{"$f":"POISSON(B536,Berekening!$G$27,TRUE)","v":1},532,{"$f":"POISSON(D536,Berekening!$G$50,TRUE)","v":1},532,{"$f":"POISSON(F536,Berekening!$G$52,TRUE)","v":1},532]
[{"$f":"POISSON(B537,Berekening!$G$27,TRUE)","v":1},533,{"$f":"POISSON(D537,Berekening!$G$50,TRUE)","v":1},533,{"$f":"POISSON(F537,Berekening!$G$52,TRUE)","v":1},533]
[{"$f":"POISSON(B538,Berekening!$G$27,TRUE)","v":1},534,{"$f":"POISSON(D538,Berekening!$G$50,TRUE)","v":1},534,{"$f":"POISSON(F538,Berekening!$G$52,TRUE)","v":1},534]
[{"$f":"POISSON(B539,Berekening!$G$27,TRUE)","v":1},535,{"$f":"POISSON(D539,Berekening!$G$50,TRUE)","v":1},535,{"$f":"POISSON(F539,Berekening!$G$52,TRUE)","v":1},535]
[{"$f":"POISSON(B540,Berekening!$G$27,TRUE)","v":1},536,{"$f":"POISSON(D540,Berekening!$G$50,TRUE)","v":1},536,{"$f":"POISSON(F540,Berekening!$G$52,TRUE)","v":1},536]
[{"$f":"POISSON(B541,Berekening!$G$27,TRUE)","v":1},537,{"$f":"POISSON(D541,Berekening!$G$50,TRUE)","v":1},537,{"$f":"POISSON(F541,Berekening!$G$52,TRUE)","v":1},537]
[{"$f":"POISSON(B542,Berekening!$G$27,TRUE)","v":1},538,{"$f":"POISSON(D542,Berekening!$G$50,TRUE)","v":1},538,{"$f":"POISSON(F542,Berekening!$G$52,TRUE)","v":1},538]
[{"$f":"POISSON(B543,Berekening!$G$27,TRUE)","v":1},539,{"$f":"POISSON(D543,Berekening!$G$50,TRUE)","v":1},539,{"$f":"POISSON(F543,Berekening!$G$52,TRUE)","v":1},539]
[{"$f":"POISSON(B544,Berekening!$G$27,TRUE)","v":1},540,{"$f":"POISSON(D544,Berekening!$G$50,TRUE)","v":1},540,{"$f":"POISSON(F544,Berekening!$G$52,TRUE)","v":1},540]
[{"$f":"POISSON(B545,Berekening!$G$27,TRUE)","v":1},541,{"$f":"POISSON(D545,Berekening!$G$50,TRUE)","v":1},541,{"$f":"POISSON(F545,Berekening!$G$52,TRUE)","v":1},541]
[{"$f":"POISSON(B546,Berekening!$G$27,TRUE)","v":1},542,{"$f":"POISSON(D546,Berekening!$G$50,TRUE)","v":1},542,{"$f":"POISSON(F546,Berekening!$G$52,TRUE)","v":1},542]
[{"$f":"POISSON(B547,Berekening!$G$27,TRUE)","v":1},543,{"$f":"POISSON(D547,Berekening!$G$50,TRUE)","v":1},543,{"$f":"POISSON(F547,Berekening!$G$52,TRUE)","v":1},543]
[{"$f":"POISSON(B548,Berekening!$G$27,TRUE)","v":1},544,{"$f":"POISSON(D548,Berekening!$G$50,TRUE)","v":1},544,{"$f":"POISSON(F548,Berekening!$G$52,TRUE)","v":1},544]
[{"$f":"POISSON(B549,Berekening!$G$27,TRUE)","v":1},545,{"$f":"POISSON(D549,Berekening!$G$50,TRUE)","v":1},545,{"$f":"POISSON(F549,Berekening!$G$52,TRUE)","v":1},545]
[{"$f":"POISSON(B550,Berekening!$G$27,TRUE)","v":1},546,{"$f":"POISSON(D550,Berekening!$G$50,TRUE)","v":1},546,{"$f":"POISSON(F550,Berekening!$G$52,TRUE)","v":1},546]
[{"$f":"POISSON(B551,Berekening!$G$27,TRUE)","v":1},547,{"$f":"POISSON(D551,Berekening!$G$50,TRUE)","v":1},547,{"$f":"POISSON(F551,Berekening!$G$52,TRUE)","v":1},547]
[{"$f":"POISSON(B552,Berekening!$G$27,TRUE)","v":1},548,{"$f":"POISSON(D552,Berekening!$G$50,TRUE)","v":1},548,{"$f":"POISSON(F552,Berekening!$G$52,TRUE)","v":1},548]
[{"$f":"POISSON(B553,Berekening!$G$27,TRUE)","v":1},549,{"$f":"POISSON(D553,Berekening!$G$50,TRUE)","v":1},549,{"$f":"POISSON(F553,Berekening!$G$52,TRUE)","v":1},549]
[{"$f":"POISSON(B554,Berekening!$G$27,TRUE)","v":1},550,{"$f":"POISSON(D554,Berekening!$G$50,TRUE)","v":1},550,{"$f":"POISSON(F554,Berekening!$G$52,TRUE)","v":1},550]
[{"$f":"POISSON(B555,Berekening!$G$27,TRUE)","v":1},551,{"$f":"POISSON(D555,Berekening!$G$50,TRUE)","v":1},551,{"$f":"POISSON(F555,Berekening!$G$52,TRUE)","v":1},551]
[{"$f":"POISSON(B556,Berekening!$G$27,TRUE)","v":1},552,{"$f":"POISSON(D556,Berekening!$G$50,TRUE)","v":1},552,{"$f":"POISSON(F556,Berekening!$G$52,TRUE)","v":1},552]
[{"$f":"POISSON(B557,Berekening!$G$27,TRUE)","v":1},553,{"$f":"POISSON(D557,Berekening!$G$50,TRUE)","v":1},553,{"$f":"POISSON(F557,Berekening!$G$52,TRUE)","v":1},553]
[{"$f":"POISSON(B558,Berekening!$G$27,TRUE)","v":1},554,{"$f":"POISSON(D558,Berekening!$G$50,TRUE)","v":1},554,{"$f":"POISSON(F558,Berekening!$G$52,TRUE)","v":1},554]
[{"$f":"POISSON(B559,Berekening!$G$27,TRUE)","v":1},555,{"$f":"POISSON(D559,Berekening!$G$50,TRUE)","v":1},555,{"$f":"POISSON(F559,Berekening!$G$52,TRUE)","v":1},555]
[{"$f":"POISSON(B560,Berekening!$G$27,TRUE)","v":1},556,{"$f":"POISSON(D560,Berekening!$G$50,TRUE)","v":1},556,{"$f":"POISSON(F560,Berekening!$G$52,TRUE)","v":1},556]
[{"$f":"POISSON(B561,Berekening!$G$27,TRUE)","v":1},557,{"$f":"POISSON(D561,Berekening!$G$50,TRUE)","v":1},557,{"$f":"POISSON(F561,Berekening!$G$52,TRUE)","v":1},557]
[{"$f":"POISSON(B562,Berekening!$G$27,TRUE)","v":1},558,{"$f":"POISSON(D562,Berekening!$G$50,TRUE)","v":1},558,{"$f":"POISSON(F562,Berekening!$G$52,TRUE)","v":1},558]
[{"$f":"POISSON(B563,Berekening!$G$27,TRUE)","v":1},559,{"$f":"POISSON(D563,Berekening!$G$50,TRUE)","v":1},559,{"$f":"POISSON(F563,Berekening!$G$52,TRUE)","v":1},559]
[{"$f":"POISSON(B564,Berekening!$G$27,TRUE)","v":1},560,{"$f":"POISSON(D564,Berekening!$G$50,TRUE)","v":1},560,{"$f":"POISSON(F564,Berekening!$G$52,TRUE)","v":1},560]
[{"$f":"POISSON(B565,Berekening!$G$27,TRUE)","v":1},561,{"$f":"POISSON(D565,Berekening!$G$50,TRUE)","v":1},561,{"$f":"POISSON(F565,Berekening!$G$52,TRUE)","v":1},561]
[{"$f":"POISSON(B566,Berekening!$G$27,TRUE)","v":1},562,{"$f":"POISSON(D566,Berekening!$G$50,TRUE)","v":1},562,{"$f":"POISSON(F566,Berekening!$G$52,TRUE)","v":1},562]
[{"$f":"POISSON(B567,Berekening!$G$27,TRUE)","v":1},563,{"$f":"POISSON(D567,Berekening!$G$50,TRUE)","v":1},563,{"$f":"POISSON(F567,Berekening!$G$52,TRUE)","v":1},563]
[{"$f":"POISSON(B568,Berekening!$G$27,TRUE)","v":1},564,{"$f":"POISSON(D568,Berekening!$G$50,TRUE)","v":1},564,{"$f":"POISSON(F568,Berekening!$G$52,TRUE)","v":1},564]
[{"$f":"POISSON(B569,Berekening!$G$27,TRUE)","v":1},565,{"$f":"POISSON(D569,Berekening!$G$50,TRUE)","v":1},565,{"$f":"POISSON(F569,Berekening!$G$52,TRUE)","v":1},565]
[{"$f":"POISSON(B570,Berekening!$G$27,TRUE)","v":1},566,{"$f":"POISSON(D570,Berekening!$G$50,TRUE)","v":1},566,{"$f":"POISSON(F570,Berekening!$G$52,TRUE)","v":1},566]
[{"$f":"POISSON(B571,Berekening!$G$27,TRUE)","v":1},567,{"$f":"POISSON(D571,Berekening!$G$50,TRUE)","v":1},567,{"$f":"POISSON(F571,Berekening!$G$52,TRUE)","v":1},567]
[{"$f":"POISSON(B572,Berekening!$G$27,TRUE)","v":1},568,{"$f":"POISSON(D572,Berekening!$G$50,TRUE)","v":1},568,{"$f":"POISSON(F572,Berekening!$G$52,TRUE)","v":1},568]
[{"$f":"POISSON(B573,Berekening!$G$27,TRUE)","v":1},569,{"$f":"POISSON(D573,Berekening!$G$50,TRUE)","v":1},569,{"$f":"POISSON(F573,Berekening!$G$52,TRUE)","v":1},569]
[{"$f":"POISSON(B574,Berekening!$G$27,TRUE)","v":1},570,{"$f":"POISSON(D574,Berekening!$G$50,TRUE)","v":1},570,{"$f":"POISSON(F574,Berekening!$G$52,TRUE)","v":1},570]
[{"$f":"POISSON(B575,Berekening!$G$27,TRUE)","v":1},571,{"$f":"POISSON(D575,Berekening!$G$50,TRUE)","v":1},571,{"$f":"POISSON(F575,Berekening!$G$52,TRUE)","v":1},571]
[{"$f":"POISSON(B576,Berekening!$G$27,TRUE)","v":1},572,{"$f":"POISSON(D576,Berekening!$G$50,TRUE)","v":1},572,{"$f":"POISSON(F576,Berekening!$G$52,TRUE)","v":1},572]
[{"$f":"POISSON(B577,Berekening!$G$27,TRUE)","v":1},573,{"$f":"POISSON(D577,Berekening!$G$50,TRUE)","v":1},573,{"$f":"POISSON(F577,Berekening!$G$52,TRUE)","v":1},573]
[{"$f":"POISSON(B578,Berekening!$G$27,TRUE)","v":1},574,{"$f":"POISSON(D578,Berekening!$G$50,TRUE)","v":1},574,{"$f":"POISSON(F578,Berekening!$G$52,TRUE)","v":1},574]
[{"$f":"POISSON(B579,Berekening!$G$27,TRUE)","v":1},575,{"$f":"POISSON(D579,Berekening!$G$50,TRUE)","v":1},575,{"$f":"POISSON(F579,Berekening!$G$52,TRUE)","v":1},575]
[{"$f":"POISSON(B580,Berekening!$G$27,TRUE)","v":1},576,{"$f":"POISSON(D580,Berekening!$G$50,TRUE)","v":1},576,{"$f":"POISSON(F580,Berekening!$G$52,TRUE)","v":1},576]
[{"$f":"POISSON(B581,Berekening!$G$27,TRUE)","v":1},577,{"$f":"POISSON(D581,Berekening!$G$50,TRUE)","v":1},577,{"$f":"POISSON(F581,Berekening!$G$52,TRUE)","v":1},577]
[{"$f":"POISSON(B582,Berekening!$G$27,TRUE)","v":1},578,{"$f":"POISSON(D582,Berekening!$G$50,TRUE)","v":1},578,{"$f":"POISSON(F582,Berekening!$G$52,TRUE)","v":1},578]
[{"$f":"POISSON(B583,Berekening!$G$27,TRUE)","v":1},579,{"$f":"POISSON(D583,Berekening!$G$50,TRUE)","v":1},579,{"$f":"POISSON(F583,Berekening!$G$52,TRUE)","v":1},579]
[{"$f":"POISSON(B584,Berekening!$G$27,TRUE)","v":1},580,{"$f":"POISSON(D584,Berekening!$G$50,TRUE)","v":1},580,{"$f":"POISSON(F584,Berekening!$G$52,TRUE)","v":1},580]
[{"$f":"POISSON(B585,Berekening!$G$27,TRUE)","v":1},581,{"$f":"POISSON(D585,Berekening!$G$50,TRUE)","v":1},581,{"$f":"POISSON(F585,Berekening!$G$52,TRUE)","v":1},581]
[{"$f":"POISSON(B586,Berekening!$G$27,TRUE)","v":1},582,{"$f":"POISSON(D586,Berekening!$G$50,TRUE)","v":1},582,{"$f":"POISSON(F586,Berekening!$G$52,TRUE)","v":1},582]
[{"$f":"POISSON(B587,Berekening!$G$27,TRUE)","v":1},583,{"$f":"POISSON(D587,Berekening!$G$50,TRUE)","v":1},583,{"$f":"POISSON(F587,Berekening!$G$52,TRUE)","v":1},583]
[{"$f":"POISSON(B588,Berekening!$G$27,TRUE)","v":1},584,{"$f":"POISSON(D588,Berekening!$G$50,TRUE)","v":1},584,{"$f":"POISSON(F588,Berekening!$G$52,TRUE)","v":1},584]
[{"$f":"POISSON(B589,Berekening!$G$27,TRUE)","v":1},585,{"$f":"POISSON(D589,Berekening!$G$50,TRUE)","v":1},585,{"$f":"POISSON(F589,Berekening!$G$52,TRUE)","v":1},585]
[{"$f":"POISSON(B590,Berekening!$G$27,TRUE)","v":1},586,{"$f":"POISSON(D590,Berekening!$G$50,TRUE)","v":1},586,{"$f":"POISSON(F590,Berekening!$G$52,TRUE)","v":1},586]
[{"$f":"POISSON(B591,Berekening!$G$27,TRUE)","v":1},587,{"$f":"POISSON(D591,Berekening!$G$50,TRUE)","v":1},587,{"$f":"POISSON(F591,Berekening!$G$52,TRUE)","v":1},587]
[{"$f":"POISSON(B592,Berekening!$G$27,TRUE)","v":1},588,{"$f":"POISSON(D592,Berekening!$G$50,TRUE)","v":1},588,{"$f":"POISSON(F592,Berekening!$G$52,TRUE)","v":1},588]
[{"$f":"POISSON(B593,Berekening!$G$27,TRUE)","v":1},589,{"$f":"POISSON(D593,Berekening!$G$50,TRUE)","v":1},589,{"$f":"POISSON(F593,Berekening!$G$52,TRUE)","v":1},589]
[{"$f":"POISSON(B594,Berekening!$G$27,TRUE)","v":1},590,{"$f":"POISSON(D594,Berekening!$G$50,TRUE)","v":1},590,{"$f":"POISSON(F594,Berekening!$G$52,TRUE)","v":1},590]
[{"$f":"POISSON(B595,Berekening!$G$27,TRUE)","v":1},591,{"$f":"POISSON(D595,Berekening!$G$50,TRUE)","v":1},591,{"$f":"POISSON(F595,Berekening!$G$52,TRUE)","v":1},591]
[{"$f":"POISSON(B596,Berekening!$G$27,TRUE)","v":1},592,{"$f":"POISSON(D596,Berekening!$G$50,TRUE)","v":1},592,{"$f":"POISSON(F596,Berekening!$G$52,TRUE)","v":1},592]
[{"$f":"POISSON(B597,Berekening!$G$27,TRUE)","v":1},593,{"$f":"POISSON(D597,Berekening!$G$50,TRUE)","v":1},593,{"$f":"POISSON(F597,Berekening!$G$52,TRUE)","v":1},593]
[{"$f":"POISSON(B598,Berekening!$G$27,TRUE)","v":1},594,{"$f":"POISSON(D598,Berekening!$G$50,TRUE)","v":1},594,{"$f":"POISSON(F598,Berekening!$G$52,TRUE)","v":1},594]
[{"$f":"POISSON(B599,Berekening!$G$27,TRUE)","v":1},595,{"$f":"POISSON(D599,Berekening!$G$50,TRUE)","v":1},595,{"$f":"POISSON(F599,Berekening!$G$52,TRUE)","v":1},595]
[{"$f":"POISSON(B600,Berekening!$G$27,TRUE)","v":1},596,{"$f":"POISSON(D600,Berekening!$G$50,TRUE)","v":1},596,{"$f":"POISSON(F600,Berekening!$G$52,TRUE)","v":1},596]
[{"$f":"POISSON(B601,Berekening!$G$27,TRUE)","v":1},597,{"$f":"POISSON(D601,Berekening!$G$50,TRUE)","v":1},597,{"$f":"POISSON(F601,Berekening!$G$52,TRUE)","v":1},597]
[{"$f":"POISSON(B602,Berekening!$G$27,TRUE)","v":1},598,{"$f":"POISSON(D602,Berekening!$G$50,TRUE)","v":1},598,{"$f":"POISSON(F602,Berekening!$G$52,TRUE)","v":1},598]
[{"$f":"POISSON(B603,Berekening!$G$27,TRUE)","v":1},599,{"$f":"POISSON(D603,Berekening!$G$50,TRUE)","v":1},599,{"$f":"POISSON(F603,Berekening!$G$52,TRUE)","v":1},599]
[{"$f":"POISSON(B604,Berekening!$G$27,TRUE)","v":1},600,{"$f":"POISSON(D604,Berekening!$G$50,TRUE)","v":1},600,{"$f":"POISSON(F604,Berekening!$G$52,TRUE)","v":1},600]
[{"$f":"POISSON(B605,Berekening!$G$27,TRUE)","v":1},601,{"$f":"POISSON(D605,Berekening!$G$50,TRUE)","v":1},601,{"$f":"POISSON(F605,Berekening!$G$52,TRUE)","v":1},601]
[{"$f":"POISSON(B606,Berekening!$G$27,TRUE)","v":1},602,{"$f":"POISSON(D606,Berekening!$G$50,TRUE)","v":1},602,{"$f":"POISSON(F606,Berekening!$G$52,TRUE)","v":1},602]
[{"$f":"POISSON(B607,Berekening!$G$27,TRUE)","v":1},603,{"$f":"POISSON(D607,Berekening!$G$50,TRUE)","v":1},603,{"$f":"POISSON(F607,Berekening!$G$52,TRUE)","v":1},603]
[{"$f":"POISSON(B608,Berekening!$G$27,TRUE)","v":1},604,{"$f":"POISSON(D608,Berekening!$G$50,TRUE)","v":1},604,{"$f":"POISSON(F608,Berekening!$G$52,TRUE)","v":1},604]
[{"$f":"POISSON(B609,Berekening!$G$27,TRUE)","v":1},605,{"$f":"POISSON(D609,Berekening!$G$50,TRUE)","v":1},605,{"$f":"POISSON(F609,Berekening!$G$52,TRUE)","v":1},605]
[{"$f":"POISSON(B610,Berekening!$G$27,TRUE)","v":1},606,{"$f":"POISSON(D610,Berekening!$G$50,TRUE)","v":1},606,{"$f":"POISSON(F610,Berekening!$G$52,TRUE)","v":1},606]
[{"$f":"POISSON(B611,Berekening!$G$27,TRUE)","v":1},607,{"$f":"POISSON(D611,Berekening!$G$50,TRUE)","v":1},607,{"$f":"POISSON(F611,Berekening!$G$52,TRUE)","v":1},607]
[{"$f":"POISSON(B612,Berekening!$G$27,TRUE)","v":1},608,{"$f":"POISSON(D612,Berekening!$G$50,TRUE)","v":1},608,{"$f":"POISSON(F612,Berekening!$G$52,TRUE)","v":1},608]
[{"$f":"POISSON(B613,Berekening!$G$27,TRUE)","v":1},609,{"$f":"POISSON(D613,Berekening!$G$50,TRUE)","v":1},609,{"$f":"POISSON(F613,Berekening!$G$52,TRUE)","v":1},609]
[{"$f":"POISSON(B614,Berekening!$G$27,TRUE)","v":1},610,{"$f":"POISSON(D614,Berekening!$G$50,TRUE)","v":1},610,{"$f":"POISSON(F614,Berekening!$G$52,TRUE)","v":1},610]
[{"$f":"POISSON(B615,Berekening!$G$27,TRUE)","v":1},611,{"$f":"POISSON(D615,Berekening!$G$50,TRUE)","v":1},611,{"$f":"POISSON(F615,Berekening!$G$52,TRUE)","v":1},611]
[{"$f":"POISSON(B616,Berekening!$G$27,TRUE)","v":1},612,{"$f":"POISSON(D616,Berekening!$G$50,TRUE)","v":1},612,{"$f":"POISSON(F616,Berekening!$G$52,TRUE)","v":1},612]
[{"$f":"POISSON(B617,Berekening!$G$27,TRUE)","v":1},613,{"$f":"POISSON(D617,Berekening!$G$50,TRUE)","v":1},613,{"$f":"POISSON(F617,Berekening!$G$52,TRUE)","v":1},613]
[{"$f":"POISSON(B618,Berekening!$G$27,TRUE)","v":1},614,{"$f":"POISSON(D618,Berekening!$G$50,TRUE)","v":1},614,{"$f":"POISSON(F618,Berekening!$G$52,TRUE)","v":1},614]
[{"$f":"POISSON(B619,Berekening!$G$27,TRUE)","v":1},615,{"$f":"POISSON(D619,Berekening!$G$50,TRUE)","v":1},615,{"$f":"POISSON(F619,Berekening!$G$52,TRUE)","v":1},615]
[{"$f":"POISSON(B620,Berekening!$G$27,TRUE)","v":1},616,{"$f":"POISSON(D620,Berekening!$G$50,TRUE)","v":1},616,{"$f":"POISSON(F620,Berekening!$G$52,TRUE)","v":1},616]
[{"$f":"POISSON(B621,Berekening!$G$27,TRUE)","v":1},617,{"$f":"POISSON(D621,Berekening!$G$50,TRUE)","v":1},617,{"$f":"POISSON(F621,Berekening!$G$52,TRUE)","v":1},617]
[{"$f":"POISSON(B622,Berekening!$G$27,TRUE)","v":1},618,{"$f":"POISSON(D622,Berekening!$G$50,TRUE)","v":1},618,{"$f":"POISSON(F622,Berekening!$G$52,TRUE)","v":1},618]
[{"$f":"POISSON(B623,Berekening!$G$27,TRUE)","v":1},619,{"$f":"POISSON(D623,Berekening!$G$50,TRUE)","v":1},619,{"$f":"POISSON(F623,Berekening!$G$52,TRUE)","v":1},619]
[{"$f":"POISSON(B624,Berekening!$G$27,TRUE)","v":1},620,{"$f":"POISSON(D624,Berekening!$G$50,TRUE)","v":1},620,{"$f":"POISSON(F624,Berekening!$G$52,TRUE)","v":1},620]
[{"$f":"POISSON(B625,Berekening!$G$27,TRUE)","v":1},621,{"$f":"POISSON(D625,Berekening!$G$50,TRUE)","v":1},621,{"$f":"POISSON(F625,Berekening!$G$52,TRUE)","v":1},621]
[{"$f":"POISSON(B626,Berekening!$G$27,TRUE)","v":1},622,{"$f":"POISSON(D626,Berekening!$G$50,TRUE)","v":1},622,{"$f":"POISSON(F626,Berekening!$G$52,TRUE)","v":1},622]
[{"$f":"POISSON(B627,Berekening!$G$27,TRUE)","v":1},623,{"$f":"POISSON(D627,Berekening!$G$50,TRUE)","v":1},623,{"$f":"POISSON(F627,Berekening!$G$52,TRUE)","v":1},623]
[{"$f":"POISSON(B628,Berekening!$G$27,TRUE)","v":1},624,{"$f":"POISSON(D628,Berekening!$G$50,TRUE)","v":1},624,{"$f":"POISSON(F628,Berekening!$G$52,TRUE)","v":1},624]
[{"$f":"POISSON(B629,Berekening!$G$27,TRUE)","v":1},625,{"$f":"POISSON(D629,Berekening!$G$50,TRUE)","v":1},625,{"$f":"POISSON(F629,Berekening!$G$52,TRUE)","v":1},625]
[{"$f":"POISSON(B630,Berekening!$G$27,TRUE)","v":1},626,{"$f":"POISSON(D630,Berekening!$G$50,TRUE)","v":1},626,{"$f":"POISSON(F630,Berekening!$G$52,TRUE)","v":1},626]
[{"$f":"POISSON(B631,Berekening!$G$27,TRUE)","v":1},627,{"$f":"POISSON(D631,Berekening!$G$50,TRUE)","v":1},627,{"$f":"POISSON(F631,Berekening!$G$52,TRUE)","v":1},627]
[{"$f":"POISSON(B632,Berekening!$G$27,TRUE)","v":1},628,{"$f":"POISSON(D632,Berekening!$G$50,TRUE)","v":1},628,{"$f":"POISSON(F632,Berekening!$G$52,TRUE)","v":1},628]
[{"$f":"POISSON(B633,Berekening!$G$27,TRUE)","v":1},629,{"$f":"POISSON(D633,Berekening!$G$50,TRUE)","v":1},629,{"$f":"POISSON(F633,Berekening!$G$52,TRUE)","v":1},629]
[{"$f":"POISSON(B634,Berekening!$G$27,TRUE)","v":1},630,{"$f":"POISSON(D634,Berekening!$G$50,TRUE)","v":1},630,{"$f":"POISSON(F634,Berekening!$G$52,TRUE)","v":1},630]
[{"$f":"POISSON(B635,Berekening!$G$27,TRUE)","v":1},631,{"$f":"POISSON(D635,Berekening!$G$50,TRUE)","v":1},631,{"$f":"POISSON(F635,Berekening!$G$52,TRUE)","v":1},631]
[{"$f":"POISSON(B636,Berekening!$G$27,TRUE)","v":1},632,{"$f":"POISSON(D636,Berekening!$G$50,TRUE)","v":1},632,{"$f":"POISSON(F636,Berekening!$G$52,TRUE)","v":1},632]
[{"$f":"POISSON(B637,Berekening!$G$27,TRUE)","v":1},633,{"$f":"POISSON(D637,Berekening!$G$50,TRUE)","v":1},633,{"$f":"POISSON(F637,Berekening!$G$52,TRUE)","v":1},633]
[{"$f":"POISSON(B638,Berekening!$G$27,TRUE)","v":1},634,{"$f":"POISSON(D638,Berekening!$G$50,TRUE)","v":1},634,{"$f":"POISSON(F638,Berekening!$G$52,TRUE)","v":1},634]
[{"$f":"POISSON(B639,Berekening!$G$27,TRUE)","v":1},635,{"$f":"POISSON(D639,Berekening!$G$50,TRUE)","v":1},635,{"$f":"POISSON(F639,Berekening!$G$52,TRUE)","v":1},635]
[{"$f":"POISSON(B640,Berekening!$G$27,TRUE)","v":1},636,{"$f":"POISSON(D640,Berekening!$G$50,TRUE)","v":1},636,{"$f":"POISSON(F640,Berekening!$G$52,TRUE)","v":1},636]
[{"$f":"POISSON(B641,Berekening!$G$27,TRUE)","v":1},637,{"$f":"POISSON(D641,Berekening!$G$50,TRUE)","v":1},637,{"$f":"POISSON(F641,Berekening!$G$52,TRUE)","v":1},637]
[{"$f":"POISSON(B642,Berekening!$G$27,TRUE)","v":1},638,{"$f":"POISSON(D642,Berekening!$G$50,TRUE)","v":1},638,{"$f":"POISSON(F642,Berekening!$G$52,TRUE)","v":1},638]
[{"$f":"POISSON(B643,Berekening!$G$27,TRUE)","v":1},639,{"$f":"POISSON(D643,Berekening!$G$50,TRUE)","v":1},639,{"$f":"POISSON(F643,Berekening!$G$52,TRUE)","v":1},639]
[{"$f":"POISSON(B644,Berekening!$G$27,TRUE)","v":1},640,{"$f":"POISSON(D644,Berekening!$G$50,TRUE)","v":1},640,{"$f":"POISSON(F644,Berekening!$G$52,TRUE)","v":1},640]
[{"$f":"POISSON(B645,Berekening!$G$27,TRUE)","v":1},641,{"$f":"POISSON(D645,Berekening!$G$50,TRUE)","v":1},641,{"$f":"POISSON(F645,Berekening!$G$52,TRUE)","v":1},641]
[{"$f":"POISSON(B646,Berekening!$G$27,TRUE)","v":1},642,{"$f":"POISSON(D646,Berekening!$G$50,TRUE)","v":1},642,{"$f":"POISSON(F646,Berekening!$G$52,TRUE)","v":1},642]
[{"$f":"POISSON(B647,Berekening!$G$27,TRUE)","v":1},643,{"$f":"POISSON(D647,Berekening!$G$50,TRUE)","v":1},643,{"$f":"POISSON(F647,Berekening!$G$52,TRUE)","v":1},643]
[{"$f":"POISSON(B648,Berekening!$G$27,TRUE)","v":1},644,{"$f":"POISSON(D648,Berekening!$G$50,TRUE)","v":1},644,{"$f":"POISSON(F648,Berekening!$G$52,TRUE)","v":1},644]
[{"$f":"POISSON(B649,Berekening!$G$27,TRUE)","v":1},645,{"$f":"POISSON(D649,Berekening!$G$50,TRUE)","v":1},645,{"$f":"POISSON(F649,Berekening!$G$52,TRUE)","v":1},645]
[{"$f":"POISSON(B650,Berekening!$G$27,TRUE)","v":1},646,{"$f":"POISSON(D650,Berekening!$G$50,TRUE)","v":1},646,{"$f":"POISSON(F650,Berekening!$G$52,TRUE)","v":1},646]
[{"$f":"POISSON(B651,Berekening!$G$27,TRUE)","v":1},647,{"$f":"POISSON(D651,Berekening!$G$50,TRUE)","v":1},647,{"$f":"POISSON(F651,Berekening!$G$52,TRUE)","v":1},647]
[{"$f":"POISSON(B652,Berekening!$G$27,TRUE)","v":1},648,{"$f":"POISSON(D652,Berekening!$G$50,TRUE)","v":1},648,{"$f":"POISSON(F652,Berekening!$G$52,TRUE)","v":1},648]
[{"$f":"POISSON(B653,Berekening!$G$27,TRUE)","v":1},649,{"$f":"POISSON(D653,Berekening!$G$50,TRUE)","v":1},649,{"$f":"POISSON(F653,Berekening!$G$52,TRUE)","v":1},649]
[{"$f":"POISSON(B654,Berekening!$G$27,TRUE)","v":1},650,{"$f":"POISSON(D654,Berekening!$G$50,TRUE)","v":1},650,{"$f":"POISSON(F654,Berekening!$G$52,TRUE)","v":1},650]
[{"$f":"POISSON(B655,Berekening!$G$27,TRUE)","v":1},651,{"$f":"POISSON(D655,Berekening!$G$50,TRUE)","v":1},651,{"$f":"POISSON(F655,Berekening!$G$52,TRUE)","v":1},651]
[{"$f":"POISSON(B656,Berekening!$G$27,TRUE)","v":1},652,{"$f":"POISSON(D656,Berekening!$G$50,TRUE)","v":1},652,{"$f":"POISSON(F656,Berekening!$G$52,TRUE)","v":1},652]
[{"$f":"POISSON(B657,Berekening!$G$27,TRUE)","v":1},653,{"$f":"POISSON(D657,Berekening!$G$50,TRUE)","v":1},653,{"$f":"POISSON(F657,Berekening!$G$52,TRUE)","v":1},653]
[{"$f":"POISSON(B658,Berekening!$G$27,TRUE)","v":1},654,{"$f":"POISSON(D658,Berekening!$G$50,TRUE)","v":1},654,{"$f":"POISSON(F658,Berekening!$G$52,TRUE)","v":1},654]
[{"$f":"POISSON(B659,Berekening!$G$27,TRUE)","v":1},655,{"$f":"POISSON(D659,Berekening!$G$50,TRUE)","v":1},655,{"$f":"POISSON(F659,Berekening!$G$52,TRUE)","v":1},655]
[{"$f":"POISSON(B660,Berekening!$G$27,TRUE)","v":1},656,{"$f":"POISSON(D660,Berekening!$G$50,TRUE)","v":1},656,{"$f":"POISSON(F660,Berekening!$G$52,TRUE)","v":1},656]
[{"$f":"POISSON(B661,Berekening!$G$27,TRUE)","v":1},657,{"$f":"POISSON(D661,Berekening!$G$50,TRUE)","v":1},657,{"$f":"POISSON(F661,Berekening!$G$52,TRUE)","v":1},657]
[{"$f":"POISSON(B662,Berekening!$G$27,TRUE)","v":1},658,{"$f":"POISSON(D662,Berekening!$G$50,TRUE)","v":1},658,{"$f":"POISSON(F662,Berekening!$G$52,TRUE)","v":1},658]
[{"$f":"POISSON(B663,Berekening!$G$27,TRUE)","v":1},659,{"$f":"POISSON(D663,Berekening!$G$50,TRUE)","v":1},659,{"$f":"POISSON(F663,Berekening!$G$52,TRUE)","v":1},659]
[{"$f":"POISSON(B664,Berekening!$G$27,TRUE)","v":1},660,{"$f":"POISSON(D664,Berekening!$G$50,TRUE)","v":1},660,{"$f":"POISSON(F664,Berekening!$G$52,TRUE)","v":1},660]
[{"$f":"POISSON(B665,Berekening!$G$27,TRUE)","v":1},661,{"$f":"POISSON(D665,Berekening!$G$50,TRUE)","v":1},661,{"$f":"POISSON(F665,Berekening!$G$52,TRUE)","v":1},661]
[{"$f":"POISSON(B666,Berekening!$G$27,TRUE)","v":1},662,{"$f":"POISSON(D666,Berekening!$G$50,TRUE)","v":1},662,{"$f":"POISSON(F666,Berekening!$G$52,TRUE)","v":1},662]
[{"$f":"POISSON(B667,Berekening!$G$27,TRUE)","v":1},663,{"$f":"POISSON(D667,Berekening!$G$50,TRUE)","v":1},663,{"$f":"POISSON(F667,Berekening!$G$52,TRUE)","v":1},663]
[{"$f":"POISSON(B668,Berekening!$G$27,TRUE)","v":1},664,{"$f":"POISSON(D668,Berekening!$G$50,TRUE)","v":1},664,{"$f":"POISSON(F668,Berekening!$G$52,TRUE)","v":1},664]
[{"$f":"POISSON(B669,Berekening!$G$27,TRUE)","v":1},665,{"$f":"POISSON(D669,Berekening!$G$50,TRUE)","v":1},665,{"$f":"POISSON(F669,Berekening!$G$52,TRUE)","v":1},665]
[{"$f":"POISSON(B670,Berekening!$G$27,TRUE)","v":1},666,{"$f":"POISSON(D670,Berekening!$G$50,TRUE)","v":1},666,{"$f":"POISSON(F670,Berekening!$G$52,TRUE)","v":1},666]
[{"$f":"POISSON(B671,Berekening!$G$27,TRUE)","v":1},667,{"$f":"POISSON(D671,Berekening!$G$50,TRUE)","v":1},667,{"$f":"POISSON(F671,Berekening!$G$52,TRUE)","v":1},667]
[{"$f":"POISSON(B672,Berekening!$G$27,TRUE)","v":1},668,{"$f":"POISSON(D672,Berekening!$G$50,TRUE)","v":1},668,{"$f":"POISSON(F672,Berekening!$G$52,TRUE)","v":1},668]
[{"$f":"POISSON(B673,Berekening!$G$27,TRUE)","v":1},669,{"$f":"POISSON(D673,Berekening!$G$50,TRUE)","v":1},669,{"$f":"POISSON(F673,Berekening!$G$52,TRUE)","v":1},669]
[{"$f":"POISSON(B674,Berekening!$G$27,TRUE)","v":1},670,{"$f":"POISSON(D674,Berekening!$G$50,TRUE)","v":1},670,{"$f":"POISSON(F674,Berekening!$G$52,TRUE)","v":1},670]
[{"$f":"POISSON(B675,Berekening!$G$27,TRUE)","v":1},671,{"$f":"POISSON(D675,Berekening!$G$50,TRUE)","v":1},671,{"$f":"POISSON(F675,Berekening!$G$52,TRUE)","v":1},671]
[{"$f":"POISSON(B676,Berekening!$G$27,TRUE)","v":1},672,{"$f":"POISSON(D676,Berekening!$G$50,TRUE)","v":1},672,{"$f":"POISSON(F676,Berekening!$G$52,TRUE)","v":1},672]
[{"$f":"POISSON(B677,Berekening!$G$27,TRUE)","v":1},673,{"$f":"POISSON(D677,Berekening!$G$50,TRUE)","v":1},673,{"$f":"POISSON(F677,Berekening!$G$52,TRUE)","v":1},673]
[{"$f":"POISSON(B678,Berekening!$G$27,TRUE)","v":1},674,{"$f":"POISSON(D678,Berekening!$G$50,TRUE)","v":1},674,{"$f":"POISSON(F678,Berekening!$G$52,TRUE)","v":1},674]
[{"$f":"POISSON(B679,Berekening!$G$27,TRUE)","v":1},675,{"$f":"POISSON(D679,Berekening!$G$50,TRUE)","v":1},675,{"$f":"POISSON(F679,Berekening!$G$52,TRUE)","v":1},675]
[{"$f":"POISSON(B680,Berekening!$G$27,TRUE)","v":1},676,{"$f":"POISSON(D680,Berekening!$G$50,TRUE)","v":1},676,{"$f":"POISSON(F680,Berekening!$G$52,TRUE)","v":1},676]
[{"$f":"POISSON(B681,Berekening!$G$27,TRUE)","v":1},677,{"$f":"POISSON(D681,Berekening!$G$50,TRUE)","v":1},677,{"$f":"POISSON(F681,Berekening!$G$52,TRUE)","v":1},677]
[{"$f":"POISSON(B682,Berekening!$G$27,TRUE)","v":1},678,{"$f":"POISSON(D682,Berekening!$G$50,TRUE)","v":1},678,{"$f":"POISSON(F682,Berekening!$G$52,TRUE)","v":1},678]
[{"$f":"POISSON(B683,Berekening!$G$27,TRUE)","v":1},679,{"$f":"POISSON(D683,Berekening!$G$50,TRUE)","v":1},679,{"$f":"POISSON(F683,Berekening!$G$52,TRUE)","v":1},679]
[{"$f":"POISSON(B684,Berekening!$G$27,TRUE)","v":1},680,{"$f":"POISSON(D684,Berekening!$G$50,TRUE)","v":1},680,{"$f":"POISSON(F684,Berekening!$G$52,TRUE)","v":1},680]
[{"$f":"POISSON(B685,Berekening!$G$27,TRUE)","v":1},681,{"$f":"POISSON(D685,Berekening!$G$50,TRUE)","v":1},681,{"$f":"POISSON(F685,Berekening!$G$52,TRUE)","v":1},681]
[{"$f":"POISSON(B686,Berekening!$G$27,TRUE)","v":1},682,{"$f":"POISSON(D686,Berekening!$G$50,TRUE)","v":1},682,{"$f":"POISSON(F686,Berekening!$G$52,TRUE)","v":1},682]
[{"$f":"POISSON(B687,Berekening!$G$27,TRUE)","v":1},683,{"$f":"POISSON(D687,Berekening!$G$50,TRUE)","v":1},683,{"$f":"POISSON(F687,Berekening!$G$52,TRUE)","v":1},683]
[{"$f":"POISSON(B688,Berekening!$G$27,TRUE)","v":1},684,{"$f":"POISSON(D688,Berekening!$G$50,TRUE)","v":1},684,{"$f":"POISSON(F688,Berekening!$G$52,TRUE)","v":1},684]
[{"$f":"POISSON(B689,Berekening!$G$27,TRUE)","v":1},685,{"$f":"POISSON(D689,Berekening!$G$50,TRUE)","v":1},685,{"$f":"POISSON(F689,Berekening!$G$52,TRUE)","v":1},685]
[{"$f":"POISSON(B690,Berekening!$G$27,TRUE)","v":1},686,{"$f":"POISSON(D690,Berekening!$G$50,TRUE)","v":1},686,{"$f":"POISSON(F690,Berekening!$G$52,TRUE)","v":1},686]
[{"$f":"POISSON(B691,Berekening!$G$27,TRUE)","v":1},687,{"$f":"POISSON(D691,Berekening!$G$50,TRUE)","v":1},687,{"$f":"POISSON(F691,Berekening!$G$52,TRUE)","v":1},687]
[{"$f":"POISSON(B692,Berekening!$G$27,TRUE)","v":1},688,{"$f":"POISSON(D692,Berekening!$G$50,TRUE)","v":1},688,{"$f":"POISSON(F692,Berekening!$G$52,TRUE)","v":1},688]
[{"$f":"POISSON(B693,Berekening!$G$27,TRUE)","v":1},689,{"$f":"POISSON(D693,Berekening!$G$50,TRUE)","v":1},689,{"$f":"POISSON(F693,Berekening!$G$52,TRUE)","v":1},689]
[{"$f":"POISSON(B694,Berekening!$G$27,TRUE)","v":1},690,{"$f":"POISSON(D694,Berekening!$G$50,TRUE)","v":1},690,{"$f":"POISSON(F694,Berekening!$G$52,TRUE)","v":1},690]
[{"$f":"POISSON(B695,Berekening!$G$27,TRUE)","v":1},691,{"$f":"POISSON(D695,Berekening!$G$50,TRUE)","v":1},691,{"$f":"POISSON(F695,Berekening!$G$52,TRUE)","v":1},691]
[{"$f":"POISSON(B696,Berekening!$G$27,TRUE)","v":1},692,{"$f":"POISSON(D696,Berekening!$G$50,TRUE)","v":1},692,{"$f":"POISSON(F696,Berekening!$G$52,TRUE)","v":1},692]
[{"$f":"POISSON(B697,Berekening!$G$27,TRUE)","v":1},693,{"$f":"POISSON(D697,Berekening!$G$50,TRUE)","v":1},693,{"$f":"POISSON(F697,Berekening!$G$52,TRUE)","v":1},693]
[{"$f":"POISSON(B698,Berekening!$G$27,TRUE)","v":1},694,{"$f":"POISSON(D698,Berekening!$G$50,TRUE)","v":1},694,{"$f":"POISSON(F698,Berekening!$G$52,TRUE)","v":1},694]
[{"$f":"POISSON(B699,Berekening!$G$27,TRUE)","v":1},695,{"$f":"POISSON(D699,Berekening!$G$50,TRUE)","v":1},695,{"$f":"POISSON(F699,Berekening!$G$52,TRUE)","v":1},695]
[{"$f":"POISSON(B700,Berekening!$G$27,TRUE)","v":1},696,{"$f":"POISSON(D700,Berekening!$G$50,TRUE)","v":1},696,{"$f":"POISSON(F700,Berekening!$G$52,TRUE)","v":1},696]
[{"$f":"POISSON(B701,Berekening!$G$27,TRUE)","v":1},697,{"$f":"POISSON(D701,Berekening!$G$50,TRUE)","v":1},697,{"$f":"POISSON(F701,Berekening!$G$52,TRUE)","v":1},697]
[{"$f":"POISSON(B702,Berekening!$G$27,TRUE)","v":1},698,{"$f":"POISSON(D702,Berekening!$G$50,TRUE)","v":1},698,{"$f":"POISSON(F702,Berekening!$G$52,TRUE)","v":1},698]
[{"$f":"POISSON(B703,Berekening!$G$27,TRUE)","v":1},699,{"$f":"POISSON(D703,Berekening!$G$50,TRUE)","v":1},699,{"$f":"POISSON(F703,Berekening!$G$52,TRUE)","v":1},699]
[{"$f":"POISSON(B704,Berekening!$G$27,TRUE)","v":1},700,{"$f":"POISSON(D704,Berekening!$G$50,TRUE)","v":1},700,{"$f":"POISSON(F704,Berekening!$G$52,TRUE)","v":1},700]
[{"$f":"POISSON(B705,Berekening!$G$27,TRUE)","v":1},701,{"$f":"POISSON(D705,Berekening!$G$50,TRUE)","v":1},701,{"$f":"POISSON(F705,Berekening!$G$52,TRUE)","v":1},701]
[{"$f":"POISSON(B706,Berekening!$G$27,TRUE)","v":1},702,{"$f":"POISSON(D706,Berekening!$G$50,TRUE)","v":1},702,{"$f":"POISSON(F706,Berekening!$G$52,TRUE)","v":1},702]
[{"$f":"POISSON(B707,Berekening!$G$27,TRUE)","v":1},703,{"$f":"POISSON(D707,Berekening!$G$50,TRUE)","v":1},703,{"$f":"POISSON(F707,Berekening!$G$52,TRUE)","v":1},703]
[{"$f":"POISSON(B708,Berekening!$G$27,TRUE)","v":1},704,{"$f":"POISSON(D708,Berekening!$G$50,TRUE)","v":1},704,{"$f":"POISSON(F708,Berekening!$G$52,TRUE)","v":1},704]
[{"$f":"POISSON(B709,Berekening!$G$27,TRUE)","v":1},705,{"$f":"POISSON(D709,Berekening!$G$50,TRUE)","v":1},705,{"$f":"POISSON(F709,Berekening!$G$52,TRUE)","v":1},705]
[{"$f":"POISSON(B710,Berekening!$G$27,TRUE)","v":1},706,{"$f":"POISSON(D710,Berekening!$G$50,TRUE)","v":1},706,{"$f":"POISSON(F710,Berekening!$G$52,TRUE)","v":1},706]
[{"$f":"POISSON(B711,Berekening!$G$27,TRUE)","v":1},707,{"$f":"POISSON(D711,Berekening!$G$50,TRUE)","v":1},707,{"$f":"POISSON(F711,Berekening!$G$52,TRUE)","v":1},707]
[{"$f":"POISSON(B712,Berekening!$G$27,TRUE)","v":1},708,{"$f":"POISSON(D712,Berekening!$G$50,TRUE)","v":1},708,{"$f":"POISSON(F712,Berekening!$G$52,TRUE)","v":1},708]
[{"$f":"POISSON(B713,Berekening!$G$27,TRUE)","v":1},709,{"$f":"POISSON(D713,Berekening!$G$50,TRUE)","v":1},709,{"$f":"POISSON(F713,Berekening!$G$52,TRUE)","v":1},709]
[{"$f":"POISSON(B714,Berekening!$G$27,TRUE)","v":1},710,{"$f":"POISSON(D714,Berekening!$G$50,TRUE)","v":1},710,{"$f":"POISSON(F714,Berekening!$G$52,TRUE)","v":1},710]
[{"$f":"POISSON(B715,Berekening!$G$27,TRUE)","v":1},711,{"$f":"POISSON(D715,Berekening!$G$50,TRUE)","v":1},711,{"$f":"POISSON(F715,Berekening!$G$52,TRUE)","v":1},711]
[{"$f":"POISSON(B716,Berekening!$G$27,TRUE)","v":1},712,{"$f":"POISSON(D716,Berekening!$G$50,TRUE)","v":1},712,{"$f":"POISSON(F716,Berekening!$G$52,TRUE)","v":1},712]
[{"$f":"POISSON(B717,Berekening!$G$27,TRUE)","v":1},713,{"$f":"POISSON(D717,Berekening!$G$50,TRUE)","v":1},713,{"$f":"POISSON(F717,Berekening!$G$52,TRUE)","v":1},713]
[{"$f":"POISSON(B718,Berekening!$G$27,TRUE)","v":1},714,{"$f":"POISSON(D718,Berekening!$G$50,TRUE)","v":1},714,{"$f":"POISSON(F718,Berekening!$G$52,TRUE)","v":1},714]
[{"$f":"POISSON(B719,Berekening!$G$27,TRUE)","v":1},715,{"$f":"POISSON(D719,Berekening!$G$50,TRUE)","v":1},715,{"$f":"POISSON(F719,Berekening!$G$52,TRUE)","v":1},715]
[{"$f":"POISSON(B720,Berekening!$G$27,TRUE)","v":1},716,{"$f":"POISSON(D720,Berekening!$G$50,TRUE)","v":1},716,{"$f":"POISSON(F720,Berekening!$G$52,TRUE)","v":1},716]
[{"$f":"POISSON(B721,Berekening!$G$27,TRUE)","v":1},717,{"$f":"POISSON(D721,Berekening!$G$50,TRUE)","v":1},717,{"$f":"POISSON(F721,Berekening!$G$52,TRUE)","v":1},717]
[{"$f":"POISSON(B722,Berekening!$G$27,TRUE)","v":1},718,{"$f":"POISSON(D722,Berekening!$G$50,TRUE)","v":1},718,{"$f":"POISSON(F722,Berekening!$G$52,TRUE)","v":1},718]
[{"$f":"POISSON(B723,Berekening!$G$27,TRUE)","v":1},719,{"$f":"POISSON(D723,Berekening!$G$50,TRUE)","v":1},719,{"$f":"POISSON(F723,Berekening!$G$52,TRUE)","v":1},719]
[{"$f":"POISSON(B724,Berekening!$G$27,TRUE)","v":1},720,{"$f":"POISSON(D724,Berekening!$G$50,TRUE)","v":1},720,{"$f":"POISSON(F724,Berekening!$G$52,TRUE)","v":1},720]
[{"$f":"POISSON(B725,Berekening!$G$27,TRUE)","v":1},721,{"$f":"POISSON(D725,Berekening!$G$50,TRUE)","v":1},721,{"$f":"POISSON(F725,Berekening!$G$52,TRUE)","v":1},721]
[{"$f":"POISSON(B726,Berekening!$G$27,TRUE)","v":1},722,{"$f":"POISSON(D726,Berekening!$G$50,TRUE)","v":1},722,{"$f":"POISSON(F726,Berekening!$G$52,TRUE)","v":1},722]
[{"$f":"POISSON(B727,Berekening!$G$27,TRUE)","v":1},723,{"$f":"POISSON(D727,Berekening!$G$50,TRUE)","v":1},723,{"$f":"POISSON(F727,Berekening!$G$52,TRUE)","v":1},723]
[{"$f":"POISSON(B728,Berekening!$G$27,TRUE)","v":1},724,{"$f":"POISSON(D728,Berekening!$G$50,TRUE)","v":1},724,{"$f":"POISSON(F728,Berekening!$G$52,TRUE)","v":1},724]
[{"$f":"POISSON(B729,Berekening!$G$27,TRUE)","v":1},725,{"$f":"POISSON(D729,Berekening!$G$50,TRUE)","v":1},725,{"$f":"POISSON(F729,Berekening!$G$52,TRUE)","v":1},725]
[{"$f":"POISSON(B730,Berekening!$G$27,TRUE)","v":1},726,{"$f":"POISSON(D730,Berekening!$G$50,TRUE)","v":1},726,{"$f":"POISSON(F730,Berekening!$G$52,TRUE)","v":1},726]
[{"$f":"POISSON(B731,Berekening!$G$27,TRUE)","v":1},727,{"$f":"POISSON(D731,Berekening!$G$50,TRUE)","v":1},727,{"$f":"POISSON(F731,Berekening!$G$52,TRUE)","v":1},727]
[{"$f":"POISSON(B732,Berekening!$G$27,TRUE)","v":1},728,{"$f":"POISSON(D732,Berekening!$G$50,TRUE)","v":1},728,{"$f":"POISSON(F732,Berekening!$G$52,TRUE)","v":1},728]
[{"$f":"POISSON(B733,Berekening!$G$27,TRUE)","v":1},729,{"$f":"POISSON(D733,Berekening!$G$50,TRUE)","v":1},729,{"$f":"POISSON(F733,Berekening!$G$52,TRUE)","v":1},729]
[{"$f":"POISSON(B734,Berekening!$G$27,TRUE)","v":1},730,{"$f":"POISSON(D734,Berekening!$G$50,TRUE)","v":1},730,{"$f":"POISSON(F734,Berekening!$G$52,TRUE)","v":1},730]
[{"$f":"POISSON(B735,Berekening!$G$27,TRUE)","v":1},731,{"$f":"POISSON(D735,Berekening!$G$50,TRUE)","v":1},731,{"$f":"POISSON(F735,Berekening!$G$52,TRUE)","v":1},731]
[{"$f":"POISSON(B736,Berekening!$G$27,TRUE)","v":1},732,{"$f":"POISSON(D736,Berekening!$G$50,TRUE)","v":1},732,{"$f":"POISSON(F736,Berekening!$G$52,TRUE)","v":1},732]
[{"$f":"POISSON(B737,Berekening!$G$27,TRUE)","v":1},733,{"$f":"POISSON(D737,Berekening!$G$50,TRUE)","v":1},733,{"$f":"POISSON(F737,Berekening!$G$52,TRUE)","v":1},733]
[{"$f":"POISSON(B738,Berekening!$G$27,TRUE)","v":1},734,{"$f":"POISSON(D738,Berekening!$G$50,TRUE)","v":1},734,{"$f":"POISSON(F738,Berekening!$G$52,TRUE)","v":1},734]
[{"$f":"POISSON(B739,Berekening!$G$27,TRUE)","v":1},735,{"$f":"POISSON(D739,Berekening!$G$50,TRUE)","v":1},735,{"$f":"POISSON(F739,Berekening!$G$52,TRUE)","v":1},735]
[{"$f":"POISSON(B740,Berekening!$G$27,TRUE)","v":1},736,{"$f":"POISSON(D740,Berekening!$G$50,TRUE)","v":1},736,{"$f":"POISSON(F740,Berekening!$G$52,TRUE)","v":1},736]
[{"$f":"POISSON(B741,Berekening!$G$27,TRUE)","v":1},737,{"$f":"POISSON(D741,Berekening!$G$50,TRUE)","v":1},737,{"$f":"POISSON(F741,Berekening!$G$52,TRUE)","v":1},737]
[{"$f":"POISSON(B742,Berekening!$G$27,TRUE)","v":1},738,{"$f":"POISSON(D742,Berekening!$G$50,TRUE)","v":1},738,{"$f":"POISSON(F742,Berekening!$G$52,TRUE)","v":1},738]
[{"$f":"POISSON(B743,Berekening!$G$27,TRUE)","v":1},739,{"$f":"POISSON(D743,Berekening!$G$50,TRUE)","v":1},739,{"$f":"POISSON(F743,Berekening!$G$52,TRUE)","v":1},739]
[{"$f":"POISSON(B744,Berekening!$G$27,TRUE)","v":1},740,{"$f":"POISSON(D744,Berekening!$G$50,TRUE)","v":1},740,{"$f":"POISSON(F744,Berekening!$G$52,TRUE)","v":1},740]
[{"$f":"POISSON(B745,Berekening!$G$27,TRUE)","v":1},741,{"$f":"POISSON(D745,Berekening!$G$50,TRUE)","v":1},741,{"$f":"POISSON(F745,Berekening!$G$52,TRUE)","v":1},741]
[{"$f":"POISSON(B746,Berekening!$G$27,TRUE)","v":1},742,{"$f":"POISSON(D746,Berekening!$G$50,TRUE)","v":1},742,{"$f":"POISSON(F746,Berekening!$G$52,TRUE)","v":1},742]
[{"$f":"POISSON(B747,Berekening!$G$27,TRUE)","v":1},743,{"$f":"POISSON(D747,Berekening!$G$50,TRUE)","v":1},743,{"$f":"POISSON(F747,Berekening!$G$52,TRUE)","v":1},743]
[{"$f":"POISSON(B748,Berekening!$G$27,TRUE)","v":1},744,{"$f":"POISSON(D748,Berekening!$G$50,TRUE)","v":1},744,{"$f":"POISSON(F748,Berekening!$G$52,TRUE)","v":1},744]
[{"$f":"POISSON(B749,Berekening!$G$27,TRUE)","v":1},745,{"$f":"POISSON(D749,Berekening!$G$50,TRUE)","v":1},745,{"$f":"POISSON(F749,Berekening!$G$52,TRUE)","v":1},745]
[{"$f":"POISSON(B750,Berekening!$G$27,TRUE)","v":1},746,{"$f":"POISSON(D750,Berekening!$G$50,TRUE)","v":1},746,{"$f":"POISSON(F750,Berekening!$G$52,TRUE)","v":1},746]
[{"$f":"POISSON(B751,Berekening!$G$27,TRUE)","v":1},747,{"$f":"POISSON(D751,Berekening!$G$50,TRUE)","v":1},747,{"$f":"POISSON(F751,Berekening!$G$52,TRUE)","v":1},747]
[{"$f":"POISSON(B752,Berekening!$G$27,TRUE)","v":1},748,{"$f":"POISSON(D752,Berekening!$G$50,TRUE)","v":1},748,{"$f":"POISSON(F752,Berekening!$G$52,TRUE)","v":1},748]
[{"$f":"POISSON(B753,Berekening!$G$27,TRUE)","v":1},749,{"$f":"POISSON(D753,Berekening!$G$50,TRUE)","v":1},749,{"$f":"POISSON(F753,Berekening!$G$52,TRUE)","v":1},749]
[{"$f":"POISSON(B754,Berekening!$G$27,TRUE)","v":1},750,{"$f":"POISSON(D754,Berekening!$G$50,TRUE)","v":1},750,{"$f":"POISSON(F754,Berekening!$G$52,TRUE)","v":1},750]
[{"$f":"POISSON(B755,Berekening!$G$27,TRUE)","v":1},751,{"$f":"POISSON(D755,Berekening!$G$50,TRUE)","v":1},751,{"$f":"POISSON(F755,Berekening!$G$52,TRUE)","v":1},751]
[{"$f":"POISSON(B756,Berekening!$G$27,TRUE)","v":1},752,{"$f":"POISSON(D756,Berekening!$G$50,TRUE)","v":1},752,{"$f":"POISSON(F756,Berekening!$G$52,TRUE)","v":1},752]
[{"$f":"POISSON(B757,Berekening!$G$27,TRUE)","v":1},753,{"$f":"POISSON(D757,Berekening!$G$50,TRUE)","v":1},753,{"$f":"POISSON(F757,Berekening!$G$52,TRUE)","v":1},753]
[{"$f":"POISSON(B758,Berekening!$G$27,TRUE)","v":1},754,{"$f":"POISSON(D758,Berekening!$G$50,TRUE)","v":1},754,{"$f":"POISSON(F758,Berekening!$G$52,TRUE)","v":1},754]
[{"$f":"POISSON(B759,Berekening!$G$27,TRUE)","v":1},755,{"$f":"POISSON(D759,Berekening!$G$50,TRUE)","v":1},755,{"$f":"POISSON(F759,Berekening!$G$52,TRUE)","v":1},755]
[{"$f":"POISSON(B760,Berekening!$G$27,TRUE)","v":1},756,{"$f":"POISSON(D760,Berekening!$G$50,TRUE)","v":1},756,{"$f":"POISSON(F760,Berekening!$G$52,TRUE)","v":1},756]
[{"$f":"POISSON(B761,Berekening!$G$27,TRUE)","v":1},757,{"$f":"POISSON(D761,Berekening!$G$50,TRUE)","v":1},757,{"$f":"POISSON(F761,Berekening!$G$52,TRUE)","v":1},757]
[{"$f":"POISSON(B762,Berekening!$G$27,TRUE)","v":1},758,{"$f":"POISSON(D762,Berekening!$G$50,TRUE)","v":1},758,{"$f":"POISSON(F762,Berekening!$G$52,TRUE)","v":1},758]
[{"$f":"POISSON(B763,Berekening!$G$27,TRUE)","v":1},759,{"$f":"POISSON(D763,Berekening!$G$50,TRUE)","v":1},759,{"$f":"POISSON(F763,Berekening!$G$52,TRUE)","v":1},759]
[{"$f":"POISSON(B764,Berekening!$G$27,TRUE)","v":1},760,{"$f":"POISSON(D764,Berekening!$G$50,TRUE)","v":1},760,{"$f":"POISSON(F764,Berekening!$G$52,TRUE)","v":1},760]
[{"$f":"POISSON(B765,Berekening!$G$27,TRUE)","v":1},761,{"$f":"POISSON(D765,Berekening!$G$50,TRUE)","v":1},761,{"$f":"POISSON(F765,Berekening!$G$52,TRUE)","v":1},761]
[{"$f":"POISSON(B766,Berekening!$G$27,TRUE)","v":1},762,{"$f":"POISSON(D766,Berekening!$G$50,TRUE)","v":1},762,{"$f":"POISSON(F766,Berekening!$G$52,TRUE)","v":1},762]
[{"$f":"POISSON(B767,Berekening!$G$27,TRUE)","v":1},763,{"$f":"POISSON(D767,Berekening!$G$50,TRUE)","v":1},763,{"$f":"POISSON(F767,Berekening!$G$52,TRUE)","v":1},763]
[{"$f":"POISSON(B768,Berekening!$G$27,TRUE)","v":1},764,{"$f":"POISSON(D768,Berekening!$G$50,TRUE)","v":1},764,{"$f":"POISSON(F768,Berekening!$G$52,TRUE)","v":1},764]
[{"$f":"POISSON(B769,Berekening!$G$27,TRUE)","v":1},765,{"$f":"POISSON(D769,Berekening!$G$50,TRUE)","v":1},765,{"$f":"POISSON(F769,Berekening!$G$52,TRUE)","v":1},765]
[{"$f":"POISSON(B770,Berekening!$G$27,TRUE)","v":1},766,{"$f":"POISSON(D770,Berekening!$G$50,TRUE)","v":1},766,{"$f":"POISSON(F770,Berekening!$G$52,TRUE)","v":1},766]
[{"$f":"POISSON(B771,Berekening!$G$27,TRUE)","v":1},767,{"$f":"POISSON(D771,Berekening!$G$50,TRUE)","v":1},767,{"$f":"POISSON(F771,Berekening!$G$52,TRUE)","v":1},767]
[{"$f":"POISSON(B772,Berekening!$G$27,TRUE)","v":1},768,{"$f":"POISSON(D772,Berekening!$G$50,TRUE)","v":1},768,{"$f":"POISSON(F772,Berekening!$G$52,TRUE)","v":1},768]
[{"$f":"POISSON(B773,Berekening!$G$27,TRUE)","v":1},769,{"$f":"POISSON(D773,Berekening!$G$50,TRUE)","v":1},769,{"$f":"POISSON(F773,Berekening!$G$52,TRUE)","v":1},769]
[{"$f":"POISSON(B774,Berekening!$G$27,TRUE)","v":1},770,{"$f":"POISSON(D774,Berekening!$G$50,TRUE)","v":1},770,{"$f":"POISSON(F774,Berekening!$G$52,TRUE)","v":1},770]
[{"$f":"POISSON(B775,Berekening!$G$27,TRUE)","v":1},771,{"$f":"POISSON(D775,Berekening!$G$50,TRUE)","v":1},771,{"$f":"POISSON(F775,Berekening!$G$52,TRUE)","v":1},771]
[{"$f":"POISSON(B776,Berekening!$G$27,TRUE)","v":1},772,{"$f":"POISSON(D776,Berekening!$G$50,TRUE)","v":1},772,{"$f":"POISSON(F776,Berekening!$G$52,TRUE)","v":1},772]
[{"$f":"POISSON(B777,Berekening!$G$27,TRUE)","v":1},773,{"$f":"POISSON(D777,Berekening!$G$50,TRUE)","v":1},773,{"$f":"POISSON(F777,Berekening!$G$52,TRUE)","v":1},773]
[{"$f":"POISSON(B778,Berekening!$G$27,TRUE)","v":1},774,{"$f":"POISSON(D778,Berekening!$G$50,TRUE)","v":1},774,{"$f":"POISSON(F778,Berekening!$G$52,TRUE)","v":1},774]
[{"$f":"POISSON(B779,Berekening!$G$27,TRUE)","v":1},775,{"$f":"POISSON(D779,Berekening!$G$50,TRUE)","v":1},775,{"$f":"POISSON(F779,Berekening!$G$52,TRUE)","v":1},775]
[{"$f":"POISSON(B780,Berekening!$G$27,TRUE)","v":1},776,{"$f":"POISSON(D780,Berekening!$G$50,TRUE)","v":1},776,{"$f":"POISSON(F780,Berekening!$G$52,TRUE)","v":1},776]
[{"$f":"POISSON(B781,Berekening!$G$27,TRUE)","v":1},777,{"$f":"POISSON(D781,Berekening!$G$50,TRUE)","v":1},777,{"$f":"POISSON(F781,Berekening!$G$52,TRUE)","v":1},777]
[{"$f":"POISSON(B782,Berekening!$G$27,TRUE)","v":1},778,{"$f":"POISSON(D782,Berekening!$G$50,TRUE)","v":1},778,{"$f":"POISSON(F782,Berekening!$G$52,TRUE)","v":1},778]
[{"$f":"POISSON(B783,Berekening!$G$27,TRUE)","v":1},779,{"$f":"POISSON(D783,Berekening!$G$50,TRUE)","v":1},779,{"$f":"POISSON(F783,Berekening!$G$52,TRUE)","v":1},779]
[{"$f":"POISSON(B784,Berekening!$G$27,TRUE)","v":1},780,{"$f":"POISSON(D784,Berekening!$G$50,TRUE)","v":1},780,{"$f":"POISSON(F784,Berekening!$G$52,TRUE)","v":1},780]
[{"$f":"POISSON(B785,Berekening!$G$27,TRUE)","v":1},781,{"$f":"POISSON(D785,Berekening!$G$50,TRUE)","v":1},781,{"$f":"POISSON(F785,Berekening!$G$52,TRUE)","v":1},781]
[{"$f":"POISSON(B786,Berekening!$G$27,TRUE)","v":1},782,{"$f":"POISSON(D786,Berekening!$G$50,TRUE)","v":1},782,{"$f":"POISSON(F786,Berekening!$G$52,TRUE)","v":1},782]
[{"$f":"POISSON(B787,Berekening!$G$27,TRUE)","v":1},783,{"$f":"POISSON(D787,Berekening!$G$50,TRUE)","v":1},783,{"$f":"POISSON(F787,Berekening!$G$52,TRUE)","v":1},783]
[{"$f":"POISSON(B788,Berekening!$G$27,TRUE)","v":1},784,{"$f":"POISSON(D788,Berekening!$G$50,TRUE)","v":1},784,{"$f":"POISSON(F788,Berekening!$G$52,TRUE)","v":1},784]
[{"$f":"POISSON(B789,Berekening!$G$27,TRUE)","v":1},785,{"$f":"POISSON(D789,Berekening!$G$50,TRUE)","v":1},785,{"$f":"POISSON(F789,Berekening!$G$52,TRUE)","v":1},785]
[{"$f":"POISSON(B790,Berekening!$G$27,TRUE)","v":1},786,{"$f":"POISSON(D790,Berekening!$G$50,TRUE)","v":1},786,{"$f":"POISSON(F790,Berekening!$G$52,TRUE)","v":1},786]
[{"$f":"POISSON(B791,Berekening!$G$27,TRUE)","v":1},787,{"$f":"POISSON(D791,Berekening!$G$50,TRUE)","v":1},787,{"$f":"POISSON(F791,Berekening!$G$52,TRUE)","v":1},787]
[{"$f":"POISSON(B792,Berekening!$G$27,TRUE)","v":1},788,{"$f":"POISSON(D792,Berekening!$G$50,TRUE)","v":1},788,{"$f":"POISSON(F792,Berekening!$G$52,TRUE)","v":1},788]
[{"$f":"POISSON(B793,Berekening!$G$27,TRUE)","v":1},789,{"$f":"POISSON(D793,Berekening!$G$50,TRUE)","v":1},789,{"$f":"POISSON(F793,Berekening!$G$52,TRUE)","v":1},789]
[{"$f":"POISSON(B794,Berekening!$G$27,TRUE)","v":1},790,{"$f":"POISSON(D794,Berekening!$G$50,TRUE)","v":1},790,{"$f":"POISSON(F794,Berekening!$G$52,TRUE)","v":1},790]
[{"$f":"POISSON(B795,Berekening!$G$27,TRUE)","v":1},791,{"$f":"POISSON(D795,Berekening!$G$50,TRUE)","v":1},791,{"$f":"POISSON(F795,Berekening!$G$52,TRUE)","v":1},791]
[{"$f":"POISSON(B796,Berekening!$G$27,TRUE)","v":1},792,{"$f":"POISSON(D796,Berekening!$G$50,TRUE)","v":1},792,{"$f":"POISSON(F796,Berekening!$G$52,TRUE)","v":1},792]
[{"$f":"POISSON(B797,Berekening!$G$27,TRUE)","v":1},793,{"$f":"POISSON(D797,Berekening!$G$50,TRUE)","v":1},793,{"$f":"POISSON(F797,Berekening!$G$52,TRUE)","v":1},793]
[{"$f":"POISSON(B798,Berekening!$G$27,TRUE)","v":1},794,{"$f":"POISSON(D798,Berekening!$G$50,TRUE)","v":1},794,{"$f":"POISSON(F798,Berekening!$G$52,TRUE)","v":1},794]
[{"$f":"POISSON(B799,Berekening!$G$27,TRUE)","v":1},795,{"$f":"POISSON(D799,Berekening!$G$50,TRUE)","v":1},795,{"$f":"POISSON(F799,Berekening!$G$52,TRUE)","v":1},795]
[{"$f":"POISSON(B800,Berekening!$G$27,TRUE)","v":1},796,{"$f":"POISSON(D800,Berekening!$G$50,TRUE)","v":1},796,{"$f":"POISSON(F800,Berekening!$G$52,TRUE)","v":1},796]
[{"$f":"POISSON(B801,Berekening!$G$27,TRUE)","v":1},797,{"$f":"POISSON(D801,Berekening!$G$50,TRUE)","v":1},797,{"$f":"POISSON(F801,Berekening!$G$52,TRUE)","v":1},797]
[{"$f":"POISSON(B802,Berekening!$G$27,TRUE)","v":1},798,{"$f":"POISSON(D802,Berekening!$G$50,TRUE)","v":1},798,{"$f":"POISSON(F802,Berekening!$G$52,TRUE)","v":1},798]
[{"$f":"POISSON(B803,Berekening!$G$27,TRUE)","v":1},799,{"$f":"POISSON(D803,Berekening!$G$50,TRUE)","v":1},799,{"$f":"POISSON(F803,Berekening!$G$52,TRUE)","v":1},799]
[{"$f":"POISSON(B804,Berekening!$G$27,TRUE)","v":1},800,{"$f":"POISSON(D804,Berekening!$G$50,TRUE)","v":1},800,{"$f":"POISSON(F804,Berekening!$G$52,TRUE)","v":1},800]
[{"$f":"POISSON(B805,Berekening!$G$27,TRUE)","v":1},801,{"$f":"POISSON(D805,Berekening!$G$50,TRUE)","v":1},801,{"$f":"POISSON(F805,Berekening!$G$52,TRUE)","v":1},801]
[{"$f":"POISSON(B806,Berekening!$G$27,TRUE)","v":1},802,{"$f":"POISSON(D806,Berekening!$G$50,TRUE)","v":1},802,{"$f":"POISSON(F806,Berekening!$G$52,TRUE)","v":1},802]
[{"$f":"POISSON(B807,Berekening!$G$27,TRUE)","v":1},803,{"$f":"POISSON(D807,Berekening!$G$50,TRUE)","v":1},803,{"$f":"POISSON(F807,Berekening!$G$52,TRUE)","v":1},803]
[{"$f":"POISSON(B808,Berekening!$G$27,TRUE)","v":1},804,{"$f":"POISSON(D808,Berekening!$G$50,TRUE)","v":1},804,{"$f":"POISSON(F808,Berekening!$G$52,TRUE)","v":1},804]
[{"$f":"POISSON(B809,Berekening!$G$27,TRUE)","v":1},805,{"$f":"POISSON(D809,Berekening!$G$50,TRUE)","v":1},805,{"$f":"POISSON(F809,Berekening!$G$52,TRUE)","v":1},805]
[{"$f":"POISSON(B810,Berekening!$G$27,TRUE)","v":1},806,{"$f":"POISSON(D810,Berekening!$G$50,TRUE)","v":1},806,{"$f":"POISSON(F810,Berekening!$G$52,TRUE)","v":1},806]
[{"$f":"POISSON(B811,Berekening!$G$27,TRUE)","v":1},807,{"$f":"POISSON(D811,Berekening!$G$50,TRUE)","v":1},807,{"$f":"POISSON(F811,Berekening!$G$52,TRUE)","v":1},807]
[{"$f":"POISSON(B812,Berekening!$G$27,TRUE)","v":1},808,{"$f":"POISSON(D812,Berekening!$G$50,TRUE)","v":1},808,{"$f":"POISSON(F812,Berekening!$G$52,TRUE)","v":1},808]
[{"$f":"POISSON(B813,Berekening!$G$27,TRUE)","v":1},809,{"$f":"POISSON(D813,Berekening!$G$50,TRUE)","v":1},809,{"$f":"POISSON(F813,Berekening!$G$52,TRUE)","v":1},809]
[{"$f":"POISSON(B814,Berekening!$G$27,TRUE)","v":1},810,{"$f":"POISSON(D814,Berekening!$G$50,TRUE)","v":1},810,{"$f":"POISSON(F814,Berekening!$G$52,TRUE)","v":1},810]
[{"$f":"POISSON(B815,Berekening!$G$27,TRUE)","v":1},811,{"$f":"POISSON(D815,Berekening!$G$50,TRUE)","v":1},811,{"$f":"POISSON(F815,Berekening!$G$52,TRUE)","v":1},811]
[{"$f":"POISSON(B816,Berekening!$G$27,TRUE)","v":1},812,{"$f":"POISSON(D816,Berekening!$G$50,TRUE)","v":1},812,{"$f":"POISSON(F816,Berekening!$G$52,TRUE)","v":1},812]
[{"$f":"POISSON(B817,Berekening!$G$27,TRUE)","v":1},813,{"$f":"POISSON(D817,Berekening!$G$50,TRUE)","v":1},813,{"$f":"POISSON(F817,Berekening!$G$52,TRUE)","v":1},813]
[{"$f":"POISSON(B818,Berekening!$G$27,TRUE)","v":1},814,{"$f":"POISSON(D818,Berekening!$G$50,TRUE)","v":1},814,{"$f":"POISSON(F818,Berekening!$G$52,TRUE)","v":1},814]
[{"$f":"POISSON(B819,Berekening!$G$27,TRUE)","v":1},815,{"$f":"POISSON(D819,Berekening!$G$50,TRUE)","v":1},815,{"$f":"POISSON(F819,Berekening!$G$52,TRUE)","v":1},815]
[{"$f":"POISSON(B820,Berekening!$G$27,TRUE)","v":1},816,{"$f":"POISSON(D820,Berekening!$G$50,TRUE)","v":1},816,{"$f":"POISSON(F820,Berekening!$G$52,TRUE)","v":1},816]
[{"$f":"POISSON(B821,Berekening!$G$27,TRUE)","v":1},817,{"$f":"POISSON(D821,Berekening!$G$50,TRUE)","v":1},817,{"$f":"POISSON(F821,Berekening!$G$52,TRUE)","v":1},817]
[{"$f":"POISSON(B822,Berekening!$G$27,TRUE)","v":1},818,{"$f":"POISSON(D822,Berekening!$G$50,TRUE)","v":1},818,{"$f":"POISSON(F822,Berekening!$G$52,TRUE)","v":1},818]
[{"$f":"POISSON(B823,Berekening!$G$27,TRUE)","v":1},819,{"$f":"POISSON(D823,Berekening!$G$50,TRUE)","v":1},819,{"$f":"POISSON(F823,Berekening!$G$52,TRUE)","v":1},819]
[{"$f":"POISSON(B824,Berekening!$G$27,TRUE)","v":1},820,{"$f":"POISSON(D824,Berekening!$G$50,TRUE)","v":1},820,{"$f":"POISSON(F824,Berekening!$G$52,TRUE)","v":1},820]
[{"$f":"POISSON(B825,Berekening!$G$27,TRUE)","v":1},821,{"$f":"POISSON(D825,Berekening!$G$50,TRUE)","v":1},821,{"$f":"POISSON(F825,Berekening!$G$52,TRUE)","v":1},821]
[{"$f":"POISSON(B826,Berekening!$G$27,TRUE)","v":1},822,{"$f":"POISSON(D826,Berekening!$G$50,TRUE)","v":1},822,{"$f":"POISSON(F826,Berekening!$G$52,TRUE)","v":1},822]
[{"$f":"POISSON(B827,Berekening!$G$27,TRUE)","v":1},823,{"$f":"POISSON(D827,Berekening!$G$50,TRUE)","v":1},823,{"$f":"POISSON(F827,Berekening!$G$52,TRUE)","v":1},823]
[{"$f":"POISSON(B828,Berekening!$G$27,TRUE)","v":1},824,{"$f":"POISSON(D828,Berekening!$G$50,TRUE)","v":1},824,{"$f":"POISSON(F828,Berekening!$G$52,TRUE)","v":1},824]
[{"$f":"POISSON(B829,Berekening!$G$27,TRUE)","v":1},825,{"$f":"POISSON(D829,Berekening!$G$50,TRUE)","v":1},825,{"$f":"POISSON(F829,Berekening!$G$52,TRUE)","v":1},825]
[{"$f":"POISSON(B830,Berekening!$G$27,TRUE)","v":1},826,{"$f":"POISSON(D830,Berekening!$G$50,TRUE)","v":1},826,{"$f":"POISSON(F830,Berekening!$G$52,TRUE)","v":1},826]
[{"$f":"POISSON(B831,Berekening!$G$27,TRUE)","v":1},827,{"$f":"POISSON(D831,Berekening!$G$50,TRUE)","v":1},827,{"$f":"POISSON(F831,Berekening!$G$52,TRUE)","v":1},827]
[{"$f":"POISSON(B832,Berekening!$G$27,TRUE)","v":1},828,{"$f":"POISSON(D832,Berekening!$G$50,TRUE)","v":1},828,{"$f":"POISSON(F832,Berekening!$G$52,TRUE)","v":1},828]
[{"$f":"POISSON(B833,Berekening!$G$27,TRUE)","v":1},829,{"$f":"POISSON(D833,Berekening!$G$50,TRUE)","v":1},829,{"$f":"POISSON(F833,Berekening!$G$52,TRUE)","v":1},829]
[{"$f":"POISSON(B834,Berekening!$G$27,TRUE)","v":1},830,{"$f":"POISSON(D834,Berekening!$G$50,TRUE)","v":1},830,{"$f":"POISSON(F834,Berekening!$G$52,TRUE)","v":1},830]
[{"$f":"POISSON(B835,Berekening!$G$27,TRUE)","v":1},831,{"$f":"POISSON(D835,Berekening!$G$50,TRUE)","v":1},831,{"$f":"POISSON(F835,Berekening!$G$52,TRUE)","v":1},831]
[{"$f":"POISSON(B836,Berekening!$G$27,TRUE)","v":1},832,{"$f":"POISSON(D836,Berekening!$G$50,TRUE)","v":1},832,{"$f":"POISSON(F836,Berekening!$G$52,TRUE)","v":1},832]
[{"$f":"POISSON(B837,Berekening!$G$27,TRUE)","v":1},833,{"$f":"POISSON(D837,Berekening!$G$50,TRUE)","v":1},833,{"$f":"POISSON(F837,Berekening!$G$52,TRUE)","v":1},833]
[{"$f":"POISSON(B838,Berekening!$G$27,TRUE)","v":1},834,{"$f":"POISSON(D838,Berekening!$G$50,TRUE)","v":1},834,{"$f":"POISSON(F838,Berekening!$G$52,TRUE)","v":1},834]
[{"$f":"POISSON(B839,Berekening!$G$27,TRUE)","v":1},835,{"$f":"POISSON(D839,Berekening!$G$50,TRUE)","v":1},835,{"$f":"POISSON(F839,Berekening!$G$52,TRUE)","v":1},835]
[{"$f":"POISSON(B840,Berekening!$G$27,TRUE)","v":1},836,{"$f":"POISSON(D840,Berekening!$G$50,TRUE)","v":1},836,{"$f":"POISSON(F840,Berekening!$G$52,TRUE)","v":1},836]
[{"$f":"POISSON(B841,Berekening!$G$27,TRUE)","v":1},837,{"$f":"POISSON(D841,Berekening!$G$50,TRUE)","v":1},837,{"$f":"POISSON(F841,Berekening!$G$52,TRUE)","v":1},837]
[{"$f":"POISSON(B842,Berekening!$G$27,TRUE)","v":1},838,{"$f":"POISSON(D842,Berekening!$G$50,TRUE)","v":1},838,{"$f":"POISSON(F842,Berekening!$G$52,TRUE)","v":1},838]
[{"$f":"POISSON(B843,Berekening!$G$27,TRUE)","v":1},839,{"$f":"POISSON(D843,Berekening!$G$50,TRUE)","v":1},839,{"$f":"POISSON(F843,Berekening!$G$52,TRUE)","v":1},839]
[{"$f":"POISSON(B844,Berekening!$G$27,TRUE)","v":1},840,{"$f":"POISSON(D844,Berekening!$G$50,TRUE)","v":1},840,{"$f":"POISSON(F844,Berekening!$G$52,TRUE)","v":1},840]
[{"$f":"POISSON(B845,Berekening!$G$27,TRUE)","v":1},841,{"$f":"POISSON(D845,Berekening!$G$50,TRUE)","v":1},841,{"$f":"POISSON(F845,Berekening!$G$52,TRUE)","v":1},841]
[{"$f":"POISSON(B846,Berekening!$G$27,TRUE)","v":1},842,{"$f":"POISSON(D846,Berekening!$G$50,TRUE)","v":1},842,{"$f":"POISSON(F846,Berekening!$G$52,TRUE)","v":1},842]
[{"$f":"POISSON(B847,Berekening!$G$27,TRUE)","v":1},843,{"$f":"POISSON(D847,Berekening!$G$50,TRUE)","v":1},843,{"$f":"POISSON(F847,Berekening!$G$52,TRUE)","v":1},843]
[{"$f":"POISSON(B848,Berekening!$G$27,TRUE)","v":1},844,{"$f":"POISSON(D848,Berekening!$G$50,TRUE)","v":1},844,{"$f":"POISSON(F848,Berekening!$G$52,TRUE)","v":1},844]
[{"$f":"POISSON(B849,Berekening!$G$27,TRUE)","v":1},845,{"$f":"POISSON(D849,Berekening!$G$50,TRUE)","v":1},845,{"$f":"POISSON(F849,Berekening!$G$52,TRUE)","v":1},845]
[{"$f":"POISSON(B850,Berekening!$G$27,TRUE)","v":1},846,{"$f":"POISSON(D850,Berekening!$G$50,TRUE)","v":1},846,{"$f":"POISSON(F850,Berekening!$G$52,TRUE)","v":1},846]
[{"$f":"POISSON(B851,Berekening!$G$27,TRUE)","v":1},847,{"$f":"POISSON(D851,Berekening!$G$50,TRUE)","v":1},847,{"$f":"POISSON(F851,Berekening!$G$52,TRUE)","v":1},847]
[{"$f":"POISSON(B852,Berekening!$G$27,TRUE)","v":1},848,{"$f":"POISSON(D852,Berekening!$G$50,TRUE)","v":1},848,{"$f":"POISSON(F852,Berekening!$G$52,TRUE)","v":1},848]
[{"$f":"POISSON(B853,Berekening!$G$27,TRUE)","v":1},849,{"$f":"POISSON(D853,Berekening!$G$50,TRUE)","v":1},849,{"$f":"POISSON(F853,Berekening!$G$52,TRUE)","v":1},849]
[{"$f":"POISSON(B854,Berekening!$G$27,TRUE)","v":1},850,{"$f":"POISSON(D854,Berekening!$G$50,TRUE)","v":1},850,{"$f":"POISSON(F854,Berekening!$G$52,TRUE)","v":1},850]
[{"$f":"POISSON(B855,Berekening!$G$27,TRUE)","v":1},851,{"$f":"POISSON(D855,Berekening!$G$50,TRUE)","v":1},851,{"$f":"POISSON(F855,Berekening!$G$52,TRUE)","v":1},851]
[{"$f":"POISSON(B856,Berekening!$G$27,TRUE)","v":1},852,{"$f":"POISSON(D856,Berekening!$G$50,TRUE)","v":1},852,{"$f":"POISSON(F856,Berekening!$G$52,TRUE)","v":1},852]
[{"$f":"POISSON(B857,Berekening!$G$27,TRUE)","v":1},853,{"$f":"POISSON(D857,Berekening!$G$50,TRUE)","v":1},853,{"$f":"POISSON(F857,Berekening!$G$52,TRUE)","v":1},853]
[{"$f":"POISSON(B858,Berekening!$G$27,TRUE)","v":1},854,{"$f":"POISSON(D858,Berekening!$G$50,TRUE)","v":1},854,{"$f":"POISSON(F858,Berekening!$G$52,TRUE)","v":1},854]
[{"$f":"POISSON(B859,Berekening!$G$27,TRUE)","v":1},855,{"$f":"POISSON(D859,Berekening!$G$50,TRUE)","v":1},855,{"$f":"POISSON(F859,Berekening!$G$52,TRUE)","v":1},855]
[{"$f":"POISSON(B860,Berekening!$G$27,TRUE)","v":1},856,{"$f":"POISSON(D860,Berekening!$G$50,TRUE)","v":1},856,{"$f":"POISSON(F860,Berekening!$G$52,TRUE)","v":1},856]
[{"$f":"POISSON(B861,Berekening!$G$27,TRUE)","v":1},857,{"$f":"POISSON(D861,Berekening!$G$50,TRUE)","v":1},857,{"$f":"POISSON(F861,Berekening!$G$52,TRUE)","v":1},857]
[{"$f":"POISSON(B862,Berekening!$G$27,TRUE)","v":1},858,{"$f":"POISSON(D862,Berekening!$G$50,TRUE)","v":1},858,{"$f":"POISSON(F862,Berekening!$G$52,TRUE)","v":1},858]
[{"$f":"POISSON(B863,Berekening!$G$27,TRUE)","v":1},859,{"$f":"POISSON(D863,Berekening!$G$50,TRUE)","v":1},859,{"$f":"POISSON(F863,Berekening!$G$52,TRUE)","v":1},859]
[{"$f":"POISSON(B864,Berekening!$G$27,TRUE)","v":1},860,{"$f":"POISSON(D864,Berekening!$G$50,TRUE)","v":1},860,{"$f":"POISSON(F864,Berekening!$G$52,TRUE)","v":1},860]
[{"$f":"POISSON(B865,Berekening!$G$27,TRUE)","v":1},861,{"$f":"POISSON(D865,Berekening!$G$50,TRUE)","v":1},861,{"$f":"POISSON(F865,Berekening!$G$52,TRUE)","v":1},861]
[{"$f":"POISSON(B866,Berekening!$G$27,TRUE)","v":1},862,{"$f":"POISSON(D866,Berekening!$G$50,TRUE)","v":1},862,{"$f":"POISSON(F866,Berekening!$G$52,TRUE)","v":1},862]
[{"$f":"POISSON(B867,Berekening!$G$27,TRUE)","v":1},863,{"$f":"POISSON(D867,Berekening!$G$50,TRUE)","v":1},863,{"$f":"POISSON(F867,Berekening!$G$52,TRUE)","v":1},863]
[{"$f":"POISSON(B868,Berekening!$G$27,TRUE)","v":1},864,{"$f":"POISSON(D868,Berekening!$G$50,TRUE)","v":1},864,{"$f":"POISSON(F868,Berekening!$G$52,TRUE)","v":1},864]
[{"$f":"POISSON(B869,Berekening!$G$27,TRUE)","v":1},865,{"$f":"POISSON(D869,Berekening!$G$50,TRUE)","v":1},865,{"$f":"POISSON(F869,Berekening!$G$52,TRUE)","v":1},865]
[{"$f":"POISSON(B870,Berekening!$G$27,TRUE)","v":1},866,{"$f":"POISSON(D870,Berekening!$G$50,TRUE)","v":1},866,{"$f":"POISSON(F870,Berekening!$G$52,TRUE)","v":1},866]
[{"$f":"POISSON(B871,Berekening!$G$27,TRUE)","v":1},867,{"$f":"POISSON(D871,Berekening!$G$50,TRUE)","v":1},867,{"$f":"POISSON(F871,Berekening!$G$52,TRUE)","v":1},867]
[{"$f":"POISSON(B872,Berekening!$G$27,TRUE)","v":1},868,{"$f":"POISSON(D872,Berekening!$G$50,TRUE)","v":1},868,{"$f":"POISSON(F872,Berekening!$G$52,TRUE)","v":1},868]
[{"$f":"POISSON(B873,Berekening!$G$27,TRUE)","v":1},869,{"$f":"POISSON(D873,Berekening!$G$50,TRUE)","v":1},869,{"$f":"POISSON(F873,Berekening!$G$52,TRUE)","v":1},869]
[{"$f":"POISSON(B874,Berekening!$G$27,TRUE)","v":1},870,{"$f":"POISSON(D874,Berekening!$G$50,TRUE)","v":1},870,{"$f":"POISSON(F874,Berekening!$G$52,TRUE)","v":1},870]
[{"$f":"POISSON(B875,Berekening!$G$27,TRUE)","v":1},871,{"$f":"POISSON(D875,Berekening!$G$50,TRUE)","v":1},871,{"$f":"POISSON(F875,Berekening!$G$52,TRUE)","v":1},871]
[{"$f":"POISSON(B876,Berekening!$G$27,TRUE)","v":1},872,{"$f":"POISSON(D876,Berekening!$G$50,TRUE)","v":1},872,{"$f":"POISSON(F876,Berekening!$G$52,TRUE)","v":1},872]
[{"$f":"POISSON(B877,Berekening!$G$27,TRUE)","v":1},873,{"$f":"POISSON(D877,Berekening!$G$50,TRUE)","v":1},873,{"$f":"POISSON(F877,Berekening!$G$52,TRUE)","v":1},873]
[{"$f":"POISSON(B878,Berekening!$G$27,TRUE)","v":1},874,{"$f":"POISSON(D878,Berekening!$G$50,TRUE)","v":1},874,{"$f":"POISSON(F878,Berekening!$G$52,TRUE)","v":1},874]
[{"$f":"POISSON(B879,Berekening!$G$27,TRUE)","v":1},875,{"$f":"POISSON(D879,Berekening!$G$50,TRUE)","v":1},875,{"$f":"POISSON(F879,Berekening!$G$52,TRUE)","v":1},875]
[{"$f":"POISSON(B880,Berekening!$G$27,TRUE)","v":1},876,{"$f":"POISSON(D880,Berekening!$G$50,TRUE)","v":1},876,{"$f":"POISSON(F880,Berekening!$G$52,TRUE)","v":1},876]
[{"$f":"POISSON(B881,Berekening!$G$27,TRUE)","v":1},877,{"$f":"POISSON(D881,Berekening!$G$50,TRUE)","v":1},877,{"$f":"POISSON(F881,Berekening!$G$52,TRUE)","v":1},877]
[{"$f":"POISSON(B882,Berekening!$G$27,TRUE)","v":1},878,{"$f":"POISSON(D882,Berekening!$G$50,TRUE)","v":1},878,{"$f":"POISSON(F882,Berekening!$G$52,TRUE)","v":1},878]
[{"$f":"POISSON(B883,Berekening!$G$27,TRUE)","v":1},879,{"$f":"POISSON(D883,Berekening!$G$50,TRUE)","v":1},879,{"$f":"POISSON(F883,Berekening!$G$52,TRUE)","v":1},879]
[{"$f":"POISSON(B884,Berekening!$G$27,TRUE)","v":1},880,{"$f":"POISSON(D884,Berekening!$G$50,TRUE)","v":1},880,{"$f":"POISSON(F884,Berekening!$G$52,TRUE)","v":1},880]
[{"$f":"POISSON(B885,Berekening!$G$27,TRUE)","v":1},881,{"$f":"POISSON(D885,Berekening!$G$50,TRUE)","v":1},881,{"$f":"POISSON(F885,Berekening!$G$52,TRUE)","v":1},881]
[{"$f":"POISSON(B886,Berekening!$G$27,TRUE)","v":1},882,{"$f":"POISSON(D886,Berekening!$G$50,TRUE)","v":1},882,{"$f":"POISSON(F886,Berekening!$G$52,TRUE)","v":1},882]
[{"$f":"POISSON(B887,Berekening!$G$27,TRUE)","v":1},883,{"$f":"POISSON(D887,Berekening!$G$50,TRUE)","v":1},883,{"$f":"POISSON(F887,Berekening!$G$52,TRUE)","v":1},883]
[{"$f":"POISSON(B888,Berekening!$G$27,TRUE)","v":1},884,{"$f":"POISSON(D888,Berekening!$G$50,TRUE)","v":1},884,{"$f":"POISSON(F888,Berekening!$G$52,TRUE)","v":1},884]
[{"$f":"POISSON(B889,Berekening!$G$27,TRUE)","v":1},885,{"$f":"POISSON(D889,Berekening!$G$50,TRUE)","v":1},885,{"$f":"POISSON(F889,Berekening!$G$52,TRUE)","v":1},885]
[{"$f":"POISSON(B890,Berekening!$G$27,TRUE)","v":1},886,{"$f":"POISSON(D890,Berekening!$G$50,TRUE)","v":1},886,{"$f":"POISSON(F890,Berekening!$G$52,TRUE)","v":1},886]
[{"$f":"POISSON(B891,Berekening!$G$27,TRUE)","v":1},887,{"$f":"POISSON(D891,Berekening!$G$50,TRUE)","v":1},887,{"$f":"POISSON(F891,Berekening!$G$52,TRUE)","v":1},887]
[{"$f":"POISSON(B892,Berekening!$G$27,TRUE)","v":1},888,{"$f":"POISSON(D892,Berekening!$G$50,TRUE)","v":1},888,{"$f":"POISSON(F892,Berekening!$G$52,TRUE)","v":1},888]
[{"$f":"POISSON(B893,Berekening!$G$27,TRUE)","v":1},889,{"$f":"POISSON(D893,Berekening!$G$50,TRUE)","v":1},889,{"$f":"POISSON(F893,Berekening!$G$52,TRUE)","v":1},889]
[{"$f":"POISSON(B894,Berekening!$G$27,TRUE)","v":1},890,{"$f":"POISSON(D894,Berekening!$G$50,TRUE)","v":1},890,{"$f":"POISSON(F894,Berekening!$G$52,TRUE)","v":1},890]
[{"$f":"POISSON(B895,Berekening!$G$27,TRUE)","v":1},891,{"$f":"POISSON(D895,Berekening!$G$50,TRUE)","v":1},891,{"$f":"POISSON(F895,Berekening!$G$52,TRUE)","v":1},891]
[{"$f":"POISSON(B896,Berekening!$G$27,TRUE)","v":1},892,{"$f":"POISSON(D896,Berekening!$G$50,TRUE)","v":1},892,{"$f":"POISSON(F896,Berekening!$G$52,TRUE)","v":1},892]
[{"$f":"POISSON(B897,Berekening!$G$27,TRUE)","v":1},893,{"$f":"POISSON(D897,Berekening!$G$50,TRUE)","v":1},893,{"$f":"POISSON(F897,Berekening!$G$52,TRUE)","v":1},893]
[{"$f":"POISSON(B898,Berekening!$G$27,TRUE)","v":1},894,{"$f":"POISSON(D898,Berekening!$G$50,TRUE)","v":1},894,{"$f":"POISSON(F898,Berekening!$G$52,TRUE)","v":1},894]
[{"$f":"POISSON(B899,Berekening!$G$27,TRUE)","v":1},895,{"$f":"POISSON(D899,Berekening!$G$50,TRUE)","v":1},895,{"$f":"POISSON(F899,Berekening!$G$52,TRUE)","v":1},895]
[{"$f":"POISSON(B900,Berekening!$G$27,TRUE)","v":1},896,{"$f":"POISSON(D900,Berekening!$G$50,TRUE)","v":1},896,{"$f":"POISSON(F900,Berekening!$G$52,TRUE)","v":1},896]
[{"$f":"POISSON(B901,Berekening!$G$27,TRUE)","v":1},897,{"$f":"POISSON(D901,Berekening!$G$50,TRUE)","v":1},897,{"$f":"POISSON(F901,Berekening!$G$52,TRUE)","v":1},897]
[{"$f":"POISSON(B902,Berekening!$G$27,TRUE)","v":1},898,{"$f":"POISSON(D902,Berekening!$G$50,TRUE)","v":1},898,{"$f":"POISSON(F902,Berekening!$G$52,TRUE)","v":1},898]
[{"$f":"POISSON(B903,Berekening!$G$27,TRUE)","v":1},899,{"$f":"POISSON(D903,Berekening!$G$50,TRUE)","v":1},899,{"$f":"POISSON(F903,Berekening!$G$52,TRUE)","v":1},899]
[{"$f":"POISSON(B904,Berekening!$G$27,TRUE)","v":1},900,{"$f":"POISSON(D904,Berekening!$G$50,TRUE)","v":1},900,{"$f":"POISSON(F904,Berekening!$G$52,TRUE)","v":1},900]
[{"$f":"POISSON(B905,Berekening!$G$27,TRUE)","v":1},901,{"$f":"POISSON(D905,Berekening!$G$50,TRUE)","v":1},901,{"$f":"POISSON(F905,Berekening!$G$52,TRUE)","v":1},901]
[{"$f":"POISSON(B906,Berekening!$G$27,TRUE)","v":1},902,{"$f":"POISSON(D906,Berekening!$G$50,TRUE)","v":1},902,{"$f":"POISSON(F906,Berekening!$G$52,TRUE)","v":1},902]
[{"$f":"POISSON(B907,Berekening!$G$27,TRUE)","v":1},903,{"$f":"POISSON(D907,Berekening!$G$50,TRUE)","v":1},903,{"$f":"POISSON(F907,Berekening!$G$52,TRUE)","v":1},903]
[{"$f":"POISSON(B908,Berekening!$G$27,TRUE)","v":1},904,{"$f":"POISSON(D908,Berekening!$G$50,TRUE)","v":1},904,{"$f":"POISSON(F908,Berekening!$G$52,TRUE)","v":1},904]
[{"$f":"POISSON(B909,Berekening!$G$27,TRUE)","v":1},905,{"$f":"POISSON(D909,Berekening!$G$50,TRUE)","v":1},905,{"$f":"POISSON(F909,Berekening!$G$52,TRUE)","v":1},905]
[{"$f":"POISSON(B910,Berekening!$G$27,TRUE)","v":1},906,{"$f":"POISSON(D910,Berekening!$G$50,TRUE)","v":1},906,{"$f":"POISSON(F910,Berekening!$G$52,TRUE)","v":1},906]
[{"$f":"POISSON(B911,Berekening!$G$27,TRUE)","v":1},907,{"$f":"POISSON(D911,Berekening!$G$50,TRUE)","v":1},907,{"$f":"POISSON(F911,Berekening!$G$52,TRUE)","v":1},907]
[{"$f":"POISSON(B912,Berekening!$G$27,TRUE)","v":1},908,{"$f":"POISSON(D912,Berekening!$G$50,TRUE)","v":1},908,{"$f":"POISSON(F912,Berekening!$G$52,TRUE)","v":1},908]
[{"$f":"POISSON(B913,Berekening!$G$27,TRUE)","v":1},909,{"$f":"POISSON(D913,Berekening!$G$50,TRUE)","v":1},909,{"$f":"POISSON(F913,Berekening!$G$52,TRUE)","v":1},909]
[{"$f":"POISSON(B914,Berekening!$G$27,TRUE)","v":1},910,{"$f":"POISSON(D914,Berekening!$G$50,TRUE)","v":1},910,{"$f":"POISSON(F914,Berekening!$G$52,TRUE)","v":1},910]
[{"$f":"POISSON(B915,Berekening!$G$27,TRUE)","v":1},911,{"$f":"POISSON(D915,Berekening!$G$50,TRUE)","v":1},911,{"$f":"POISSON(F915,Berekening!$G$52,TRUE)","v":1},911]
[{"$f":"POISSON(B916,Berekening!$G$27,TRUE)","v":1},912,{"$f":"POISSON(D916,Berekening!$G$50,TRUE)","v":1},912,{"$f":"POISSON(F916,Berekening!$G$52,TRUE)","v":1},912]
[{"$f":"POISSON(B917,Berekening!$G$27,TRUE)","v":1},913,{"$f":"POISSON(D917,Berekening!$G$50,TRUE)","v":1},913,{"$f":"POISSON(F917,Berekening!$G$52,TRUE)","v":1},913]
[{"$f":"POISSON(B918,Berekening!$G$27,TRUE)","v":1},914,{"$f":"POISSON(D918,Berekening!$G$50,TRUE)","v":1},914,{"$f":"POISSON(F918,Berekening!$G$52,TRUE)","v":1},914]
[{"$f":"POISSON(B919,Berekening!$G$27,TRUE)","v":1},915,{"$f":"POISSON(D919,Berekening!$G$50,TRUE)","v":1},915,{"$f":"POISSON(F919,Berekening!$G$52,TRUE)","v":1},915]
[{"$f":"POISSON(B920,Berekening!$G$27,TRUE)","v":1},916,{"$f":"POISSON(D920,Berekening!$G$50,TRUE)","v":1},916,{"$f":"POISSON(F920,Berekening!$G$52,TRUE)","v":1},916]
[{"$f":"POISSON(B921,Berekening!$G$27,TRUE)","v":1},917,{"$f":"POISSON(D921,Berekening!$G$50,TRUE)","v":1},917,{"$f":"POISSON(F921,Berekening!$G$52,TRUE)","v":1},917]
[{"$f":"POISSON(B922,Berekening!$G$27,TRUE)","v":1},918,{"$f":"POISSON(D922,Berekening!$G$50,TRUE)","v":1},918,{"$f":"POISSON(F922,Berekening!$G$52,TRUE)","v":1},918]
[{"$f":"POISSON(B923,Berekening!$G$27,TRUE)","v":1},919,{"$f":"POISSON(D923,Berekening!$G$50,TRUE)","v":1},919,{"$f":"POISSON(F923,Berekening!$G$52,TRUE)","v":1},919]
[{"$f":"POISSON(B924,Berekening!$G$27,TRUE)","v":1},920,{"$f":"POISSON(D924,Berekening!$G$50,TRUE)","v":1},920,{"$f":"POISSON(F924,Berekening!$G$52,TRUE)","v":1},920]
[{"$f":"POISSON(B925,Berekening!$G$27,TRUE)","v":1},921,{"$f":"POISSON(D925,Berekening!$G$50,TRUE)","v":1},921,{"$f":"POISSON(F925,Berekening!$G$52,TRUE)","v":1},921]
[{"$f":"POISSON(B926,Berekening!$G$27,TRUE)","v":1},922,{"$f":"POISSON(D926,Berekening!$G$50,TRUE)","v":1},922,{"$f":"POISSON(F926,Berekening!$G$52,TRUE)","v":1},922]
[{"$f":"POISSON(B927,Berekening!$G$27,TRUE)","v":1},923,{"$f":"POISSON(D927,Berekening!$G$50,TRUE)","v":1},923,{"$f":"POISSON(F927,Berekening!$G$52,TRUE)","v":1},923]
[{"$f":"POISSON(B928,Berekening!$G$27,TRUE)","v":1},924,{"$f":"POISSON(D928,Berekening!$G$50,TRUE)","v":1},924,{"$f":"POISSON(F928,Berekening!$G$52,TRUE)","v":1},924]
[{"$f":"POISSON(B929,Berekening!$G$27,TRUE)","v":1},925,{"$f":"POISSON(D929,Berekening!$G$50,TRUE)","v":1},925,{"$f":"POISSON(F929,Berekening!$G$52,TRUE)","v":1},925]
[{"$f":"POISSON(B930,Berekening!$G$27,TRUE)","v":1},926,{"$f":"POISSON(D930,Berekening!$G$50,TRUE)","v":1},926,{"$f":"POISSON(F930,Berekening!$G$52,TRUE)","v":1},926]
[{"$f":"POISSON(B931,Berekening!$G$27,TRUE)","v":1},927,{"$f":"POISSON(D931,Berekening!$G$50,TRUE)","v":1},927,{"$f":"POISSON(F931,Berekening!$G$52,TRUE)","v":1},927]
[{"$f":"POISSON(B932,Berekening!$G$27,TRUE)","v":1},928,{"$f":"POISSON(D932,Berekening!$G$50,TRUE)","v":1},928,{"$f":"POISSON(F932,Berekening!$G$52,TRUE)","v":1},928]
[{"$f":"POISSON(B933,Berekening!$G$27,TRUE)","v":1},929,{"$f":"POISSON(D933,Berekening!$G$50,TRUE)","v":1},929,{"$f":"POISSON(F933,Berekening!$G$52,TRUE)","v":1},929]
[{"$f":"POISSON(B934,Berekening!$G$27,TRUE)","v":1},930,{"$f":"POISSON(D934,Berekening!$G$50,TRUE)","v":1},930,{"$f":"POISSON(F934,Berekening!$G$52,TRUE)","v":1},930]
[{"$f":"POISSON(B935,Berekening!$G$27,TRUE)","v":1},931,{"$f":"POISSON(D935,Berekening!$G$50,TRUE)","v":1},931,{"$f":"POISSON(F935,Berekening!$G$52,TRUE)","v":1},931]
[{"$f":"POISSON(B936,Berekening!$G$27,TRUE)","v":1},932,{"$f":"POISSON(D936,Berekening!$G$50,TRUE)","v":1},932,{"$f":"POISSON(F936,Berekening!$G$52,TRUE)","v":1},932]
[{"$f":"POISSON(B937,Berekening!$G$27,TRUE)","v":1},933,{"$f":"POISSON(D937,Berekening!$G$50,TRUE)","v":1},933,{"$f":"POISSON(F937,Berekening!$G$52,TRUE)","v":1},933]
[{"$f":"POISSON(B938,Berekening!$G$27,TRUE)","v":1},934,{"$f":"POISSON(D938,Berekening!$G$50,TRUE)","v":1},934,{"$f":"POISSON(F938,Berekening!$G$52,TRUE)","v":1},934]
[{"$f":"POISSON(B939,Berekening!$G$27,TRUE)","v":1},935,{"$f":"POISSON(D939,Berekening!$G$50,TRUE)","v":1},935,{"$f":"POISSON(F939,Berekening!$G$52,TRUE)","v":1},935]
[{"$f":"POISSON(B940,Berekening!$G$27,TRUE)","v":1},936,{"$f":"POISSON(D940,Berekening!$G$50,TRUE)","v":1},936,{"$f":"POISSON(F940,Berekening!$G$52,TRUE)","v":1},936]
[{"$f":"POISSON(B941,Berekening!$G$27,TRUE)","v":1},937,{"$f":"POISSON(D941,Berekening!$G$50,TRUE)","v":1},937,{"$f":"POISSON(F941,Berekening!$G$52,TRUE)","v":1},937]
[{"$f":"POISSON(B942,Berekening!$G$27,TRUE)","v":1},938,{"$f":"POISSON(D942,Berekening!$G$50,TRUE)","v":1},938,{"$f":"POISSON(F942,Berekening!$G$52,TRUE)","v":1},938]
[{"$f":"POISSON(B943,Berekening!$G$27,TRUE)","v":1},939,{"$f":"POISSON(D943,Berekening!$G$50,TRUE)","v":1},939,{"$f":"POISSON(F943,Berekening!$G$52,TRUE)","v":1},939]
[{"$f":"POISSON(B944,Berekening!$G$27,TRUE)","v":1},940,{"$f":"POISSON(D944,Berekening!$G$50,TRUE)","v":1},940,{"$f":"POISSON(F944,Berekening!$G$52,TRUE)","v":1},940]
[{"$f":"POISSON(B945,Berekening!$G$27,TRUE)","v":1},941,{"$f":"POISSON(D945,Berekening!$G$50,TRUE)","v":1},941,{"$f":"POISSON(F945,Berekening!$G$52,TRUE)","v":1},941]
[{"$f":"POISSON(B946,Berekening!$G$27,TRUE)","v":1},942,{"$f":"POISSON(D946,Berekening!$G$50,TRUE)","v":1},942,{"$f":"POISSON(F946,Berekening!$G$52,TRUE)","v":1},942]
[{"$f":"POISSON(B947,Berekening!$G$27,TRUE)","v":1},943,{"$f":"POISSON(D947,Berekening!$G$50,TRUE)","v":1},943,{"$f":"POISSON(F947,Berekening!$G$52,TRUE)","v":1},943]
[{"$f":"POISSON(B948,Berekening!$G$27,TRUE)","v":1},944,{"$f":"POISSON(D948,Berekening!$G$50,TRUE)","v":1},944,{"$f":"POISSON(F948,Berekening!$G$52,TRUE)","v":1},944]
[{"$f":"POISSON(B949,Berekening!$G$27,TRUE)","v":1},945,{"$f":"POISSON(D949,Berekening!$G$50,TRUE)","v":1},945,{"$f":"POISSON(F949,Berekening!$G$52,TRUE)","v":1},945]
[{"$f":"POISSON(B950,Berekening!$G$27,TRUE)","v":1},946,{"$f":"POISSON(D950,Berekening!$G$50,TRUE)","v":1},946,{"$f":"POISSON(F950,Berekening!$G$52,TRUE)","v":1},946]
[{"$f":"POISSON(B951,Berekening!$G$27,TRUE)","v":1},947,{"$f":"POISSON(D951,Berekening!$G$50,TRUE)","v":1},947,{"$f":"POISSON(F951,Berekening!$G$52,TRUE)","v":1},947]
[{"$f":"POISSON(B952,Berekening!$G$27,TRUE)","v":1},948,{"$f":"POISSON(D952,Berekening!$G$50,TRUE)","v":1},948,{"$f":"POISSON(F952,Berekening!$G$52,TRUE)","v":1},948]
[{"$f":"POISSON(B953,Berekening!$G$27,TRUE)","v":1},949,{"$f":"POISSON(D953,Berekening!$G$50,TRUE)","v":1},949,{"$f":"POISSON(F953,Berekening!$G$52,TRUE)","v":1},949]
[{"$f":"POISSON(B954,Berekening!$G$27,TRUE)","v":1},950,{"$f":"POISSON(D954,Berekening!$G$50,TRUE)","v":1},950,{"$f":"POISSON(F954,Berekening!$G$52,TRUE)","v":1},950]
[{"$f":"POISSON(B955,Berekening!$G$27,TRUE)","v":1},951,{"$f":"POISSON(D955,Berekening!$G$50,TRUE)","v":1},951,{"$f":"POISSON(F955,Berekening!$G$52,TRUE)","v":1},951]
[{"$f":"POISSON(B956,Berekening!$G$27,TRUE)","v":1},952,{"$f":"POISSON(D956,Berekening!$G$50,TRUE)","v":1},952,{"$f":"POISSON(F956,Berekening!$G$52,TRUE)","v":1},952]
[{"$f":"POISSON(B957,Berekening!$G$27,TRUE)","v":1},953,{"$f":"POISSON(D957,Berekening!$G$50,TRUE)","v":1},953,{"$f":"POISSON(F957,Berekening!$G$52,TRUE)","v":1},953]
[{"$f":"POISSON(B958,Berekening!$G$27,TRUE)","v":1},954,{"$f":"POISSON(D958,Berekening!$G$50,TRUE)","v":1},954,{"$f":"POISSON(F958,Berekening!$G$52,TRUE)","v":1},954]
[{"$f":"POISSON(B959,Berekening!$G$27,TRUE)","v":1},955,{"$f":"POISSON(D959,Berekening!$G$50,TRUE)","v":1},955,{"$f":"POISSON(F959,Berekening!$G$52,TRUE)","v":1},955]
[{"$f":"POISSON(B960,Berekening!$G$27,TRUE)","v":1},956,{"$f":"POISSON(D960,Berekening!$G$50,TRUE)","v":1},956,{"$f":"POISSON(F960,Berekening!$G$52,TRUE)","v":1},956]
[{"$f":"POISSON(B961,Berekening!$G$27,TRUE)","v":1},957,{"$f":"POISSON(D961,Berekening!$G$50,TRUE)","v":1},957,{"$f":"POISSON(F961,Berekening!$G$52,TRUE)","v":1},957]
[{"$f":"POISSON(B962,Berekening!$G$27,TRUE)","v":1},958,{"$f":"POISSON(D962,Berekening!$G$50,TRUE)","v":1},958,{"$f":"POISSON(F962,Berekening!$G$52,TRUE)","v":1},958]
[{"$f":"POISSON(B963,Berekening!$G$27,TRUE)","v":1},959,{"$f":"POISSON(D963,Berekening!$G$50,TRUE)","v":1},959,{"$f":"POISSON(F963,Berekening!$G$52,TRUE)","v":1},959]
[{"$f":"POISSON(B964,Berekening!$G$27,TRUE)","v":1},960,{"$f":"POISSON(D964,Berekening!$G$50,TRUE)","v":1},960,{"$f":"POISSON(F964,Berekening!$G$52,TRUE)","v":1},960]
[{"$f":"POISSON(B965,Berekening!$G$27,TRUE)","v":1},961,{"$f":"POISSON(D965,Berekening!$G$50,TRUE)","v":1},961,{"$f":"POISSON(F965,Berekening!$G$52,TRUE)","v":1},961]
[{"$f":"POISSON(B966,Berekening!$G$27,TRUE)","v":1},962,{"$f":"POISSON(D966,Berekening!$G$50,TRUE)","v":1},962,{"$f":"POISSON(F966,Berekening!$G$52,TRUE)","v":1},962]
[{"$f":"POISSON(B967,Berekening!$G$27,TRUE)","v":1},963,{"$f":"POISSON(D967,Berekening!$G$50,TRUE)","v":1},963,{"$f":"POISSON(F967,Berekening!$G$52,TRUE)","v":1},963]
[{"$f":"POISSON(B968,Berekening!$G$27,TRUE)","v":1},964,{"$f":"POISSON(D968,Berekening!$G$50,TRUE)","v":1},964,{"$f":"POISSON(F968,Berekening!$G$52,TRUE)","v":1},964]
[{"$f":"POISSON(B969,Berekening!$G$27,TRUE)","v":1},965,{"$f":"POISSON(D969,Berekening!$G$50,TRUE)","v":1},965,{"$f":"POISSON(F969,Berekening!$G$52,TRUE)","v":1},965]
[{"$f":"POISSON(B970,Berekening!$G$27,TRUE)","v":1},966,{"$f":"POISSON(D970,Berekening!$G$50,TRUE)","v":1},966,{"$f":"POISSON(F970,Berekening!$G$52,TRUE)","v":1},966]
[{"$f":"POISSON(B971,Berekening!$G$27,TRUE)","v":1},967,{"$f":"POISSON(D971,Berekening!$G$50,TRUE)","v":1},967,{"$f":"POISSON(F971,Berekening!$G$52,TRUE)","v":1},967]
[{"$f":"POISSON(B972,Berekening!$G$27,TRUE)","v":1},968,{"$f":"POISSON(D972,Berekening!$G$50,TRUE)","v":1},968,{"$f":"POISSON(F972,Berekening!$G$52,TRUE)","v":1},968]
[{"$f":"POISSON(B973,Berekening!$G$27,TRUE)","v":1},969,{"$f":"POISSON(D973,Berekening!$G$50,TRUE)","v":1},969,{"$f":"POISSON(F973,Berekening!$G$52,TRUE)","v":1},969]
[{"$f":"POISSON(B974,Berekening!$G$27,TRUE)","v":1},970,{"$f":"POISSON(D974,Berekening!$G$50,TRUE)","v":1},970,{"$f":"POISSON(F974,Berekening!$G$52,TRUE)","v":1},970]
[{"$f":"POISSON(B975,Berekening!$G$27,TRUE)","v":1},971,{"$f":"POISSON(D975,Berekening!$G$50,TRUE)","v":1},971,{"$f":"POISSON(F975,Berekening!$G$52,TRUE)","v":1},971]
[{"$f":"POISSON(B976,Berekening!$G$27,TRUE)","v":1},972,{"$f":"POISSON(D976,Berekening!$G$50,TRUE)","v":1},972,{"$f":"POISSON(F976,Berekening!$G$52,TRUE)","v":1},972]
[{"$f":"POISSON(B977,Berekening!$G$27,TRUE)","v":1},973,{"$f":"POISSON(D977,Berekening!$G$50,TRUE)","v":1},973,{"$f":"POISSON(F977,Berekening!$G$52,TRUE)","v":1},973]
[{"$f":"POISSON(B978,Berekening!$G$27,TRUE)","v":1},974,{"$f":"POISSON(D978,Berekening!$G$50,TRUE)","v":1},974,{"$f":"POISSON(F978,Berekening!$G$52,TRUE)","v":1},974]
[{"$f":"POISSON(B979,Berekening!$G$27,TRUE)","v":1},975,{"$f":"POISSON(D979,Berekening!$G$50,TRUE)","v":1},975,{"$f":"POISSON(F979,Berekening!$G$52,TRUE)","v":1},975]
[{"$f":"POISSON(B980,Berekening!$G$27,TRUE)","v":1},976,{"$f":"POISSON(D980,Berekening!$G$50,TRUE)","v":1},976,{"$f":"POISSON(F980,Berekening!$G$52,TRUE)","v":1},976]
[{"$f":"POISSON(B981,Berekening!$G$27,TRUE)","v":1},977,{"$f":"POISSON(D981,Berekening!$G$50,TRUE)","v":1},977,{"$f":"POISSON(F981,Berekening!$G$52,TRUE)","v":1},977]
[{"$f":"POISSON(B982,Berekening!$G$27,TRUE)","v":1},978,{"$f":"POISSON(D982,Berekening!$G$50,TRUE)","v":1},978,{"$f":"POISSON(F982,Berekening!$G$52,TRUE)","v":1},978]
[{"$f":"POISSON(B983,Berekening!$G$27,TRUE)","v":1},979,{"$f":"POISSON(D983,Berekening!$G$50,TRUE)","v":1},979,{"$f":"POISSON(F983,Berekening!$G$52,TRUE)","v":1},979]
[{"$f":"POISSON(B984,Berekening!$G$27,TRUE)","v":1},980,{"$f":"POISSON(D984,Berekening!$G$50,TRUE)","v":1},980,{"$f":"POISSON(F984,Berekening!$G$52,TRUE)","v":1},980]
[{"$f":"POISSON(B985,Berekening!$G$27,TRUE)","v":1},981,{"$f":"POISSON(D985,Berekening!$G$50,TRUE)","v":1},981,{"$f":"POISSON(F985,Berekening!$G$52,TRUE)","v":1},981]
[{"$f":"POISSON(B986,Berekening!$G$27,TRUE)","v":1},982,{"$f":"POISSON(D986,Berekening!$G$50,TRUE)","v":1},982,{"$f":"POISSON(F986,Berekening!$G$52,TRUE)","v":1},982]
[{"$f":"POISSON(B987,Berekening!$G$27,TRUE)","v":1},983,{"$f":"POISSON(D987,Berekening!$G$50,TRUE)","v":1},983,{"$f":"POISSON(F987,Berekening!$G$52,TRUE)","v":1},983]
[{"$f":"POISSON(B988,Berekening!$G$27,TRUE)","v":1},984,{"$f":"POISSON(D988,Berekening!$G$50,TRUE)","v":1},984,{"$f":"POISSON(F988,Berekening!$G$52,TRUE)","v":1},984]
[{"$f":"POISSON(B989,Berekening!$G$27,TRUE)","v":1},985,{"$f":"POISSON(D989,Berekening!$G$50,TRUE)","v":1},985,{"$f":"POISSON(F989,Berekening!$G$52,TRUE)","v":1},985]
[{"$f":"POISSON(B990,Berekening!$G$27,TRUE)","v":1},986,{"$f":"POISSON(D990,Berekening!$G$50,TRUE)","v":1},986,{"$f":"POISSON(F990,Berekening!$G$52,TRUE)","v":1},986]
[{"$f":"POISSON(B991,Berekening!$G$27,TRUE)","v":1},987,{"$f":"POISSON(D991,Berekening!$G$50,TRUE)","v":1},987,{"$f":"POISSON(F991,Berekening!$G$52,TRUE)","v":1},987]
[{"$f":"POISSON(B992,Berekening!$G$27,TRUE)","v":1},988,{"$f":"POISSON(D992,Berekening!$G$50,TRUE)","v":1},988,{"$f":"POISSON(F992,Berekening!$G$52,TRUE)","v":1},988]
[{"$f":"POISSON(B993,Berekening!$G$27,TRUE)","v":1},989,{"$f":"POISSON(D993,Berekening!$G$50,TRUE)","v":1},989,{"$f":"POISSON(F993,Berekening!$G$52,TRUE)","v":1},989]
[{"$f":"POISSON(B994,Berekening!$G$27,TRUE)","v":1},990,{"$f":"POISSON(D994,Berekening!$G$50,TRUE)","v":1},990,{"$f":"POISSON(F994,Berekening!$G$52,TRUE)","v":1},990]
[{"$f":"POISSON(B995,Berekening!$G$27,TRUE)","v":1},991,{"$f":"POISSON(D995,Berekening!$G$50,TRUE)","v":1},991,{"$f":"POISSON(F995,Berekening!$G$52,TRUE)","v":1},991]
[{"$f":"POISSON(B996,Berekening!$G$27,TRUE)","v":1},992,{"$f":"POISSON(D996,Berekening!$G$50,TRUE)","v":1},992,{"$f":"POISSON(F996,Berekening!$G$52,TRUE)","v":1},992]
[{"$f":"POISSON(B997,Berekening!$G$27,TRUE)","v":1},993,{"$f":"POISSON(D997,Berekening!$G$50,TRUE)","v":1},993,{"$f":"POISSON(F997,Berekening!$G$52,TRUE)","v":1},993]
[{"$f":"POISSON(B998,Berekening!$G$27,TRUE)","v":1},994,{"$f":"POISSON(D998,Berekening!$G$50,TRUE)","v":1},994,{"$f":"POISSON(F998,Berekening!$G$52,TRUE)","v":1},994]
[{"$f":"POISSON(B999,Berekening!$G$27,TRUE)","v":1},995,{"$f":"POISSON(D999,Berekening!$G$50,TRUE)","v":1},995,{"$f":"POISSON(F999,Berekening!$G$52,TRUE)","v":1},995]
[{"$f":"POISSON(B1000,Berekening!$G$27,TRUE)","v":1},996,{"$f":"POISSON(D1000,Berekening!$G$50,TRUE)","v":1},996,{"$f":"POISSON(F1000,Berekening!$G$52,TRUE)","v":1},996]
[{"$f":"POISSON(B1001,Berekening!$G$27,TRUE)","v":1},997,{"$f":"POISSON(D1001,Berekening!$G$50,TRUE)","v":1},997,{"$f":"POISSON(F1001,Berekening!$G$52,TRUE)","v":1},997]
[{"$f":"POISSON(B1002,Berekening!$G$27,TRUE)","v":1},998,{"$f":"POISSON(D1002,Berekening!$G$50,TRUE)","v":1},998,{"$f":"POISSON(F1002,Berekening!$G$52,TRUE)","v":1},998]
[{"$f":"POISSON(B1003,Berekening!$G$27,TRUE)","v":1},999,{"$f":"POISSON(D1003,Berekening!$G$50,TRUE)","v":1},999,{"$f":"POISSON(F1003,Berekening!$G$52,TRUE)","v":1},999]
[{"$f":"POISSON(B1004,Berekening!$G$27,TRUE)","v":1},1000,{"$f":"POISSON(D1004,Berekening!$G$50,TRUE)","v":1},1000,{"$f":"POISSON(F1004,Berekening!$G$52,TRUE)","v":1},1000]
[{"$f":"POISSON(B1005,Berekening!$G$27,TRUE)","v":1},1001,{"$f":"POISSON(D1005,Berekening!$G$50,TRUE)","v":1},1001,{"$f":"POISSON(F1005,Berekening!$G$52,TRUE)","v":1},1001]
[{"$f":"POISSON(B1006,Berekening!$G$27,TRUE)","v":1},1002,{"$f":"POISSON(D1006,Berekening!$G$50,TRUE)","v":1},1002,{"$f":"POISSON(F1006,Berekening!$G$52,TRUE)","v":1},1002]
[{"$f":"POISSON(B1007,Berekening!$G$27,TRUE)","v":1},1003,{"$f":"POISSON(D1007,Berekening!$G$50,TRUE)","v":1},1003,{"$f":"POISSON(F1007,Berekening!$G$52,TRUE)","v":1},1003]
[{"$f":"POISSON(B1008,Berekening!$G$27,TRUE)","v":1},1004,{"$f":"POISSON(D1008,Berekening!$G$50,TRUE)","v":1},1004,{"$f":"POISSON(F1008,Berekening!$G$52,TRUE)","v":1},1004]
[{"$f":"POISSON(B1009,Berekening!$G$27,TRUE)","v":1},1005,{"$f":"POISSON(D1009,Berekening!$G$50,TRUE)","v":1},1005,{"$f":"POISSON(F1009,Berekening!$G$52,TRUE)","v":1},1005]
[{"$f":"POISSON(B1010,Berekening!$G$27,TRUE)","v":1},1006,{"$f":"POISSON(D1010,Berekening!$G$50,TRUE)","v":1},1006,{"$f":"POISSON(F1010,Berekening!$G$52,TRUE)","v":1},1006]
[{"$f":"POISSON(B1011,Berekening!$G$27,TRUE)","v":1},1007,{"$f":"POISSON(D1011,Berekening!$G$50,TRUE)","v":1},1007,{"$f":"POISSON(F1011,Berekening!$G$52,TRUE)","v":1},1007]
[{"$f":"POISSON(B1012,Berekening!$G$27,TRUE)","v":1},1008,{"$f":"POISSON(D1012,Berekening!$G$50,TRUE)","v":1},1008,{"$f":"POISSON(F1012,Berekening!$G$52,TRUE)","v":1},1008]
[{"$f":"POISSON(B1013,Berekening!$G$27,TRUE)","v":1},1009,{"$f":"POISSON(D1013,Berekening!$G$50,TRUE)","v":1},1009,{"$f":"POISSON(F1013,Berekening!$G$52,TRUE)","v":1},1009]
[{"$f":"POISSON(B1014,Berekening!$G$27,TRUE)","v":1},1010,{"$f":"POISSON(D1014,Berekening!$G$50,TRUE)","v":1},1010,{"$f":"POISSON(F1014,Berekening!$G$52,TRUE)","v":1},1010]
[{"$f":"POISSON(B1015,Berekening!$G$27,TRUE)","v":1},1011,{"$f":"POISSON(D1015,Berekening!$G$50,TRUE)","v":1},1011,{"$f":"POISSON(F1015,Berekening!$G$52,TRUE)","v":1},1011]
[{"$f":"POISSON(B1016,Berekening!$G$27,TRUE)","v":1},1012,{"$f":"POISSON(D1016,Berekening!$G$50,TRUE)","v":1},1012,{"$f":"POISSON(F1016,Berekening!$G$52,TRUE)","v":1},1012]
[{"$f":"POISSON(B1017,Berekening!$G$27,TRUE)","v":1},1013,{"$f":"POISSON(D1017,Berekening!$G$50,TRUE)","v":1},1013,{"$f":"POISSON(F1017,Berekening!$G$52,TRUE)","v":1},1013]
[{"$f":"POISSON(B1018,Berekening!$G$27,TRUE)","v":1},1014,{"$f":"POISSON(D1018,Berekening!$G$50,TRUE)","v":1},1014,{"$f":"POISSON(F1018,Berekening!$G$52,TRUE)","v":1},1014]
[{"$f":"POISSON(B1019,Berekening!$G$27,TRUE)","v":1},1015,{"$f":"POISSON(D1019,Berekening!$G$50,TRUE)","v":1},1015,{"$f":"POISSON(F1019,Berekening!$G$52,TRUE)","v":1},1015]
[{"$f":"POISSON(B1020,Berekening!$G$27,TRUE)","v":1},1016,{"$f":"POISSON(D1020,Berekening!$G$50,TRUE)","v":1},1016,{"$f":"POISSON(F1020,Berekening!$G$52,TRUE)","v":1},1016]
[{"$f":"POISSON(B1021,Berekening!$G$27,TRUE)","v":1},1017,{"$f":"POISSON(D1021,Berekening!$G$50,TRUE)","v":1},1017,{"$f":"POISSON(F1021,Berekening!$G$52,TRUE)","v":1},1017]
[{"$f":"POISSON(B1022,Berekening!$G$27,TRUE)","v":1},1018,{"$f":"POISSON(D1022,Berekening!$G$50,TRUE)","v":1},1018,{"$f":"POISSON(F1022,Berekening!$G$52,TRUE)","v":1},1018]
[{"$f":"POISSON(B1023,Berekening!$G$27,TRUE)","v":1},1019,{"$f":"POISSON(D1023,Berekening!$G$50,TRUE)","v":1},1019,{"$f":"POISSON(F1023,Berekening!$G$52,TRUE)","v":1},1019]
[{"$f":"POISSON(B1024,Berekening!$G$27,TRUE)","v":1},1020,{"$f":"POISSON(D1024,Berekening!$G$50,TRUE)","v":1},1020,{"$f":"POISSON(F1024,Berekening!$G$52,TRUE)","v":1},1020]
[{"$f":"POISSON(B1025,Berekening!$G$27,TRUE)","v":1},1021,{"$f":"POISSON(D1025,Berekening!$G$50,TRUE)","v":1},1021,{"$f":"POISSON(F1025,Berekening!$G$52,TRUE)","v":1},1021]
[{"$f":"POISSON(B1026,Berekening!$G$27,TRUE)","v":1},1022,{"$f":"POISSON(D1026,Berekening!$G$50,TRUE)","v":1},1022,{"$f":"POISSON(F1026,Berekening!$G$52,TRUE)","v":1},1022]
[{"$f":"POISSON(B1027,Berekening!$G$27,TRUE)","v":1},1023,{"$f":"POISSON(D1027,Berekening!$G$50,TRUE)","v":1},1023,{"$f":"POISSON(F1027,Berekening!$G$52,TRUE)","v":1},1023]
[{"$f":"POISSON(B1028,Berekening!$G$27,TRUE)","v":1},1024,{"$f":"POISSON(D1028,Berekening!$G$50,TRUE)","v":1},1024,{"$f":"POISSON(F1028,Berekening!$G$52,TRUE)","v":1},1024]
[{"$f":"POISSON(B1029,Berekening!$G$27,TRUE)","v":1},1025,{"$f":"POISSON(D1029,Berekening!$G$50,TRUE)","v":1},1025,{"$f":"POISSON(F1029,Berekening!$G$52,TRUE)","v":1},1025]
[{"$f":"POISSON(B1030,Berekening!$G$27,TRUE)","v":1},1026,{"$f":"POISSON(D1030,Berekening!$G$50,TRUE)","v":1},1026,{"$f":"POISSON(F1030,Berekening!$G$52,TRUE)","v":1},1026]
[{"$f":"POISSON(B1031,Berekening!$G$27,TRUE)","v":1},1027,{"$f":"POISSON(D1031,Berekening!$G$50,TRUE)","v":1},1027,{"$f":"POISSON(F1031,Berekening!$G$52,TRUE)","v":1},1027]
[{"$f":"POISSON(B1032,Berekening!$G$27,TRUE)","v":1},1028,{"$f":"POISSON(D1032,Berekening!$G$50,TRUE)","v":1},1028,{"$f":"POISSON(F1032,Berekening!$G$52,TRUE)","v":1},1028]
[{"$f":"POISSON(B1033,Berekening!$G$27,TRUE)","v":1},1029,{"$f":"POISSON(D1033,Berekening!$G$50,TRUE)","v":1},1029,{"$f":"POISSON(F1033,Berekening!$G$52,TRUE)","v":1},1029]
[{"$f":"POISSON(B1034,Berekening!$G$27,TRUE)","v":1},1030,{"$f":"POISSON(D1034,Berekening!$G$50,TRUE)","v":1},1030,{"$f":"POISSON(F1034,Berekening!$G$52,TRUE)","v":1},1030]
[{"$f":"POISSON(B1035,Berekening!$G$27,TRUE)","v":1},1031,{"$f":"POISSON(D1035,Berekening!$G$50,TRUE)","v":1},1031,{"$f":"POISSON(F1035,Berekening!$G$52,TRUE)","v":1},1031]
[{"$f":"POISSON(B1036,Berekening!$G$27,TRUE)","v":1},1032,{"$f":"POISSON(D1036,Berekening!$G$50,TRUE)","v":1},1032,{"$f":"POISSON(F1036,Berekening!$G$52,TRUE)","v":1},1032]
[{"$f":"POISSON(B1037,Berekening!$G$27,TRUE)","v":1},1033,{"$f":"POISSON(D1037,Berekening!$G$50,TRUE)","v":1},1033,{"$f":"POISSON(F1037,Berekening!$G$52,TRUE)","v":1},1033]
[{"$f":"POISSON(B1038,Berekening!$G$27,TRUE)","v":1},1034,{"$f":"POISSON(D1038,Berekening!$G$50,TRUE)","v":1},1034,{"$f":"POISSON(F1038,Berekening!$G$52,TRUE)","v":1},1034]
[{"$f":"POISSON(B1039,Berekening!$G$27,TRUE)","v":1},1035,{"$f":"POISSON(D1039,Berekening!$G$50,TRUE)","v":1},1035,{"$f":"POISSON(F1039,Berekening!$G$52,TRUE)","v":1},1035]
[{"$f":"POISSON(B1040,Berekening!$G$27,TRUE)","v":1},1036,{"$f":"POISSON(D1040,Berekening!$G$50,TRUE)","v":1},1036,{"$f":"POISSON(F1040,Berekening!$G$52,TRUE)","v":1},1036]
[{"$f":"POISSON(B1041,Berekening!$G$27,TRUE)","v":1},1037,{"$f":"POISSON(D1041,Berekening!$G$50,TRUE)","v":1},1037,{"$f":"POISSON(F1041,Berekening!$G$52,TRUE)","v":1},1037]
[{"$f":"POISSON(B1042,Berekening!$G$27,TRUE)","v":1},1038,{"$f":"POISSON(D1042,Berekening!$G$50,TRUE)","v":1},1038,{"$f":"POISSON(F1042,Berekening!$G$52,TRUE)","v":1},1038]
[{"$f":"POISSON(B1043,Berekening!$G$27,TRUE)","v":1},1039,{"$f":"POISSON(D1043,Berekening!$G$50,TRUE)","v":1},1039,{"$f":"POISSON(F1043,Berekening!$G$52,TRUE)","v":1},1039]
[{"$f":"POISSON(B1044,Berekening!$G$27,TRUE)","v":1},1040,{"$f":"POISSON(D1044,Berekening!$G$50,TRUE)","v":1},1040,{"$f":"POISSON(F1044,Berekening!$G$52,TRUE)","v":1},1040]
[{"$f":"POISSON(B1045,Berekening!$G$27,TRUE)","v":1},1041,{"$f":"POISSON(D1045,Berekening!$G$50,TRUE)","v":1},1041,{"$f":"POISSON(F1045,Berekening!$G$52,TRUE)","v":1},1041]
[{"$f":"POISSON(B1046,Berekening!$G$27,TRUE)","v":1},1042,{"$f":"POISSON(D1046,Berekening!$G$50,TRUE)","v":1},1042,{"$f":"POISSON(F1046,Berekening!$G$52,TRUE)","v":1},1042]
[{"$f":"POISSON(B1047,Berekening!$G$27,TRUE)","v":1},1043,{"$f":"POISSON(D1047,Berekening!$G$50,TRUE)","v":1},1043,{"$f":"POISSON(F1047,Berekening!$G$52,TRUE)","v":1},1043]
[{"$f":"POISSON(B1048,Berekening!$G$27,TRUE)","v":1},1044,{"$f":"POISSON(D1048,Berekening!$G$50,TRUE)","v":1},1044,{"$f":"POISSON(F1048,Berekening!$G$52,TRUE)","v":1},1044]
[{"$f":"POISSON(B1049,Berekening!$G$27,TRUE)","v":1},1045,{"$f":"POISSON(D1049,Berekening!$G$50,TRUE)","v":1},1045,{"$f":"POISSON(F1049,Berekening!$G$52,TRUE)","v":1},1045]
[{"$f":"POISSON(B1050,Berekening!$G$27,TRUE)","v":1},1046,{"$f":"POISSON(D1050,Berekening!$G$50,TRUE)","v":1},1046,{"$f":"POISSON(F1050,Berekening!$G$52,TRUE)","v":1},1046]
[{"$f":"POISSON(B1051,Berekening!$G$27,TRUE)","v":1},1047,{"$f":"POISSON(D1051,Berekening!$G$50,TRUE)","v":1},1047,{"$f":"POISSON(F1051,Berekening!$G$52,TRUE)","v":1},1047]
[{"$f":"POISSON(B1052,Berekening!$G$27,TRUE)","v":1},1048,{"$f":"POISSON(D1052,Berekening!$G$50,TRUE)","v":1},1048,{"$f":"POISSON(F1052,Berekening!$G$52,TRUE)","v":1},1048]
[{"$f":"POISSON(B1053,Berekening!$G$27,TRUE)","v":1},1049,{"$f":"POISSON(D1053,Berekening!$G$50,TRUE)","v":1},1049,{"$f":"POISSON(F1053,Berekening!$G$52,TRUE)","v":1},1049]
[{"$f":"POISSON(B1054,Berekening!$G$27,TRUE)","v":1},1050,{"$f":"POISSON(D1054,Berekening!$G$50,TRUE)","v":1},1050,{"$f":"POISSON(F1054,Berekening!$G$52,TRUE)","v":1},1050]
[{"$f":"POISSON(B1055,Berekening!$G$27,TRUE)","v":1},1051,{"$f":"POISSON(D1055,Berekening!$G$50,TRUE)","v":1},1051,{"$f":"POISSON(F1055,Berekening!$G$52,TRUE)","v":1},1051]
[{"$f":"POISSON(B1056,Berekening!$G$27,TRUE)","v":1},1052,{"$f":"POISSON(D1056,Berekening!$G$50,TRUE)","v":1},1052,{"$f":"POISSON(F1056,Berekening!$G$52,TRUE)","v":1},1052]
[{"$f":"POISSON(B1057,Berekening!$G$27,TRUE)","v":1},1053,{"$f":"POISSON(D1057,Berekening!$G$50,TRUE)","v":1},1053,{"$f":"POISSON(F1057,Berekening!$G$52,TRUE)","v":1},1053]
[{"$f":"POISSON(B1058,Berekening!$G$27,TRUE)","v":1},1054,{"$f":"POISSON(D1058,Berekening!$G$50,TRUE)","v":1},1054,{"$f":"POISSON(F1058,Berekening!$G$52,TRUE)","v":1},1054]
[{"$f":"POISSON(B1059,Berekening!$G$27,TRUE)","v":1},1055,{"$f":"POISSON(D1059,Berekening!$G$50,TRUE)","v":1},1055,{"$f":"POISSON(F1059,Berekening!$G$52,TRUE)","v":1},1055]
[{"$f":"POISSON(B1060,Berekening!$G$27,TRUE)","v":1},1056,{"$f":"POISSON(D1060,Berekening!$G$50,TRUE)","v":1},1056,{"$f":"POISSON(F1060,Berekening!$G$52,TRUE)","v":1},1056]
[{"$f":"POISSON(B1061,Berekening!$G$27,TRUE)","v":1},1057,{"$f":"POISSON(D1061,Berekening!$G$50,TRUE)","v":1},1057,{"$f":"POISSON(F1061,Berekening!$G$52,TRUE)","v":1},1057]
[{"$f":"POISSON(B1062,Berekening!$G$27,TRUE)","v":1},1058,{"$f":"POISSON(D1062,Berekening!$G$50,TRUE)","v":1},1058,{"$f":"POISSON(F1062,Berekening!$G$52,TRUE)","v":1},1058]
[{"$f":"POISSON(B1063,Berekening!$G$27,TRUE)","v":1},1059,{"$f":"POISSON(D1063,Berekening!$G$50,TRUE)","v":1},1059,{"$f":"POISSON(F1063,Berekening!$G$52,TRUE)","v":1},1059]
[{"$f":"POISSON(B1064,Berekening!$G$27,TRUE)","v":1},1060,{"$f":"POISSON(D1064,Berekening!$G$50,TRUE)","v":1},1060,{"$f":"POISSON(F1064,Berekening!$G$52,TRUE)","v":1},1060]
[{"$f":"POISSON(B1065,Berekening!$G$27,TRUE)","v":1},1061,{"$f":"POISSON(D1065,Berekening!$G$50,TRUE)","v":1},1061,{"$f":"POISSON(F1065,Berekening!$G$52,TRUE)","v":1},1061]
[{"$f":"POISSON(B1066,Berekening!$G$27,TRUE)","v":1},1062,{"$f":"POISSON(D1066,Berekening!$G$50,TRUE)","v":1},1062,{"$f":"POISSON(F1066,Berekening!$G$52,TRUE)","v":1},1062]
[{"$f":"POISSON(B1067,Berekening!$G$27,TRUE)","v":1},1063,{"$f":"POISSON(D1067,Berekening!$G$50,TRUE)","v":1},1063,{"$f":"POISSON(F1067,Berekening!$G$52,TRUE)","v":1},1063]
[{"$f":"POISSON(B1068,Berekening!$G$27,TRUE)","v":1},1064,{"$f":"POISSON(D1068,Berekening!$G$50,TRUE)","v":1},1064,{"$f":"POISSON(F1068,Berekening!$G$52,TRUE)","v":1},1064]
[{"$f":"POISSON(B1069,Berekening!$G$27,TRUE)","v":1},1065,{"$f":"POISSON(D1069,Berekening!$G$50,TRUE)","v":1},1065,{"$f":"POISSON(F1069,Berekening!$G$52,TRUE)","v":1},1065]
[{"$f":"POISSON(B1070,Berekening!$G$27,TRUE)","v":1},1066,{"$f":"POISSON(D1070,Berekening!$G$50,TRUE)","v":1},1066,{"$f":"POISSON(F1070,Berekening!$G$52,TRUE)","v":1},1066]
[{"$f":"POISSON(B1071,Berekening!$G$27,TRUE)","v":1},1067,{"$f":"POISSON(D1071,Berekening!$G$50,TRUE)","v":1},1067,{"$f":"POISSON(F1071,Berekening!$G$52,TRUE)","v":1},1067]
[{"$f":"POISSON(B1072,Berekening!$G$27,TRUE)","v":1},1068,{"$f":"POISSON(D1072,Berekening!$G$50,TRUE)","v":1},1068,{"$f":"POISSON(F1072,Berekening!$G$52,TRUE)","v":1},1068]
[{"$f":"POISSON(B1073,Berekening!$G$27,TRUE)","v":1},1069,{"$f":"POISSON(D1073,Berekening!$G$50,TRUE)","v":1},1069,{"$f":"POISSON(F1073,Berekening!$G$52,TRUE)","v":1},1069]
[{"$f":"POISSON(B1074,Berekening!$G$27,TRUE)","v":1},1070,{"$f":"POISSON(D1074,Berekening!$G$50,TRUE)","v":1},1070,{"$f":"POISSON(F1074,Berekening!$G$52,TRUE)","v":1},1070]
[{"$f":"POISSON(B1075,Berekening!$G$27,TRUE)","v":1},1071,{"$f":"POISSON(D1075,Berekening!$G$50,TRUE)","v":1},1071,{"$f":"POISSON(F1075,Berekening!$G$52,TRUE)","v":1},1071]
[{"$f":"POISSON(B1076,Berekening!$G$27,TRUE)","v":1},1072,{"$f":"POISSON(D1076,Berekening!$G$50,TRUE)","v":1},1072,{"$f":"POISSON(F1076,Berekening!$G$52,TRUE)","v":1},1072]
[{"$f":"POISSON(B1077,Berekening!$G$27,TRUE)","v":1},1073,{"$f":"POISSON(D1077,Berekening!$G$50,TRUE)","v":1},1073,{"$f":"POISSON(F1077,Berekening!$G$52,TRUE)","v":1},1073]
[{"$f":"POISSON(B1078,Berekening!$G$27,TRUE)","v":1},1074,{"$f":"POISSON(D1078,Berekening!$G$50,TRUE)","v":1},1074,{"$f":"POISSON(F1078,Berekening!$G$52,TRUE)","v":1},1074]
[{"$f":"POISSON(B1079,Berekening!$G$27,TRUE)","v":1},1075,{"$f":"POISSON(D1079,Berekening!$G$50,TRUE)","v":1},1075,{"$f":"POISSON(F1079,Berekening!$G$52,TRUE)","v":1},1075]
[{"$f":"POISSON(B1080,Berekening!$G$27,TRUE)","v":1},1076,{"$f":"POISSON(D1080,Berekening!$G$50,TRUE)","v":1},1076,{"$f":"POISSON(F1080,Berekening!$G$52,TRUE)","v":1},1076]
[{"$f":"POISSON(B1081,Berekening!$G$27,TRUE)","v":1},1077,{"$f":"POISSON(D1081,Berekening!$G$50,TRUE)","v":1},1077,{"$f":"POISSON(F1081,Berekening!$G$52,TRUE)","v":1},1077]
[{"$f":"POISSON(B1082,Berekening!$G$27,TRUE)","v":1},1078,{"$f":"POISSON(D1082,Berekening!$G$50,TRUE)","v":1},1078,{"$f":"POISSON(F1082,Berekening!$G$52,TRUE)","v":1},1078]
[{"$f":"POISSON(B1083,Berekening!$G$27,TRUE)","v":1},1079,{"$f":"POISSON(D1083,Berekening!$G$50,TRUE)","v":1},1079,{"$f":"POISSON(F1083,Berekening!$G$52,TRUE)","v":1},1079]
[{"$f":"POISSON(B1084,Berekening!$G$27,TRUE)","v":1},1080,{"$f":"POISSON(D1084,Berekening!$G$50,TRUE)","v":1},1080,{"$f":"POISSON(F1084,Berekening!$G$52,TRUE)","v":1},1080]
[{"$f":"POISSON(B1085,Berekening!$G$27,TRUE)","v":1},1081,{"$f":"POISSON(D1085,Berekening!$G$50,TRUE)","v":1},1081,{"$f":"POISSON(F1085,Berekening!$G$52,TRUE)","v":1},1081]
[{"$f":"POISSON(B1086,Berekening!$G$27,TRUE)","v":1},1082,{"$f":"POISSON(D1086,Berekening!$G$50,TRUE)","v":1},1082,{"$f":"POISSON(F1086,Berekening!$G$52,TRUE)","v":1},1082]
[{"$f":"POISSON(B1087,Berekening!$G$27,TRUE)","v":1},1083,{"$f":"POISSON(D1087,Berekening!$G$50,TRUE)","v":1},1083,{"$f":"POISSON(F1087,Berekening!$G$52,TRUE)","v":1},1083]
[{"$f":"POISSON(B1088,Berekening!$G$27,TRUE)","v":1},1084,{"$f":"POISSON(D1088,Berekening!$G$50,TRUE)","v":1},1084,{"$f":"POISSON(F1088,Berekening!$G$52,TRUE)","v":1},1084]
[{"$f":"POISSON(B1089,Berekening!$G$27,TRUE)","v":1},1085,{"$f":"POISSON(D1089,Berekening!$G$50,TRUE)","v":1},1085,{"$f":"POISSON(F1089,Berekening!$G$52,TRUE)","v":1},1085]
[{"$f":"POISSON(B1090,Berekening!$G$27,TRUE)","v":1},1086,{"$f":"POISSON(D1090,Berekening!$G$50,TRUE)","v":1},1086,{"$f":"POISSON(F1090,Berekening!$G$52,TRUE)","v":1},1086]
[{"$f":"POISSON(B1091,Berekening!$G$27,TRUE)","v":1},1087,{"$f":"POISSON(D1091,Berekening!$G$50,TRUE)","v":1},1087,{"$f":"POISSON(F1091,Berekening!$G$52,TRUE)","v":1},1087]
[{"$f":"POISSON(B1092,Berekening!$G$27,TRUE)","v":1},1088,{"$f":"POISSON(D1092,Berekening!$G$50,TRUE)","v":1},1088,{"$f":"POISSON(F1092,Berekening!$G$52,TRUE)","v":1},1088]
[{"$f":"POISSON(B1093,Berekening!$G$27,TRUE)","v":1},1089,{"$f":"POISSON(D1093,Berekening!$G$50,TRUE)","v":1},1089,{"$f":"POISSON(F1093,Berekening!$G$52,TRUE)","v":1},1089]
[{"$f":"POISSON(B1094,Berekening!$G$27,TRUE)","v":1},1090,{"$f":"POISSON(D1094,Berekening!$G$50,TRUE)","v":1},1090,{"$f":"POISSON(F1094,Berekening!$G$52,TRUE)","v":1},1090]
[{"$f":"POISSON(B1095,Berekening!$G$27,TRUE)","v":1},1091,{"$f":"POISSON(D1095,Berekening!$G$50,TRUE)","v":1},1091,{"$f":"POISSON(F1095,Berekening!$G$52,TRUE)","v":1},1091]
[{"$f":"POISSON(B1096,Berekening!$G$27,TRUE)","v":1},1092,{"$f":"POISSON(D1096,Berekening!$G$50,TRUE)","v":1},1092,{"$f":"POISSON(F1096,Berekening!$G$52,TRUE)","v":1},1092]
[{"$f":"POISSON(B1097,Berekening!$G$27,TRUE)","v":1},1093,{"$f":"POISSON(D1097,Berekening!$G$50,TRUE)","v":1},1093,{"$f":"POISSON(F1097,Berekening!$G$52,TRUE)","v":1},1093]
[{"$f":"POISSON(B1098,Berekening!$G$27,TRUE)","v":1},1094,{"$f":"POISSON(D1098,Berekening!$G$50,TRUE)","v":1},1094,{"$f":"POISSON(F1098,Berekening!$G$52,TRUE)","v":1},1094]
[{"$f":"POISSON(B1099,Berekening!$G$27,TRUE)","v":1},1095,{"$f":"POISSON(D1099,Berekening!$G$50,TRUE)","v":1},1095,{"$f":"POISSON(F1099,Berekening!$G$52,TRUE)","v":1},1095]
[{"$f":"POISSON(B1100,Berekening!$G$27,TRUE)","v":1},1096,{"$f":"POISSON(D1100,Berekening!$G$50,TRUE)","v":1},1096,{"$f":"POISSON(F1100,Berekening!$G$52,TRUE)","v":1},1096]
[{"$f":"POISSON(B1101,Berekening!$G$27,TRUE)","v":1},1097,{"$f":"POISSON(D1101,Berekening!$G$50,TRUE)","v":1},1097,{"$f":"POISSON(F1101,Berekening!$G$52,TRUE)","v":1},1097]
[{"$f":"POISSON(B1102,Berekening!$G$27,TRUE)","v":1},1098,{"$f":"POISSON(D1102,Berekening!$G$50,TRUE)","v":1},1098,{"$f":"POISSON(F1102,Berekening!$G$52,TRUE)","v":1},1098]
[{"$f":"POISSON(B1103,Berekening!$G$27,TRUE)","v":1},1099,{"$f":"POISSON(D1103,Berekening!$G$50,TRUE)","v":1},1099,{"$f":"POISSON(F1103,Berekening!$G$52,TRUE)","v":1},1099]
[{"$f":"POISSON(B1104,Berekening!$G$27,TRUE)","v":1},1100,{"$f":"POISSON(D1104,Berekening!$G$50,TRUE)","v":1},1100,{"$f":"POISSON(F1104,Berekening!$G$52,TRUE)","v":1},1100]
[{"$f":"POISSON(B1105,Berekening!$G$27,TRUE)","v":1},1101,{"$f":"POISSON(D1105,Berekening!$G$50,TRUE)","v":1},1101,{"$f":"POISSON(F1105,Berekening!$G$52,TRUE)","v":1},1101]
[{"$f":"POISSON(B1106,Berekening!$G$27,TRUE)","v":1},1102,{"$f":"POISSON(D1106,Berekening!$G$50,TRUE)","v":1},1102,{"$f":"POISSON(F1106,Berekening!$G$52,TRUE)","v":1},1102]
[{"$f":"POISSON(B1107,Berekening!$G$27,TRUE)","v":1},1103,{"$f":"POISSON(D1107,Berekening!$G$50,TRUE)","v":1},1103,{"$f":"POISSON(F1107,Berekening!$G$52,TRUE)","v":1},1103]
[{"$f":"POISSON(B1108,Berekening!$G$27,TRUE)","v":1},1104,{"$f":"POISSON(D1108,Berekening!$G$50,TRUE)","v":1},1104,{"$f":"POISSON(F1108,Berekening!$G$52,TRUE)","v":1},1104]
[{"$f":"POISSON(B1109,Berekening!$G$27,TRUE)","v":1},1105,{"$f":"POISSON(D1109,Berekening!$G$50,TRUE)","v":1},1105,{"$f":"POISSON(F1109,Berekening!$G$52,TRUE)","v":1},1105]
[{"$f":"POISSON(B1110,Berekening!$G$27,TRUE)","v":1},1106,{"$f":"POISSON(D1110,Berekening!$G$50,TRUE)","v":1},1106,{"$f":"POISSON(F1110,Berekening!$G$52,TRUE)","v":1},1106]
[{"$f":"POISSON(B1111,Berekening!$G$27,TRUE)","v":1},1107,{"$f":"POISSON(D1111,Berekening!$G$50,TRUE)","v":1},1107,{"$f":"POISSON(F1111,Berekening!$G$52,TRUE)","v":1},1107]
[{"$f":"POISSON(B1112,Berekening!$G$27,TRUE)","v":1},1108,{"$f":"POISSON(D1112,Berekening!$G$50,TRUE)","v":1},1108,{"$f":"POISSON(F1112,Berekening!$G$52,TRUE)","v":1},1108]
[{"$f":"POISSON(B1113,Berekening!$G$27,TRUE)","v":1},1109,{"$f":"POISSON(D1113,Berekening!$G$50,TRUE)","v":1},1109,{"$f":"POISSON(F1113,Berekening!$G$52,TRUE)","v":1},1109]
[{"$f":"POISSON(B1114,Berekening!$G$27,TRUE)","v":1},1110,{"$f":"POISSON(D1114,Berekening!$G$50,TRUE)","v":1},1110,{"$f":"POISSON(F1114,Berekening!$G$52,TRUE)","v":1},1110]
[{"$f":"POISSON(B1115,Berekening!$G$27,TRUE)","v":1},1111,{"$f":"POISSON(D1115,Berekening!$G$50,TRUE)","v":1},1111,{"$f":"POISSON(F1115,Berekening!$G$52,TRUE)","v":1},1111]
[{"$f":"POISSON(B1116,Berekening!$G$27,TRUE)","v":1},1112,{"$f":"POISSON(D1116,Berekening!$G$50,TRUE)","v":1},1112,{"$f":"POISSON(F1116,Berekening!$G$52,TRUE)","v":1},1112]
[{"$f":"POISSON(B1117,Berekening!$G$27,TRUE)","v":1},1113,{"$f":"POISSON(D1117,Berekening!$G$50,TRUE)","v":1},1113,{"$f":"POISSON(F1117,Berekening!$G$52,TRUE)","v":1},1113]
[{"$f":"POISSON(B1118,Berekening!$G$27,TRUE)","v":1},1114,{"$f":"POISSON(D1118,Berekening!$G$50,TRUE)","v":1},1114,{"$f":"POISSON(F1118,Berekening!$G$52,TRUE)","v":1},1114]
[{"$f":"POISSON(B1119,Berekening!$G$27,TRUE)","v":1},1115,{"$f":"POISSON(D1119,Berekening!$G$50,TRUE)","v":1},1115,{"$f":"POISSON(F1119,Berekening!$G$52,TRUE)","v":1},1115]
[{"$f":"POISSON(B1120,Berekening!$G$27,TRUE)","v":1},1116,{"$f":"POISSON(D1120,Berekening!$G$50,TRUE)","v":1},1116,{"$f":"POISSON(F1120,Berekening!$G$52,TRUE)","v":1},1116]
[{"$f":"POISSON(B1121,Berekening!$G$27,TRUE)","v":1},1117,{"$f":"POISSON(D1121,Berekening!$G$50,TRUE)","v":1},1117,{"$f":"POISSON(F1121,Berekening!$G$52,TRUE)","v":1},1117]
[{"$f":"POISSON(B1122,Berekening!$G$27,TRUE)","v":1},1118,{"$f":"POISSON(D1122,Berekening!$G$50,TRUE)","v":1},1118,{"$f":"POISSON(F1122,Berekening!$G$52,TRUE)","v":1},1118]
[{"$f":"POISSON(B1123,Berekening!$G$27,TRUE)","v":1},1119,{"$f":"POISSON(D1123,Berekening!$G$50,TRUE)","v":1},1119,{"$f":"POISSON(F1123,Berekening!$G$52,TRUE)","v":1},1119]
[{"$f":"POISSON(B1124,Berekening!$G$27,TRUE)","v":1},1120,{"$f":"POISSON(D1124,Berekening!$G$50,TRUE)","v":1},1120,{"$f":"POISSON(F1124,Berekening!$G$52,TRUE)","v":1},1120]
[{"$f":"POISSON(B1125,Berekening!$G$27,TRUE)","v":1},1121,{"$f":"POISSON(D1125,Berekening!$G$50,TRUE)","v":1},1121,{"$f":"POISSON(F1125,Berekening!$G$52,TRUE)","v":1},1121]
[{"$f":"POISSON(B1126,Berekening!$G$27,TRUE)","v":1},1122,{"$f":"POISSON(D1126,Berekening!$G$50,TRUE)","v":1},1122,{"$f":"POISSON(F1126,Berekening!$G$52,TRUE)","v":1},1122]
[{"$f":"POISSON(B1127,Berekening!$G$27,TRUE)","v":1},1123,{"$f":"POISSON(D1127,Berekening!$G$50,TRUE)","v":1},1123,{"$f":"POISSON(F1127,Berekening!$G$52,TRUE)","v":1},1123]
[{"$f":"POISSON(B1128,Berekening!$G$27,TRUE)","v":1},1124,{"$f":"POISSON(D1128,Berekening!$G$50,TRUE)","v":1},1124,{"$f":"POISSON(F1128,Berekening!$G$52,TRUE)","v":1},1124]
[{"$f":"POISSON(B1129,Berekening!$G$27,TRUE)","v":1},1125,{"$f":"POISSON(D1129,Berekening!$G$50,TRUE)","v":1},1125,{"$f":"POISSON(F1129,Berekening!$G$52,TRUE)","v":1},1125]
[{"$f":"POISSON(B1130,Berekening!$G$27,TRUE)","v":1},1126,{"$f":"POISSON(D1130,Berekening!$G$50,TRUE)","v":1},1126,{"$f":"POISSON(F1130,Berekening!$G$52,TRUE)","v":1},1126]
[{"$f":"POISSON(B1131,Berekening!$G$27,TRUE)","v":1},1127,{"$f":"POISSON(D1131,Berekening!$G$50,TRUE)","v":1},1127,{"$f":"POISSON(F1131,Berekening!$G$52,TRUE)","v":1},1127]
[{"$f":"POISSON(B1132,Berekening!$G$27,TRUE)","v":1},1128,{"$f":"POISSON(D1132,Berekening!$G$50,TRUE)","v":1},1128,{"$f":"POISSON(F1132,Berekening!$G$52,TRUE)","v":1},1128]
[{"$f":"POISSON(B1133,Berekening!$G$27,TRUE)","v":1},1129,{"$f":"POISSON(D1133,Berekening!$G$50,TRUE)","v":1},1129,{"$f":"POISSON(F1133,Berekening!$G$52,TRUE)","v":1},1129]
[{"$f":"POISSON(B1134,Berekening!$G$27,TRUE)","v":1},1130,{"$f":"POISSON(D1134,Berekening!$G$50,TRUE)","v":1},1130,{"$f":"POISSON(F1134,Berekening!$G$52,TRUE)","v":1},1130]
[{"$f":"POISSON(B1135,Berekening!$G$27,TRUE)","v":1},1131,{"$f":"POISSON(D1135,Berekening!$G$50,TRUE)","v":1},1131,{"$f":"POISSON(F1135,Berekening!$G$52,TRUE)","v":1},1131]
[{"$f":"POISSON(B1136,Berekening!$G$27,TRUE)","v":1},1132,{"$f":"POISSON(D1136,Berekening!$G$50,TRUE)","v":1},1132,{"$f":"POISSON(F1136,Berekening!$G$52,TRUE)","v":1},1132]
[{"$f":"POISSON(B1137,Berekening!$G$27,TRUE)","v":1},1133,{"$f":"POISSON(D1137,Berekening!$G$50,TRUE)","v":1},1133,{"$f":"POISSON(F1137,Berekening!$G$52,TRUE)","v":1},1133]
[{"$f":"POISSON(B1138,Berekening!$G$27,TRUE)","v":1},1134,{"$f":"POISSON(D1138,Berekening!$G$50,TRUE)","v":1},1134,{"$f":"POISSON(F1138,Berekening!$G$52,TRUE)","v":1},1134]
[{"$f":"POISSON(B1139,Berekening!$G$27,TRUE)","v":1},1135,{"$f":"POISSON(D1139,Berekening!$G$50,TRUE)","v":1},1135,{"$f":"POISSON(F1139,Berekening!$G$52,TRUE)","v":1},1135]
[{"$f":"POISSON(B1140,Berekening!$G$27,TRUE)","v":1},1136,{"$f":"POISSON(D1140,Berekening!$G$50,TRUE)","v":1},1136,{"$f":"POISSON(F1140,Berekening!$G$52,TRUE)","v":1},1136]
[{"$f":"POISSON(B1141,Berekening!$G$27,TRUE)","v":1},1137,{"$f":"POISSON(D1141,Berekening!$G$50,TRUE)","v":1},1137,{"$f":"POISSON(F1141,Berekening!$G$52,TRUE)","v":1},1137]
[{"$f":"POISSON(B1142,Berekening!$G$27,TRUE)","v":1},1138,{"$f":"POISSON(D1142,Berekening!$G$50,TRUE)","v":1},1138,{"$f":"POISSON(F1142,Berekening!$G$52,TRUE)","v":1},1138]
[{"$f":"POISSON(B1143,Berekening!$G$27,TRUE)","v":1},1139,{"$f":"POISSON(D1143,Berekening!$G$50,TRUE)","v":1},1139,{"$f":"POISSON(F1143,Berekening!$G$52,TRUE)","v":1},1139]
[{"$f":"POISSON(B1144,Berekening!$G$27,TRUE)","v":1},1140,{"$f":"POISSON(D1144,Berekening!$G$50,TRUE)","v":1},1140,{"$f":"POISSON(F1144,Berekening!$G$52,TRUE)","v":1},1140]
[{"$f":"POISSON(B1145,Berekening!$G$27,TRUE)","v":1},1141,{"$f":"POISSON(D1145,Berekening!$G$50,TRUE)","v":1},1141,{"$f":"POISSON(F1145,Berekening!$G$52,TRUE)","v":1},1141]
[{"$f":"POISSON(B1146,Berekening!$G$27,TRUE)","v":1},1142,{"$f":"POISSON(D1146,Berekening!$G$50,TRUE)","v":1},1142,{"$f":"POISSON(F1146,Berekening!$G$52,TRUE)","v":1},1142]
[{"$f":"POISSON(B1147,Berekening!$G$27,TRUE)","v":1},1143,{"$f":"POISSON(D1147,Berekening!$G$50,TRUE)","v":1},1143,{"$f":"POISSON(F1147,Berekening!$G$52,TRUE)","v":1},1143]
[{"$f":"POISSON(B1148,Berekening!$G$27,TRUE)","v":1},1144,{"$f":"POISSON(D1148,Berekening!$G$50,TRUE)","v":1},1144,{"$f":"POISSON(F1148,Berekening!$G$52,TRUE)","v":1},1144]
[{"$f":"POISSON(B1149,Berekening!$G$27,TRUE)","v":1},1145,{"$f":"POISSON(D1149,Berekening!$G$50,TRUE)","v":1},1145,{"$f":"POISSON(F1149,Berekening!$G$52,TRUE)","v":1},1145]
[{"$f":"POISSON(B1150,Berekening!$G$27,TRUE)","v":1},1146,{"$f":"POISSON(D1150,Berekening!$G$50,TRUE)","v":1},1146,{"$f":"POISSON(F1150,Berekening!$G$52,TRUE)","v":1},1146]
[{"$f":"POISSON(B1151,Berekening!$G$27,TRUE)","v":1},1147,{"$f":"POISSON(D1151,Berekening!$G$50,TRUE)","v":1},1147,{"$f":"POISSON(F1151,Berekening!$G$52,TRUE)","v":1},1147]
[{"$f":"POISSON(B1152,Berekening!$G$27,TRUE)","v":1},1148,{"$f":"POISSON(D1152,Berekening!$G$50,TRUE)","v":1},1148,{"$f":"POISSON(F1152,Berekening!$G$52,TRUE)","v":1},1148]
[{"$f":"POISSON(B1153,Berekening!$G$27,TRUE)","v":1},1149,{"$f":"POISSON(D1153,Berekening!$G$50,TRUE)","v":1},1149,{"$f":"POISSON(F1153,Berekening!$G$52,TRUE)","v":1},1149]
[{"$f":"POISSON(B1154,Berekening!$G$27,TRUE)","v":1},1150,{"$f":"POISSON(D1154,Berekening!$G$50,TRUE)","v":1},1150,{"$f":"POISSON(F1154,Berekening!$G$52,TRUE)","v":1},1150]
[{"$f":"POISSON(B1155,Berekening!$G$27,TRUE)","v":1},1151,{"$f":"POISSON(D1155,Berekening!$G$50,TRUE)","v":1},1151,{"$f":"POISSON(F1155,Berekening!$G$52,TRUE)","v":1},1151]
[{"$f":"POISSON(B1156,Berekening!$G$27,TRUE)","v":1},1152,{"$f":"POISSON(D1156,Berekening!$G$50,TRUE)","v":1},1152,{"$f":"POISSON(F1156,Berekening!$G$52,TRUE)","v":1},1152]
[{"$f":"POISSON(B1157,Berekening!$G$27,TRUE)","v":1},1153,{"$f":"POISSON(D1157,Berekening!$G$50,TRUE)","v":1},1153,{"$f":"POISSON(F1157,Berekening!$G$52,TRUE)","v":1},1153]
[{"$f":"POISSON(B1158,Berekening!$G$27,TRUE)","v":1},1154,{"$f":"POISSON(D1158,Berekening!$G$50,TRUE)","v":1},1154,{"$f":"POISSON(F1158,Berekening!$G$52,TRUE)","v":1},1154]
[{"$f":"POISSON(B1159,Berekening!$G$27,TRUE)","v":1},1155,{"$f":"POISSON(D1159,Berekening!$G$50,TRUE)","v":1},1155,{"$f":"POISSON(F1159,Berekening!$G$52,TRUE)","v":1},1155]
[{"$f":"POISSON(B1160,Berekening!$G$27,TRUE)","v":1},1156,{"$f":"POISSON(D1160,Berekening!$G$50,TRUE)","v":1},1156,{"$f":"POISSON(F1160,Berekening!$G$52,TRUE)","v":1},1156]
[{"$f":"POISSON(B1161,Berekening!$G$27,TRUE)","v":1},1157,{"$f":"POISSON(D1161,Berekening!$G$50,TRUE)","v":1},1157,{"$f":"POISSON(F1161,Berekening!$G$52,TRUE)","v":1},1157]
[{"$f":"POISSON(B1162,Berekening!$G$27,TRUE)","v":1},1158,{"$f":"POISSON(D1162,Berekening!$G$50,TRUE)","v":1},1158,{"$f":"POISSON(F1162,Berekening!$G$52,TRUE)","v":1},1158]
[{"$f":"POISSON(B1163,Berekening!$G$27,TRUE)","v":1},1159,{"$f":"POISSON(D1163,Berekening!$G$50,TRUE)","v":1},1159,{"$f":"POISSON(F1163,Berekening!$G$52,TRUE)","v":1},1159]
[{"$f":"POISSON(B1164,Berekening!$G$27,TRUE)","v":1},1160,{"$f":"POISSON(D1164,Berekening!$G$50,TRUE)","v":1},1160,{"$f":"POISSON(F1164,Berekening!$G$52,TRUE)","v":1},1160]
[{"$f":"POISSON(B1165,Berekening!$G$27,TRUE)","v":1},1161,{"$f":"POISSON(D1165,Berekening!$G$50,TRUE)","v":1},1161,{"$f":"POISSON(F1165,Berekening!$G$52,TRUE)","v":1},1161]
[{"$f":"POISSON(B1166,Berekening!$G$27,TRUE)","v":1},1162,{"$f":"POISSON(D1166,Berekening!$G$50,TRUE)","v":1},1162,{"$f":"POISSON(F1166,Berekening!$G$52,TRUE)","v":1},1162]
[{"$f":"POISSON(B1167,Berekening!$G$27,TRUE)","v":1},1163,{"$f":"POISSON(D1167,Berekening!$G$50,TRUE)","v":1},1163,{"$f":"POISSON(F1167,Berekening!$G$52,TRUE)","v":1},1163]
[{"$f":"POISSON(B1168,Berekening!$G$27,TRUE)","v":1},1164,{"$f":"POISSON(D1168,Berekening!$G$50,TRUE)","v":1},1164,{"$f":"POISSON(F1168,Berekening!$G$52,TRUE)","v":1},1164]
[{"$f":"POISSON(B1169,Berekening!$G$27,TRUE)","v":1},1165,{"$f":"POISSON(D1169,Berekening!$G$50,TRUE)","v":1},1165,{"$f":"POISSON(F1169,Berekening!$G$52,TRUE)","v":1},1165]
[{"$f":"POISSON(B1170,Berekening!$G$27,TRUE)","v":1},1166,{"$f":"POISSON(D1170,Berekening!$G$50,TRUE)","v":1},1166,{"$f":"POISSON(F1170,Berekening!$G$52,TRUE)","v":1},1166]
[{"$f":"POISSON(B1171,Berekening!$G$27,TRUE)","v":1},1167,{"$f":"POISSON(D1171,Berekening!$G$50,TRUE)","v":1},1167,{"$f":"POISSON(F1171,Berekening!$G$52,TRUE)","v":1},1167]
[{"$f":"POISSON(B1172,Berekening!$G$27,TRUE)","v":1},1168,{"$f":"POISSON(D1172,Berekening!$G$50,TRUE)","v":1},1168,{"$f":"POISSON(F1172,Berekening!$G$52,TRUE)","v":1},1168]
[{"$f":"POISSON(B1173,Berekening!$G$27,TRUE)","v":1},1169,{"$f":"POISSON(D1173,Berekening!$G$50,TRUE)","v":1},1169,{"$f":"POISSON(F1173,Berekening!$G$52,TRUE)","v":1},1169]
[{"$f":"POISSON(B1174,Berekening!$G$27,TRUE)","v":1},1170,{"$f":"POISSON(D1174,Berekening!$G$50,TRUE)","v":1},1170,{"$f":"POISSON(F1174,Berekening!$G$52,TRUE)","v":1},1170]
[{"$f":"POISSON(B1175,Berekening!$G$27,TRUE)","v":1},1171,{"$f":"POISSON(D1175,Berekening!$G$50,TRUE)","v":1},1171,{"$f":"POISSON(F1175,Berekening!$G$52,TRUE)","v":1},1171]
[{"$f":"POISSON(B1176,Berekening!$G$27,TRUE)","v":1},1172,{"$f":"POISSON(D1176,Berekening!$G$50,TRUE)","v":1},1172,{"$f":"POISSON(F1176,Berekening!$G$52,TRUE)","v":1},1172]
[{"$f":"POISSON(B1177,Berekening!$G$27,TRUE)","v":1},1173,{"$f":"POISSON(D1177,Berekening!$G$50,TRUE)","v":1},1173,{"$f":"POISSON(F1177,Berekening!$G$52,TRUE)","v":1},1173]
[{"$f":"POISSON(B1178,Berekening!$G$27,TRUE)","v":1},1174,{"$f":"POISSON(D1178,Berekening!$G$50,TRUE)","v":1},1174,{"$f":"POISSON(F1178,Berekening!$G$52,TRUE)","v":1},1174]
[{"$f":"POISSON(B1179,Berekening!$G$27,TRUE)","v":1},1175,{"$f":"POISSON(D1179,Berekening!$G$50,TRUE)","v":1},1175,{"$f":"POISSON(F1179,Berekening!$G$52,TRUE)","v":1},1175]
[{"$f":"POISSON(B1180,Berekening!$G$27,TRUE)","v":1},1176,{"$f":"POISSON(D1180,Berekening!$G$50,TRUE)","v":1},1176,{"$f":"POISSON(F1180,Berekening!$G$52,TRUE)","v":1},1176]
[{"$f":"POISSON(B1181,Berekening!$G$27,TRUE)","v":1},1177,{"$f":"POISSON(D1181,Berekening!$G$50,TRUE)","v":1},1177,{"$f":"POISSON(F1181,Berekening!$G$52,TRUE)","v":1},1177]
[{"$f":"POISSON(B1182,Berekening!$G$27,TRUE)","v":1},1178,{"$f":"POISSON(D1182,Berekening!$G$50,TRUE)","v":1},1178,{"$f":"POISSON(F1182,Berekening!$G$52,TRUE)","v":1},1178]
[{"$f":"POISSON(B1183,Berekening!$G$27,TRUE)","v":1},1179,{"$f":"POISSON(D1183,Berekening!$G$50,TRUE)","v":1},1179,{"$f":"POISSON(F1183,Berekening!$G$52,TRUE)","v":1},1179]
[{"$f":"POISSON(B1184,Berekening!$G$27,TRUE)","v":1},1180,{"$f":"POISSON(D1184,Berekening!$G$50,TRUE)","v":1},1180,{"$f":"POISSON(F1184,Berekening!$G$52,TRUE)","v":1},1180]
[{"$f":"POISSON(B1185,Berekening!$G$27,TRUE)","v":1},1181,{"$f":"POISSON(D1185,Berekening!$G$50,TRUE)","v":1},1181,{"$f":"POISSON(F1185,Berekening!$G$52,TRUE)","v":1},1181]
[{"$f":"POISSON(B1186,Berekening!$G$27,TRUE)","v":1},1182,{"$f":"POISSON(D1186,Berekening!$G$50,TRUE)","v":1},1182,{"$f":"POISSON(F1186,Berekening!$G$52,TRUE)","v":1},1182]
[{"$f":"POISSON(B1187,Berekening!$G$27,TRUE)","v":1},1183,{"$f":"POISSON(D1187,Berekening!$G$50,TRUE)","v":1},1183,{"$f":"POISSON(F1187,Berekening!$G$52,TRUE)","v":1},1183]
[{"$f":"POISSON(B1188,Berekening!$G$27,TRUE)","v":1},1184,{"$f":"POISSON(D1188,Berekening!$G$50,TRUE)","v":1},1184,{"$f":"POISSON(F1188,Berekening!$G$52,TRUE)","v":1},1184]
[{"$f":"POISSON(B1189,Berekening!$G$27,TRUE)","v":1},1185,{"$f":"POISSON(D1189,Berekening!$G$50,TRUE)","v":1},1185,{"$f":"POISSON(F1189,Berekening!$G$52,TRUE)","v":1},1185]
[{"$f":"POISSON(B1190,Berekening!$G$27,TRUE)","v":1},1186,{"$f":"POISSON(D1190,Berekening!$G$50,TRUE)","v":1},1186,{"$f":"POISSON(F1190,Berekening!$G$52,TRUE)","v":1},1186]
[{"$f":"POISSON(B1191,Berekening!$G$27,TRUE)","v":1},1187,{"$f":"POISSON(D1191,Berekening!$G$50,TRUE)","v":1},1187,{"$f":"POISSON(F1191,Berekening!$G$52,TRUE)","v":1},1187]
[{"$f":"POISSON(B1192,Berekening!$G$27,TRUE)","v":1},1188,{"$f":"POISSON(D1192,Berekening!$G$50,TRUE)","v":1},1188,{"$f":"POISSON(F1192,Berekening!$G$52,TRUE)","v":1},1188]
[{"$f":"POISSON(B1193,Berekening!$G$27,TRUE)","v":1},1189,{"$f":"POISSON(D1193,Berekening!$G$50,TRUE)","v":1},1189,{"$f":"POISSON(F1193,Berekening!$G$52,TRUE)","v":1},1189]
[{"$f":"POISSON(B1194,Berekening!$G$27,TRUE)","v":1},1190,{"$f":"POISSON(D1194,Berekening!$G$50,TRUE)","v":1},1190,{"$f":"POISSON(F1194,Berekening!$G$52,TRUE)","v":1},1190]
[{"$f":"POISSON(B1195,Berekening!$G$27,TRUE)","v":1},1191,{"$f":"POISSON(D1195,Berekening!$G$50,TRUE)","v":1},1191,{"$f":"POISSON(F1195,Berekening!$G$52,TRUE)","v":1},1191]
[{"$f":"POISSON(B1196,Berekening!$G$27,TRUE)","v":1},1192,{"$f":"POISSON(D1196,Berekening!$G$50,TRUE)","v":1},1192,{"$f":"POISSON(F1196,Berekening!$G$52,TRUE)","v":1},1192]
[{"$f":"POISSON(B1197,Berekening!$G$27,TRUE)","v":1},1193,{"$f":"POISSON(D1197,Berekening!$G$50,TRUE)","v":1},1193,{"$f":"POISSON(F1197,Berekening!$G$52,TRUE)","v":1},1193]
[{"$f":"POISSON(B1198,Berekening!$G$27,TRUE)","v":1},1194,{"$f":"POISSON(D1198,Berekening!$G$50,TRUE)","v":1},1194,{"$f":"POISSON(F1198,Berekening!$G$52,TRUE)","v":1},1194]
[{"$f":"POISSON(B1199,Berekening!$G$27,TRUE)","v":1},1195,{"$f":"POISSON(D1199,Berekening!$G$50,TRUE)","v":1},1195,{"$f":"POISSON(F1199,Berekening!$G$52,TRUE)","v":1},1195]
[{"$f":"POISSON(B1200,Berekening!$G$27,TRUE)","v":1},1196,{"$f":"POISSON(D1200,Berekening!$G$50,TRUE)","v":1},1196,{"$f":"POISSON(F1200,Berekening!$G$52,TRUE)","v":1},1196]
[{"$f":"POISSON(B1201,Berekening!$G$27,TRUE)","v":1},1197,{"$f":"POISSON(D1201,Berekening!$G$50,TRUE)","v":1},1197,{"$f":"POISSON(F1201,Berekening!$G$52,TRUE)","v":1},1197]
[{"$f":"POISSON(B1202,Berekening!$G$27,TRUE)","v":1},1198,{"$f":"POISSON(D1202,Berekening!$G$50,TRUE)","v":1},1198,{"$f":"POISSON(F1202,Berekening!$G$52,TRUE)","v":1},1198]
[{"$f":"POISSON(B1203,Berekening!$G$27,TRUE)","v":1},1199,{"$f":"POISSON(D1203,Berekening!$G$50,TRUE)","v":1},1199,{"$f":"POISSON(F1203,Berekening!$G$52,TRUE)","v":1},1199]
[{"$f":"POISSON(B1204,Berekening!$G$27,TRUE)","v":1},1200,{"$f":"POISSON(D1204,Berekening!$G$50,TRUE)","v":1},1200,{"$f":"POISSON(F1204,Berekening!$G$52,TRUE)","v":1},1200]
[{"$f":"POISSON(B1205,Berekening!$G$27,TRUE)","v":1},1201,{"$f":"POISSON(D1205,Berekening!$G$50,TRUE)","v":1},1201,{"$f":"POISSON(F1205,Berekening!$G$52,TRUE)","v":1},1201]
[{"$f":"POISSON(B1206,Berekening!$G$27,TRUE)","v":1},1202,{"$f":"POISSON(D1206,Berekening!$G$50,TRUE)","v":1},1202,{"$f":"POISSON(F1206,Berekening!$G$52,TRUE)","v":1},1202]
[{"$f":"POISSON(B1207,Berekening!$G$27,TRUE)","v":1},1203,{"$f":"POISSON(D1207,Berekening!$G$50,TRUE)","v":1},1203,{"$f":"POISSON(F1207,Berekening!$G$52,TRUE)","v":1},1203]
[{"$f":"POISSON(B1208,Berekening!$G$27,TRUE)","v":1},1204,{"$f":"POISSON(D1208,Berekening!$G$50,TRUE)","v":1},1204,{"$f":"POISSON(F1208,Berekening!$G$52,TRUE)","v":1},1204]
[{"$f":"POISSON(B1209,Berekening!$G$27,TRUE)","v":1},1205,{"$f":"POISSON(D1209,Berekening!$G$50,TRUE)","v":1},1205,{"$f":"POISSON(F1209,Berekening!$G$52,TRUE)","v":1},1205]
[{"$f":"POISSON(B1210,Berekening!$G$27,TRUE)","v":1},1206,{"$f":"POISSON(D1210,Berekening!$G$50,TRUE)","v":1},1206,{"$f":"POISSON(F1210,Berekening!$G$52,TRUE)","v":1},1206]
[{"$f":"POISSON(B1211,Berekening!$G$27,TRUE)","v":1},1207,{"$f":"POISSON(D1211,Berekening!$G$50,TRUE)","v":1},1207,{"$f":"POISSON(F1211,Berekening!$G$52,TRUE)","v":1},1207]
[{"$f":"POISSON(B1212,Berekening!$G$27,TRUE)","v":1},1208,{"$f":"POISSON(D1212,Berekening!$G$50,TRUE)","v":1},1208,{"$f":"POISSON(F1212,Berekening!$G$52,TRUE)","v":1},1208]
[{"$f":"POISSON(B1213,Berekening!$G$27,TRUE)","v":1},1209,{"$f":"POISSON(D1213,Berekening!$G$50,TRUE)","v":1},1209,{"$f":"POISSON(F1213,Berekening!$G$52,TRUE)","v":1},1209]
[{"$f":"POISSON(B1214,Berekening!$G$27,TRUE)","v":1},1210,{"$f":"POISSON(D1214,Berekening!$G$50,TRUE)","v":1},1210,{"$f":"POISSON(F1214,Berekening!$G$52,TRUE)","v":1},1210]
[{"$f":"POISSON(B1215,Berekening!$G$27,TRUE)","v":1},1211,{"$f":"POISSON(D1215,Berekening!$G$50,TRUE)","v":1},1211,{"$f":"POISSON(F1215,Berekening!$G$52,TRUE)","v":1},1211]
[{"$f":"POISSON(B1216,Berekening!$G$27,TRUE)","v":1},1212,{"$f":"POISSON(D1216,Berekening!$G$50,TRUE)","v":1},1212,{"$f":"POISSON(F1216,Berekening!$G$52,TRUE)","v":1},1212]
[{"$f":"POISSON(B1217,Berekening!$G$27,TRUE)","v":1},1213,{"$f":"POISSON(D1217,Berekening!$G$50,TRUE)","v":1},1213,{"$f":"POISSON(F1217,Berekening!$G$52,TRUE)","v":1},1213]
[{"$f":"POISSON(B1218,Berekening!$G$27,TRUE)","v":1},1214,{"$f":"POISSON(D1218,Berekening!$G$50,TRUE)","v":1},1214,{"$f":"POISSON(F1218,Berekening!$G$52,TRUE)","v":1},1214]
[{"$f":"POISSON(B1219,Berekening!$G$27,TRUE)","v":1},1215,{"$f":"POISSON(D1219,Berekening!$G$50,TRUE)","v":1},1215,{"$f":"POISSON(F1219,Berekening!$G$52,TRUE)","v":1},1215]
[{"$f":"POISSON(B1220,Berekening!$G$27,TRUE)","v":1},1216,{"$f":"POISSON(D1220,Berekening!$G$50,TRUE)","v":1},1216,{"$f":"POISSON(F1220,Berekening!$G$52,TRUE)","v":1},1216]
[{"$f":"POISSON(B1221,Berekening!$G$27,TRUE)","v":1},1217,{"$f":"POISSON(D1221,Berekening!$G$50,TRUE)","v":1},1217,{"$f":"POISSON(F1221,Berekening!$G$52,TRUE)","v":1},1217]
[{"$f":"POISSON(B1222,Berekening!$G$27,TRUE)","v":1},1218,{"$f":"POISSON(D1222,Berekening!$G$50,TRUE)","v":1},1218,{"$f":"POISSON(F1222,Berekening!$G$52,TRUE)","v":1},1218]
[{"$f":"POISSON(B1223,Berekening!$G$27,TRUE)","v":1},1219,{"$f":"POISSON(D1223,Berekening!$G$50,TRUE)","v":1},1219,{"$f":"POISSON(F1223,Berekening!$G$52,TRUE)","v":1},1219]
[{"$f":"POISSON(B1224,Berekening!$G$27,TRUE)","v":1},1220,{"$f":"POISSON(D1224,Berekening!$G$50,TRUE)","v":1},1220,{"$f":"POISSON(F1224,Berekening!$G$52,TRUE)","v":1},1220]
[{"$f":"POISSON(B1225,Berekening!$G$27,TRUE)","v":1},1221,{"$f":"POISSON(D1225,Berekening!$G$50,TRUE)","v":1},1221,{"$f":"POISSON(F1225,Berekening!$G$52,TRUE)","v":1},1221]
[{"$f":"POISSON(B1226,Berekening!$G$27,TRUE)","v":1},1222,{"$f":"POISSON(D1226,Berekening!$G$50,TRUE)","v":1},1222,{"$f":"POISSON(F1226,Berekening!$G$52,TRUE)","v":1},1222]
[{"$f":"POISSON(B1227,Berekening!$G$27,TRUE)","v":1},1223,{"$f":"POISSON(D1227,Berekening!$G$50,TRUE)","v":1},1223,{"$f":"POISSON(F1227,Berekening!$G$52,TRUE)","v":1},1223]
[{"$f":"POISSON(B1228,Berekening!$G$27,TRUE)","v":1},1224,{"$f":"POISSON(D1228,Berekening!$G$50,TRUE)","v":1},1224,{"$f":"POISSON(F1228,Berekening!$G$52,TRUE)","v":1},1224]
[{"$f":"POISSON(B1229,Berekening!$G$27,TRUE)","v":1},1225,{"$f":"POISSON(D1229,Berekening!$G$50,TRUE)","v":1},1225,{"$f":"POISSON(F1229,Berekening!$G$52,TRUE)","v":1},1225]
[{"$f":"POISSON(B1230,Berekening!$G$27,TRUE)","v":1},1226,{"$f":"POISSON(D1230,Berekening!$G$50,TRUE)","v":1},1226,{"$f":"POISSON(F1230,Berekening!$G$52,TRUE)","v":1},1226]
[{"$f":"POISSON(B1231,Berekening!$G$27,TRUE)","v":1},1227,{"$f":"POISSON(D1231,Berekening!$G$50,TRUE)","v":1},1227,{"$f":"POISSON(F1231,Berekening!$G$52,TRUE)","v":1},1227]
[{"$f":"POISSON(B1232,Berekening!$G$27,TRUE)","v":1},1228,{"$f":"POISSON(D1232,Berekening!$G$50,TRUE)","v":1},1228,{"$f":"POISSON(F1232,Berekening!$G$52,TRUE)","v":1},1228]
[{"$f":"POISSON(B1233,Berekening!$G$27,TRUE)","v":1},1229,{"$f":"POISSON(D1233,Berekening!$G$50,TRUE)","v":1},1229,{"$f":"POISSON(F1233,Berekening!$G$52,TRUE)","v":1},1229]
[{"$f":"POISSON(B1234,Berekening!$G$27,TRUE)","v":1},1230,{"$f":"POISSON(D1234,Berekening!$G$50,TRUE)","v":1},1230,{"$f":"POISSON(F1234,Berekening!$G$52,TRUE)","v":1},1230]
[{"$f":"POISSON(B1235,Berekening!$G$27,TRUE)","v":1},1231,{"$f":"POISSON(D1235,Berekening!$G$50,TRUE)","v":1},1231,{"$f":"POISSON(F1235,Berekening!$G$52,TRUE)","v":1},1231]
[{"$f":"POISSON(B1236,Berekening!$G$27,TRUE)","v":1},1232,{"$f":"POISSON(D1236,Berekening!$G$50,TRUE)","v":1},1232,{"$f":"POISSON(F1236,Berekening!$G$52,TRUE)","v":1},1232]
[{"$f":"POISSON(B1237,Berekening!$G$27,TRUE)","v":1},1233,{"$f":"POISSON(D1237,Berekening!$G$50,TRUE)","v":1},1233,{"$f":"POISSON(F1237,Berekening!$G$52,TRUE)","v":1},1233]
[{"$f":"POISSON(B1238,Berekening!$G$27,TRUE)","v":1},1234,{"$f":"POISSON(D1238,Berekening!$G$50,TRUE)","v":1},1234,{"$f":"POISSON(F1238,Berekening!$G$52,TRUE)","v":1},1234]
[{"$f":"POISSON(B1239,Berekening!$G$27,TRUE)","v":1},1235,{"$f":"POISSON(D1239,Berekening!$G$50,TRUE)","v":1},1235,{"$f":"POISSON(F1239,Berekening!$G$52,TRUE)","v":1},1235]
[{"$f":"POISSON(B1240,Berekening!$G$27,TRUE)","v":1},1236,{"$f":"POISSON(D1240,Berekening!$G$50,TRUE)","v":1},1236,{"$f":"POISSON(F1240,Berekening!$G$52,TRUE)","v":1},1236]
[{"$f":"POISSON(B1241,Berekening!$G$27,TRUE)","v":1},1237,{"$f":"POISSON(D1241,Berekening!$G$50,TRUE)","v":1},1237,{"$f":"POISSON(F1241,Berekening!$G$52,TRUE)","v":1},1237]
[{"$f":"POISSON(B1242,Berekening!$G$27,TRUE)","v":1},1238,{"$f":"POISSON(D1242,Berekening!$G$50,TRUE)","v":1},1238,{"$f":"POISSON(F1242,Berekening!$G$52,TRUE)","v":1},1238]
[{"$f":"POISSON(B1243,Berekening!$G$27,TRUE)","v":1},1239,{"$f":"POISSON(D1243,Berekening!$G$50,TRUE)","v":1},1239,{"$f":"POISSON(F1243,Berekening!$G$52,TRUE)","v":1},1239]
[{"$f":"POISSON(B1244,Berekening!$G$27,TRUE)","v":1},1240,{"$f":"POISSON(D1244,Berekening!$G$50,TRUE)","v":1},1240,{"$f":"POISSON(F1244,Berekening!$G$52,TRUE)","v":1},1240]
[{"$f":"POISSON(B1245,Berekening!$G$27,TRUE)","v":1},1241,{"$f":"POISSON(D1245,Berekening!$G$50,TRUE)","v":1},1241,{"$f":"POISSON(F1245,Berekening!$G$52,TRUE)","v":1},1241]
[{"$f":"POISSON(B1246,Berekening!$G$27,TRUE)","v":1},1242,{"$f":"POISSON(D1246,Berekening!$G$50,TRUE)","v":1},1242,{"$f":"POISSON(F1246,Berekening!$G$52,TRUE)","v":1},1242]
[{"$f":"POISSON(B1247,Berekening!$G$27,TRUE)","v":1},1243,{"$f":"POISSON(D1247,Berekening!$G$50,TRUE)","v":1},1243,{"$f":"POISSON(F1247,Berekening!$G$52,TRUE)","v":1},1243]
[{"$f":"POISSON(B1248,Berekening!$G$27,TRUE)","v":1},1244,{"$f":"POISSON(D1248,Berekening!$G$50,TRUE)","v":1},1244,{"$f":"POISSON(F1248,Berekening!$G$52,TRUE)","v":1},1244]
[{"$f":"POISSON(B1249,Berekening!$G$27,TRUE)","v":1},1245,{"$f":"POISSON(D1249,Berekening!$G$50,TRUE)","v":1},1245,{"$f":"POISSON(F1249,Berekening!$G$52,TRUE)","v":1},1245]
[{"$f":"POISSON(B1250,Berekening!$G$27,TRUE)","v":1},1246,{"$f":"POISSON(D1250,Berekening!$G$50,TRUE)","v":1},1246,{"$f":"POISSON(F1250,Berekening!$G$52,TRUE)","v":1},1246]
[{"$f":"POISSON(B1251,Berekening!$G$27,TRUE)","v":1},1247,{"$f":"POISSON(D1251,Berekening!$G$50,TRUE)","v":1},1247,{"$f":"POISSON(F1251,Berekening!$G$52,TRUE)","v":1},1247]
[{"$f":"POISSON(B1252,Berekening!$G$27,TRUE)","v":1},1248,{"$f":"POISSON(D1252,Berekening!$G$50,TRUE)","v":1},1248,{"$f":"POISSON(F1252,Berekening!$G$52,TRUE)","v":1},1248]
[{"$f":"POISSON(B1253,Berekening!$G$27,TRUE)","v":1},1249,{"$f":"POISSON(D1253,Berekening!$G$50,TRUE)","v":1},1249,{"$f":"POISSON(F1253,Berekening!$G$52,TRUE)","v":1},1249]
[{"$f":"POISSON(B1254,Berekening!$G$27,TRUE)","v":1},1250,{"$f":"POISSON(D1254,Berekening!$G$50,TRUE)","v":1},1250,{"$f":"POISSON(F1254,Berekening!$G$52,TRUE)","v":1},1250]
[{"$f":"POISSON(B1255,Berekening!$G$27,TRUE)","v":1},1251,{"$f":"POISSON(D1255,Berekening!$G$50,TRUE)","v":1},1251,{"$f":"POISSON(F1255,Berekening!$G$52,TRUE)","v":1},1251]
[{"$f":"POISSON(B1256,Berekening!$G$27,TRUE)","v":1},1252,{"$f":"POISSON(D1256,Berekening!$G$50,TRUE)","v":1},1252,{"$f":"POISSON(F1256,Berekening!$G$52,TRUE)","v":1},1252]
[{"$f":"POISSON(B1257,Berekening!$G$27,TRUE)","v":1},1253,{"$f":"POISSON(D1257,Berekening!$G$50,TRUE)","v":1},1253,{"$f":"POISSON(F1257,Berekening!$G$52,TRUE)","v":1},1253]
[{"$f":"POISSON(B1258,Berekening!$G$27,TRUE)","v":1},1254,{"$f":"POISSON(D1258,Berekening!$G$50,TRUE)","v":1},1254,{"$f":"POISSON(F1258,Berekening!$G$52,TRUE)","v":1},1254]
[{"$f":"POISSON(B1259,Berekening!$G$27,TRUE)","v":1},1255,{"$f":"POISSON(D1259,Berekening!$G$50,TRUE)","v":1},1255,{"$f":"POISSON(F1259,Berekening!$G$52,TRUE)","v":1},1255]
[{"$f":"POISSON(B1260,Berekening!$G$27,TRUE)","v":1},1256,{"$f":"POISSON(D1260,Berekening!$G$50,TRUE)","v":1},1256,{"$f":"POISSON(F1260,Berekening!$G$52,TRUE)","v":1},1256]
[{"$f":"POISSON(B1261,Berekening!$G$27,TRUE)","v":1},1257,{"$f":"POISSON(D1261,Berekening!$G$50,TRUE)","v":1},1257,{"$f":"POISSON(F1261,Berekening!$G$52,TRUE)","v":1},1257]
[{"$f":"POISSON(B1262,Berekening!$G$27,TRUE)","v":1},1258,{"$f":"POISSON(D1262,Berekening!$G$50,TRUE)","v":1},1258,{"$f":"POISSON(F1262,Berekening!$G$52,TRUE)","v":1},1258]
[{"$f":"POISSON(B1263,Berekening!$G$27,TRUE)","v":1},1259,{"$f":"POISSON(D1263,Berekening!$G$50,TRUE)","v":1},1259,{"$f":"POISSON(F1263,Berekening!$G$52,TRUE)","v":1},1259]
[{"$f":"POISSON(B1264,Berekening!$G$27,TRUE)","v":1},1260,{"$f":"POISSON(D1264,Berekening!$G$50,TRUE)","v":1},1260,{"$f":"POISSON(F1264,Berekening!$G$52,TRUE)","v":1},1260]
[{"$f":"POISSON(B1265,Berekening!$G$27,TRUE)","v":1},1261,{"$f":"POISSON(D1265,Berekening!$G$50,TRUE)","v":1},1261,{"$f":"POISSON(F1265,Berekening!$G$52,TRUE)","v":1},1261]
[{"$f":"POISSON(B1266,Berekening!$G$27,TRUE)","v":1},1262,{"$f":"POISSON(D1266,Berekening!$G$50,TRUE)","v":1},1262,{"$f":"POISSON(F1266,Berekening!$G$52,TRUE)","v":1},1262]
[{"$f":"POISSON(B1267,Berekening!$G$27,TRUE)","v":1},1263,{"$f":"POISSON(D1267,Berekening!$G$50,TRUE)","v":1},1263,{"$f":"POISSON(F1267,Berekening!$G$52,TRUE)","v":1},1263]
[{"$f":"POISSON(B1268,Berekening!$G$27,TRUE)","v":1},1264,{"$f":"POISSON(D1268,Berekening!$G$50,TRUE)","v":1},1264,{"$f":"POISSON(F1268,Berekening!$G$52,TRUE)","v":1},1264]
[{"$f":"POISSON(B1269,Berekening!$G$27,TRUE)","v":1},1265,{"$f":"POISSON(D1269,Berekening!$G$50,TRUE)","v":1},1265,{"$f":"POISSON(F1269,Berekening!$G$52,TRUE)","v":1},1265]
[{"$f":"POISSON(B1270,Berekening!$G$27,TRUE)","v":1},1266,{"$f":"POISSON(D1270,Berekening!$G$50,TRUE)","v":1},1266,{"$f":"POISSON(F1270,Berekening!$G$52,TRUE)","v":1},1266]
[{"$f":"POISSON(B1271,Berekening!$G$27,TRUE)","v":1},1267,{"$f":"POISSON(D1271,Berekening!$G$50,TRUE)","v":1},1267,{"$f":"POISSON(F1271,Berekening!$G$52,TRUE)","v":1},1267]
[{"$f":"POISSON(B1272,Berekening!$G$27,TRUE)","v":1},1268,{"$f":"POISSON(D1272,Berekening!$G$50,TRUE)","v":1},1268,{"$f":"POISSON(F1272,Berekening!$G$52,TRUE)","v":1},1268]
[{"$f":"POISSON(B1273,Berekening!$G$27,TRUE)","v":1},1269,{"$f":"POISSON(D1273,Berekening!$G$50,TRUE)","v":1},1269,{"$f":"POISSON(F1273,Berekening!$G$52,TRUE)","v":1},1269]
[{"$f":"POISSON(B1274,Berekening!$G$27,TRUE)","v":1},1270,{"$f":"POISSON(D1274,Berekening!$G$50,TRUE)","v":1},1270,{"$f":"POISSON(F1274,Berekening!$G$52,TRUE)","v":1},1270]
[{"$f":"POISSON(B1275,Berekening!$G$27,TRUE)","v":1},1271,{"$f":"POISSON(D1275,Berekening!$G$50,TRUE)","v":1},1271,{"$f":"POISSON(F1275,Berekening!$G$52,TRUE)","v":1},1271]
[{"$f":"POISSON(B1276,Berekening!$G$27,TRUE)","v":1},1272,{"$f":"POISSON(D1276,Berekening!$G$50,TRUE)","v":1},1272,{"$f":"POISSON(F1276,Berekening!$G$52,TRUE)","v":1},1272]
[{"$f":"POISSON(B1277,Berekening!$G$27,TRUE)","v":1},1273,{"$f":"POISSON(D1277,Berekening!$G$50,TRUE)","v":1},1273,{"$f":"POISSON(F1277,Berekening!$G$52,TRUE)","v":1},1273]
[{"$f":"POISSON(B1278,Berekening!$G$27,TRUE)","v":1},1274,{"$f":"POISSON(D1278,Berekening!$G$50,TRUE)","v":1},1274,{"$f":"POISSON(F1278,Berekening!$G$52,TRUE)","v":1},1274]
[{"$f":"POISSON(B1279,Berekening!$G$27,TRUE)","v":1},1275,{"$f":"POISSON(D1279,Berekening!$G$50,TRUE)","v":1},1275,{"$f":"POISSON(F1279,Berekening!$G$52,TRUE)","v":1},1275]
[{"$f":"POISSON(B1280,Berekening!$G$27,TRUE)","v":1},1276,{"$f":"POISSON(D1280,Berekening!$G$50,TRUE)","v":1},1276,{"$f":"POISSON(F1280,Berekening!$G$52,TRUE)","v":1},1276]
[{"$f":"POISSON(B1281,Berekening!$G$27,TRUE)","v":1},1277,{"$f":"POISSON(D1281,Berekening!$G$50,TRUE)","v":1},1277,{"$f":"POISSON(F1281,Berekening!$G$52,TRUE)","v":1},1277]
[{"$f":"POISSON(B1282,Berekening!$G$27,TRUE)","v":1},1278,{"$f":"POISSON(D1282,Berekening!$G$50,TRUE)","v":1},1278,{"$f":"POISSON(F1282,Berekening!$G$52,TRUE)","v":1},1278]
[{"$f":"POISSON(B1283,Berekening!$G$27,TRUE)","v":1},1279,{"$f":"POISSON(D1283,Berekening!$G$50,TRUE)","v":1},1279,{"$f":"POISSON(F1283,Berekening!$G$52,TRUE)","v":1},1279]
[{"$f":"POISSON(B1284,Berekening!$G$27,TRUE)","v":1},1280,{"$f":"POISSON(D1284,Berekening!$G$50,TRUE)","v":1},1280,{"$f":"POISSON(F1284,Berekening!$G$52,TRUE)","v":1},1280]
[{"$f":"POISSON(B1285,Berekening!$G$27,TRUE)","v":1},1281,{"$f":"POISSON(D1285,Berekening!$G$50,TRUE)","v":1},1281,{"$f":"POISSON(F1285,Berekening!$G$52,TRUE)","v":1},1281]
[{"$f":"POISSON(B1286,Berekening!$G$27,TRUE)","v":1},1282,{"$f":"POISSON(D1286,Berekening!$G$50,TRUE)","v":1},1282,{"$f":"POISSON(F1286,Berekening!$G$52,TRUE)","v":1},1282]
[{"$f":"POISSON(B1287,Berekening!$G$27,TRUE)","v":1},1283,{"$f":"POISSON(D1287,Berekening!$G$50,TRUE)","v":1},1283,{"$f":"POISSON(F1287,Berekening!$G$52,TRUE)","v":1},1283]
[{"$f":"POISSON(B1288,Berekening!$G$27,TRUE)","v":1},1284,{"$f":"POISSON(D1288,Berekening!$G$50,TRUE)","v":1},1284,{"$f":"POISSON(F1288,Berekening!$G$52,TRUE)","v":1},1284]
[{"$f":"POISSON(B1289,Berekening!$G$27,TRUE)","v":1},1285,{"$f":"POISSON(D1289,Berekening!$G$50,TRUE)","v":1},1285,{"$f":"POISSON(F1289,Berekening!$G$52,TRUE)","v":1},1285]
[{"$f":"POISSON(B1290,Berekening!$G$27,TRUE)","v":1},1286,{"$f":"POISSON(D1290,Berekening!$G$50,TRUE)","v":1},1286,{"$f":"POISSON(F1290,Berekening!$G$52,TRUE)","v":1},1286]
[{"$f":"POISSON(B1291,Berekening!$G$27,TRUE)","v":1},1287,{"$f":"POISSON(D1291,Berekening!$G$50,TRUE)","v":1},1287,{"$f":"POISSON(F1291,Berekening!$G$52,TRUE)","v":1},1287]
[{"$f":"POISSON(B1292,Berekening!$G$27,TRUE)","v":1},1288,{"$f":"POISSON(D1292,Berekening!$G$50,TRUE)","v":1},1288,{"$f":"POISSON(F1292,Berekening!$G$52,TRUE)","v":1},1288]
[{"$f":"POISSON(B1293,Berekening!$G$27,TRUE)","v":1},1289,{"$f":"POISSON(D1293,Berekening!$G$50,TRUE)","v":1},1289,{"$f":"POISSON(F1293,Berekening!$G$52,TRUE)","v":1},1289]
[{"$f":"POISSON(B1294,Berekening!$G$27,TRUE)","v":1},1290,{"$f":"POISSON(D1294,Berekening!$G$50,TRUE)","v":1},1290,{"$f":"POISSON(F1294,Berekening!$G$52,TRUE)","v":1},1290]
[{"$f":"POISSON(B1295,Berekening!$G$27,TRUE)","v":1},1291,{"$f":"POISSON(D1295,Berekening!$G$50,TRUE)","v":1},1291,{"$f":"POISSON(F1295,Berekening!$G$52,TRUE)","v":1},1291]
[{"$f":"POISSON(B1296,Berekening!$G$27,TRUE)","v":1},1292,{"$f":"POISSON(D1296,Berekening!$G$50,TRUE)","v":1},1292,{"$f":"POISSON(F1296,Berekening!$G$52,TRUE)","v":1},1292]
[{"$f":"POISSON(B1297,Berekening!$G$27,TRUE)","v":1},1293,{"$f":"POISSON(D1297,Berekening!$G$50,TRUE)","v":1},1293,{"$f":"POISSON(F1297,Berekening!$G$52,TRUE)","v":1},1293]
[{"$f":"POISSON(B1298,Berekening!$G$27,TRUE)","v":1},1294,{"$f":"POISSON(D1298,Berekening!$G$50,TRUE)","v":1},1294,{"$f":"POISSON(F1298,Berekening!$G$52,TRUE)","v":1},1294]
[{"$f":"POISSON(B1299,Berekening!$G$27,TRUE)","v":1},1295,{"$f":"POISSON(D1299,Berekening!$G$50,TRUE)","v":1},1295,{"$f":"POISSON(F1299,Berekening!$G$52,TRUE)","v":1},1295]
[{"$f":"POISSON(B1300,Berekening!$G$27,TRUE)","v":1},1296,{"$f":"POISSON(D1300,Berekening!$G$50,TRUE)","v":1},1296,{"$f":"POISSON(F1300,Berekening!$G$52,TRUE)","v":1},1296]
[{"$f":"POISSON(B1301,Berekening!$G$27,TRUE)","v":1},1297,{"$f":"POISSON(D1301,Berekening!$G$50,TRUE)","v":1},1297,{"$f":"POISSON(F1301,Berekening!$G$52,TRUE)","v":1},1297]
[{"$f":"POISSON(B1302,Berekening!$G$27,TRUE)","v":1},1298,{"$f":"POISSON(D1302,Berekening!$G$50,TRUE)","v":1},1298,{"$f":"POISSON(F1302,Berekening!$G$52,TRUE)","v":1},1298]
[{"$f":"POISSON(B1303,Berekening!$G$27,TRUE)","v":1},1299,{"$f":"POISSON(D1303,Berekening!$G$50,TRUE)","v":1},1299,{"$f":"POISSON(F1303,Berekening!$G$52,TRUE)","v":1},1299]
[{"$f":"POISSON(B1304,Berekening!$G$27,TRUE)","v":1},1300,{"$f":"POISSON(D1304,Berekening!$G$50,TRUE)","v":1},1300,{"$f":"POISSON(F1304,Berekening!$G$52,TRUE)","v":1},1300]
[{"$f":"POISSON(B1305,Berekening!$G$27,TRUE)","v":1},1301,{"$f":"POISSON(D1305,Berekening!$G$50,TRUE)","v":1},1301,{"$f":"POISSON(F1305,Berekening!$G$52,TRUE)","v":1},1301]
[{"$f":"POISSON(B1306,Berekening!$G$27,TRUE)","v":1},1302,{"$f":"POISSON(D1306,Berekening!$G$50,TRUE)","v":1},1302,{"$f":"POISSON(F1306,Berekening!$G$52,TRUE)","v":1},1302]
[{"$f":"POISSON(B1307,Berekening!$G$27,TRUE)","v":1},1303,{"$f":"POISSON(D1307,Berekening!$G$50,TRUE)","v":1},1303,{"$f":"POISSON(F1307,Berekening!$G$52,TRUE)","v":1},1303]
[{"$f":"POISSON(B1308,Berekening!$G$27,TRUE)","v":1},1304,{"$f":"POISSON(D1308,Berekening!$G$50,TRUE)","v":1},1304,{"$f":"POISSON(F1308,Berekening!$G$52,TRUE)","v":1},1304]
[{"$f":"POISSON(B1309,Berekening!$G$27,TRUE)","v":1},1305,{"$f":"POISSON(D1309,Berekening!$G$50,TRUE)","v":1},1305,{"$f":"POISSON(F1309,Berekening!$G$52,TRUE)","v":1},1305]
[{"$f":"POISSON(B1310,Berekening!$G$27,TRUE)","v":1},1306,{"$f":"POISSON(D1310,Berekening!$G$50,TRUE)","v":1},1306,{"$f":"POISSON(F1310,Berekening!$G$52,TRUE)","v":1},1306]
[{"$f":"POISSON(B1311,Berekening!$G$27,TRUE)","v":1},1307,{"$f":"POISSON(D1311,Berekening!$G$50,TRUE)","v":1},1307,{"$f":"POISSON(F1311,Berekening!$G$52,TRUE)","v":1},1307]
[{"$f":"POISSON(B1312,Berekening!$G$27,TRUE)","v":1},1308,{"$f":"POISSON(D1312,Berekening!$G$50,TRUE)","v":1},1308,{"$f":"POISSON(F1312,Berekening!$G$52,TRUE)","v":1},1308]
[{"$f":"POISSON(B1313,Berekening!$G$27,TRUE)","v":1},1309,{"$f":"POISSON(D1313,Berekening!$G$50,TRUE)","v":1},1309,{"$f":"POISSON(F1313,Berekening!$G$52,TRUE)","v":1},1309]
[{"$f":"POISSON(B1314,Berekening!$G$27,TRUE)","v":1},1310,{"$f":"POISSON(D1314,Berekening!$G$50,TRUE)","v":1},1310,{"$f":"POISSON(F1314,Berekening!$G$52,TRUE)","v":1},1310]
[{"$f":"POISSON(B1315,Berekening!$G$27,TRUE)","v":1},1311,{"$f":"POISSON(D1315,Berekening!$G$50,TRUE)","v":1},1311,{"$f":"POISSON(F1315,Berekening!$G$52,TRUE)","v":1},1311]
[{"$f":"POISSON(B1316,Berekening!$G$27,TRUE)","v":1},1312,{"$f":"POISSON(D1316,Berekening!$G$50,TRUE)","v":1},1312,{"$f":"POISSON(F1316,Berekening!$G$52,TRUE)","v":1},1312]
[{"$f":"POISSON(B1317,Berekening!$G$27,TRUE)","v":1},1313,{"$f":"POISSON(D1317,Berekening!$G$50,TRUE)","v":1},1313,{"$f":"POISSON(F1317,Berekening!$G$52,TRUE)","v":1},1313]
[{"$f":"POISSON(B1318,Berekening!$G$27,TRUE)","v":1},1314,{"$f":"POISSON(D1318,Berekening!$G$50,TRUE)","v":1},1314,{"$f":"POISSON(F1318,Berekening!$G$52,TRUE)","v":1},1314]
[{"$f":"POISSON(B1319,Berekening!$G$27,TRUE)","v":1},1315,{"$f":"POISSON(D1319,Berekening!$G$50,TRUE)","v":1},1315,{"$f":"POISSON(F1319,Berekening!$G$52,TRUE)","v":1},1315]
[{"$f":"POISSON(B1320,Berekening!$G$27,TRUE)","v":1},1316,{"$f":"POISSON(D1320,Berekening!$G$50,TRUE)","v":1},1316,{"$f":"POISSON(F1320,Berekening!$G$52,TRUE)","v":1},1316]
[{"$f":"POISSON(B1321,Berekening!$G$27,TRUE)","v":1},1317,{"$f":"POISSON(D1321,Berekening!$G$50,TRUE)","v":1},1317,{"$f":"POISSON(F1321,Berekening!$G$52,TRUE)","v":1},1317]
[{"$f":"POISSON(B1322,Berekening!$G$27,TRUE)","v":1},1318,{"$f":"POISSON(D1322,Berekening!$G$50,TRUE)","v":1},1318,{"$f":"POISSON(F1322,Berekening!$G$52,TRUE)","v":1},1318]
[{"$f":"POISSON(B1323,Berekening!$G$27,TRUE)","v":1},1319,{"$f":"POISSON(D1323,Berekening!$G$50,TRUE)","v":1},1319,{"$f":"POISSON(F1323,Berekening!$G$52,TRUE)","v":1},1319]
[{"$f":"POISSON(B1324,Berekening!$G$27,TRUE)","v":1},1320,{"$f":"POISSON(D1324,Berekening!$G$50,TRUE)","v":1},1320,{"$f":"POISSON(F1324,Berekening!$G$52,TRUE)","v":1},1320]
[{"$f":"POISSON(B1325,Berekening!$G$27,TRUE)","v":1},1321,{"$f":"POISSON(D1325,Berekening!$G$50,TRUE)","v":1},1321,{"$f":"POISSON(F1325,Berekening!$G$52,TRUE)","v":1},1321]
[{"$f":"POISSON(B1326,Berekening!$G$27,TRUE)","v":1},1322,{"$f":"POISSON(D1326,Berekening!$G$50,TRUE)","v":1},1322,{"$f":"POISSON(F1326,Berekening!$G$52,TRUE)","v":1},1322]
[{"$f":"POISSON(B1327,Berekening!$G$27,TRUE)","v":1},1323,{"$f":"POISSON(D1327,Berekening!$G$50,TRUE)","v":1},1323,{"$f":"POISSON(F1327,Berekening!$G$52,TRUE)","v":1},1323]
[{"$f":"POISSON(B1328,Berekening!$G$27,TRUE)","v":1},1324,{"$f":"POISSON(D1328,Berekening!$G$50,TRUE)","v":1},1324,{"$f":"POISSON(F1328,Berekening!$G$52,TRUE)","v":1},1324]
[{"$f":"POISSON(B1329,Berekening!$G$27,TRUE)","v":1},1325,{"$f":"POISSON(D1329,Berekening!$G$50,TRUE)","v":1},1325,{"$f":"POISSON(F1329,Berekening!$G$52,TRUE)","v":1},1325]
[{"$f":"POISSON(B1330,Berekening!$G$27,TRUE)","v":1},1326,{"$f":"POISSON(D1330,Berekening!$G$50,TRUE)","v":1},1326,{"$f":"POISSON(F1330,Berekening!$G$52,TRUE)","v":1},1326]
[{"$f":"POISSON(B1331,Berekening!$G$27,TRUE)","v":1},1327,{"$f":"POISSON(D1331,Berekening!$G$50,TRUE)","v":1},1327,{"$f":"POISSON(F1331,Berekening!$G$52,TRUE)","v":1},1327]
[{"$f":"POISSON(B1332,Berekening!$G$27,TRUE)","v":1},1328,{"$f":"POISSON(D1332,Berekening!$G$50,TRUE)","v":1},1328,{"$f":"POISSON(F1332,Berekening!$G$52,TRUE)","v":1},1328]
[{"$f":"POISSON(B1333,Berekening!$G$27,TRUE)","v":1},1329,{"$f":"POISSON(D1333,Berekening!$G$50,TRUE)","v":1},1329,{"$f":"POISSON(F1333,Berekening!$G$52,TRUE)","v":1},1329]
[{"$f":"POISSON(B1334,Berekening!$G$27,TRUE)","v":1},1330,{"$f":"POISSON(D1334,Berekening!$G$50,TRUE)","v":1},1330,{"$f":"POISSON(F1334,Berekening!$G$52,TRUE)","v":1},1330]
[{"$f":"POISSON(B1335,Berekening!$G$27,TRUE)","v":1},1331,{"$f":"POISSON(D1335,Berekening!$G$50,TRUE)","v":1},1331,{"$f":"POISSON(F1335,Berekening!$G$52,TRUE)","v":1},1331]
[{"$f":"POISSON(B1336,Berekening!$G$27,TRUE)","v":1},1332,{"$f":"POISSON(D1336,Berekening!$G$50,TRUE)","v":1},1332,{"$f":"POISSON(F1336,Berekening!$G$52,TRUE)","v":1},1332]
[{"$f":"POISSON(B1337,Berekening!$G$27,TRUE)","v":1},1333,{"$f":"POISSON(D1337,Berekening!$G$50,TRUE)","v":1},1333,{"$f":"POISSON(F1337,Berekening!$G$52,TRUE)","v":1},1333]
[{"$f":"POISSON(B1338,Berekening!$G$27,TRUE)","v":1},1334,{"$f":"POISSON(D1338,Berekening!$G$50,TRUE)","v":1},1334,{"$f":"POISSON(F1338,Berekening!$G$52,TRUE)","v":1},1334]
[{"$f":"POISSON(B1339,Berekening!$G$27,TRUE)","v":1},1335,{"$f":"POISSON(D1339,Berekening!$G$50,TRUE)","v":1},1335,{"$f":"POISSON(F1339,Berekening!$G$52,TRUE)","v":1},1335]
[{"$f":"POISSON(B1340,Berekening!$G$27,TRUE)","v":1},1336,{"$f":"POISSON(D1340,Berekening!$G$50,TRUE)","v":1},1336,{"$f":"POISSON(F1340,Berekening!$G$52,TRUE)","v":1},1336]
[{"$f":"POISSON(B1341,Berekening!$G$27,TRUE)","v":1},1337,{"$f":"POISSON(D1341,Berekening!$G$50,TRUE)","v":1},1337,{"$f":"POISSON(F1341,Berekening!$G$52,TRUE)","v":1},1337]
[{"$f":"POISSON(B1342,Berekening!$G$27,TRUE)","v":1},1338,{"$f":"POISSON(D1342,Berekening!$G$50,TRUE)","v":1},1338,{"$f":"POISSON(F1342,Berekening!$G$52,TRUE)","v":1},1338]
[{"$f":"POISSON(B1343,Berekening!$G$27,TRUE)","v":1},1339,{"$f":"POISSON(D1343,Berekening!$G$50,TRUE)","v":1},1339,{"$f":"POISSON(F1343,Berekening!$G$52,TRUE)","v":1},1339]
[{"$f":"POISSON(B1344,Berekening!$G$27,TRUE)","v":1},1340,{"$f":"POISSON(D1344,Berekening!$G$50,TRUE)","v":1},1340,{"$f":"POISSON(F1344,Berekening!$G$52,TRUE)","v":1},1340]
[{"$f":"POISSON(B1345,Berekening!$G$27,TRUE)","v":1},1341,{"$f":"POISSON(D1345,Berekening!$G$50,TRUE)","v":1},1341,{"$f":"POISSON(F1345,Berekening!$G$52,TRUE)","v":1},1341]
[{"$f":"POISSON(B1346,Berekening!$G$27,TRUE)","v":1},1342,{"$f":"POISSON(D1346,Berekening!$G$50,TRUE)","v":1},1342,{"$f":"POISSON(F1346,Berekening!$G$52,TRUE)","v":1},1342]
[{"$f":"POISSON(B1347,Berekening!$G$27,TRUE)","v":1},1343,{"$f":"POISSON(D1347,Berekening!$G$50,TRUE)","v":1},1343,{"$f":"POISSON(F1347,Berekening!$G$52,TRUE)","v":1},1343]
[{"$f":"POISSON(B1348,Berekening!$G$27,TRUE)","v":1},1344,{"$f":"POISSON(D1348,Berekening!$G$50,TRUE)","v":1},1344,{"$f":"POISSON(F1348,Berekening!$G$52,TRUE)","v":1},1344]
[{"$f":"POISSON(B1349,Berekening!$G$27,TRUE)","v":1},1345,{"$f":"POISSON(D1349,Berekening!$G$50,TRUE)","v":1},1345,{"$f":"POISSON(F1349,Berekening!$G$52,TRUE)","v":1},1345]
[{"$f":"POISSON(B1350,Berekening!$G$27,TRUE)","v":1},1346,{"$f":"POISSON(D1350,Berekening!$G$50,TRUE)","v":1},1346,{"$f":"POISSON(F1350,Berekening!$G$52,TRUE)","v":1},1346]
[{"$f":"POISSON(B1351,Berekening!$G$27,TRUE)","v":1},1347,{"$f":"POISSON(D1351,Berekening!$G$50,TRUE)","v":1},1347,{"$f":"POISSON(F1351,Berekening!$G$52,TRUE)","v":1},1347]
[{"$f":"POISSON(B1352,Berekening!$G$27,TRUE)","v":1},1348,{"$f":"POISSON(D1352,Berekening!$G$50,TRUE)","v":1},1348,{"$f":"POISSON(F1352,Berekening!$G$52,TRUE)","v":1},1348]
[{"$f":"POISSON(B1353,Berekening!$G$27,TRUE)","v":1},1349,{"$f":"POISSON(D1353,Berekening!$G$50,TRUE)","v":1},1349,{"$f":"POISSON(F1353,Berekening!$G$52,TRUE)","v":1},1349]
[{"$f":"POISSON(B1354,Berekening!$G$27,TRUE)","v":1},1350,{"$f":"POISSON(D1354,Berekening!$G$50,TRUE)","v":1},1350,{"$f":"POISSON(F1354,Berekening!$G$52,TRUE)","v":1},1350]
[{"$f":"POISSON(B1355,Berekening!$G$27,TRUE)","v":1},1351,{"$f":"POISSON(D1355,Berekening!$G$50,TRUE)","v":1},1351,{"$f":"POISSON(F1355,Berekening!$G$52,TRUE)","v":1},1351]
[{"$f":"POISSON(B1356,Berekening!$G$27,TRUE)","v":1},1352,{"$f":"POISSON(D1356,Berekening!$G$50,TRUE)","v":1},1352,{"$f":"POISSON(F1356,Berekening!$G$52,TRUE)","v":1},1352]
[{"$f":"POISSON(B1357,Berekening!$G$27,TRUE)","v":1},1353,{"$f":"POISSON(D1357,Berekening!$G$50,TRUE)","v":1},1353,{"$f":"POISSON(F1357,Berekening!$G$52,TRUE)","v":1},1353]
[{"$f":"POISSON(B1358,Berekening!$G$27,TRUE)","v":1},1354,{"$f":"POISSON(D1358,Berekening!$G$50,TRUE)","v":1},1354,{"$f":"POISSON(F1358,Berekening!$G$52,TRUE)","v":1},1354]
[{"$f":"POISSON(B1359,Berekening!$G$27,TRUE)","v":1},1355,{"$f":"POISSON(D1359,Berekening!$G$50,TRUE)","v":1},1355,{"$f":"POISSON(F1359,Berekening!$G$52,TRUE)","v":1},1355]
[{"$f":"POISSON(B1360,Berekening!$G$27,TRUE)","v":1},1356,{"$f":"POISSON(D1360,Berekening!$G$50,TRUE)","v":1},1356,{"$f":"POISSON(F1360,Berekening!$G$52,TRUE)","v":1},1356]
[{"$f":"POISSON(B1361,Berekening!$G$27,TRUE)","v":1},1357,{"$f":"POISSON(D1361,Berekening!$G$50,TRUE)","v":1},1357,{"$f":"POISSON(F1361,Berekening!$G$52,TRUE)","v":1},1357]
[{"$f":"POISSON(B1362,Berekening!$G$27,TRUE)","v":1},1358,{"$f":"POISSON(D1362,Berekening!$G$50,TRUE)","v":1},1358,{"$f":"POISSON(F1362,Berekening!$G$52,TRUE)","v":1},1358]
[{"$f":"POISSON(B1363,Berekening!$G$27,TRUE)","v":1},1359,{"$f":"POISSON(D1363,Berekening!$G$50,TRUE)","v":1},1359,{"$f":"POISSON(F1363,Berekening!$G$52,TRUE)","v":1},1359]
[{"$f":"POISSON(B1364,Berekening!$G$27,TRUE)","v":1},1360,{"$f":"POISSON(D1364,Berekening!$G$50,TRUE)","v":1},1360,{"$f":"POISSON(F1364,Berekening!$G$52,TRUE)","v":1},1360]
[{"$f":"POISSON(B1365,Berekening!$G$27,TRUE)","v":1},1361,{"$f":"POISSON(D1365,Berekening!$G$50,TRUE)","v":1},1361,{"$f":"POISSON(F1365,Berekening!$G$52,TRUE)","v":1},1361]
[{"$f":"POISSON(B1366,Berekening!$G$27,TRUE)","v":1},1362,{"$f":"POISSON(D1366,Berekening!$G$50,TRUE)","v":1},1362,{"$f":"POISSON(F1366,Berekening!$G$52,TRUE)","v":1},1362]
[{"$f":"POISSON(B1367,Berekening!$G$27,TRUE)","v":1},1363,{"$f":"POISSON(D1367,Berekening!$G$50,TRUE)","v":1},1363,{"$f":"POISSON(F1367,Berekening!$G$52,TRUE)","v":1},1363]
[{"$f":"POISSON(B1368,Berekening!$G$27,TRUE)","v":1},1364,{"$f":"POISSON(D1368,Berekening!$G$50,TRUE)","v":1},1364,{"$f":"POISSON(F1368,Berekening!$G$52,TRUE)","v":1},1364]
[{"$f":"POISSON(B1369,Berekening!$G$27,TRUE)","v":1},1365,{"$f":"POISSON(D1369,Berekening!$G$50,TRUE)","v":1},1365,{"$f":"POISSON(F1369,Berekening!$G$52,TRUE)","v":1},1365]
[{"$f":"POISSON(B1370,Berekening!$G$27,TRUE)","v":1},1366,{"$f":"POISSON(D1370,Berekening!$G$50,TRUE)","v":1},1366,{"$f":"POISSON(F1370,Berekening!$G$52,TRUE)","v":1},1366]
[{"$f":"POISSON(B1371,Berekening!$G$27,TRUE)","v":1},1367,{"$f":"POISSON(D1371,Berekening!$G$50,TRUE)","v":1},1367,{"$f":"POISSON(F1371,Berekening!$G$52,TRUE)","v":1},1367]
[{"$f":"POISSON(B1372,Berekening!$G$27,TRUE)","v":1},1368,{"$f":"POISSON(D1372,Berekening!$G$50,TRUE)","v":1},1368,{"$f":"POISSON(F1372,Berekening!$G$52,TRUE)","v":1},1368]
[{"$f":"POISSON(B1373,Berekening!$G$27,TRUE)","v":1},1369,{"$f":"POISSON(D1373,Berekening!$G$50,TRUE)","v":1},1369,{"$f":"POISSON(F1373,Berekening!$G$52,TRUE)","v":1},1369]
[{"$f":"POISSON(B1374,Berekening!$G$27,TRUE)","v":1},1370,{"$f":"POISSON(D1374,Berekening!$G$50,TRUE)","v":1},1370,{"$f":"POISSON(F1374,Berekening!$G$52,TRUE)","v":1},1370]
[{"$f":"POISSON(B1375,Berekening!$G$27,TRUE)","v":1},1371,{"$f":"POISSON(D1375,Berekening!$G$50,TRUE)","v":1},1371,{"$f":"POISSON(F1375,Berekening!$G$52,TRUE)","v":1},1371]
[{"$f":"POISSON(B1376,Berekening!$G$27,TRUE)","v":1},1372,{"$f":"POISSON(D1376,Berekening!$G$50,TRUE)","v":1},1372,{"$f":"POISSON(F1376,Berekening!$G$52,TRUE)","v":1},1372]
[{"$f":"POISSON(B1377,Berekening!$G$27,TRUE)","v":1},1373,{"$f":"POISSON(D1377,Berekening!$G$50,TRUE)","v":1},1373,{"$f":"POISSON(F1377,Berekening!$G$52,TRUE)","v":1},1373]
[{"$f":"POISSON(B1378,Berekening!$G$27,TRUE)","v":1},1374,{"$f":"POISSON(D1378,Berekening!$G$50,TRUE)","v":1},1374,{"$f":"POISSON(F1378,Berekening!$G$52,TRUE)","v":1},1374]
[{"$f":"POISSON(B1379,Berekening!$G$27,TRUE)","v":1},1375,{"$f":"POISSON(D1379,Berekening!$G$50,TRUE)","v":1},1375,{"$f":"POISSON(F1379,Berekening!$G$52,TRUE)","v":1},1375]
[{"$f":"POISSON(B1380,Berekening!$G$27,TRUE)","v":1},1376,{"$f":"POISSON(D1380,Berekening!$G$50,TRUE)","v":1},1376,{"$f":"POISSON(F1380,Berekening!$G$52,TRUE)","v":1},1376]
[{"$f":"POISSON(B1381,Berekening!$G$27,TRUE)","v":1},1377,{"$f":"POISSON(D1381,Berekening!$G$50,TRUE)","v":1},1377,{"$f":"POISSON(F1381,Berekening!$G$52,TRUE)","v":1},1377]
[{"$f":"POISSON(B1382,Berekening!$G$27,TRUE)","v":1},1378,{"$f":"POISSON(D1382,Berekening!$G$50,TRUE)","v":1},1378,{"$f":"POISSON(F1382,Berekening!$G$52,TRUE)","v":1},1378]
[{"$f":"POISSON(B1383,Berekening!$G$27,TRUE)","v":1},1379,{"$f":"POISSON(D1383,Berekening!$G$50,TRUE)","v":1},1379,{"$f":"POISSON(F1383,Berekening!$G$52,TRUE)","v":1},1379]
[{"$f":"POISSON(B1384,Berekening!$G$27,TRUE)","v":1},1380,{"$f":"POISSON(D1384,Berekening!$G$50,TRUE)","v":1},1380,{"$f":"POISSON(F1384,Berekening!$G$52,TRUE)","v":1},1380]
[{"$f":"POISSON(B1385,Berekening!$G$27,TRUE)","v":1},1381,{"$f":"POISSON(D1385,Berekening!$G$50,TRUE)","v":1},1381,{"$f":"POISSON(F1385,Berekening!$G$52,TRUE)","v":1},1381]
[{"$f":"POISSON(B1386,Berekening!$G$27,TRUE)","v":1},1382,{"$f":"POISSON(D1386,Berekening!$G$50,TRUE)","v":1},1382,{"$f":"POISSON(F1386,Berekening!$G$52,TRUE)","v":1},1382]
[{"$f":"POISSON(B1387,Berekening!$G$27,TRUE)","v":1},1383,{"$f":"POISSON(D1387,Berekening!$G$50,TRUE)","v":1},1383,{"$f":"POISSON(F1387,Berekening!$G$52,TRUE)","v":1},1383]
[{"$f":"POISSON(B1388,Berekening!$G$27,TRUE)","v":1},1384,{"$f":"POISSON(D1388,Berekening!$G$50,TRUE)","v":1},1384,{"$f":"POISSON(F1388,Berekening!$G$52,TRUE)","v":1},1384]
[{"$f":"POISSON(B1389,Berekening!$G$27,TRUE)","v":1},1385,{"$f":"POISSON(D1389,Berekening!$G$50,TRUE)","v":1},1385,{"$f":"POISSON(F1389,Berekening!$G$52,TRUE)","v":1},1385]
[{"$f":"POISSON(B1390,Berekening!$G$27,TRUE)","v":1},1386,{"$f":"POISSON(D1390,Berekening!$G$50,TRUE)","v":1},1386,{"$f":"POISSON(F1390,Berekening!$G$52,TRUE)","v":1},1386]
[{"$f":"POISSON(B1391,Berekening!$G$27,TRUE)","v":1},1387,{"$f":"POISSON(D1391,Berekening!$G$50,TRUE)","v":1},1387,{"$f":"POISSON(F1391,Berekening!$G$52,TRUE)","v":1},1387]
[{"$f":"POISSON(B1392,Berekening!$G$27,TRUE)","v":1},1388,{"$f":"POISSON(D1392,Berekening!$G$50,TRUE)","v":1},1388,{"$f":"POISSON(F1392,Berekening!$G$52,TRUE)","v":1},1388]
[{"$f":"POISSON(B1393,Berekening!$G$27,TRUE)","v":1},1389,{"$f":"POISSON(D1393,Berekening!$G$50,TRUE)","v":1},1389,{"$f":"POISSON(F1393,Berekening!$G$52,TRUE)","v":1},1389]
[{"$f":"POISSON(B1394,Berekening!$G$27,TRUE)","v":1},1390,{"$f":"POISSON(D1394,Berekening!$G$50,TRUE)","v":1},1390,{"$f":"POISSON(F1394,Berekening!$G$52,TRUE)","v":1},1390]
[{"$f":"POISSON(B1395,Berekening!$G$27,TRUE)","v":1},1391,{"$f":"POISSON(D1395,Berekening!$G$50,TRUE)","v":1},1391,{"$f":"POISSON(F1395,Berekening!$G$52,TRUE)","v":1},1391]
[{"$f":"POISSON(B1396,Berekening!$G$27,TRUE)","v":1},1392,{"$f":"POISSON(D1396,Berekening!$G$50,TRUE)","v":1},1392,{"$f":"POISSON(F1396,Berekening!$G$52,TRUE)","v":1},1392]
[{"$f":"POISSON(B1397,Berekening!$G$27,TRUE)","v":1},1393,{"$f":"POISSON(D1397,Berekening!$G$50,TRUE)","v":1},1393,{"$f":"POISSON(F1397,Berekening!$G$52,TRUE)","v":1},1393]
[{"$f":"POISSON(B1398,Berekening!$G$27,TRUE)","v":1},1394,{"$f":"POISSON(D1398,Berekening!$G$50,TRUE)","v":1},1394,{"$f":"POISSON(F1398,Berekening!$G$52,TRUE)","v":1},1394]
[{"$f":"POISSON(B1399,Berekening!$G$27,TRUE)","v":1},1395,{"$f":"POISSON(D1399,Berekening!$G$50,TRUE)","v":1},1395,{"$f":"POISSON(F1399,Berekening!$G$52,TRUE)","v":1},1395]
[{"$f":"POISSON(B1400,Berekening!$G$27,TRUE)","v":1},1396,{"$f":"POISSON(D1400,Berekening!$G$50,TRUE)","v":1},1396,{"$f":"POISSON(F1400,Berekening!$G$52,TRUE)","v":1},1396]
[{"$f":"POISSON(B1401,Berekening!$G$27,TRUE)","v":1},1397,{"$f":"POISSON(D1401,Berekening!$G$50,TRUE)","v":1},1397,{"$f":"POISSON(F1401,Berekening!$G$52,TRUE)","v":1},1397]
[{"$f":"POISSON(B1402,Berekening!$G$27,TRUE)","v":1},1398,{"$f":"POISSON(D1402,Berekening!$G$50,TRUE)","v":1},1398,{"$f":"POISSON(F1402,Berekening!$G$52,TRUE)","v":1},1398]
[{"$f":"POISSON(B1403,Berekening!$G$27,TRUE)","v":1},1399,{"$f":"POISSON(D1403,Berekening!$G$50,TRUE)","v":1},1399,{"$f":"POISSON(F1403,Berekening!$G$52,TRUE)","v":1},1399]
[{"$f":"POISSON(B1404,Berekening!$G$27,TRUE)","v":1},1400,{"$f":"POISSON(D1404,Berekening!$G$50,TRUE)","v":1},1400,{"$f":"POISSON(F1404,Berekening!$G$52,TRUE)","v":1},1400]
[{"$f":"POISSON(B1405,Berekening!$G$27,TRUE)","v":1},1401,{"$f":"POISSON(D1405,Berekening!$G$50,TRUE)","v":1},1401,{"$f":"POISSON(F1405,Berekening!$G$52,TRUE)","v":1},1401]
[{"$f":"POISSON(B1406,Berekening!$G$27,TRUE)","v":1},1402,{"$f":"POISSON(D1406,Berekening!$G$50,TRUE)","v":1},1402,{"$f":"POISSON(F1406,Berekening!$G$52,TRUE)","v":1},1402]
[{"$f":"POISSON(B1407,Berekening!$G$27,TRUE)","v":1},1403,{"$f":"POISSON(D1407,Berekening!$G$50,TRUE)","v":1},1403,{"$f":"POISSON(F1407,Berekening!$G$52,TRUE)","v":1},1403]
[{"$f":"POISSON(B1408,Berekening!$G$27,TRUE)","v":1},1404,{"$f":"POISSON(D1408,Berekening!$G$50,TRUE)","v":1},1404,{"$f":"POISSON(F1408,Berekening!$G$52,TRUE)","v":1},1404]
[{"$f":"POISSON(B1409,Berekening!$G$27,TRUE)","v":1},1405,{"$f":"POISSON(D1409,Berekening!$G$50,TRUE)","v":1},1405,{"$f":"POISSON(F1409,Berekening!$G$52,TRUE)","v":1},1405]
[{"$f":"POISSON(B1410,Berekening!$G$27,TRUE)","v":1},1406,{"$f":"POISSON(D1410,Berekening!$G$50,TRUE)","v":1},1406,{"$f":"POISSON(F1410,Berekening!$G$52,TRUE)","v":1},1406]
[{"$f":"POISSON(B1411,Berekening!$G$27,TRUE)","v":1},1407,{"$f":"POISSON(D1411,Berekening!$G$50,TRUE)","v":1},1407,{"$f":"POISSON(F1411,Berekening!$G$52,TRUE)","v":1},1407]
[{"$f":"POISSON(B1412,Berekening!$G$27,TRUE)","v":1},1408,{"$f":"POISSON(D1412,Berekening!$G$50,TRUE)","v":1},1408,{"$f":"POISSON(F1412,Berekening!$G$52,TRUE)","v":1},1408]
[{"$f":"POISSON(B1413,Berekening!$G$27,TRUE)","v":1},1409,{"$f":"POISSON(D1413,Berekening!$G$50,TRUE)","v":1},1409,{"$f":"POISSON(F1413,Berekening!$G$52,TRUE)","v":1},1409]
[{"$f":"POISSON(B1414,Berekening!$G$27,TRUE)","v":1},1410,{"$f":"POISSON(D1414,Berekening!$G$50,TRUE)","v":1},1410,{"$f":"POISSON(F1414,Berekening!$G$52,TRUE)","v":1},1410]
[{"$f":"POISSON(B1415,Berekening!$G$27,TRUE)","v":1},1411,{"$f":"POISSON(D1415,Berekening!$G$50,TRUE)","v":1},1411,{"$f":"POISSON(F1415,Berekening!$G$52,TRUE)","v":1},1411]
[{"$f":"POISSON(B1416,Berekening!$G$27,TRUE)","v":1},1412,{"$f":"POISSON(D1416,Berekening!$G$50,TRUE)","v":1},1412,{"$f":"POISSON(F1416,Berekening!$G$52,TRUE)","v":1},1412]
[{"$f":"POISSON(B1417,Berekening!$G$27,TRUE)","v":1},1413,{"$f":"POISSON(D1417,Berekening!$G$50,TRUE)","v":1},1413,{"$f":"POISSON(F1417,Berekening!$G$52,TRUE)","v":1},1413]
[{"$f":"POISSON(B1418,Berekening!$G$27,TRUE)","v":1},1414,{"$f":"POISSON(D1418,Berekening!$G$50,TRUE)","v":1},1414,{"$f":"POISSON(F1418,Berekening!$G$52,TRUE)","v":1},1414]
[{"$f":"POISSON(B1419,Berekening!$G$27,TRUE)","v":1},1415,{"$f":"POISSON(D1419,Berekening!$G$50,TRUE)","v":1},1415,{"$f":"POISSON(F1419,Berekening!$G$52,TRUE)","v":1},1415]
[{"$f":"POISSON(B1420,Berekening!$G$27,TRUE)","v":1},1416,{"$f":"POISSON(D1420,Berekening!$G$50,TRUE)","v":1},1416,{"$f":"POISSON(F1420,Berekening!$G$52,TRUE)","v":1},1416]
[{"$f":"POISSON(B1421,Berekening!$G$27,TRUE)","v":1},1417,{"$f":"POISSON(D1421,Berekening!$G$50,TRUE)","v":1},1417,{"$f":"POISSON(F1421,Berekening!$G$52,TRUE)","v":1},1417]
[{"$f":"POISSON(B1422,Berekening!$G$27,TRUE)","v":1},1418,{"$f":"POISSON(D1422,Berekening!$G$50,TRUE)","v":1},1418,{"$f":"POISSON(F1422,Berekening!$G$52,TRUE)","v":1},1418]
[{"$f":"POISSON(B1423,Berekening!$G$27,TRUE)","v":1},1419,{"$f":"POISSON(D1423,Berekening!$G$50,TRUE)","v":1},1419,{"$f":"POISSON(F1423,Berekening!$G$52,TRUE)","v":1},1419]
[{"$f":"POISSON(B1424,Berekening!$G$27,TRUE)","v":1},1420,{"$f":"POISSON(D1424,Berekening!$G$50,TRUE)","v":1},1420,{"$f":"POISSON(F1424,Berekening!$G$52,TRUE)","v":1},1420]
[{"$f":"POISSON(B1425,Berekening!$G$27,TRUE)","v":1},1421,{"$f":"POISSON(D1425,Berekening!$G$50,TRUE)","v":1},1421,{"$f":"POISSON(F1425,Berekening!$G$52,TRUE)","v":1},1421]
[{"$f":"POISSON(B1426,Berekening!$G$27,TRUE)","v":1},1422,{"$f":"POISSON(D1426,Berekening!$G$50,TRUE)","v":1},1422,{"$f":"POISSON(F1426,Berekening!$G$52,TRUE)","v":1},1422]
[{"$f":"POISSON(B1427,Berekening!$G$27,TRUE)","v":1},1423,{"$f":"POISSON(D1427,Berekening!$G$50,TRUE)","v":1},1423,{"$f":"POISSON(F1427,Berekening!$G$52,TRUE)","v":1},1423]
[{"$f":"POISSON(B1428,Berekening!$G$27,TRUE)","v":1},1424,{"$f":"POISSON(D1428,Berekening!$G$50,TRUE)","v":1},1424,{"$f":"POISSON(F1428,Berekening!$G$52,TRUE)","v":1},1424]
[{"$f":"POISSON(B1429,Berekening!$G$27,TRUE)","v":1},1425,{"$f":"POISSON(D1429,Berekening!$G$50,TRUE)","v":1},1425,{"$f":"POISSON(F1429,Berekening!$G$52,TRUE)","v":1},1425]
[{"$f":"POISSON(B1430,Berekening!$G$27,TRUE)","v":1},1426,{"$f":"POISSON(D1430,Berekening!$G$50,TRUE)","v":1},1426,{"$f":"POISSON(F1430,Berekening!$G$52,TRUE)","v":1},1426]
[{"$f":"POISSON(B1431,Berekening!$G$27,TRUE)","v":1},1427,{"$f":"POISSON(D1431,Berekening!$G$50,TRUE)","v":1},1427,{"$f":"POISSON(F1431,Berekening!$G$52,TRUE)","v":1},1427]
[{"$f":"POISSON(B1432,Berekening!$G$27,TRUE)","v":1},1428,{"$f":"POISSON(D1432,Berekening!$G$50,TRUE)","v":1},1428,{"$f":"POISSON(F1432,Berekening!$G$52,TRUE)","v":1},1428]
[{"$f":"POISSON(B1433,Berekening!$G$27,TRUE)","v":1},1429,{"$f":"POISSON(D1433,Berekening!$G$50,TRUE)","v":1},1429,{"$f":"POISSON(F1433,Berekening!$G$52,TRUE)","v":1},1429]
[{"$f":"POISSON(B1434,Berekening!$G$27,TRUE)","v":1},1430,{"$f":"POISSON(D1434,Berekening!$G$50,TRUE)","v":1},1430,{"$f":"POISSON(F1434,Berekening!$G$52,TRUE)","v":1},1430]
[{"$f":"POISSON(B1435,Berekening!$G$27,TRUE)","v":1},1431,{"$f":"POISSON(D1435,Berekening!$G$50,TRUE)","v":1},1431,{"$f":"POISSON(F1435,Berekening!$G$52,TRUE)","v":1},1431]
[{"$f":"POISSON(B1436,Berekening!$G$27,TRUE)","v":1},1432,{"$f":"POISSON(D1436,Berekening!$G$50,TRUE)","v":1},1432,{"$f":"POISSON(F1436,Berekening!$G$52,TRUE)","v":1},1432]
[{"$f":"POISSON(B1437,Berekening!$G$27,TRUE)","v":1},1433,{"$f":"POISSON(D1437,Berekening!$G$50,TRUE)","v":1},1433,{"$f":"POISSON(F1437,Berekening!$G$52,TRUE)","v":1},1433]
[{"$f":"POISSON(B1438,Berekening!$G$27,TRUE)","v":1},1434,{"$f":"POISSON(D1438,Berekening!$G$50,TRUE)","v":1},1434,{"$f":"POISSON(F1438,Berekening!$G$52,TRUE)","v":1},1434]
[{"$f":"POISSON(B1439,Berekening!$G$27,TRUE)","v":1},1435,{"$f":"POISSON(D1439,Berekening!$G$50,TRUE)","v":1},1435,{"$f":"POISSON(F1439,Berekening!$G$52,TRUE)","v":1},1435]
[{"$f":"POISSON(B1440,Berekening!$G$27,TRUE)","v":1},1436,{"$f":"POISSON(D1440,Berekening!$G$50,TRUE)","v":1},1436,{"$f":"POISSON(F1440,Berekening!$G$52,TRUE)","v":1},1436]
[{"$f":"POISSON(B1441,Berekening!$G$27,TRUE)","v":1},1437,{"$f":"POISSON(D1441,Berekening!$G$50,TRUE)","v":1},1437,{"$f":"POISSON(F1441,Berekening!$G$52,TRUE)","v":1},1437]
[{"$f":"POISSON(B1442,Berekening!$G$27,TRUE)","v":1},1438,{"$f":"POISSON(D1442,Berekening!$G$50,TRUE)","v":1},1438,{"$f":"POISSON(F1442,Berekening!$G$52,TRUE)","v":1},1438]
[{"$f":"POISSON(B1443,Berekening!$G$27,TRUE)","v":1},1439,{"$f":"POISSON(D1443,Berekening!$G$50,TRUE)","v":1},1439,{"$f":"POISSON(F1443,Berekening!$G$52,TRUE)","v":1},1439]
[{"$f":"POISSON(B1444,Berekening!$G$27,TRUE)","v":1},1440,{"$f":"POISSON(D1444,Berekening!$G$50,TRUE)","v":1},1440,{"$f":"POISSON(F1444,Berekening!$G$52,TRUE)","v":1},1440]
[{"$f":"POISSON(B1445,Berekening!$G$27,TRUE)","v":1},1441,{"$f":"POISSON(D1445,Berekening!$G$50,TRUE)","v":1},1441,{"$f":"POISSON(F1445,Berekening!$G$52,TRUE)","v":1},1441]
[{"$f":"POISSON(B1446,Berekening!$G$27,TRUE)","v":1},1442,{"$f":"POISSON(D1446,Berekening!$G$50,TRUE)","v":1},1442,{"$f":"POISSON(F1446,Berekening!$G$52,TRUE)","v":1},1442]
[{"$f":"POISSON(B1447,Berekening!$G$27,TRUE)","v":1},1443,{"$f":"POISSON(D1447,Berekening!$G$50,TRUE)","v":1},1443,{"$f":"POISSON(F1447,Berekening!$G$52,TRUE)","v":1},1443]
[{"$f":"POISSON(B1448,Berekening!$G$27,TRUE)","v":1},1444,{"$f":"POISSON(D1448,Berekening!$G$50,TRUE)","v":1},1444,{"$f":"POISSON(F1448,Berekening!$G$52,TRUE)","v":1},1444]
[{"$f":"POISSON(B1449,Berekening!$G$27,TRUE)","v":1},1445,{"$f":"POISSON(D1449,Berekening!$G$50,TRUE)","v":1},1445,{"$f":"POISSON(F1449,Berekening!$G$52,TRUE)","v":1},1445]
[{"$f":"POISSON(B1450,Berekening!$G$27,TRUE)","v":1},1446,{"$f":"POISSON(D1450,Berekening!$G$50,TRUE)","v":1},1446,{"$f":"POISSON(F1450,Berekening!$G$52,TRUE)","v":1},1446]
[{"$f":"POISSON(B1451,Berekening!$G$27,TRUE)","v":1},1447,{"$f":"POISSON(D1451,Berekening!$G$50,TRUE)","v":1},1447,{"$f":"POISSON(F1451,Berekening!$G$52,TRUE)","v":1},1447]
[{"$f":"POISSON(B1452,Berekening!$G$27,TRUE)","v":1},1448,{"$f":"POISSON(D1452,Berekening!$G$50,TRUE)","v":1},1448,{"$f":"POISSON(F1452,Berekening!$G$52,TRUE)","v":1},1448]
[{"$f":"POISSON(B1453,Berekening!$G$27,TRUE)","v":1},1449,{"$f":"POISSON(D1453,Berekening!$G$50,TRUE)","v":1},1449,{"$f":"POISSON(F1453,Berekening!$G$52,TRUE)","v":1},1449]
[{"$f":"POISSON(B1454,Berekening!$G$27,TRUE)","v":1},1450,{"$f":"POISSON(D1454,Berekening!$G$50,TRUE)","v":1},1450,{"$f":"POISSON(F1454,Berekening!$G$52,TRUE)","v":1},1450]
[{"$f":"POISSON(B1455,Berekening!$G$27,TRUE)","v":1},1451,{"$f":"POISSON(D1455,Berekening!$G$50,TRUE)","v":1},1451,{"$f":"POISSON(F1455,Berekening!$G$52,TRUE)","v":1},1451]
[{"$f":"POISSON(B1456,Berekening!$G$27,TRUE)","v":1},1452,{"$f":"POISSON(D1456,Berekening!$G$50,TRUE)","v":1},1452,{"$f":"POISSON(F1456,Berekening!$G$52,TRUE)","v":1},1452]
[{"$f":"POISSON(B1457,Berekening!$G$27,TRUE)","v":1},1453,{"$f":"POISSON(D1457,Berekening!$G$50,TRUE)","v":1},1453,{"$f":"POISSON(F1457,Berekening!$G$52,TRUE)","v":1},1453]
[{"$f":"POISSON(B1458,Berekening!$G$27,TRUE)","v":1},1454,{"$f":"POISSON(D1458,Berekening!$G$50,TRUE)","v":1},1454,{"$f":"POISSON(F1458,Berekening!$G$52,TRUE)","v":1},1454]
[{"$f":"POISSON(B1459,Berekening!$G$27,TRUE)","v":1},1455,{"$f":"POISSON(D1459,Berekening!$G$50,TRUE)","v":1},1455,{"$f":"POISSON(F1459,Berekening!$G$52,TRUE)","v":1},1455]
[{"$f":"POISSON(B1460,Berekening!$G$27,TRUE)","v":1},1456,{"$f":"POISSON(D1460,Berekening!$G$50,TRUE)","v":1},1456,{"$f":"POISSON(F1460,Berekening!$G$52,TRUE)","v":1},1456]
[{"$f":"POISSON(B1461,Berekening!$G$27,TRUE)","v":1},1457,{"$f":"POISSON(D1461,Berekening!$G$50,TRUE)","v":1},1457,{"$f":"POISSON(F1461,Berekening!$G$52,TRUE)","v":1},1457]
[{"$f":"POISSON(B1462,Berekening!$G$27,TRUE)","v":1},1458,{"$f":"POISSON(D1462,Berekening!$G$50,TRUE)","v":1},1458,{"$f":"POISSON(F1462,Berekening!$G$52,TRUE)","v":1},1458]
[{"$f":"POISSON(B1463,Berekening!$G$27,TRUE)","v":1},1459,{"$f":"POISSON(D1463,Berekening!$G$50,TRUE)","v":1},1459,{"$f":"POISSON(F1463,Berekening!$G$52,TRUE)","v":1},1459]
[{"$f":"POISSON(B1464,Berekening!$G$27,TRUE)","v":1},1460,{"$f":"POISSON(D1464,Berekening!$G$50,TRUE)","v":1},1460,{"$f":"POISSON(F1464,Berekening!$G$52,TRUE)","v":1},1460]
[{"$f":"POISSON(B1465,Berekening!$G$27,TRUE)","v":1},1461,{"$f":"POISSON(D1465,Berekening!$G$50,TRUE)","v":1},1461,{"$f":"POISSON(F1465,Berekening!$G$52,TRUE)","v":1},1461]
[{"$f":"POISSON(B1466,Berekening!$G$27,TRUE)","v":1},1462,{"$f":"POISSON(D1466,Berekening!$G$50,TRUE)","v":1},1462,{"$f":"POISSON(F1466,Berekening!$G$52,TRUE)","v":1},1462]
[{"$f":"POISSON(B1467,Berekening!$G$27,TRUE)","v":1},1463,{"$f":"POISSON(D1467,Berekening!$G$50,TRUE)","v":1},1463,{"$f":"POISSON(F1467,Berekening!$G$52,TRUE)","v":1},1463]
[{"$f":"POISSON(B1468,Berekening!$G$27,TRUE)","v":1},1464,{"$f":"POISSON(D1468,Berekening!$G$50,TRUE)","v":1},1464,{"$f":"POISSON(F1468,Berekening!$G$52,TRUE)","v":1},1464]
[{"$f":"POISSON(B1469,Berekening!$G$27,TRUE)","v":1},1465,{"$f":"POISSON(D1469,Berekening!$G$50,TRUE)","v":1},1465,{"$f":"POISSON(F1469,Berekening!$G$52,TRUE)","v":1},1465]
[{"$f":"POISSON(B1470,Berekening!$G$27,TRUE)","v":1},1466,{"$f":"POISSON(D1470,Berekening!$G$50,TRUE)","v":1},1466,{"$f":"POISSON(F1470,Berekening!$G$52,TRUE)","v":1},1466]
[{"$f":"POISSON(B1471,Berekening!$G$27,TRUE)","v":1},1467,{"$f":"POISSON(D1471,Berekening!$G$50,TRUE)","v":1},1467,{"$f":"POISSON(F1471,Berekening!$G$52,TRUE)","v":1},1467]
[{"$f":"POISSON(B1472,Berekening!$G$27,TRUE)","v":1},1468,{"$f":"POISSON(D1472,Berekening!$G$50,TRUE)","v":1},1468,{"$f":"POISSON(F1472,Berekening!$G$52,TRUE)","v":1},1468]
[{"$f":"POISSON(B1473,Berekening!$G$27,TRUE)","v":1},1469,{"$f":"POISSON(D1473,Berekening!$G$50,TRUE)","v":1},1469,{"$f":"POISSON(F1473,Berekening!$G$52,TRUE)","v":1},1469]
[{"$f":"POISSON(B1474,Berekening!$G$27,TRUE)","v":1},1470,{"$f":"POISSON(D1474,Berekening!$G$50,TRUE)","v":1},1470,{"$f":"POISSON(F1474,Berekening!$G$52,TRUE)","v":1},1470]
[{"$f":"POISSON(B1475,Berekening!$G$27,TRUE)","v":1},1471,{"$f":"POISSON(D1475,Berekening!$G$50,TRUE)","v":1},1471,{"$f":"POISSON(F1475,Berekening!$G$52,TRUE)","v":1},1471]
[{"$f":"POISSON(B1476,Berekening!$G$27,TRUE)","v":1},1472,{"$f":"POISSON(D1476,Berekening!$G$50,TRUE)","v":1},1472,{"$f":"POISSON(F1476,Berekening!$G$52,TRUE)","v":1},1472]
[{"$f":"POISSON(B1477,Berekening!$G$27,TRUE)","v":1},1473,{"$f":"POISSON(D1477,Berekening!$G$50,TRUE)","v":1},1473,{"$f":"POISSON(F1477,Berekening!$G$52,TRUE)","v":1},1473]
[{"$f":"POISSON(B1478,Berekening!$G$27,TRUE)","v":1},1474,{"$f":"POISSON(D1478,Berekening!$G$50,TRUE)","v":1},1474,{"$f":"POISSON(F1478,Berekening!$G$52,TRUE)","v":1},1474]
[{"$f":"POISSON(B1479,Berekening!$G$27,TRUE)","v":1},1475,{"$f":"POISSON(D1479,Berekening!$G$50,TRUE)","v":1},1475,{"$f":"POISSON(F1479,Berekening!$G$52,TRUE)","v":1},1475]
[{"$f":"POISSON(B1480,Berekening!$G$27,TRUE)","v":1},1476,{"$f":"POISSON(D1480,Berekening!$G$50,TRUE)","v":1},1476,{"$f":"POISSON(F1480,Berekening!$G$52,TRUE)","v":1},1476]
[{"$f":"POISSON(B1481,Berekening!$G$27,TRUE)","v":1},1477,{"$f":"POISSON(D1481,Berekening!$G$50,TRUE)","v":1},1477,{"$f":"POISSON(F1481,Berekening!$G$52,TRUE)","v":1},1477]
[{"$f":"POISSON(B1482,Berekening!$G$27,TRUE)","v":1},1478,{"$f":"POISSON(D1482,Berekening!$G$50,TRUE)","v":1},1478,{"$f":"POISSON(F1482,Berekening!$G$52,TRUE)","v":1},1478]
[{"$f":"POISSON(B1483,Berekening!$G$27,TRUE)","v":1},1479,{"$f":"POISSON(D1483,Berekening!$G$50,TRUE)","v":1},1479,{"$f":"POISSON(F1483,Berekening!$G$52,TRUE)","v":1},1479]
[{"$f":"POISSON(B1484,Berekening!$G$27,TRUE)","v":1},1480,{"$f":"POISSON(D1484,Berekening!$G$50,TRUE)","v":1},1480,{"$f":"POISSON(F1484,Berekening!$G$52,TRUE)","v":1},1480]
[{"$f":"POISSON(B1485,Berekening!$G$27,TRUE)","v":1},1481,{"$f":"POISSON(D1485,Berekening!$G$50,TRUE)","v":1},1481,{"$f":"POISSON(F1485,Berekening!$G$52,TRUE)","v":1},1481]
[{"$f":"POISSON(B1486,Berekening!$G$27,TRUE)","v":1},1482,{"$f":"POISSON(D1486,Berekening!$G$50,TRUE)","v":1},1482,{"$f":"POISSON(F1486,Berekening!$G$52,TRUE)","v":1},1482]
[{"$f":"POISSON(B1487,Berekening!$G$27,TRUE)","v":1},1483,{"$f":"POISSON(D1487,Berekening!$G$50,TRUE)","v":1},1483,{"$f":"POISSON(F1487,Berekening!$G$52,TRUE)","v":1},1483]
[{"$f":"POISSON(B1488,Berekening!$G$27,TRUE)","v":1},1484,{"$f":"POISSON(D1488,Berekening!$G$50,TRUE)","v":1},1484,{"$f":"POISSON(F1488,Berekening!$G$52,TRUE)","v":1},1484]
[{"$f":"POISSON(B1489,Berekening!$G$27,TRUE)","v":1},1485,{"$f":"POISSON(D1489,Berekening!$G$50,TRUE)","v":1},1485,{"$f":"POISSON(F1489,Berekening!$G$52,TRUE)","v":1},1485]
[{"$f":"POISSON(B1490,Berekening!$G$27,TRUE)","v":1},1486,{"$f":"POISSON(D1490,Berekening!$G$50,TRUE)","v":1},1486,{"$f":"POISSON(F1490,Berekening!$G$52,TRUE)","v":1},1486]
[{"$f":"POISSON(B1491,Berekening!$G$27,TRUE)","v":1},1487,{"$f":"POISSON(D1491,Berekening!$G$50,TRUE)","v":1},1487,{"$f":"POISSON(F1491,Berekening!$G$52,TRUE)","v":1},1487]
[{"$f":"POISSON(B1492,Berekening!$G$27,TRUE)","v":1},1488,{"$f":"POISSON(D1492,Berekening!$G$50,TRUE)","v":1},1488,{"$f":"POISSON(F1492,Berekening!$G$52,TRUE)","v":1},1488]
[{"$f":"POISSON(B1493,Berekening!$G$27,TRUE)","v":1},1489,{"$f":"POISSON(D1493,Berekening!$G$50,TRUE)","v":1},1489,{"$f":"POISSON(F1493,Berekening!$G$52,TRUE)","v":1},1489]
[{"$f":"POISSON(B1494,Berekening!$G$27,TRUE)","v":1},1490,{"$f":"POISSON(D1494,Berekening!$G$50,TRUE)","v":1},1490,{"$f":"POISSON(F1494,Berekening!$G$52,TRUE)","v":1},1490]
[{"$f":"POISSON(B1495,Berekening!$G$27,TRUE)","v":1},1491,{"$f":"POISSON(D1495,Berekening!$G$50,TRUE)","v":1},1491,{"$f":"POISSON(F1495,Berekening!$G$52,TRUE)","v":1},1491]
[{"$f":"POISSON(B1496,Berekening!$G$27,TRUE)","v":1},1492,{"$f":"POISSON(D1496,Berekening!$G$50,TRUE)","v":1},1492,{"$f":"POISSON(F1496,Berekening!$G$52,TRUE)","v":1},1492]
[{"$f":"POISSON(B1497,Berekening!$G$27,TRUE)","v":1},1493,{"$f":"POISSON(D1497,Berekening!$G$50,TRUE)","v":1},1493,{"$f":"POISSON(F1497,Berekening!$G$52,TRUE)","v":1},1493]
[{"$f":"POISSON(B1498,Berekening!$G$27,TRUE)","v":1},1494,{"$f":"POISSON(D1498,Berekening!$G$50,TRUE)","v":1},1494,{"$f":"POISSON(F1498,Berekening!$G$52,TRUE)","v":1},1494]
[{"$f":"POISSON(B1499,Berekening!$G$27,TRUE)","v":1},1495,{"$f":"POISSON(D1499,Berekening!$G$50,TRUE)","v":1},1495,{"$f":"POISSON(F1499,Berekening!$G$52,TRUE)","v":1},1495]
[{"$f":"POISSON(B1500,Berekening!$G$27,TRUE)","v":1},1496,{"$f":"POISSON(D1500,Berekening!$G$50,TRUE)","v":1},1496,{"$f":"POISSON(F1500,Berekening!$G$52,TRUE)","v":1},1496]
[{"$f":"POISSON(B1501,Berekening!$G$27,TRUE)","v":1},1497,{"$f":"POISSON(D1501,Berekening!$G$50,TRUE)","v":1},1497,{"$f":"POISSON(F1501,Berekening!$G$52,TRUE)","v":1},1497]
[{"$f":"POISSON(B1502,Berekening!$G$27,TRUE)","v":1},1498,{"$f":"POISSON(D1502,Berekening!$G$50,TRUE)","v":1},1498,{"$f":"POISSON(F1502,Berekening!$G$52,TRUE)","v":1},1498]
[{"$f":"POISSON(B1503,Berekening!$G$27,TRUE)","v":1},1499,{"$f":"POISSON(D1503,Berekening!$G$50,TRUE)","v":1},1499,{"$f":"POISSON(F1503,Berekening!$G$52,TRUE)","v":1},1499]
[{"$f":"POISSON(B1504,Berekening!$G$27,TRUE)","v":1},1500,{"$f":"POISSON(D1504,Berekening!$G$50,TRUE)","v":1},1500,{"$f":"POISSON(F1504,Berekening!$G$52,TRUE)","v":1},1500]
[{"$f":"POISSON(B1505,Berekening!$G$27,TRUE)","v":1},1501,{"$f":"POISSON(D1505,Berekening!$G$50,TRUE)","v":1},1501,{"$f":"POISSON(F1505,Berekening!$G$52,TRUE)","v":1},1501]
[{"$f":"POISSON(B1506,Berekening!$G$27,TRUE)","v":1},1502,{"$f":"POISSON(D1506,Berekening!$G$50,TRUE)","v":1},1502,{"$f":"POISSON(F1506,Berekening!$G$52,TRUE)","v":1},1502]
[{"$f":"POISSON(B1507,Berekening!$G$27,TRUE)","v":1},1503,{"$f":"POISSON(D1507,Berekening!$G$50,TRUE)","v":1},1503,{"$f":"POISSON(F1507,Berekening!$G$52,TRUE)","v":1},1503]
[{"$f":"POISSON(B1508,Berekening!$G$27,TRUE)","v":1},1504,{"$f":"POISSON(D1508,Berekening!$G$50,TRUE)","v":1},1504,{"$f":"POISSON(F1508,Berekening!$G$52,TRUE)","v":1},1504]
[{"$f":"POISSON(B1509,Berekening!$G$27,TRUE)","v":1},1505,{"$f":"POISSON(D1509,Berekening!$G$50,TRUE)","v":1},1505,{"$f":"POISSON(F1509,Berekening!$G$52,TRUE)","v":1},1505]
[{"$f":"POISSON(B1510,Berekening!$G$27,TRUE)","v":1},1506,{"$f":"POISSON(D1510,Berekening!$G$50,TRUE)","v":1},1506,{"$f":"POISSON(F1510,Berekening!$G$52,TRUE)","v":1},1506]
[{"$f":"POISSON(B1511,Berekening!$G$27,TRUE)","v":1},1507,{"$f":"POISSON(D1511,Berekening!$G$50,TRUE)","v":1},1507,{"$f":"POISSON(F1511,Berekening!$G$52,TRUE)","v":1},1507]
[{"$f":"POISSON(B1512,Berekening!$G$27,TRUE)","v":1},1508,{"$f":"POISSON(D1512,Berekening!$G$50,TRUE)","v":1},1508,{"$f":"POISSON(F1512,Berekening!$G$52,TRUE)","v":1},1508]
[{"$f":"POISSON(B1513,Berekening!$G$27,TRUE)","v":1},1509,{"$f":"POISSON(D1513,Berekening!$G$50,TRUE)","v":1},1509,{"$f":"POISSON(F1513,Berekening!$G$52,TRUE)","v":1},1509]
[{"$f":"POISSON(B1514,Berekening!$G$27,TRUE)","v":1},1510,{"$f":"POISSON(D1514,Berekening!$G$50,TRUE)","v":1},1510,{"$f":"POISSON(F1514,Berekening!$G$52,TRUE)","v":1},1510]
[{"$f":"POISSON(B1515,Berekening!$G$27,TRUE)","v":1},1511,{"$f":"POISSON(D1515,Berekening!$G$50,TRUE)","v":1},1511,{"$f":"POISSON(F1515,Berekening!$G$52,TRUE)","v":1},1511]
[{"$f":"POISSON(B1516,Berekening!$G$27,TRUE)","v":1},1512,{"$f":"POISSON(D1516,Berekening!$G$50,TRUE)","v":1},1512,{"$f":"POISSON(F1516,Berekening!$G$52,TRUE)","v":1},1512]
[{"$f":"POISSON(B1517,Berekening!$G$27,TRUE)","v":1},1513,{"$f":"POISSON(D1517,Berekening!$G$50,TRUE)","v":1},1513,{"$f":"POISSON(F1517,Berekening!$G$52,TRUE)","v":1},1513]
[{"$f":"POISSON(B1518,Berekening!$G$27,TRUE)","v":1},1514,{"$f":"POISSON(D1518,Berekening!$G$50,TRUE)","v":1},1514,{"$f":"POISSON(F1518,Berekening!$G$52,TRUE)","v":1},1514]
[{"$f":"POISSON(B1519,Berekening!$G$27,TRUE)","v":1},1515,{"$f":"POISSON(D1519,Berekening!$G$50,TRUE)","v":1},1515,{"$f":"POISSON(F1519,Berekening!$G$52,TRUE)","v":1},1515]
[{"$f":"POISSON(B1520,Berekening!$G$27,TRUE)","v":1},1516,{"$f":"POISSON(D1520,Berekening!$G$50,TRUE)","v":1},1516,{"$f":"POISSON(F1520,Berekening!$G$52,TRUE)","v":1},1516]
[{"$f":"POISSON(B1521,Berekening!$G$27,TRUE)","v":1},1517,{"$f":"POISSON(D1521,Berekening!$G$50,TRUE)","v":1},1517,{"$f":"POISSON(F1521,Berekening!$G$52,TRUE)","v":1},1517]
[{"$f":"POISSON(B1522,Berekening!$G$27,TRUE)","v":1},1518,{"$f":"POISSON(D1522,Berekening!$G$50,TRUE)","v":1},1518,{"$f":"POISSON(F1522,Berekening!$G$52,TRUE)","v":1},1518]
[{"$f":"POISSON(B1523,Berekening!$G$27,TRUE)","v":1},1519,{"$f":"POISSON(D1523,Berekening!$G$50,TRUE)","v":1},1519,{"$f":"POISSON(F1523,Berekening!$G$52,TRUE)","v":1},1519]
[{"$f":"POISSON(B1524,Berekening!$G$27,TRUE)","v":1},1520,{"$f":"POISSON(D1524,Berekening!$G$50,TRUE)","v":1},1520,{"$f":"POISSON(F1524,Berekening!$G$52,TRUE)","v":1},1520]
[{"$f":"POISSON(B1525,Berekening!$G$27,TRUE)","v":1},1521,{"$f":"POISSON(D1525,Berekening!$G$50,TRUE)","v":1},1521,{"$f":"POISSON(F1525,Berekening!$G$52,TRUE)","v":1},1521]
[{"$f":"POISSON(B1526,Berekening!$G$27,TRUE)","v":1},1522,{"$f":"POISSON(D1526,Berekening!$G$50,TRUE)","v":1},1522,{"$f":"POISSON(F1526,Berekening!$G$52,TRUE)","v":1},1522]
[{"$f":"POISSON(B1527,Berekening!$G$27,TRUE)","v":1},1523,{"$f":"POISSON(D1527,Berekening!$G$50,TRUE)","v":1},1523,{"$f":"POISSON(F1527,Berekening!$G$52,TRUE)","v":1},1523]
[{"$f":"POISSON(B1528,Berekening!$G$27,TRUE)","v":1},1524,{"$f":"POISSON(D1528,Berekening!$G$50,TRUE)","v":1},1524,{"$f":"POISSON(F1528,Berekening!$G$52,TRUE)","v":1},1524]
[{"$f":"POISSON(B1529,Berekening!$G$27,TRUE)","v":1},1525,{"$f":"POISSON(D1529,Berekening!$G$50,TRUE)","v":1},1525,{"$f":"POISSON(F1529,Berekening!$G$52,TRUE)","v":1},1525]
[{"$f":"POISSON(B1530,Berekening!$G$27,TRUE)","v":1},1526,{"$f":"POISSON(D1530,Berekening!$G$50,TRUE)","v":1},1526,{"$f":"POISSON(F1530,Berekening!$G$52,TRUE)","v":1},1526]
[{"$f":"POISSON(B1531,Berekening!$G$27,TRUE)","v":1},1527,{"$f":"POISSON(D1531,Berekening!$G$50,TRUE)","v":1},1527,{"$f":"POISSON(F1531,Berekening!$G$52,TRUE)","v":1},1527]
[{"$f":"POISSON(B1532,Berekening!$G$27,TRUE)","v":1},1528,{"$f":"POISSON(D1532,Berekening!$G$50,TRUE)","v":1},1528,{"$f":"POISSON(F1532,Berekening!$G$52,TRUE)","v":1},1528]
[{"$f":"POISSON(B1533,Berekening!$G$27,TRUE)","v":1},1529,{"$f":"POISSON(D1533,Berekening!$G$50,TRUE)","v":1},1529,{"$f":"POISSON(F1533,Berekening!$G$52,TRUE)","v":1},1529]
[{"$f":"POISSON(B1534,Berekening!$G$27,TRUE)","v":1},1530,{"$f":"POISSON(D1534,Berekening!$G$50,TRUE)","v":1},1530,{"$f":"POISSON(F1534,Berekening!$G$52,TRUE)","v":1},1530]
[{"$f":"POISSON(B1535,Berekening!$G$27,TRUE)","v":1},1531,{"$f":"POISSON(D1535,Berekening!$G$50,TRUE)","v":1},1531,{"$f":"POISSON(F1535,Berekening!$G$52,TRUE)","v":1},1531]
[{"$f":"POISSON(B1536,Berekening!$G$27,TRUE)","v":1},1532,{"$f":"POISSON(D1536,Berekening!$G$50,TRUE)","v":1},1532,{"$f":"POISSON(F1536,Berekening!$G$52,TRUE)","v":1},1532]
[{"$f":"POISSON(B1537,Berekening!$G$27,TRUE)","v":1},1533,{"$f":"POISSON(D1537,Berekening!$G$50,TRUE)","v":1},1533,{"$f":"POISSON(F1537,Berekening!$G$52,TRUE)","v":1},1533]
[{"$f":"POISSON(B1538,Berekening!$G$27,TRUE)","v":1},1534,{"$f":"POISSON(D1538,Berekening!$G$50,TRUE)","v":1},1534,{"$f":"POISSON(F1538,Berekening!$G$52,TRUE)","v":1},1534]
[{"$f":"POISSON(B1539,Berekening!$G$27,TRUE)","v":1},1535,{"$f":"POISSON(D1539,Berekening!$G$50,TRUE)","v":1},1535,{"$f":"POISSON(F1539,Berekening!$G$52,TRUE)","v":1},1535]
[{"$f":"POISSON(B1540,Berekening!$G$27,TRUE)","v":1},1536,{"$f":"POISSON(D1540,Berekening!$G$50,TRUE)","v":1},1536,{"$f":"POISSON(F1540,Berekening!$G$52,TRUE)","v":1},1536]
[{"$f":"POISSON(B1541,Berekening!$G$27,TRUE)","v":1},1537,{"$f":"POISSON(D1541,Berekening!$G$50,TRUE)","v":1},1537,{"$f":"POISSON(F1541,Berekening!$G$52,TRUE)","v":1},1537]
[{"$f":"POISSON(B1542,Berekening!$G$27,TRUE)","v":1},1538,{"$f":"POISSON(D1542,Berekening!$G$50,TRUE)","v":1},1538,{"$f":"POISSON(F1542,Berekening!$G$52,TRUE)","v":1},1538]
[{"$f":"POISSON(B1543,Berekening!$G$27,TRUE)","v":1},1539,{"$f":"POISSON(D1543,Berekening!$G$50,TRUE)","v":1},1539,{"$f":"POISSON(F1543,Berekening!$G$52,TRUE)","v":1},1539]
[{"$f":"POISSON(B1544,Berekening!$G$27,TRUE)","v":1},1540,{"$f":"POISSON(D1544,Berekening!$G$50,TRUE)","v":1},1540,{"$f":"POISSON(F1544,Berekening!$G$52,TRUE)","v":1},1540]
[{"$f":"POISSON(B1545,Berekening!$G$27,TRUE)","v":1},1541,{"$f":"POISSON(D1545,Berekening!$G$50,TRUE)","v":1},1541,{"$f":"POISSON(F1545,Berekening!$G$52,TRUE)","v":1},1541]
[{"$f":"POISSON(B1546,Berekening!$G$27,TRUE)","v":1},1542,{"$f":"POISSON(D1546,Berekening!$G$50,TRUE)","v":1},1542,{"$f":"POISSON(F1546,Berekening!$G$52,TRUE)","v":1},1542]
[{"$f":"POISSON(B1547,Berekening!$G$27,TRUE)","v":1},1543,{"$f":"POISSON(D1547,Berekening!$G$50,TRUE)","v":1},1543,{"$f":"POISSON(F1547,Berekening!$G$52,TRUE)","v":1},1543]
[{"$f":"POISSON(B1548,Berekening!$G$27,TRUE)","v":1},1544,{"$f":"POISSON(D1548,Berekening!$G$50,TRUE)","v":1},1544,{"$f":"POISSON(F1548,Berekening!$G$52,TRUE)","v":1},1544]
[{"$f":"POISSON(B1549,Berekening!$G$27,TRUE)","v":1},1545,{"$f":"POISSON(D1549,Berekening!$G$50,TRUE)","v":1},1545,{"$f":"POISSON(F1549,Berekening!$G$52,TRUE)","v":1},1545]
[{"$f":"POISSON(B1550,Berekening!$G$27,TRUE)","v":1},1546,{"$f":"POISSON(D1550,Berekening!$G$50,TRUE)","v":1},1546,{"$f":"POISSON(F1550,Berekening!$G$52,TRUE)","v":1},1546]
[{"$f":"POISSON(B1551,Berekening!$G$27,TRUE)","v":1},1547,{"$f":"POISSON(D1551,Berekening!$G$50,TRUE)","v":1},1547,{"$f":"POISSON(F1551,Berekening!$G$52,TRUE)","v":1},1547]
[{"$f":"POISSON(B1552,Berekening!$G$27,TRUE)","v":1},1548,{"$f":"POISSON(D1552,Berekening!$G$50,TRUE)","v":1},1548,{"$f":"POISSON(F1552,Berekening!$G$52,TRUE)","v":1},1548]
[{"$f":"POISSON(B1553,Berekening!$G$27,TRUE)","v":1},1549,{"$f":"POISSON(D1553,Berekening!$G$50,TRUE)","v":1},1549,{"$f":"POISSON(F1553,Berekening!$G$52,TRUE)","v":1},1549]
[{"$f":"POISSON(B1554,Berekening!$G$27,TRUE)","v":1},1550,{"$f":"POISSON(D1554,Berekening!$G$50,TRUE)","v":1},1550,{"$f":"POISSON(F1554,Berekening!$G$52,TRUE)","v":1},1550]
[{"$f":"POISSON(B1555,Berekening!$G$27,TRUE)","v":1},1551,{"$f":"POISSON(D1555,Berekening!$G$50,TRUE)","v":1},1551,{"$f":"POISSON(F1555,Berekening!$G$52,TRUE)","v":1},1551]
[{"$f":"POISSON(B1556,Berekening!$G$27,TRUE)","v":1},1552,{"$f":"POISSON(D1556,Berekening!$G$50,TRUE)","v":1},1552,{"$f":"POISSON(F1556,Berekening!$G$52,TRUE)","v":1},1552]
[{"$f":"POISSON(B1557,Berekening!$G$27,TRUE)","v":1},1553,{"$f":"POISSON(D1557,Berekening!$G$50,TRUE)","v":1},1553,{"$f":"POISSON(F1557,Berekening!$G$52,TRUE)","v":1},1553]
[{"$f":"POISSON(B1558,Berekening!$G$27,TRUE)","v":1},1554,{"$f":"POISSON(D1558,Berekening!$G$50,TRUE)","v":1},1554,{"$f":"POISSON(F1558,Berekening!$G$52,TRUE)","v":1},1554]
[{"$f":"POISSON(B1559,Berekening!$G$27,TRUE)","v":1},1555,{"$f":"POISSON(D1559,Berekening!$G$50,TRUE)","v":1},1555,{"$f":"POISSON(F1559,Berekening!$G$52,TRUE)","v":1},1555]
[{"$f":"POISSON(B1560,Berekening!$G$27,TRUE)","v":1},1556,{"$f":"POISSON(D1560,Berekening!$G$50,TRUE)","v":1},1556,{"$f":"POISSON(F1560,Berekening!$G$52,TRUE)","v":1},1556]
[{"$f":"POISSON(B1561,Berekening!$G$27,TRUE)","v":1},1557,{"$f":"POISSON(D1561,Berekening!$G$50,TRUE)","v":1},1557,{"$f":"POISSON(F1561,Berekening!$G$52,TRUE)","v":1},1557]
[{"$f":"POISSON(B1562,Berekening!$G$27,TRUE)","v":1},1558,{"$f":"POISSON(D1562,Berekening!$G$50,TRUE)","v":1},1558,{"$f":"POISSON(F1562,Berekening!$G$52,TRUE)","v":1},1558]
[{"$f":"POISSON(B1563,Berekening!$G$27,TRUE)","v":1},1559,{"$f":"POISSON(D1563,Berekening!$G$50,TRUE)","v":1},1559,{"$f":"POISSON(F1563,Berekening!$G$52,TRUE)","v":1},1559]
[{"$f":"POISSON(B1564,Berekening!$G$27,TRUE)","v":1},1560,{"$f":"POISSON(D1564,Berekening!$G$50,TRUE)","v":1},1560,{"$f":"POISSON(F1564,Berekening!$G$52,TRUE)","v":1},1560]
[{"$f":"POISSON(B1565,Berekening!$G$27,TRUE)","v":1},1561,{"$f":"POISSON(D1565,Berekening!$G$50,TRUE)","v":1},1561,{"$f":"POISSON(F1565,Berekening!$G$52,TRUE)","v":1},1561]
[{"$f":"POISSON(B1566,Berekening!$G$27,TRUE)","v":1},1562,{"$f":"POISSON(D1566,Berekening!$G$50,TRUE)","v":1},1562,{"$f":"POISSON(F1566,Berekening!$G$52,TRUE)","v":1},1562]
[{"$f":"POISSON(B1567,Berekening!$G$27,TRUE)","v":1},1563,{"$f":"POISSON(D1567,Berekening!$G$50,TRUE)","v":1},1563,{"$f":"POISSON(F1567,Berekening!$G$52,TRUE)","v":1},1563]
[{"$f":"POISSON(B1568,Berekening!$G$27,TRUE)","v":1},1564,{"$f":"POISSON(D1568,Berekening!$G$50,TRUE)","v":1},1564,{"$f":"POISSON(F1568,Berekening!$G$52,TRUE)","v":1},1564]
[{"$f":"POISSON(B1569,Berekening!$G$27,TRUE)","v":1},1565,{"$f":"POISSON(D1569,Berekening!$G$50,TRUE)","v":1},1565,{"$f":"POISSON(F1569,Berekening!$G$52,TRUE)","v":1},1565]
[{"$f":"POISSON(B1570,Berekening!$G$27,TRUE)","v":1},1566,{"$f":"POISSON(D1570,Berekening!$G$50,TRUE)","v":1},1566,{"$f":"POISSON(F1570,Berekening!$G$52,TRUE)","v":1},1566]
[{"$f":"POISSON(B1571,Berekening!$G$27,TRUE)","v":1},1567,{"$f":"POISSON(D1571,Berekening!$G$50,TRUE)","v":1},1567,{"$f":"POISSON(F1571,Berekening!$G$52,TRUE)","v":1},1567]
[{"$f":"POISSON(B1572,Berekening!$G$27,TRUE)","v":1},1568,{"$f":"POISSON(D1572,Berekening!$G$50,TRUE)","v":1},1568,{"$f":"POISSON(F1572,Berekening!$G$52,TRUE)","v":1},1568]
[{"$f":"POISSON(B1573,Berekening!$G$27,TRUE)","v":1},1569,{"$f":"POISSON(D1573,Berekening!$G$50,TRUE)","v":1},1569,{"$f":"POISSON(F1573,Berekening!$G$52,TRUE)","v":1},1569]
[{"$f":"POISSON(B1574,Berekening!$G$27,TRUE)","v":1},1570,{"$f":"POISSON(D1574,Berekening!$G$50,TRUE)","v":1},1570,{"$f":"POISSON(F1574,Berekening!$G$52,TRUE)","v":1},1570]
[{"$f":"POISSON(B1575,Berekening!$G$27,TRUE)","v":1},1571,{"$f":"POISSON(D1575,Berekening!$G$50,TRUE)","v":1},1571,{"$f":"POISSON(F1575,Berekening!$G$52,TRUE)","v":1},1571]
[{"$f":"POISSON(B1576,Berekening!$G$27,TRUE)","v":1},1572,{"$f":"POISSON(D1576,Berekening!$G$50,TRUE)","v":1},1572,{"$f":"POISSON(F1576,Berekening!$G$52,TRUE)","v":1},1572]
[{"$f":"POISSON(B1577,Berekening!$G$27,TRUE)","v":1},1573,{"$f":"POISSON(D1577,Berekening!$G$50,TRUE)","v":1},1573,{"$f":"POISSON(F1577,Berekening!$G$52,TRUE)","v":1},1573]
[{"$f":"POISSON(B1578,Berekening!$G$27,TRUE)","v":1},1574,{"$f":"POISSON(D1578,Berekening!$G$50,TRUE)","v":1},1574,{"$f":"POISSON(F1578,Berekening!$G$52,TRUE)","v":1},1574]
[{"$f":"POISSON(B1579,Berekening!$G$27,TRUE)","v":1},1575,{"$f":"POISSON(D1579,Berekening!$G$50,TRUE)","v":1},1575,{"$f":"POISSON(F1579,Berekening!$G$52,TRUE)","v":1},1575]
[{"$f":"POISSON(B1580,Berekening!$G$27,TRUE)","v":1},1576,{"$f":"POISSON(D1580,Berekening!$G$50,TRUE)","v":1},1576,{"$f":"POISSON(F1580,Berekening!$G$52,TRUE)","v":1},1576]
[{"$f":"POISSON(B1581,Berekening!$G$27,TRUE)","v":1},1577,{"$f":"POISSON(D1581,Berekening!$G$50,TRUE)","v":1},1577,{"$f":"POISSON(F1581,Berekening!$G$52,TRUE)","v":1},1577]
[{"$f":"POISSON(B1582,Berekening!$G$27,TRUE)","v":1},1578,{"$f":"POISSON(D1582,Berekening!$G$50,TRUE)","v":1},1578,{"$f":"POISSON(F1582,Berekening!$G$52,TRUE)","v":1},1578]
[{"$f":"POISSON(B1583,Berekening!$G$27,TRUE)","v":1},1579,{"$f":"POISSON(D1583,Berekening!$G$50,TRUE)","v":1},1579,{"$f":"POISSON(F1583,Berekening!$G$52,TRUE)","v":1},1579]
[{"$f":"POISSON(B1584,Berekening!$G$27,TRUE)","v":1},1580,{"$f":"POISSON(D1584,Berekening!$G$50,TRUE)","v":1},1580,{"$f":"POISSON(F1584,Berekening!$G$52,TRUE)","v":1},1580]
[{"$f":"POISSON(B1585,Berekening!$G$27,TRUE)","v":1},1581,{"$f":"POISSON(D1585,Berekening!$G$50,TRUE)","v":1},1581,{"$f":"POISSON(F1585,Berekening!$G$52,TRUE)","v":1},1581]
[{"$f":"POISSON(B1586,Berekening!$G$27,TRUE)","v":1},1582,{"$f":"POISSON(D1586,Berekening!$G$50,TRUE)","v":1},1582,{"$f":"POISSON(F1586,Berekening!$G$52,TRUE)","v":1},1582]
[{"$f":"POISSON(B1587,Berekening!$G$27,TRUE)","v":1},1583,{"$f":"POISSON(D1587,Berekening!$G$50,TRUE)","v":1},1583,{"$f":"POISSON(F1587,Berekening!$G$52,TRUE)","v":1},1583]
[{"$f":"POISSON(B1588,Berekening!$G$27,TRUE)","v":1},1584,{"$f":"POISSON(D1588,Berekening!$G$50,TRUE)","v":1},1584,{"$f":"POISSON(F1588,Berekening!$G$52,TRUE)","v":1},1584]
[{"$f":"POISSON(B1589,Berekening!$G$27,TRUE)","v":1},1585,{"$f":"POISSON(D1589,Berekening!$G$50,TRUE)","v":1},1585,{"$f":"POISSON(F1589,Berekening!$G$52,TRUE)","v":1},1585]
[{"$f":"POISSON(B1590,Berekening!$G$27,TRUE)","v":1},1586,{"$f":"POISSON(D1590,Berekening!$G$50,TRUE)","v":1},1586,{"$f":"POISSON(F1590,Berekening!$G$52,TRUE)","v":1},1586]
[{"$f":"POISSON(B1591,Berekening!$G$27,TRUE)","v":1},1587,{"$f":"POISSON(D1591,Berekening!$G$50,TRUE)","v":1},1587,{"$f":"POISSON(F1591,Berekening!$G$52,TRUE)","v":1},1587]
[{"$f":"POISSON(B1592,Berekening!$G$27,TRUE)","v":1},1588,{"$f":"POISSON(D1592,Berekening!$G$50,TRUE)","v":1},1588,{"$f":"POISSON(F1592,Berekening!$G$52,TRUE)","v":1},1588]
[{"$f":"POISSON(B1593,Berekening!$G$27,TRUE)","v":1},1589,{"$f":"POISSON(D1593,Berekening!$G$50,TRUE)","v":1},1589,{"$f":"POISSON(F1593,Berekening!$G$52,TRUE)","v":1},1589]
[{"$f":"POISSON(B1594,Berekening!$G$27,TRUE)","v":1},1590,{"$f":"POISSON(D1594,Berekening!$G$50,TRUE)","v":1},1590,{"$f":"POISSON(F1594,Berekening!$G$52,TRUE)","v":1},1590]
[{"$f":"POISSON(B1595,Berekening!$G$27,TRUE)","v":1},1591,{"$f":"POISSON(D1595,Berekening!$G$50,TRUE)","v":1},1591,{"$f":"POISSON(F1595,Berekening!$G$52,TRUE)","v":1},1591]
[{"$f":"POISSON(B1596,Berekening!$G$27,TRUE)","v":1},1592,{"$f":"POISSON(D1596,Berekening!$G$50,TRUE)","v":1},1592,{"$f":"POISSON(F1596,Berekening!$G$52,TRUE)","v":1},1592]
[{"$f":"POISSON(B1597,Berekening!$G$27,TRUE)","v":1},1593,{"$f":"POISSON(D1597,Berekening!$G$50,TRUE)","v":1},1593,{"$f":"POISSON(F1597,Berekening!$G$52,TRUE)","v":1},1593]
[{"$f":"POISSON(B1598,Berekening!$G$27,TRUE)","v":1},1594,{"$f":"POISSON(D1598,Berekening!$G$50,TRUE)","v":1},1594,{"$f":"POISSON(F1598,Berekening!$G$52,TRUE)","v":1},1594]
[{"$f":"POISSON(B1599,Berekening!$G$27,TRUE)","v":1},1595,{"$f":"POISSON(D1599,Berekening!$G$50,TRUE)","v":1},1595,{"$f":"POISSON(F1599,Berekening!$G$52,TRUE)","v":1},1595]
[{"$f":"POISSON(B1600,Berekening!$G$27,TRUE)","v":1},1596,{"$f":"POISSON(D1600,Berekening!$G$50,TRUE)","v":1},1596,{"$f":"POISSON(F1600,Berekening!$G$52,TRUE)","v":1},1596]
[{"$f":"POISSON(B1601,Berekening!$G$27,TRUE)","v":1},1597,{"$f":"POISSON(D1601,Berekening!$G$50,TRUE)","v":1},1597,{"$f":"POISSON(F1601,Berekening!$G$52,TRUE)","v":1},1597]
[{"$f":"POISSON(B1602,Berekening!$G$27,TRUE)","v":1},1598,{"$f":"POISSON(D1602,Berekening!$G$50,TRUE)","v":1},1598,{"$f":"POISSON(F1602,Berekening!$G$52,TRUE)","v":1},1598]
[{"$f":"POISSON(B1603,Berekening!$G$27,TRUE)","v":1},1599,{"$f":"POISSON(D1603,Berekening!$G$50,TRUE)","v":1},1599,{"$f":"POISSON(F1603,Berekening!$G$52,TRUE)","v":1},1599]
[{"$f":"POISSON(B1604,Berekening!$G$27,TRUE)","v":1},1600,{"$f":"POISSON(D1604,Berekening!$G$50,TRUE)","v":1},1600,{"$f":"POISSON(F1604,Berekening!$G$52,TRUE)","v":1},1600]
[{"$f":"POISSON(B1605,Berekening!$G$27,TRUE)","v":1},1601,{"$f":"POISSON(D1605,Berekening!$G$50,TRUE)","v":1},1601,{"$f":"POISSON(F1605,Berekening!$G$52,TRUE)","v":1},1601]
[{"$f":"POISSON(B1606,Berekening!$G$27,TRUE)","v":1},1602,{"$f":"POISSON(D1606,Berekening!$G$50,TRUE)","v":1},1602,{"$f":"POISSON(F1606,Berekening!$G$52,TRUE)","v":1},1602]
[{"$f":"POISSON(B1607,Berekening!$G$27,TRUE)","v":1},1603,{"$f":"POISSON(D1607,Berekening!$G$50,TRUE)","v":1},1603,{"$f":"POISSON(F1607,Berekening!$G$52,TRUE)","v":1},1603]
[{"$f":"POISSON(B1608,Berekening!$G$27,TRUE)","v":1},1604,{"$f":"POISSON(D1608,Berekening!$G$50,TRUE)","v":1},1604,{"$f":"POISSON(F1608,Berekening!$G$52,TRUE)","v":1},1604]
[{"$f":"POISSON(B1609,Berekening!$G$27,TRUE)","v":1},1605,{"$f":"POISSON(D1609,Berekening!$G$50,TRUE)","v":1},1605,{"$f":"POISSON(F1609,Berekening!$G$52,TRUE)","v":1},1605]
[{"$f":"POISSON(B1610,Berekening!$G$27,TRUE)","v":1},1606,{"$f":"POISSON(D1610,Berekening!$G$50,TRUE)","v":1},1606,{"$f":"POISSON(F1610,Berekening!$G$52,TRUE)","v":1},1606]
[{"$f":"POISSON(B1611,Berekening!$G$27,TRUE)","v":1},1607,{"$f":"POISSON(D1611,Berekening!$G$50,TRUE)","v":1},1607,{"$f":"POISSON(F1611,Berekening!$G$52,TRUE)","v":1},1607]
[{"$f":"POISSON(B1612,Berekening!$G$27,TRUE)","v":1},1608,{"$f":"POISSON(D1612,Berekening!$G$50,TRUE)","v":1},1608,{"$f":"POISSON(F1612,Berekening!$G$52,TRUE)","v":1},1608]
[{"$f":"POISSON(B1613,Berekening!$G$27,TRUE)","v":1},1609,{"$f":"POISSON(D1613,Berekening!$G$50,TRUE)","v":1},1609,{"$f":"POISSON(F1613,Berekening!$G$52,TRUE)","v":1},1609]
[{"$f":"POISSON(B1614,Berekening!$G$27,TRUE)","v":1},1610,{"$f":"POISSON(D1614,Berekening!$G$50,TRUE)","v":1},1610,{"$f":"POISSON(F1614,Berekening!$G$52,TRUE)","v":1},1610]
[{"$f":"POISSON(B1615,Berekening!$G$27,TRUE)","v":1},1611,{"$f":"POISSON(D1615,Berekening!$G$50,TRUE)","v":1},1611,{"$f":"POISSON(F1615,Berekening!$G$52,TRUE)","v":1},1611]
[{"$f":"POISSON(B1616,Berekening!$G$27,TRUE)","v":1},1612,{"$f":"POISSON(D1616,Berekening!$G$50,TRUE)","v":1},1612,{"$f":"POISSON(F1616,Berekening!$G$52,TRUE)","v":1},1612]
[{"$f":"POISSON(B1617,Berekening!$G$27,TRUE)","v":1},1613,{"$f":"POISSON(D1617,Berekening!$G$50,TRUE)","v":1},1613,{"$f":"POISSON(F1617,Berekening!$G$52,TRUE)","v":1},1613]
[{"$f":"POISSON(B1618,Berekening!$G$27,TRUE)","v":1},1614,{"$f":"POISSON(D1618,Berekening!$G$50,TRUE)","v":1},1614,{"$f":"POISSON(F1618,Berekening!$G$52,TRUE)","v":1},1614]
[{"$f":"POISSON(B1619,Berekening!$G$27,TRUE)","v":1},1615,{"$f":"POISSON(D1619,Berekening!$G$50,TRUE)","v":1},1615,{"$f":"POISSON(F1619,Berekening!$G$52,TRUE)","v":1},1615]
[{"$f":"POISSON(B1620,Berekening!$G$27,TRUE)","v":1},1616,{"$f":"POISSON(D1620,Berekening!$G$50,TRUE)","v":1},1616,{"$f":"POISSON(F1620,Berekening!$G$52,TRUE)","v":1},1616]
[{"$f":"POISSON(B1621,Berekening!$G$27,TRUE)","v":1},1617,{"$f":"POISSON(D1621,Berekening!$G$50,TRUE)","v":1},1617,{"$f":"POISSON(F1621,Berekening!$G$52,TRUE)","v":1},1617]
[{"$f":"POISSON(B1622,Berekening!$G$27,TRUE)","v":1},1618,{"$f":"POISSON(D1622,Berekening!$G$50,TRUE)","v":1},1618,{"$f":"POISSON(F1622,Berekening!$G$52,TRUE)","v":1},1618]
[{"$f":"POISSON(B1623,Berekening!$G$27,TRUE)","v":1},1619,{"$f":"POISSON(D1623,Berekening!$G$50,TRUE)","v":1},1619,{"$f":"POISSON(F1623,Berekening!$G$52,TRUE)","v":1},1619]
[{"$f":"POISSON(B1624,Berekening!$G$27,TRUE)","v":1},1620,{"$f":"POISSON(D1624,Berekening!$G$50,TRUE)","v":1},1620,{"$f":"POISSON(F1624,Berekening!$G$52,TRUE)","v":1},1620]
[{"$f":"POISSON(B1625,Berekening!$G$27,TRUE)","v":1},1621,{"$f":"POISSON(D1625,Berekening!$G$50,TRUE)","v":1},1621,{"$f":"POISSON(F1625,Berekening!$G$52,TRUE)","v":1},1621]
[{"$f":"POISSON(B1626,Berekening!$G$27,TRUE)","v":1},1622,{"$f":"POISSON(D1626,Berekening!$G$50,TRUE)","v":1},1622,{"$f":"POISSON(F1626,Berekening!$G$52,TRUE)","v":1},1622]
[{"$f":"POISSON(B1627,Berekening!$G$27,TRUE)","v":1},1623,{"$f":"POISSON(D1627,Berekening!$G$50,TRUE)","v":1},1623,{"$f":"POISSON(F1627,Berekening!$G$52,TRUE)","v":1},1623]
[{"$f":"POISSON(B1628,Berekening!$G$27,TRUE)","v":1},1624,{"$f":"POISSON(D1628,Berekening!$G$50,TRUE)","v":1},1624,{"$f":"POISSON(F1628,Berekening!$G$52,TRUE)","v":1},1624]
[{"$f":"POISSON(B1629,Berekening!$G$27,TRUE)","v":1},1625,{"$f":"POISSON(D1629,Berekening!$G$50,TRUE)","v":1},1625,{"$f":"POISSON(F1629,Berekening!$G$52,TRUE)","v":1},1625]
[{"$f":"POISSON(B1630,Berekening!$G$27,TRUE)","v":1},1626,{"$f":"POISSON(D1630,Berekening!$G$50,TRUE)","v":1},1626,{"$f":"POISSON(F1630,Berekening!$G$52,TRUE)","v":1},1626]
[{"$f":"POISSON(B1631,Berekening!$G$27,TRUE)","v":1},1627,{"$f":"POISSON(D1631,Berekening!$G$50,TRUE)","v":1},1627,{"$f":"POISSON(F1631,Berekening!$G$52,TRUE)","v":1},1627]
[{"$f":"POISSON(B1632,Berekening!$G$27,TRUE)","v":1},1628,{"$f":"POISSON(D1632,Berekening!$G$50,TRUE)","v":1},1628,{"$f":"POISSON(F1632,Berekening!$G$52,TRUE)","v":1},1628]
[{"$f":"POISSON(B1633,Berekening!$G$27,TRUE)","v":1},1629,{"$f":"POISSON(D1633,Berekening!$G$50,TRUE)","v":1},1629,{"$f":"POISSON(F1633,Berekening!$G$52,TRUE)","v":1},1629]
[{"$f":"POISSON(B1634,Berekening!$G$27,TRUE)","v":1},1630,{"$f":"POISSON(D1634,Berekening!$G$50,TRUE)","v":1},1630,{"$f":"POISSON(F1634,Berekening!$G$52,TRUE)","v":1},1630]
[{"$f":"POISSON(B1635,Berekening!$G$27,TRUE)","v":1},1631,{"$f":"POISSON(D1635,Berekening!$G$50,TRUE)","v":1},1631,{"$f":"POISSON(F1635,Berekening!$G$52,TRUE)","v":1},1631]
[{"$f":"POISSON(B1636,Berekening!$G$27,TRUE)","v":1},1632,{"$f":"POISSON(D1636,Berekening!$G$50,TRUE)","v":1},1632,{"$f":"POISSON(F1636,Berekening!$G$52,TRUE)","v":1},1632]
[{"$f":"POISSON(B1637,Berekening!$G$27,TRUE)","v":1},1633,{"$f":"POISSON(D1637,Berekening!$G$50,TRUE)","v":1},1633,{"$f":"POISSON(F1637,Berekening!$G$52,TRUE)","v":1},1633]
[{"$f":"POISSON(B1638,Berekening!$G$27,TRUE)","v":1},1634,{"$f":"POISSON(D1638,Berekening!$G$50,TRUE)","v":1},1634,{"$f":"POISSON(F1638,Berekening!$G$52,TRUE)","v":1},1634]
[{"$f":"POISSON(B1639,Berekening!$G$27,TRUE)","v":1},1635,{"$f":"POISSON(D1639,Berekening!$G$50,TRUE)","v":1},1635,{"$f":"POISSON(F1639,Berekening!$G$52,TRUE)","v":1},1635]
[{"$f":"POISSON(B1640,Berekening!$G$27,TRUE)","v":1},1636,{"$f":"POISSON(D1640,Berekening!$G$50,TRUE)","v":1},1636,{"$f":"POISSON(F1640,Berekening!$G$52,TRUE)","v":1},1636]
[{"$f":"POISSON(B1641,Berekening!$G$27,TRUE)","v":1},1637,{"$f":"POISSON(D1641,Berekening!$G$50,TRUE)","v":1},1637,{"$f":"POISSON(F1641,Berekening!$G$52,TRUE)","v":1},1637]
[{"$f":"POISSON(B1642,Berekening!$G$27,TRUE)","v":1},1638,{"$f":"POISSON(D1642,Berekening!$G$50,TRUE)","v":1},1638,{"$f":"POISSON(F1642,Berekening!$G$52,TRUE)","v":1},1638]
[{"$f":"POISSON(B1643,Berekening!$G$27,TRUE)","v":1},1639,{"$f":"POISSON(D1643,Berekening!$G$50,TRUE)","v":1},1639,{"$f":"POISSON(F1643,Berekening!$G$52,TRUE)","v":1},1639]
[{"$f":"POISSON(B1644,Berekening!$G$27,TRUE)","v":1},1640,{"$f":"POISSON(D1644,Berekening!$G$50,TRUE)","v":1},1640,{"$f":"POISSON(F1644,Berekening!$G$52,TRUE)","v":1},1640]
[{"$f":"POISSON(B1645,Berekening!$G$27,TRUE)","v":1},1641,{"$f":"POISSON(D1645,Berekening!$G$50,TRUE)","v":1},1641,{"$f":"POISSON(F1645,Berekening!$G$52,TRUE)","v":1},1641]
[{"$f":"POISSON(B1646,Berekening!$G$27,TRUE)","v":1},1642,{"$f":"POISSON(D1646,Berekening!$G$50,TRUE)","v":1},1642,{"$f":"POISSON(F1646,Berekening!$G$52,TRUE)","v":1},1642]
[{"$f":"POISSON(B1647,Berekening!$G$27,TRUE)","v":1},1643,{"$f":"POISSON(D1647,Berekening!$G$50,TRUE)","v":1},1643,{"$f":"POISSON(F1647,Berekening!$G$52,TRUE)","v":1},1643]
[{"$f":"POISSON(B1648,Berekening!$G$27,TRUE)","v":1},1644,{"$f":"POISSON(D1648,Berekening!$G$50,TRUE)","v":1},1644,{"$f":"POISSON(F1648,Berekening!$G$52,TRUE)","v":1},1644]
[{"$f":"POISSON(B1649,Berekening!$G$27,TRUE)","v":1},1645,{"$f":"POISSON(D1649,Berekening!$G$50,TRUE)","v":1},1645,{"$f":"POISSON(F1649,Berekening!$G$52,TRUE)","v":1},1645]
[{"$f":"POISSON(B1650,Berekening!$G$27,TRUE)","v":1},1646,{"$f":"POISSON(D1650,Berekening!$G$50,TRUE)","v":1},1646,{"$f":"POISSON(F1650,Berekening!$G$52,TRUE)","v":1},1646]
[{"$f":"POISSON(B1651,Berekening!$G$27,TRUE)","v":1},1647,{"$f":"POISSON(D1651,Berekening!$G$50,TRUE)","v":1},1647,{"$f":"POISSON(F1651,Berekening!$G$52,TRUE)","v":1},1647]
[{"$f":"POISSON(B1652,Berekening!$G$27,TRUE)","v":1},1648,{"$f":"POISSON(D1652,Berekening!$G$50,TRUE)","v":1},1648,{"$f":"POISSON(F1652,Berekening!$G$52,TRUE)","v":1},1648]
[{"$f":"POISSON(B1653,Berekening!$G$27,TRUE)","v":1},1649,{"$f":"POISSON(D1653,Berekening!$G$50,TRUE)","v":1},1649,{"$f":"POISSON(F1653,Berekening!$G$52,TRUE)","v":1},1649]
[{"$f":"POISSON(B1654,Berekening!$G$27,TRUE)","v":1},1650,{"$f":"POISSON(D1654,Berekening!$G$50,TRUE)","v":1},1650,{"$f":"POISSON(F1654,Berekening!$G$52,TRUE)","v":1},1650]
[{"$f":"POISSON(B1655,Berekening!$G$27,TRUE)","v":1},1651,{"$f":"POISSON(D1655,Berekening!$G$50,TRUE)","v":1},1651,{"$f":"POISSON(F1655,Berekening!$G$52,TRUE)","v":1},1651]
[{"$f":"POISSON(B1656,Berekening!$G$27,TRUE)","v":1},1652,{"$f":"POISSON(D1656,Berekening!$G$50,TRUE)","v":1},1652,{"$f":"POISSON(F1656,Berekening!$G$52,TRUE)","v":1},1652]
[{"$f":"POISSON(B1657,Berekening!$G$27,TRUE)","v":1},1653,{"$f":"POISSON(D1657,Berekening!$G$50,TRUE)","v":1},1653,{"$f":"POISSON(F1657,Berekening!$G$52,TRUE)","v":1},1653]
[{"$f":"POISSON(B1658,Berekening!$G$27,TRUE)","v":1},1654,{"$f":"POISSON(D1658,Berekening!$G$50,TRUE)","v":1},1654,{"$f":"POISSON(F1658,Berekening!$G$52,TRUE)","v":1},1654]
[{"$f":"POISSON(B1659,Berekening!$G$27,TRUE)","v":1},1655,{"$f":"POISSON(D1659,Berekening!$G$50,TRUE)","v":1},1655,{"$f":"POISSON(F1659,Berekening!$G$52,TRUE)","v":1},1655]
[{"$f":"POISSON(B1660,Berekening!$G$27,TRUE)","v":1},1656,{"$f":"POISSON(D1660,Berekening!$G$50,TRUE)","v":1},1656,{"$f":"POISSON(F1660,Berekening!$G$52,TRUE)","v":1},1656]
[{"$f":"POISSON(B1661,Berekening!$G$27,TRUE)","v":1},1657,{"$f":"POISSON(D1661,Berekening!$G$50,TRUE)","v":1},1657,{"$f":"POISSON(F1661,Berekening!$G$52,TRUE)","v":1},1657]
[{"$f":"POISSON(B1662,Berekening!$G$27,TRUE)","v":1},1658,{"$f":"POISSON(D1662,Berekening!$G$50,TRUE)","v":1},1658,{"$f":"POISSON(F1662,Berekening!$G$52,TRUE)","v":1},1658]
[{"$f":"POISSON(B1663,Berekening!$G$27,TRUE)","v":1},1659,{"$f":"POISSON(D1663,Berekening!$G$50,TRUE)","v":1},1659,{"$f":"POISSON(F1663,Berekening!$G$52,TRUE)","v":1},1659]
[{"$f":"POISSON(B1664,Berekening!$G$27,TRUE)","v":1},1660,{"$f":"POISSON(D1664,Berekening!$G$50,TRUE)","v":1},1660,{"$f":"POISSON(F1664,Berekening!$G$52,TRUE)","v":1},1660]
[{"$f":"POISSON(B1665,Berekening!$G$27,TRUE)","v":1},1661,{"$f":"POISSON(D1665,Berekening!$G$50,TRUE)","v":1},1661,{"$f":"POISSON(F1665,Berekening!$G$52,TRUE)","v":1},1661]
[{"$f":"POISSON(B1666,Berekening!$G$27,TRUE)","v":1},1662,{"$f":"POISSON(D1666,Berekening!$G$50,TRUE)","v":1},1662,{"$f":"POISSON(F1666,Berekening!$G$52,TRUE)","v":1},1662]
[{"$f":"POISSON(B1667,Berekening!$G$27,TRUE)","v":1},1663,{"$f":"POISSON(D1667,Berekening!$G$50,TRUE)","v":1},1663,{"$f":"POISSON(F1667,Berekening!$G$52,TRUE)","v":1},1663]
[{"$f":"POISSON(B1668,Berekening!$G$27,TRUE)","v":1},1664,{"$f":"POISSON(D1668,Berekening!$G$50,TRUE)","v":1},1664,{"$f":"POISSON(F1668,Berekening!$G$52,TRUE)","v":1},1664]
[{"$f":"POISSON(B1669,Berekening!$G$27,TRUE)","v":1},1665,{"$f":"POISSON(D1669,Berekening!$G$50,TRUE)","v":1},1665,{"$f":"POISSON(F1669,Berekening!$G$52,TRUE)","v":1},1665]
[{"$f":"POISSON(B1670,Berekening!$G$27,TRUE)","v":1},1666,{"$f":"POISSON(D1670,Berekening!$G$50,TRUE)","v":1},1666,{"$f":"POISSON(F1670,Berekening!$G$52,TRUE)","v":1},1666]
[{"$f":"POISSON(B1671,Berekening!$G$27,TRUE)","v":1},1667,{"$f":"POISSON(D1671,Berekening!$G$50,TRUE)","v":1},1667,{"$f":"POISSON(F1671,Berekening!$G$52,TRUE)","v":1},1667]
[{"$f":"POISSON(B1672,Berekening!$G$27,TRUE)","v":1},1668,{"$f":"POISSON(D1672,Berekening!$G$50,TRUE)","v":1},1668,{"$f":"POISSON(F1672,Berekening!$G$52,TRUE)","v":1},1668]
[{"$f":"POISSON(B1673,Berekening!$G$27,TRUE)","v":1},1669,{"$f":"POISSON(D1673,Berekening!$G$50,TRUE)","v":1},1669,{"$f":"POISSON(F1673,Berekening!$G$52,TRUE)","v":1},1669]
[{"$f":"POISSON(B1674,Berekening!$G$27,TRUE)","v":1},1670,{"$f":"POISSON(D1674,Berekening!$G$50,TRUE)","v":1},1670,{"$f":"POISSON(F1674,Berekening!$G$52,TRUE)","v":1},1670]
[{"$f":"POISSON(B1675,Berekening!$G$27,TRUE)","v":1},1671,{"$f":"POISSON(D1675,Berekening!$G$50,TRUE)","v":1},1671,{"$f":"POISSON(F1675,Berekening!$G$52,TRUE)","v":1},1671]
[{"$f":"POISSON(B1676,Berekening!$G$27,TRUE)","v":1},1672,{"$f":"POISSON(D1676,Berekening!$G$50,TRUE)","v":1},1672,{"$f":"POISSON(F1676,Berekening!$G$52,TRUE)","v":1},1672]
[{"$f":"POISSON(B1677,Berekening!$G$27,TRUE)","v":1},1673,{"$f":"POISSON(D1677,Berekening!$G$50,TRUE)","v":1},1673,{"$f":"POISSON(F1677,Berekening!$G$52,TRUE)","v":1},1673]
[{"$f":"POISSON(B1678,Berekening!$G$27,TRUE)","v":1},1674,{"$f":"POISSON(D1678,Berekening!$G$50,TRUE)","v":1},1674,{"$f":"POISSON(F1678,Berekening!$G$52,TRUE)","v":1},1674]
[{"$f":"POISSON(B1679,Berekening!$G$27,TRUE)","v":1},1675,{"$f":"POISSON(D1679,Berekening!$G$50,TRUE)","v":1},1675,{"$f":"POISSON(F1679,Berekening!$G$52,TRUE)","v":1},1675]
[{"$f":"POISSON(B1680,Berekening!$G$27,TRUE)","v":1},1676,{"$f":"POISSON(D1680,Berekening!$G$50,TRUE)","v":1},1676,{"$f":"POISSON(F1680,Berekening!$G$52,TRUE)","v":1},1676]
[{"$f":"POISSON(B1681,Berekening!$G$27,TRUE)","v":1},1677,{"$f":"POISSON(D1681,Berekening!$G$50,TRUE)","v":1},1677,{"$f":"POISSON(F1681,Berekening!$G$52,TRUE)","v":1},1677]
[{"$f":"POISSON(B1682,Berekening!$G$27,TRUE)","v":1},1678,{"$f":"POISSON(D1682,Berekening!$G$50,TRUE)","v":1},1678,{"$f":"POISSON(F1682,Berekening!$G$52,TRUE)","v":1},1678]
[{"$f":"POISSON(B1683,Berekening!$G$27,TRUE)","v":1},1679,{"$f":"POISSON(D1683,Berekening!$G$50,TRUE)","v":1},1679,{"$f":"POISSON(F1683,Berekening!$G$52,TRUE)","v":1},1679]
[{"$f":"POISSON(B1684,Berekening!$G$27,TRUE)","v":1},1680,{"$f":"POISSON(D1684,Berekening!$G$50,TRUE)","v":1},1680,{"$f":"POISSON(F1684,Berekening!$G$52,TRUE)","v":1},1680]
[{"$f":"POISSON(B1685,Berekening!$G$27,TRUE)","v":1},1681,{"$f":"POISSON(D1685,Berekening!$G$50,TRUE)","v":1},1681,{"$f":"POISSON(F1685,Berekening!$G$52,TRUE)","v":1},1681]
[{"$f":"POISSON(B1686,Berekening!$G$27,TRUE)","v":1},1682,{"$f":"POISSON(D1686,Berekening!$G$50,TRUE)","v":1},1682,{"$f":"POISSON(F1686,Berekening!$G$52,TRUE)","v":1},1682]
[{"$f":"POISSON(B1687,Berekening!$G$27,TRUE)","v":1},1683,{"$f":"POISSON(D1687,Berekening!$G$50,TRUE)","v":1},1683,{"$f":"POISSON(F1687,Berekening!$G$52,TRUE)","v":1},1683]
[{"$f":"POISSON(B1688,Berekening!$G$27,TRUE)","v":1},1684,{"$f":"POISSON(D1688,Berekening!$G$50,TRUE)","v":1},1684,{"$f":"POISSON(F1688,Berekening!$G$52,TRUE)","v":1},1684]
[{"$f":"POISSON(B1689,Berekening!$G$27,TRUE)","v":1},1685,{"$f":"POISSON(D1689,Berekening!$G$50,TRUE)","v":1},1685,{"$f":"POISSON(F1689,Berekening!$G$52,TRUE)","v":1},1685]
[{"$f":"POISSON(B1690,Berekening!$G$27,TRUE)","v":1},1686,{"$f":"POISSON(D1690,Berekening!$G$50,TRUE)","v":1},1686,{"$f":"POISSON(F1690,Berekening!$G$52,TRUE)","v":1},1686]
[{"$f":"POISSON(B1691,Berekening!$G$27,TRUE)","v":1},1687,{"$f":"POISSON(D1691,Berekening!$G$50,TRUE)","v":1},1687,{"$f":"POISSON(F1691,Berekening!$G$52,TRUE)","v":1},1687]
[{"$f":"POISSON(B1692,Berekening!$G$27,TRUE)","v":1},1688,{"$f":"POISSON(D1692,Berekening!$G$50,TRUE)","v":1},1688,{"$f":"POISSON(F1692,Berekening!$G$52,TRUE)","v":1},1688]
[{"$f":"POISSON(B1693,Berekening!$G$27,TRUE)","v":1},1689,{"$f":"POISSON(D1693,Berekening!$G$50,TRUE)","v":1},1689,{"$f":"POISSON(F1693,Berekening!$G$52,TRUE)","v":1},1689]
[{"$f":"POISSON(B1694,Berekening!$G$27,TRUE)","v":1},1690,{"$f":"POISSON(D1694,Berekening!$G$50,TRUE)","v":1},1690,{"$f":"POISSON(F1694,Berekening!$G$52,TRUE)","v":1},1690]
[{"$f":"POISSON(B1695,Berekening!$G$27,TRUE)","v":1},1691,{"$f":"POISSON(D1695,Berekening!$G$50,TRUE)","v":1},1691,{"$f":"POISSON(F1695,Berekening!$G$52,TRUE)","v":1},1691]
[{"$f":"POISSON(B1696,Berekening!$G$27,TRUE)","v":1},1692,{"$f":"POISSON(D1696,Berekening!$G$50,TRUE)","v":1},1692,{"$f":"POISSON(F1696,Berekening!$G$52,TRUE)","v":1},1692]
[{"$f":"POISSON(B1697,Berekening!$G$27,TRUE)","v":1},1693,{"$f":"POISSON(D1697,Berekening!$G$50,TRUE)","v":1},1693,{"$f":"POISSON(F1697,Berekening!$G$52,TRUE)","v":1},1693]
[{"$f":"POISSON(B1698,Berekening!$G$27,TRUE)","v":1},1694,{"$f":"POISSON(D1698,Berekening!$G$50,TRUE)","v":1},1694,{"$f":"POISSON(F1698,Berekening!$G$52,TRUE)","v":1},1694]
[{"$f":"POISSON(B1699,Berekening!$G$27,TRUE)","v":1},1695,{"$f":"POISSON(D1699,Berekening!$G$50,TRUE)","v":1},1695,{"$f":"POISSON(F1699,Berekening!$G$52,TRUE)","v":1},1695]
[{"$f":"POISSON(B1700,Berekening!$G$27,TRUE)","v":1},1696,{"$f":"POISSON(D1700,Berekening!$G$50,TRUE)","v":1},1696,{"$f":"POISSON(F1700,Berekening!$G$52,TRUE)","v":1},1696]
[{"$f":"POISSON(B1701,Berekening!$G$27,TRUE)","v":1},1697,{"$f":"POISSON(D1701,Berekening!$G$50,TRUE)","v":1},1697,{"$f":"POISSON(F1701,Berekening!$G$52,TRUE)","v":1},1697]
[{"$f":"POISSON(B1702,Berekening!$G$27,TRUE)","v":1},1698,{"$f":"POISSON(D1702,Berekening!$G$50,TRUE)","v":1},1698,{"$f":"POISSON(F1702,Berekening!$G$52,TRUE)","v":1},1698]
[{"$f":"POISSON(B1703,Berekening!$G$27,TRUE)","v":1},1699,{"$f":"POISSON(D1703,Berekening!$G$50,TRUE)","v":1},1699,{"$f":"POISSON(F1703,Berekening!$G$52,TRUE)","v":1},1699]
[{"$f":"POISSON(B1704,Berekening!$G$27,TRUE)","v":1},1700,{"$f":"POISSON(D1704,Berekening!$G$50,TRUE)","v":1},1700,{"$f":"POISSON(F1704,Berekening!$G$52,TRUE)","v":1},1700]
[{"$f":"POISSON(B1705,Berekening!$G$27,TRUE)","v":1},1701,{"$f":"POISSON(D1705,Berekening!$G$50,TRUE)","v":1},1701,{"$f":"POISSON(F1705,Berekening!$G$52,TRUE)","v":1},1701]
[{"$f":"POISSON(B1706,Berekening!$G$27,TRUE)","v":1},1702,{"$f":"POISSON(D1706,Berekening!$G$50,TRUE)","v":1},1702,{"$f":"POISSON(F1706,Berekening!$G$52,TRUE)","v":1},1702]
[{"$f":"POISSON(B1707,Berekening!$G$27,TRUE)","v":1},1703,{"$f":"POISSON(D1707,Berekening!$G$50,TRUE)","v":1},1703,{"$f":"POISSON(F1707,Berekening!$G$52,TRUE)","v":1},1703]
[{"$f":"POISSON(B1708,Berekening!$G$27,TRUE)","v":1},1704,{"$f":"POISSON(D1708,Berekening!$G$50,TRUE)","v":1},1704,{"$f":"POISSON(F1708,Berekening!$G$52,TRUE)","v":1},1704]
[{"$f":"POISSON(B1709,Berekening!$G$27,TRUE)","v":1},1705,{"$f":"POISSON(D1709,Berekening!$G$50,TRUE)","v":1},1705,{"$f":"POISSON(F1709,Berekening!$G$52,TRUE)","v":1},1705]
[{"$f":"POISSON(B1710,Berekening!$G$27,TRUE)","v":1},1706,{"$f":"POISSON(D1710,Berekening!$G$50,TRUE)","v":1},1706,{"$f":"POISSON(F1710,Berekening!$G$52,TRUE)","v":1},1706]
[{"$f":"POISSON(B1711,Berekening!$G$27,TRUE)","v":1},1707,{"$f":"POISSON(D1711,Berekening!$G$50,TRUE)","v":1},1707,{"$f":"POISSON(F1711,Berekening!$G$52,TRUE)","v":1},1707]
[{"$f":"POISSON(B1712,Berekening!$G$27,TRUE)","v":1},1708,{"$f":"POISSON(D1712,Berekening!$G$50,TRUE)","v":1},1708,{"$f":"POISSON(F1712,Berekening!$G$52,TRUE)","v":1},1708]
[{"$f":"POISSON(B1713,Berekening!$G$27,TRUE)","v":1},1709,{"$f":"POISSON(D1713,Berekening!$G$50,TRUE)","v":1},1709,{"$f":"POISSON(F1713,Berekening!$G$52,TRUE)","v":1},1709]
[{"$f":"POISSON(B1714,Berekening!$G$27,TRUE)","v":1},1710,{"$f":"POISSON(D1714,Berekening!$G$50,TRUE)","v":1},1710,{"$f":"POISSON(F1714,Berekening!$G$52,TRUE)","v":1},1710]
[{"$f":"POISSON(B1715,Berekening!$G$27,TRUE)","v":1},1711,{"$f":"POISSON(D1715,Berekening!$G$50,TRUE)","v":1},1711,{"$f":"POISSON(F1715,Berekening!$G$52,TRUE)","v":1},1711]
[{"$f":"POISSON(B1716,Berekening!$G$27,TRUE)","v":1},1712,{"$f":"POISSON(D1716,Berekening!$G$50,TRUE)","v":1},1712,{"$f":"POISSON(F1716,Berekening!$G$52,TRUE)","v":1},1712]
[{"$f":"POISSON(B1717,Berekening!$G$27,TRUE)","v":1},1713,{"$f":"POISSON(D1717,Berekening!$G$50,TRUE)","v":1},1713,{"$f":"POISSON(F1717,Berekening!$G$52,TRUE)","v":1},1713]
[{"$f":"POISSON(B1718,Berekening!$G$27,TRUE)","v":1},1714,{"$f":"POISSON(D1718,Berekening!$G$50,TRUE)","v":1},1714,{"$f":"POISSON(F1718,Berekening!$G$52,TRUE)","v":1},1714]
[{"$f":"POISSON(B1719,Berekening!$G$27,TRUE)","v":1},1715,{"$f":"POISSON(D1719,Berekening!$G$50,TRUE)","v":1},1715,{"$f":"POISSON(F1719,Berekening!$G$52,TRUE)","v":1},1715]
[{"$f":"POISSON(B1720,Berekening!$G$27,TRUE)","v":1},1716,{"$f":"POISSON(D1720,Berekening!$G$50,TRUE)","v":1},1716,{"$f":"POISSON(F1720,Berekening!$G$52,TRUE)","v":1},1716]
[{"$f":"POISSON(B1721,Berekening!$G$27,TRUE)","v":1},1717,{"$f":"POISSON(D1721,Berekening!$G$50,TRUE)","v":1},1717,{"$f":"POISSON(F1721,Berekening!$G$52,TRUE)","v":1},1717]
[{"$f":"POISSON(B1722,Berekening!$G$27,TRUE)","v":1},1718,{"$f":"POISSON(D1722,Berekening!$G$50,TRUE)","v":1},1718,{"$f":"POISSON(F1722,Berekening!$G$52,TRUE)","v":1},1718]
[{"$f":"POISSON(B1723,Berekening!$G$27,TRUE)","v":1},1719,{"$f":"POISSON(D1723,Berekening!$G$50,TRUE)","v":1},1719,{"$f":"POISSON(F1723,Berekening!$G$52,TRUE)","v":1},1719]
[{"$f":"POISSON(B1724,Berekening!$G$27,TRUE)","v":1},1720,{"$f":"POISSON(D1724,Berekening!$G$50,TRUE)","v":1},1720,{"$f":"POISSON(F1724,Berekening!$G$52,TRUE)","v":1},1720]
[{"$f":"POISSON(B1725,Berekening!$G$27,TRUE)","v":1},1721,{"$f":"POISSON(D1725,Berekening!$G$50,TRUE)","v":1},1721,{"$f":"POISSON(F1725,Berekening!$G$52,TRUE)","v":1},1721]
[{"$f":"POISSON(B1726,Berekening!$G$27,TRUE)","v":1},1722,{"$f":"POISSON(D1726,Berekening!$G$50,TRUE)","v":1},1722,{"$f":"POISSON(F1726,Berekening!$G$52,TRUE)","v":1},1722]
[{"$f":"POISSON(B1727,Berekening!$G$27,TRUE)","v":1},1723,{"$f":"POISSON(D1727,Berekening!$G$50,TRUE)","v":1},1723,{"$f":"POISSON(F1727,Berekening!$G$52,TRUE)","v":1},1723]
[{"$f":"POISSON(B1728,Berekening!$G$27,TRUE)","v":1},1724,{"$f":"POISSON(D1728,Berekening!$G$50,TRUE)","v":1},1724,{"$f":"POISSON(F1728,Berekening!$G$52,TRUE)","v":1},1724]
[{"$f":"POISSON(B1729,Berekening!$G$27,TRUE)","v":1},1725,{"$f":"POISSON(D1729,Berekening!$G$50,TRUE)","v":1},1725,{"$f":"POISSON(F1729,Berekening!$G$52,TRUE)","v":1},1725]
[{"$f":"POISSON(B1730,Berekening!$G$27,TRUE)","v":1},1726,{"$f":"POISSON(D1730,Berekening!$G$50,TRUE)","v":1},1726,{"$f":"POISSON(F1730,Berekening!$G$52,TRUE)","v":1},1726]
[{"$f":"POISSON(B1731,Berekening!$G$27,TRUE)","v":1},1727,{"$f":"POISSON(D1731,Berekening!$G$50,TRUE)","v":1},1727,{"$f":"POISSON(F1731,Berekening!$G$52,TRUE)","v":1},1727]
[{"$f":"POISSON(B1732,Berekening!$G$27,TRUE)","v":1},1728,{"$f":"POISSON(D1732,Berekening!$G$50,TRUE)","v":1},1728,{"$f":"POISSON(F1732,Berekening!$G$52,TRUE)","v":1},1728]
[{"$f":"POISSON(B1733,Berekening!$G$27,TRUE)","v":1},1729,{"$f":"POISSON(D1733,Berekening!$G$50,TRUE)","v":1},1729,{"$f":"POISSON(F1733,Berekening!$G$52,TRUE)","v":1},1729]
[{"$f":"POISSON(B1734,Berekening!$G$27,TRUE)","v":1},1730,{"$f":"POISSON(D1734,Berekening!$G$50,TRUE)","v":1},1730,{"$f":"POISSON(F1734,Berekening!$G$52,TRUE)","v":1},1730]
[{"$f":"POISSON(B1735,Berekening!$G$27,TRUE)","v":1},1731,{"$f":"POISSON(D1735,Berekening!$G$50,TRUE)","v":1},1731,{"$f":"POISSON(F1735,Berekening!$G$52,TRUE)","v":1},1731]
[{"$f":"POISSON(B1736,Berekening!$G$27,TRUE)","v":1},1732,{"$f":"POISSON(D1736,Berekening!$G$50,TRUE)","v":1},1732,{"$f":"POISSON(F1736,Berekening!$G$52,TRUE)","v":1},1732]
[{"$f":"POISSON(B1737,Berekening!$G$27,TRUE)","v":1},1733,{"$f":"POISSON(D1737,Berekening!$G$50,TRUE)","v":1},1733,{"$f":"POISSON(F1737,Berekening!$G$52,TRUE)","v":1},1733]
[{"$f":"POISSON(B1738,Berekening!$G$27,TRUE)","v":1},1734,{"$f":"POISSON(D1738,Berekening!$G$50,TRUE)","v":1},1734,{"$f":"POISSON(F1738,Berekening!$G$52,TRUE)","v":1},1734]
[{"$f":"POISSON(B1739,Berekening!$G$27,TRUE)","v":1},1735,{"$f":"POISSON(D1739,Berekening!$G$50,TRUE)","v":1},1735,{"$f":"POISSON(F1739,Berekening!$G$52,TRUE)","v":1},1735]
[{"$f":"POISSON(B1740,Berekening!$G$27,TRUE)","v":1},1736,{"$f":"POISSON(D1740,Berekening!$G$50,TRUE)","v":1},1736,{"$f":"POISSON(F1740,Berekening!$G$52,TRUE)","v":1},1736]
[{"$f":"POISSON(B1741,Berekening!$G$27,TRUE)","v":1},1737,{"$f":"POISSON(D1741,Berekening!$G$50,TRUE)","v":1},1737,{"$f":"POISSON(F1741,Berekening!$G$52,TRUE)","v":1},1737]
[{"$f":"POISSON(B1742,Berekening!$G$27,TRUE)","v":1},1738,{"$f":"POISSON(D1742,Berekening!$G$50,TRUE)","v":1},1738,{"$f":"POISSON(F1742,Berekening!$G$52,TRUE)","v":1},1738]
[{"$f":"POISSON(B1743,Berekening!$G$27,TRUE)","v":1},1739,{"$f":"POISSON(D1743,Berekening!$G$50,TRUE)","v":1},1739,{"$f":"POISSON(F1743,Berekening!$G$52,TRUE)","v":1},1739]
[{"$f":"POISSON(B1744,Berekening!$G$27,TRUE)","v":1},1740,{"$f":"POISSON(D1744,Berekening!$G$50,TRUE)","v":1},1740,{"$f":"POISSON(F1744,Berekening!$G$52,TRUE)","v":1},1740]
[{"$f":"POISSON(B1745,Berekening!$G$27,TRUE)","v":1},1741,{"$f":"POISSON(D1745,Berekening!$G$50,TRUE)","v":1},1741,{"$f":"POISSON(F1745,Berekening!$G$52,TRUE)","v":1},1741]
[{"$f":"POISSON(B1746,Berekening!$G$27,TRUE)","v":1},1742,{"$f":"POISSON(D1746,Berekening!$G$50,TRUE)","v":1},1742,{"$f":"POISSON(F1746,Berekening!$G$52,TRUE)","v":1},1742]
[{"$f":"POISSON(B1747,Berekening!$G$27,TRUE)","v":1},1743,{"$f":"POISSON(D1747,Berekening!$G$50,TRUE)","v":1},1743,{"$f":"POISSON(F1747,Berekening!$G$52,TRUE)","v":1},1743]
[{"$f":"POISSON(B1748,Berekening!$G$27,TRUE)","v":1},1744,{"$f":"POISSON(D1748,Berekening!$G$50,TRUE)","v":1},1744,{"$f":"POISSON(F1748,Berekening!$G$52,TRUE)","v":1},1744]
[{"$f":"POISSON(B1749,Berekening!$G$27,TRUE)","v":1},1745,{"$f":"POISSON(D1749,Berekening!$G$50,TRUE)","v":1},1745,{"$f":"POISSON(F1749,Berekening!$G$52,TRUE)","v":1},1745]
[{"$f":"POISSON(B1750,Berekening!$G$27,TRUE)","v":1},1746,{"$f":"POISSON(D1750,Berekening!$G$50,TRUE)","v":1},1746,{"$f":"POISSON(F1750,Berekening!$G$52,TRUE)","v":1},1746]
[{"$f":"POISSON(B1751,Berekening!$G$27,TRUE)","v":1},1747,{"$f":"POISSON(D1751,Berekening!$G$50,TRUE)","v":1},1747,{"$f":"POISSON(F1751,Berekening!$G$52,TRUE)","v":1},1747]
[{"$f":"POISSON(B1752,Berekening!$G$27,TRUE)","v":1},1748,{"$f":"POISSON(D1752,Berekening!$G$50,TRUE)","v":1},1748,{"$f":"POISSON(F1752,Berekening!$G$52,TRUE)","v":1},1748]
[{"$f":"POISSON(B1753,Berekening!$G$27,TRUE)","v":1},1749,{"$f":"POISSON(D1753,Berekening!$G$50,TRUE)","v":1},1749,{"$f":"POISSON(F1753,Berekening!$G$52,TRUE)","v":1},1749]
[{"$f":"POISSON(B1754,Berekening!$G$27,TRUE)","v":1},1750,{"$f":"POISSON(D1754,Berekening!$G$50,TRUE)","v":1},1750,{"$f":"POISSON(F1754,Berekening!$G$52,TRUE)","v":1},1750]
[{"$f":"POISSON(B1755,Berekening!$G$27,TRUE)","v":1},1751,{"$f":"POISSON(D1755,Berekening!$G$50,TRUE)","v":1},1751,{"$f":"POISSON(F1755,Berekening!$G$52,TRUE)","v":1},1751]
[{"$f":"POISSON(B1756,Berekening!$G$27,TRUE)","v":1},1752,{"$f":"POISSON(D1756,Berekening!$G$50,TRUE)","v":1},1752,{"$f":"POISSON(F1756,Berekening!$G$52,TRUE)","v":1},1752]
[{"$f":"POISSON(B1757,Berekening!$G$27,TRUE)","v":1},1753,{"$f":"POISSON(D1757,Berekening!$G$50,TRUE)","v":1},1753,{"$f":"POISSON(F1757,Berekening!$G$52,TRUE)","v":1},1753]
[{"$f":"POISSON(B1758,Berekening!$G$27,TRUE)","v":1},1754,{"$f":"POISSON(D1758,Berekening!$G$50,TRUE)","v":1},1754,{"$f":"POISSON(F1758,Berekening!$G$52,TRUE)","v":1},1754]
[{"$f":"POISSON(B1759,Berekening!$G$27,TRUE)","v":1},1755,{"$f":"POISSON(D1759,Berekening!$G$50,TRUE)","v":1},1755,{"$f":"POISSON(F1759,Berekening!$G$52,TRUE)","v":1},1755]
[{"$f":"POISSON(B1760,Berekening!$G$27,TRUE)","v":1},1756,{"$f":"POISSON(D1760,Berekening!$G$50,TRUE)","v":1},1756,{"$f":"POISSON(F1760,Berekening!$G$52,TRUE)","v":1},1756]
[{"$f":"POISSON(B1761,Berekening!$G$27,TRUE)","v":1},1757,{"$f":"POISSON(D1761,Berekening!$G$50,TRUE)","v":1},1757,{"$f":"POISSON(F1761,Berekening!$G$52,TRUE)","v":1},1757]
[{"$f":"POISSON(B1762,Berekening!$G$27,TRUE)","v":1},1758,{"$f":"POISSON(D1762,Berekening!$G$50,TRUE)","v":1},1758,{"$f":"POISSON(F1762,Berekening!$G$52,TRUE)","v":1},1758]
[{"$f":"POISSON(B1763,Berekening!$G$27,TRUE)","v":1},1759,{"$f":"POISSON(D1763,Berekening!$G$50,TRUE)","v":1},1759,{"$f":"POISSON(F1763,Berekening!$G$52,TRUE)","v":1},1759]
[{"$f":"POISSON(B1764,Berekening!$G$27,TRUE)","v":1},1760,{"$f":"POISSON(D1764,Berekening!$G$50,TRUE)","v":1},1760,{"$f":"POISSON(F1764,Berekening!$G$52,TRUE)","v":1},1760]
[{"$f":"POISSON(B1765,Berekening!$G$27,TRUE)","v":1},1761,{"$f":"POISSON(D1765,Berekening!$G$50,TRUE)","v":1},1761,{"$f":"POISSON(F1765,Berekening!$G$52,TRUE)","v":1},1761]
[{"$f":"POISSON(B1766,Berekening!$G$27,TRUE)","v":1},1762,{"$f":"POISSON(D1766,Berekening!$G$50,TRUE)","v":1},1762,{"$f":"POISSON(F1766,Berekening!$G$52,TRUE)","v":1},1762]
[{"$f":"POISSON(B1767,Berekening!$G$27,TRUE)","v":1},1763,{"$f":"POISSON(D1767,Berekening!$G$50,TRUE)","v":1},1763,{"$f":"POISSON(F1767,Berekening!$G$52,TRUE)","v":1},1763]
[{"$f":"POISSON(B1768,Berekening!$G$27,TRUE)","v":1},1764,{"$f":"POISSON(D1768,Berekening!$G$50,TRUE)","v":1},1764,{"$f":"POISSON(F1768,Berekening!$G$52,TRUE)","v":1},1764]
[{"$f":"POISSON(B1769,Berekening!$G$27,TRUE)","v":1},1765,{"$f":"POISSON(D1769,Berekening!$G$50,TRUE)","v":1},1765,{"$f":"POISSON(F1769,Berekening!$G$52,TRUE)","v":1},1765]
[{"$f":"POISSON(B1770,Berekening!$G$27,TRUE)","v":1},1766,{"$f":"POISSON(D1770,Berekening!$G$50,TRUE)","v":1},1766,{"$f":"POISSON(F1770,Berekening!$G$52,TRUE)","v":1},1766]
[{"$f":"POISSON(B1771,Berekening!$G$27,TRUE)","v":1},1767,{"$f":"POISSON(D1771,Berekening!$G$50,TRUE)","v":1},1767,{"$f":"POISSON(F1771,Berekening!$G$52,TRUE)","v":1},1767]
[{"$f":"POISSON(B1772,Berekening!$G$27,TRUE)","v":1},1768,{"$f":"POISSON(D1772,Berekening!$G$50,TRUE)","v":1},1768,{"$f":"POISSON(F1772,Berekening!$G$52,TRUE)","v":1},1768]
[{"$f":"POISSON(B1773,Berekening!$G$27,TRUE)","v":1},1769,{"$f":"POISSON(D1773,Berekening!$G$50,TRUE)","v":1},1769,{"$f":"POISSON(F1773,Berekening!$G$52,TRUE)","v":1},1769]
[{"$f":"POISSON(B1774,Berekening!$G$27,TRUE)","v":1},1770,{"$f":"POISSON(D1774,Berekening!$G$50,TRUE)","v":1},1770,{"$f":"POISSON(F1774,Berekening!$G$52,TRUE)","v":1},1770]
[{"$f":"POISSON(B1775,Berekening!$G$27,TRUE)","v":1},1771,{"$f":"POISSON(D1775,Berekening!$G$50,TRUE)","v":1},1771,{"$f":"POISSON(F1775,Berekening!$G$52,TRUE)","v":1},1771]
[{"$f":"POISSON(B1776,Berekening!$G$27,TRUE)","v":1},1772,{"$f":"POISSON(D1776,Berekening!$G$50,TRUE)","v":1},1772,{"$f":"POISSON(F1776,Berekening!$G$52,TRUE)","v":1},1772]
[{"$f":"POISSON(B1777,Berekening!$G$27,TRUE)","v":1},1773,{"$f":"POISSON(D1777,Berekening!$G$50,TRUE)","v":1},1773,{"$f":"POISSON(F1777,Berekening!$G$52,TRUE)","v":1},1773]
[{"$f":"POISSON(B1778,Berekening!$G$27,TRUE)","v":1},1774,{"$f":"POISSON(D1778,Berekening!$G$50,TRUE)","v":1},1774,{"$f":"POISSON(F1778,Berekening!$G$52,TRUE)","v":1},1774]
[{"$f":"POISSON(B1779,Berekening!$G$27,TRUE)","v":1},1775,{"$f":"POISSON(D1779,Berekening!$G$50,TRUE)","v":1},1775,{"$f":"POISSON(F1779,Berekening!$G$52,TRUE)","v":1},1775]
[{"$f":"POISSON(B1780,Berekening!$G$27,TRUE)","v":1},1776,{"$f":"POISSON(D1780,Berekening!$G$50,TRUE)","v":1},1776,{"$f":"POISSON(F1780,Berekening!$G$52,TRUE)","v":1},1776]
[{"$f":"POISSON(B1781,Berekening!$G$27,TRUE)","v":1},1777,{"$f":"POISSON(D1781,Berekening!$G$50,TRUE)","v":1},1777,{"$f":"POISSON(F1781,Berekening!$G$52,TRUE)","v":1},1777]
[{"$f":"POISSON(B1782,Berekening!$G$27,TRUE)","v":1},1778,{"$f":"POISSON(D1782,Berekening!$G$50,TRUE)","v":1},1778,{"$f":"POISSON(F1782,Berekening!$G$52,TRUE)","v":1},1778]
[{"$f":"POISSON(B1783,Berekening!$G$27,TRUE)","v":1},1779,{"$f":"POISSON(D1783,Berekening!$G$50,TRUE)","v":1},1779,{"$f":"POISSON(F1783,Berekening!$G$52,TRUE)","v":1},1779]
[{"$f":"POISSON(B1784,Berekening!$G$27,TRUE)","v":1},1780,{"$f":"POISSON(D1784,Berekening!$G$50,TRUE)","v":1},1780,{"$f":"POISSON(F1784,Berekening!$G$52,TRUE)","v":1},1780]
[{"$f":"POISSON(B1785,Berekening!$G$27,TRUE)","v":1},1781,{"$f":"POISSON(D1785,Berekening!$G$50,TRUE)","v":1},1781,{"$f":"POISSON(F1785,Berekening!$G$52,TRUE)","v":1},1781]
[{"$f":"POISSON(B1786,Berekening!$G$27,TRUE)","v":1},1782,{"$f":"POISSON(D1786,Berekening!$G$50,TRUE)","v":1},1782,{"$f":"POISSON(F1786,Berekening!$G$52,TRUE)","v":1},1782]
[{"$f":"POISSON(B1787,Berekening!$G$27,TRUE)","v":1},1783,{"$f":"POISSON(D1787,Berekening!$G$50,TRUE)","v":1},1783,{"$f":"POISSON(F1787,Berekening!$G$52,TRUE)","v":1},1783]
[{"$f":"POISSON(B1788,Berekening!$G$27,TRUE)","v":1},1784,{"$f":"POISSON(D1788,Berekening!$G$50,TRUE)","v":1},1784,{"$f":"POISSON(F1788,Berekening!$G$52,TRUE)","v":1},1784]
[{"$f":"POISSON(B1789,Berekening!$G$27,TRUE)","v":1},1785,{"$f":"POISSON(D1789,Berekening!$G$50,TRUE)","v":1},1785,{"$f":"POISSON(F1789,Berekening!$G$52,TRUE)","v":1},1785]
[{"$f":"POISSON(B1790,Berekening!$G$27,TRUE)","v":1},1786,{"$f":"POISSON(D1790,Berekening!$G$50,TRUE)","v":1},1786,{"$f":"POISSON(F1790,Berekening!$G$52,TRUE)","v":1},1786]
[{"$f":"POISSON(B1791,Berekening!$G$27,TRUE)","v":1},1787,{"$f":"POISSON(D1791,Berekening!$G$50,TRUE)","v":1},1787,{"$f":"POISSON(F1791,Berekening!$G$52,TRUE)","v":1},1787]
[{"$f":"POISSON(B1792,Berekening!$G$27,TRUE)","v":1},1788,{"$f":"POISSON(D1792,Berekening!$G$50,TRUE)","v":1},1788,{"$f":"POISSON(F1792,Berekening!$G$52,TRUE)","v":1},1788]
[{"$f":"POISSON(B1793,Berekening!$G$27,TRUE)","v":1},1789,{"$f":"POISSON(D1793,Berekening!$G$50,TRUE)","v":1},1789,{"$f":"POISSON(F1793,Berekening!$G$52,TRUE)","v":1},1789]
[{"$f":"POISSON(B1794,Berekening!$G$27,TRUE)","v":1},1790,{"$f":"POISSON(D1794,Berekening!$G$50,TRUE)","v":1},1790,{"$f":"POISSON(F1794,Berekening!$G$52,TRUE)","v":1},1790]
[{"$f":"POISSON(B1795,Berekening!$G$27,TRUE)","v":1},1791,{"$f":"POISSON(D1795,Berekening!$G$50,TRUE)","v":1},1791,{"$f":"POISSON(F1795,Berekening!$G$52,TRUE)","v":1},1791]
[{"$f":"POISSON(B1796,Berekening!$G$27,TRUE)","v":1},1792,{"$f":"POISSON(D1796,Berekening!$G$50,TRUE)","v":1},1792,{"$f":"POISSON(F1796,Berekening!$G$52,TRUE)","v":1},1792]
[{"$f":"POISSON(B1797,Berekening!$G$27,TRUE)","v":1},1793,{"$f":"POISSON(D1797,Berekening!$G$50,TRUE)","v":1},1793,{"$f":"POISSON(F1797,Berekening!$G$52,TRUE)","v":1},1793]
[{"$f":"POISSON(B1798,Berekening!$G$27,TRUE)","v":1},1794,{"$f":"POISSON(D1798,Berekening!$G$50,TRUE)","v":1},1794,{"$f":"POISSON(F1798,Berekening!$G$52,TRUE)","v":1},1794]
[{"$f":"POISSON(B1799,Berekening!$G$27,TRUE)","v":1},1795,{"$f":"POISSON(D1799,Berekening!$G$50,TRUE)","v":1},1795,{"$f":"POISSON(F1799,Berekening!$G$52,TRUE)","v":1},1795]
[{"$f":"POISSON(B1800,Berekening!$G$27,TRUE)","v":1},1796,{"$f":"POISSON(D1800,Berekening!$G$50,TRUE)","v":1},1796,{"$f":"POISSON(F1800,Berekening!$G$52,TRUE)","v":1},1796]
[{"$f":"POISSON(B1801,Berekening!$G$27,TRUE)","v":1},1797,{"$f":"POISSON(D1801,Berekening!$G$50,TRUE)","v":1},1797,{"$f":"POISSON(F1801,Berekening!$G$52,TRUE)","v":1},1797]
[{"$f":"POISSON(B1802,Berekening!$G$27,TRUE)","v":1},1798,{"$f":"POISSON(D1802,Berekening!$G$50,TRUE)","v":1},1798,{"$f":"POISSON(F1802,Berekening!$G$52,TRUE)","v":1},1798]
[{"$f":"POISSON(B1803,Berekening!$G$27,TRUE)","v":1},1799,{"$f":"POISSON(D1803,Berekening!$G$50,TRUE)","v":1},1799,{"$f":"POISSON(F1803,Berekening!$G$52,TRUE)","v":1},1799]
[{"$f":"POISSON(B1804,Berekening!$G$27,TRUE)","v":1},1800,{"$f":"POISSON(D1804,Berekening!$G$50,TRUE)","v":1},1800,{"$f":"POISSON(F1804,Berekening!$G$52,TRUE)","v":1},1800]
[{"$f":"POISSON(B1805,Berekening!$G$27,TRUE)","v":1},1801,{"$f":"POISSON(D1805,Berekening!$G$50,TRUE)","v":1},1801,{"$f":"POISSON(F1805,Berekening!$G$52,TRUE)","v":1},1801]
[{"$f":"POISSON(B1806,Berekening!$G$27,TRUE)","v":1},1802,{"$f":"POISSON(D1806,Berekening!$G$50,TRUE)","v":1},1802,{"$f":"POISSON(F1806,Berekening!$G$52,TRUE)","v":1},1802]
[{"$f":"POISSON(B1807,Berekening!$G$27,TRUE)","v":1},1803,{"$f":"POISSON(D1807,Berekening!$G$50,TRUE)","v":1},1803,{"$f":"POISSON(F1807,Berekening!$G$52,TRUE)","v":1},1803]
[{"$f":"POISSON(B1808,Berekening!$G$27,TRUE)","v":1},1804,{"$f":"POISSON(D1808,Berekening!$G$50,TRUE)","v":1},1804,{"$f":"POISSON(F1808,Berekening!$G$52,TRUE)","v":1},1804]
[{"$f":"POISSON(B1809,Berekening!$G$27,TRUE)","v":1},1805,{"$f":"POISSON(D1809,Berekening!$G$50,TRUE)","v":1},1805,{"$f":"POISSON(F1809,Berekening!$G$52,TRUE)","v":1},1805]
[{"$f":"POISSON(B1810,Berekening!$G$27,TRUE)","v":1},1806,{"$f":"POISSON(D1810,Berekening!$G$50,TRUE)","v":1},1806,{"$f":"POISSON(F1810,Berekening!$G$52,TRUE)","v":1},1806]
[{"$f":"POISSON(B1811,Berekening!$G$27,TRUE)","v":1},1807,{"$f":"POISSON(D1811,Berekening!$G$50,TRUE)","v":1},1807,{"$f":"POISSON(F1811,Berekening!$G$52,TRUE)","v":1},1807]
[{"$f":"POISSON(B1812,Berekening!$G$27,TRUE)","v":1},1808,{"$f":"POISSON(D1812,Berekening!$G$50,TRUE)","v":1},1808,{"$f":"POISSON(F1812,Berekening!$G$52,TRUE)","v":1},1808]
[{"$f":"POISSON(B1813,Berekening!$G$27,TRUE)","v":1},1809,{"$f":"POISSON(D1813,Berekening!$G$50,TRUE)","v":1},1809,{"$f":"POISSON(F1813,Berekening!$G$52,TRUE)","v":1},1809]
[{"$f":"POISSON(B1814,Berekening!$G$27,TRUE)","v":1},1810,{"$f":"POISSON(D1814,Berekening!$G$50,TRUE)","v":1},1810,{"$f":"POISSON(F1814,Berekening!$G$52,TRUE)","v":1},1810]
[{"$f":"POISSON(B1815,Berekening!$G$27,TRUE)","v":1},1811,{"$f":"POISSON(D1815,Berekening!$G$50,TRUE)","v":1},1811,{"$f":"POISSON(F1815,Berekening!$G$52,TRUE)","v":1},1811]
[{"$f":"POISSON(B1816,Berekening!$G$27,TRUE)","v":1},1812,{"$f":"POISSON(D1816,Berekening!$G$50,TRUE)","v":1},1812,{"$f":"POISSON(F1816,Berekening!$G$52,TRUE)","v":1},1812]
[{"$f":"POISSON(B1817,Berekening!$G$27,TRUE)","v":1},1813,{"$f":"POISSON(D1817,Berekening!$G$50,TRUE)","v":1},1813,{"$f":"POISSON(F1817,Berekening!$G$52,TRUE)","v":1},1813]
[{"$f":"POISSON(B1818,Berekening!$G$27,TRUE)","v":1},1814,{"$f":"POISSON(D1818,Berekening!$G$50,TRUE)","v":1},1814,{"$f":"POISSON(F1818,Berekening!$G$52,TRUE)","v":1},1814]
[{"$f":"POISSON(B1819,Berekening!$G$27,TRUE)","v":1},1815,{"$f":"POISSON(D1819,Berekening!$G$50,TRUE)","v":1},1815,{"$f":"POISSON(F1819,Berekening!$G$52,TRUE)","v":1},1815]
[{"$f":"POISSON(B1820,Berekening!$G$27,TRUE)","v":1},1816,{"$f":"POISSON(D1820,Berekening!$G$50,TRUE)","v":1},1816,{"$f":"POISSON(F1820,Berekening!$G$52,TRUE)","v":1},1816]
[{"$f":"POISSON(B1821,Berekening!$G$27,TRUE)","v":1},1817,{"$f":"POISSON(D1821,Berekening!$G$50,TRUE)","v":1},1817,{"$f":"POISSON(F1821,Berekening!$G$52,TRUE)","v":1},1817]
[{"$f":"POISSON(B1822,Berekening!$G$27,TRUE)","v":1},1818,{"$f":"POISSON(D1822,Berekening!$G$50,TRUE)","v":1},1818,{"$f":"POISSON(F1822,Berekening!$G$52,TRUE)","v":1},1818]
[{"$f":"POISSON(B1823,Berekening!$G$27,TRUE)","v":1},1819,{"$f":"POISSON(D1823,Berekening!$G$50,TRUE)","v":1},1819,{"$f":"POISSON(F1823,Berekening!$G$52,TRUE)","v":1},1819]
[{"$f":"POISSON(B1824,Berekening!$G$27,TRUE)","v":1},1820,{"$f":"POISSON(D1824,Berekening!$G$50,TRUE)","v":1},1820,{"$f":"POISSON(F1824,Berekening!$G$52,TRUE)","v":1},1820]
[{"$f":"POISSON(B1825,Berekening!$G$27,TRUE)","v":1},1821,{"$f":"POISSON(D1825,Berekening!$G$50,TRUE)","v":1},1821,{"$f":"POISSON(F1825,Berekening!$G$52,TRUE)","v":1},1821]
[{"$f":"POISSON(B1826,Berekening!$G$27,TRUE)","v":1},1822,{"$f":"POISSON(D1826,Berekening!$G$50,TRUE)","v":1},1822,{"$f":"POISSON(F1826,Berekening!$G$52,TRUE)","v":1},1822]
[{"$f":"POISSON(B1827,Berekening!$G$27,TRUE)","v":1},1823,{"$f":"POISSON(D1827,Berekening!$G$50,TRUE)","v":1},1823,{"$f":"POISSON(F1827,Berekening!$G$52,TRUE)","v":1},1823]
[{"$f":"POISSON(B1828,Berekening!$G$27,TRUE)","v":1},1824,{"$f":"POISSON(D1828,Berekening!$G$50,TRUE)","v":1},1824,{"$f":"POISSON(F1828,Berekening!$G$52,TRUE)","v":1},1824]
[{"$f":"POISSON(B1829,Berekening!$G$27,TRUE)","v":1},1825,{"$f":"POISSON(D1829,Berekening!$G$50,TRUE)","v":1},1825,{"$f":"POISSON(F1829,Berekening!$G$52,TRUE)","v":1},1825]
[{"$f":"POISSON(B1830,Berekening!$G$27,TRUE)","v":1},1826,{"$f":"POISSON(D1830,Berekening!$G$50,TRUE)","v":1},1826,{"$f":"POISSON(F1830,Berekening!$G$52,TRUE)","v":1},1826]
[{"$f":"POISSON(B1831,Berekening!$G$27,TRUE)","v":1},1827,{"$f":"POISSON(D1831,Berekening!$G$50,TRUE)","v":1},1827,{"$f":"POISSON(F1831,Berekening!$G$52,TRUE)","v":1},1827]
[{"$f":"POISSON(B1832,Berekening!$G$27,TRUE)","v":1},1828,{"$f":"POISSON(D1832,Berekening!$G$50,TRUE)","v":1},1828,{"$f":"POISSON(F1832,Berekening!$G$52,TRUE)","v":1},1828]
[{"$f":"POISSON(B1833,Berekening!$G$27,TRUE)","v":1},1829,{"$f":"POISSON(D1833,Berekening!$G$50,TRUE)","v":1},1829,{"$f":"POISSON(F1833,Berekening!$G$52,TRUE)","v":1},1829]
[{"$f":"POISSON(B1834,Berekening!$G$27,TRUE)","v":1},1830,{"$f":"POISSON(D1834,Berekening!$G$50,TRUE)","v":1},1830,{"$f":"POISSON(F1834,Berekening!$G$52,TRUE)","v":1},1830]
[{"$f":"POISSON(B1835,Berekening!$G$27,TRUE)","v":1},1831,{"$f":"POISSON(D1835,Berekening!$G$50,TRUE)","v":1},1831,{"$f":"POISSON(F1835,Berekening!$G$52,TRUE)","v":1},1831]
[{"$f":"POISSON(B1836,Berekening!$G$27,TRUE)","v":1},1832,{"$f":"POISSON(D1836,Berekening!$G$50,TRUE)","v":1},1832,{"$f":"POISSON(F1836,Berekening!$G$52,TRUE)","v":1},1832]
[{"$f":"POISSON(B1837,Berekening!$G$27,TRUE)","v":1},1833,{"$f":"POISSON(D1837,Berekening!$G$50,TRUE)","v":1},1833,{"$f":"POISSON(F1837,Berekening!$G$52,TRUE)","v":1},1833]
[{"$f":"POISSON(B1838,Berekening!$G$27,TRUE)","v":1},1834,{"$f":"POISSON(D1838,Berekening!$G$50,TRUE)","v":1},1834,{"$f":"POISSON(F1838,Berekening!$G$52,TRUE)","v":1},1834]
[{"$f":"POISSON(B1839,Berekening!$G$27,TRUE)","v":1},1835,{"$f":"POISSON(D1839,Berekening!$G$50,TRUE)","v":1},1835,{"$f":"POISSON(F1839,Berekening!$G$52,TRUE)","v":1},1835]
[{"$f":"POISSON(B1840,Berekening!$G$27,TRUE)","v":1},1836,{"$f":"POISSON(D1840,Berekening!$G$50,TRUE)","v":1},1836,{"$f":"POISSON(F1840,Berekening!$G$52,TRUE)","v":1},1836]
[{"$f":"POISSON(B1841,Berekening!$G$27,TRUE)","v":1},1837,{"$f":"POISSON(D1841,Berekening!$G$50,TRUE)","v":1},1837,{"$f":"POISSON(F1841,Berekening!$G$52,TRUE)","v":1},1837]
[{"$f":"POISSON(B1842,Berekening!$G$27,TRUE)","v":1},1838,{"$f":"POISSON(D1842,Berekening!$G$50,TRUE)","v":1},1838,{"$f":"POISSON(F1842,Berekening!$G$52,TRUE)","v":1},1838]
[{"$f":"POISSON(B1843,Berekening!$G$27,TRUE)","v":1},1839,{"$f":"POISSON(D1843,Berekening!$G$50,TRUE)","v":1},1839,{"$f":"POISSON(F1843,Berekening!$G$52,TRUE)","v":1},1839]
[{"$f":"POISSON(B1844,Berekening!$G$27,TRUE)","v":1},1840,{"$f":"POISSON(D1844,Berekening!$G$50,TRUE)","v":1},1840,{"$f":"POISSON(F1844,Berekening!$G$52,TRUE)","v":1},1840]
[{"$f":"POISSON(B1845,Berekening!$G$27,TRUE)","v":1},1841,{"$f":"POISSON(D1845,Berekening!$G$50,TRUE)","v":1},1841,{"$f":"POISSON(F1845,Berekening!$G$52,TRUE)","v":1},1841]
[{"$f":"POISSON(B1846,Berekening!$G$27,TRUE)","v":1},1842,{"$f":"POISSON(D1846,Berekening!$G$50,TRUE)","v":1},1842,{"$f":"POISSON(F1846,Berekening!$G$52,TRUE)","v":1},1842]
[{"$f":"POISSON(B1847,Berekening!$G$27,TRUE)","v":1},1843,{"$f":"POISSON(D1847,Berekening!$G$50,TRUE)","v":1},1843,{"$f":"POISSON(F1847,Berekening!$G$52,TRUE)","v":1},1843]
[{"$f":"POISSON(B1848,Berekening!$G$27,TRUE)","v":1},1844,{"$f":"POISSON(D1848,Berekening!$G$50,TRUE)","v":1},1844,{"$f":"POISSON(F1848,Berekening!$G$52,TRUE)","v":1},1844]
[{"$f":"POISSON(B1849,Berekening!$G$27,TRUE)","v":1},1845,{"$f":"POISSON(D1849,Berekening!$G$50,TRUE)","v":1},1845,{"$f":"POISSON(F1849,Berekening!$G$52,TRUE)","v":1},1845]
[{"$f":"POISSON(B1850,Berekening!$G$27,TRUE)","v":1},1846,{"$f":"POISSON(D1850,Berekening!$G$50,TRUE)","v":1},1846,{"$f":"POISSON(F1850,Berekening!$G$52,TRUE)","v":1},1846]
[{"$f":"POISSON(B1851,Berekening!$G$27,TRUE)","v":1},1847,{"$f":"POISSON(D1851,Berekening!$G$50,TRUE)","v":1},1847,{"$f":"POISSON(F1851,Berekening!$G$52,TRUE)","v":1},1847]
[{"$f":"POISSON(B1852,Berekening!$G$27,TRUE)","v":1},1848,{"$f":"POISSON(D1852,Berekening!$G$50,TRUE)","v":1},1848,{"$f":"POISSON(F1852,Berekening!$G$52,TRUE)","v":1},1848]
[{"$f":"POISSON(B1853,Berekening!$G$27,TRUE)","v":1},1849,{"$f":"POISSON(D1853,Berekening!$G$50,TRUE)","v":1},1849,{"$f":"POISSON(F1853,Berekening!$G$52,TRUE)","v":1},1849]
[{"$f":"POISSON(B1854,Berekening!$G$27,TRUE)","v":1},1850,{"$f":"POISSON(D1854,Berekening!$G$50,TRUE)","v":1},1850,{"$f":"POISSON(F1854,Berekening!$G$52,TRUE)","v":1},1850]
[{"$f":"POISSON(B1855,Berekening!$G$27,TRUE)","v":1},1851,{"$f":"POISSON(D1855,Berekening!$G$50,TRUE)","v":1},1851,{"$f":"POISSON(F1855,Berekening!$G$52,TRUE)","v":1},1851]
[{"$f":"POISSON(B1856,Berekening!$G$27,TRUE)","v":1},1852,{"$f":"POISSON(D1856,Berekening!$G$50,TRUE)","v":1},1852,{"$f":"POISSON(F1856,Berekening!$G$52,TRUE)","v":1},1852]
[{"$f":"POISSON(B1857,Berekening!$G$27,TRUE)","v":1},1853,{"$f":"POISSON(D1857,Berekening!$G$50,TRUE)","v":1},1853,{"$f":"POISSON(F1857,Berekening!$G$52,TRUE)","v":1},1853]
[{"$f":"POISSON(B1858,Berekening!$G$27,TRUE)","v":1},1854,{"$f":"POISSON(D1858,Berekening!$G$50,TRUE)","v":1},1854,{"$f":"POISSON(F1858,Berekening!$G$52,TRUE)","v":1},1854]
[{"$f":"POISSON(B1859,Berekening!$G$27,TRUE)","v":1},1855,{"$f":"POISSON(D1859,Berekening!$G$50,TRUE)","v":1},1855,{"$f":"POISSON(F1859,Berekening!$G$52,TRUE)","v":1},1855]
[{"$f":"POISSON(B1860,Berekening!$G$27,TRUE)","v":1},1856,{"$f":"POISSON(D1860,Berekening!$G$50,TRUE)","v":1},1856,{"$f":"POISSON(F1860,Berekening!$G$52,TRUE)","v":1},1856]
[{"$f":"POISSON(B1861,Berekening!$G$27,TRUE)","v":1},1857,{"$f":"POISSON(D1861,Berekening!$G$50,TRUE)","v":1},1857,{"$f":"POISSON(F1861,Berekening!$G$52,TRUE)","v":1},1857]
[{"$f":"POISSON(B1862,Berekening!$G$27,TRUE)","v":1},1858,{"$f":"POISSON(D1862,Berekening!$G$50,TRUE)","v":1},1858,{"$f":"POISSON(F1862,Berekening!$G$52,TRUE)","v":1},1858]
[{"$f":"POISSON(B1863,Berekening!$G$27,TRUE)","v":1},1859,{"$f":"POISSON(D1863,Berekening!$G$50,TRUE)","v":1},1859,{"$f":"POISSON(F1863,Berekening!$G$52,TRUE)","v":1},1859]
[{"$f":"POISSON(B1864,Berekening!$G$27,TRUE)","v":1},1860,{"$f":"POISSON(D1864,Berekening!$G$50,TRUE)","v":1},1860,{"$f":"POISSON(F1864,Berekening!$G$52,TRUE)","v":1},1860]
[{"$f":"POISSON(B1865,Berekening!$G$27,TRUE)","v":1},1861,{"$f":"POISSON(D1865,Berekening!$G$50,TRUE)","v":1},1861,{"$f":"POISSON(F1865,Berekening!$G$52,TRUE)","v":1},1861]
[{"$f":"POISSON(B1866,Berekening!$G$27,TRUE)","v":1},1862,{"$f":"POISSON(D1866,Berekening!$G$50,TRUE)","v":1},1862,{"$f":"POISSON(F1866,Berekening!$G$52,TRUE)","v":1},1862]
[{"$f":"POISSON(B1867,Berekening!$G$27,TRUE)","v":1},1863,{"$f":"POISSON(D1867,Berekening!$G$50,TRUE)","v":1},1863,{"$f":"POISSON(F1867,Berekening!$G$52,TRUE)","v":1},1863]
[{"$f":"POISSON(B1868,Berekening!$G$27,TRUE)","v":1},1864,{"$f":"POISSON(D1868,Berekening!$G$50,TRUE)","v":1},1864,{"$f":"POISSON(F1868,Berekening!$G$52,TRUE)","v":1},1864]
[{"$f":"POISSON(B1869,Berekening!$G$27,TRUE)","v":1},1865,{"$f":"POISSON(D1869,Berekening!$G$50,TRUE)","v":1},1865,{"$f":"POISSON(F1869,Berekening!$G$52,TRUE)","v":1},1865]
[{"$f":"POISSON(B1870,Berekening!$G$27,TRUE)","v":1},1866,{"$f":"POISSON(D1870,Berekening!$G$50,TRUE)","v":1},1866,{"$f":"POISSON(F1870,Berekening!$G$52,TRUE)","v":1},1866]
[{"$f":"POISSON(B1871,Berekening!$G$27,TRUE)","v":1},1867,{"$f":"POISSON(D1871,Berekening!$G$50,TRUE)","v":1},1867,{"$f":"POISSON(F1871,Berekening!$G$52,TRUE)","v":1},1867]
[{"$f":"POISSON(B1872,Berekening!$G$27,TRUE)","v":1},1868,{"$f":"POISSON(D1872,Berekening!$G$50,TRUE)","v":1},1868,{"$f":"POISSON(F1872,Berekening!$G$52,TRUE)","v":1},1868]
[{"$f":"POISSON(B1873,Berekening!$G$27,TRUE)","v":1},1869,{"$f":"POISSON(D1873,Berekening!$G$50,TRUE)","v":1},1869,{"$f":"POISSON(F1873,Berekening!$G$52,TRUE)","v":1},1869]
[{"$f":"POISSON(B1874,Berekening!$G$27,TRUE)","v":1},1870,{"$f":"POISSON(D1874,Berekening!$G$50,TRUE)","v":1},1870,{"$f":"POISSON(F1874,Berekening!$G$52,TRUE)","v":1},1870]
[{"$f":"POISSON(B1875,Berekening!$G$27,TRUE)","v":1},1871,{"$f":"POISSON(D1875,Berekening!$G$50,TRUE)","v":1},1871,{"$f":"POISSON(F1875,Berekening!$G$52,TRUE)","v":1},1871]
[{"$f":"POISSON(B1876,Berekening!$G$27,TRUE)","v":1},1872,{"$f":"POISSON(D1876,Berekening!$G$50,TRUE)","v":1},1872,{"$f":"POISSON(F1876,Berekening!$G$52,TRUE)","v":1},1872]
[{"$f":"POISSON(B1877,Berekening!$G$27,TRUE)","v":1},1873,{"$f":"POISSON(D1877,Berekening!$G$50,TRUE)","v":1},1873,{"$f":"POISSON(F1877,Berekening!$G$52,TRUE)","v":1},1873]
[{"$f":"POISSON(B1878,Berekening!$G$27,TRUE)","v":1},1874,{"$f":"POISSON(D1878,Berekening!$G$50,TRUE)","v":1},1874,{"$f":"POISSON(F1878,Berekening!$G$52,TRUE)","v":1},1874]
[{"$f":"POISSON(B1879,Berekening!$G$27,TRUE)","v":1},1875,{"$f":"POISSON(D1879,Berekening!$G$50,TRUE)","v":1},1875,{"$f":"POISSON(F1879,Berekening!$G$52,TRUE)","v":1},1875]
[{"$f":"POISSON(B1880,Berekening!$G$27,TRUE)","v":1},1876,{"$f":"POISSON(D1880,Berekening!$G$50,TRUE)","v":1},1876,{"$f":"POISSON(F1880,Berekening!$G$52,TRUE)","v":1},1876]
[{"$f":"POISSON(B1881,Berekening!$G$27,TRUE)","v":1},1877,{"$f":"POISSON(D1881,Berekening!$G$50,TRUE)","v":1},1877,{"$f":"POISSON(F1881,Berekening!$G$52,TRUE)","v":1},1877]
[{"$f":"POISSON(B1882,Berekening!$G$27,TRUE)","v":1},1878,{"$f":"POISSON(D1882,Berekening!$G$50,TRUE)","v":1},1878,{"$f":"POISSON(F1882,Berekening!$G$52,TRUE)","v":1},1878]
[{"$f":"POISSON(B1883,Berekening!$G$27,TRUE)","v":1},1879,{"$f":"POISSON(D1883,Berekening!$G$50,TRUE)","v":1},1879,{"$f":"POISSON(F1883,Berekening!$G$52,TRUE)","v":1},1879]
[{"$f":"POISSON(B1884,Berekening!$G$27,TRUE)","v":1},1880,{"$f":"POISSON(D1884,Berekening!$G$50,TRUE)","v":1},1880,{"$f":"POISSON(F1884,Berekening!$G$52,TRUE)","v":1},1880]
[{"$f":"POISSON(B1885,Berekening!$G$27,TRUE)","v":1},1881,{"$f":"POISSON(D1885,Berekening!$G$50,TRUE)","v":1},1881,{"$f":"POISSON(F1885,Berekening!$G$52,TRUE)","v":1},1881]
[{"$f":"POISSON(B1886,Berekening!$G$27,TRUE)","v":1},1882,{"$f":"POISSON(D1886,Berekening!$G$50,TRUE)","v":1},1882,{"$f":"POISSON(F1886,Berekening!$G$52,TRUE)","v":1},1882]
[{"$f":"POISSON(B1887,Berekening!$G$27,TRUE)","v":1},1883,{"$f":"POISSON(D1887,Berekening!$G$50,TRUE)","v":1},1883,{"$f":"POISSON(F1887,Berekening!$G$52,TRUE)","v":1},1883]
[{"$f":"POISSON(B1888,Berekening!$G$27,TRUE)","v":1},1884,{"$f":"POISSON(D1888,Berekening!$G$50,TRUE)","v":1},1884,{"$f":"POISSON(F1888,Berekening!$G$52,TRUE)","v":1},1884]
[{"$f":"POISSON(B1889,Berekening!$G$27,TRUE)","v":1},1885,{"$f":"POISSON(D1889,Berekening!$G$50,TRUE)","v":1},1885,{"$f":"POISSON(F1889,Berekening!$G$52,TRUE)","v":1},1885]
[{"$f":"POISSON(B1890,Berekening!$G$27,TRUE)","v":1},1886,{"$f":"POISSON(D1890,Berekening!$G$50,TRUE)","v":1},1886,{"$f":"POISSON(F1890,Berekening!$G$52,TRUE)","v":1},1886]
[{"$f":"POISSON(B1891,Berekening!$G$27,TRUE)","v":1},1887,{"$f":"POISSON(D1891,Berekening!$G$50,TRUE)","v":1},1887,{"$f":"POISSON(F1891,Berekening!$G$52,TRUE)","v":1},1887]
[{"$f":"POISSON(B1892,Berekening!$G$27,TRUE)","v":1},1888,{"$f":"POISSON(D1892,Berekening!$G$50,TRUE)","v":1},1888,{"$f":"POISSON(F1892,Berekening!$G$52,TRUE)","v":1},1888]
[{"$f":"POISSON(B1893,Berekening!$G$27,TRUE)","v":1},1889,{"$f":"POISSON(D1893,Berekening!$G$50,TRUE)","v":1},1889,{"$f":"POISSON(F1893,Berekening!$G$52,TRUE)","v":1},1889]
[{"$f":"POISSON(B1894,Berekening!$G$27,TRUE)","v":1},1890,{"$f":"POISSON(D1894,Berekening!$G$50,TRUE)","v":1},1890,{"$f":"POISSON(F1894,Berekening!$G$52,TRUE)","v":1},1890]
[{"$f":"POISSON(B1895,Berekening!$G$27,TRUE)","v":1},1891,{"$f":"POISSON(D1895,Berekening!$G$50,TRUE)","v":1},1891,{"$f":"POISSON(F1895,Berekening!$G$52,TRUE)","v":1},1891]
[{"$f":"POISSON(B1896,Berekening!$G$27,TRUE)","v":1},1892,{"$f":"POISSON(D1896,Berekening!$G$50,TRUE)","v":1},1892,{"$f":"POISSON(F1896,Berekening!$G$52,TRUE)","v":1},1892]
[{"$f":"POISSON(B1897,Berekening!$G$27,TRUE)","v":1},1893,{"$f":"POISSON(D1897,Berekening!$G$50,TRUE)","v":1},1893,{"$f":"POISSON(F1897,Berekening!$G$52,TRUE)","v":1},1893]
[{"$f":"POISSON(B1898,Berekening!$G$27,TRUE)","v":1},1894,{"$f":"POISSON(D1898,Berekening!$G$50,TRUE)","v":1},1894,{"$f":"POISSON(F1898,Berekening!$G$52,TRUE)","v":1},1894]
[{"$f":"POISSON(B1899,Berekening!$G$27,TRUE)","v":1},1895,{"$f":"POISSON(D1899,Berekening!$G$50,TRUE)","v":1},1895,{"$f":"POISSON(F1899,Berekening!$G$52,TRUE)","v":1},1895]
[{"$f":"POISSON(B1900,Berekening!$G$27,TRUE)","v":1},1896,{"$f":"POISSON(D1900,Berekening!$G$50,TRUE)","v":1},1896,{"$f":"POISSON(F1900,Berekening!$G$52,TRUE)","v":1},1896]
[{"$f":"POISSON(B1901,Berekening!$G$27,TRUE)","v":1},1897,{"$f":"POISSON(D1901,Berekening!$G$50,TRUE)","v":1},1897,{"$f":"POISSON(F1901,Berekening!$G$52,TRUE)","v":1},1897]
[{"$f":"POISSON(B1902,Berekening!$G$27,TRUE)","v":1},1898,{"$f":"POISSON(D1902,Berekening!$G$50,TRUE)","v":1},1898,{"$f":"POISSON(F1902,Berekening!$G$52,TRUE)","v":1},1898]
[{"$f":"POISSON(B1903,Berekening!$G$27,TRUE)","v":1},1899,{"$f":"POISSON(D1903,Berekening!$G$50,TRUE)","v":1},1899,{"$f":"POISSON(F1903,Berekening!$G$52,TRUE)","v":1},1899]
[{"$f":"POISSON(B1904,Berekening!$G$27,TRUE)","v":1},1900,{"$f":"POISSON(D1904,Berekening!$G$50,TRUE)","v":1},1900,{"$f":"POISSON(F1904,Berekening!$G$52,TRUE)","v":1},1900]
[{"$f":"POISSON(B1905,Berekening!$G$27,TRUE)","v":1},1901,{"$f":"POISSON(D1905,Berekening!$G$50,TRUE)","v":1},1901,{"$f":"POISSON(F1905,Berekening!$G$52,TRUE)","v":1},1901]
[{"$f":"POISSON(B1906,Berekening!$G$27,TRUE)","v":1},1902,{"$f":"POISSON(D1906,Berekening!$G$50,TRUE)","v":1},1902,{"$f":"POISSON(F1906,Berekening!$G$52,TRUE)","v":1},1902]
[{"$f":"POISSON(B1907,Berekening!$G$27,TRUE)","v":1},1903,{"$f":"POISSON(D1907,Berekening!$G$50,TRUE)","v":1},1903,{"$f":"POISSON(F1907,Berekening!$G$52,TRUE)","v":1},1903]
[{"$f":"POISSON(B1908,Berekening!$G$27,TRUE)","v":1},1904,{"$f":"POISSON(D1908,Berekening!$G$50,TRUE)","v":1},1904,{"$f":"POISSON(F1908,Berekening!$G$52,TRUE)","v":1},1904]
[{"$f":"POISSON(B1909,Berekening!$G$27,TRUE)","v":1},1905,{"$f":"POISSON(D1909,Berekening!$G$50,TRUE)","v":1},1905,{"$f":"POISSON(F1909,Berekening!$G$52,TRUE)","v":1},1905]
[{"$f":"POISSON(B1910,Berekening!$G$27,TRUE)","v":1},1906,{"$f":"POISSON(D1910,Berekening!$G$50,TRUE)","v":1},1906,{"$f":"POISSON(F1910,Berekening!$G$52,TRUE)","v":1},1906]
[{"$f":"POISSON(B1911,Berekening!$G$27,TRUE)","v":1},1907,{"$f":"POISSON(D1911,Berekening!$G$50,TRUE)","v":1},1907,{"$f":"POISSON(F1911,Berekening!$G$52,TRUE)","v":1},1907]
[{"$f":"POISSON(B1912,Berekening!$G$27,TRUE)","v":1},1908,{"$f":"POISSON(D1912,Berekening!$G$50,TRUE)","v":1},1908,{"$f":"POISSON(F1912,Berekening!$G$52,TRUE)","v":1},1908]
[{"$f":"POISSON(B1913,Berekening!$G$27,TRUE)","v":1},1909,{"$f":"POISSON(D1913,Berekening!$G$50,TRUE)","v":1},1909,{"$f":"POISSON(F1913,Berekening!$G$52,TRUE)","v":1},1909]
[{"$f":"POISSON(B1914,Berekening!$G$27,TRUE)","v":1},1910,{"$f":"POISSON(D1914,Berekening!$G$50,TRUE)","v":1},1910,{"$f":"POISSON(F1914,Berekening!$G$52,TRUE)","v":1},1910]
[{"$f":"POISSON(B1915,Berekening!$G$27,TRUE)","v":1},1911,{"$f":"POISSON(D1915,Berekening!$G$50,TRUE)","v":1},1911,{"$f":"POISSON(F1915,Berekening!$G$52,TRUE)","v":1},1911]
[{"$f":"POISSON(B1916,Berekening!$G$27,TRUE)","v":1},1912,{"$f":"POISSON(D1916,Berekening!$G$50,TRUE)","v":1},1912,{"$f":"POISSON(F1916,Berekening!$G$52,TRUE)","v":1},1912]
[{"$f":"POISSON(B1917,Berekening!$G$27,TRUE)","v":1},1913,{"$f":"POISSON(D1917,Berekening!$G$50,TRUE)","v":1},1913,{"$f":"POISSON(F1917,Berekening!$G$52,TRUE)","v":1},1913]
[{"$f":"POISSON(B1918,Berekening!$G$27,TRUE)","v":1},1914,{"$f":"POISSON(D1918,Berekening!$G$50,TRUE)","v":1},1914,{"$f":"POISSON(F1918,Berekening!$G$52,TRUE)","v":1},1914]
[{"$f":"POISSON(B1919,Berekening!$G$27,TRUE)","v":1},1915,{"$f":"POISSON(D1919,Berekening!$G$50,TRUE)","v":1},1915,{"$f":"POISSON(F1919,Berekening!$G$52,TRUE)","v":1},1915]
[{"$f":"POISSON(B1920,Berekening!$G$27,TRUE)","v":1},1916,{"$f":"POISSON(D1920,Berekening!$G$50,TRUE)","v":1},1916,{"$f":"POISSON(F1920,Berekening!$G$52,TRUE)","v":1},1916]
[{"$f":"POISSON(B1921,Berekening!$G$27,TRUE)","v":1},1917,{"$f":"POISSON(D1921,Berekening!$G$50,TRUE)","v":1},1917,{"$f":"POISSON(F1921,Berekening!$G$52,TRUE)","v":1},1917]
[{"$f":"POISSON(B1922,Berekening!$G$27,TRUE)","v":1},1918,{"$f":"POISSON(D1922,Berekening!$G$50,TRUE)","v":1},1918,{"$f":"POISSON(F1922,Berekening!$G$52,TRUE)","v":1},1918]
[{"$f":"POISSON(B1923,Berekening!$G$27,TRUE)","v":1},1919,{"$f":"POISSON(D1923,Berekening!$G$50,TRUE)","v":1},1919,{"$f":"POISSON(F1923,Berekening!$G$52,TRUE)","v":1},1919]
[{"$f":"POISSON(B1924,Berekening!$G$27,TRUE)","v":1},1920,{"$f":"POISSON(D1924,Berekening!$G$50,TRUE)","v":1},1920,{"$f":"POISSON(F1924,Berekening!$G$52,TRUE)","v":1},1920]
[{"$f":"POISSON(B1925,Berekening!$G$27,TRUE)","v":1},1921,{"$f":"POISSON(D1925,Berekening!$G$50,TRUE)","v":1},1921,{"$f":"POISSON(F1925,Berekening!$G$52,TRUE)","v":1},1921]
[{"$f":"POISSON(B1926,Berekening!$G$27,TRUE)","v":1},1922,{"$f":"POISSON(D1926,Berekening!$G$50,TRUE)","v":1},1922,{"$f":"POISSON(F1926,Berekening!$G$52,TRUE)","v":1},1922]
[{"$f":"POISSON(B1927,Berekening!$G$27,TRUE)","v":1},1923,{"$f":"POISSON(D1927,Berekening!$G$50,TRUE)","v":1},1923,{"$f":"POISSON(F1927,Berekening!$G$52,TRUE)","v":1},1923]
[{"$f":"POISSON(B1928,Berekening!$G$27,TRUE)","v":1},1924,{"$f":"POISSON(D1928,Berekening!$G$50,TRUE)","v":1},1924,{"$f":"POISSON(F1928,Berekening!$G$52,TRUE)","v":1},1924]
[{"$f":"POISSON(B1929,Berekening!$G$27,TRUE)","v":1},1925,{"$f":"POISSON(D1929,Berekening!$G$50,TRUE)","v":1},1925,{"$f":"POISSON(F1929,Berekening!$G$52,TRUE)","v":1},1925]
[{"$f":"POISSON(B1930,Berekening!$G$27,TRUE)","v":1},1926,{"$f":"POISSON(D1930,Berekening!$G$50,TRUE)","v":1},1926,{"$f":"POISSON(F1930,Berekening!$G$52,TRUE)","v":1},1926]
[{"$f":"POISSON(B1931,Berekening!$G$27,TRUE)","v":1},1927,{"$f":"POISSON(D1931,Berekening!$G$50,TRUE)","v":1},1927,{"$f":"POISSON(F1931,Berekening!$G$52,TRUE)","v":1},1927]
[{"$f":"POISSON(B1932,Berekening!$G$27,TRUE)","v":1},1928,{"$f":"POISSON(D1932,Berekening!$G$50,TRUE)","v":1},1928,{"$f":"POISSON(F1932,Berekening!$G$52,TRUE)","v":1},1928]
[{"$f":"POISSON(B1933,Berekening!$G$27,TRUE)","v":1},1929,{"$f":"POISSON(D1933,Berekening!$G$50,TRUE)","v":1},1929,{"$f":"POISSON(F1933,Berekening!$G$52,TRUE)","v":1},1929]
[{"$f":"POISSON(B1934,Berekening!$G$27,TRUE)","v":1},1930,{"$f":"POISSON(D1934,Berekening!$G$50,TRUE)","v":1},1930,{"$f":"POISSON(F1934,Berekening!$G$52,TRUE)","v":1},1930]
[{"$f":"POISSON(B1935,Berekening!$G$27,TRUE)","v":1},1931,{"$f":"POISSON(D1935,Berekening!$G$50,TRUE)","v":1},1931,{"$f":"POISSON(F1935,Berekening!$G$52,TRUE)","v":1},1931]
[{"$f":"POISSON(B1936,Berekening!$G$27,TRUE)","v":1},1932,{"$f":"POISSON(D1936,Berekening!$G$50,TRUE)","v":1},1932,{"$f":"POISSON(F1936,Berekening!$G$52,TRUE)","v":1},1932]
[{"$f":"POISSON(B1937,Berekening!$G$27,TRUE)","v":1},1933,{"$f":"POISSON(D1937,Berekening!$G$50,TRUE)","v":1},1933,{"$f":"POISSON(F1937,Berekening!$G$52,TRUE)","v":1},1933]
[{"$f":"POISSON(B1938,Berekening!$G$27,TRUE)","v":1},1934,{"$f":"POISSON(D1938,Berekening!$G$50,TRUE)","v":1},1934,{"$f":"POISSON(F1938,Berekening!$G$52,TRUE)","v":1},1934]
[{"$f":"POISSON(B1939,Berekening!$G$27,TRUE)","v":1},1935,{"$f":"POISSON(D1939,Berekening!$G$50,TRUE)","v":1},1935,{"$f":"POISSON(F1939,Berekening!$G$52,TRUE)","v":1},1935]
[{"$f":"POISSON(B1940,Berekening!$G$27,TRUE)","v":1},1936,{"$f":"POISSON(D1940,Berekening!$G$50,TRUE)","v":1},1936,{"$f":"POISSON(F1940,Berekening!$G$52,TRUE)","v":1},1936]
[{"$f":"POISSON(B1941,Berekening!$G$27,TRUE)","v":1},1937,{"$f":"POISSON(D1941,Berekening!$G$50,TRUE)","v":1},1937,{"$f":"POISSON(F1941,Berekening!$G$52,TRUE)","v":1},1937]
[{"$f":"POISSON(B1942,Berekening!$G$27,TRUE)","v":1},1938,{"$f":"POISSON(D1942,Berekening!$G$50,TRUE)","v":1},1938,{"$f":"POISSON(F1942,Berekening!$G$52,TRUE)","v":1},1938]
[{"$f":"POISSON(B1943,Berekening!$G$27,TRUE)","v":1},1939,{"$f":"POISSON(D1943,Berekening!$G$50,TRUE)","v":1},1939,{"$f":"POISSON(F1943,Berekening!$G$52,TRUE)","v":1},1939]
[{"$f":"POISSON(B1944,Berekening!$G$27,TRUE)","v":1},1940,{"$f":"POISSON(D1944,Berekening!$G$50,TRUE)","v":1},1940,{"$f":"POISSON(F1944,Berekening!$G$52,TRUE)","v":1},1940]
[{"$f":"POISSON(B1945,Berekening!$G$27,TRUE)","v":1},1941,{"$f":"POISSON(D1945,Berekening!$G$50,TRUE)","v":1},1941,{"$f":"POISSON(F1945,Berekening!$G$52,TRUE)","v":1},1941]
[{"$f":"POISSON(B1946,Berekening!$G$27,TRUE)","v":1},1942,{"$f":"POISSON(D1946,Berekening!$G$50,TRUE)","v":1},1942,{"$f":"POISSON(F1946,Berekening!$G$52,TRUE)","v":1},1942]
[{"$f":"POISSON(B1947,Berekening!$G$27,TRUE)","v":1},1943,{"$f":"POISSON(D1947,Berekening!$G$50,TRUE)","v":1},1943,{"$f":"POISSON(F1947,Berekening!$G$52,TRUE)","v":1},1943]
[{"$f":"POISSON(B1948,Berekening!$G$27,TRUE)","v":1},1944,{"$f":"POISSON(D1948,Berekening!$G$50,TRUE)","v":1},1944,{"$f":"POISSON(F1948,Berekening!$G$52,TRUE)","v":1},1944]
[{"$f":"POISSON(B1949,Berekening!$G$27,TRUE)","v":1},1945,{"$f":"POISSON(D1949,Berekening!$G$50,TRUE)","v":1},1945,{"$f":"POISSON(F1949,Berekening!$G$52,TRUE)","v":1},1945]
[{"$f":"POISSON(B1950,Berekening!$G$27,TRUE)","v":1},1946,{"$f":"POISSON(D1950,Berekening!$G$50,TRUE)","v":1},1946,{"$f":"POISSON(F1950,Berekening!$G$52,TRUE)","v":1},1946]
[{"$f":"POISSON(B1951,Berekening!$G$27,TRUE)","v":1},1947,{"$f":"POISSON(D1951,Berekening!$G$50,TRUE)","v":1},1947,{"$f":"POISSON(F1951,Berekening!$G$52,TRUE)","v":1},1947]
[{"$f":"POISSON(B1952,Berekening!$G$27,TRUE)","v":1},1948,{"$f":"POISSON(D1952,Berekening!$G$50,TRUE)","v":1},1948,{"$f":"POISSON(F1952,Berekening!$G$52,TRUE)","v":1},1948]
[{"$f":"POISSON(B1953,Berekening!$G$27,TRUE)","v":1},1949,{"$f":"POISSON(D1953,Berekening!$G$50,TRUE)","v":1},1949,{"$f":"POISSON(F1953,Berekening!$G$52,TRUE)","v":1},1949]
[{"$f":"POISSON(B1954,Berekening!$G$27,TRUE)","v":1},1950,{"$f":"POISSON(D1954,Berekening!$G$50,TRUE)","v":1},1950,{"$f":"POISSON(F1954,Berekening!$G$52,TRUE)","v":1},1950]
[{"$f":"POISSON(B1955,Berekening!$G$27,TRUE)","v":1},1951,{"$f":"POISSON(D1955,Berekening!$G$50,TRUE)","v":1},1951,{"$f":"POISSON(F1955,Berekening!$G$52,TRUE)","v":1},1951]
[{"$f":"POISSON(B1956,Berekening!$G$27,TRUE)","v":1},1952,{"$f":"POISSON(D1956,Berekening!$G$50,TRUE)","v":1},1952,{"$f":"POISSON(F1956,Berekening!$G$52,TRUE)","v":1},1952]
[{"$f":"POISSON(B1957,Berekening!$G$27,TRUE)","v":1},1953,{"$f":"POISSON(D1957,Berekening!$G$50,TRUE)","v":1},1953,{"$f":"POISSON(F1957,Berekening!$G$52,TRUE)","v":1},1953]
[{"$f":"POISSON(B1958,Berekening!$G$27,TRUE)","v":1},1954,{"$f":"POISSON(D1958,Berekening!$G$50,TRUE)","v":1},1954,{"$f":"POISSON(F1958,Berekening!$G$52,TRUE)","v":1},1954]
[{"$f":"POISSON(B1959,Berekening!$G$27,TRUE)","v":1},1955,{"$f":"POISSON(D1959,Berekening!$G$50,TRUE)","v":1},1955,{"$f":"POISSON(F1959,Berekening!$G$52,TRUE)","v":1},1955]
[{"$f":"POISSON(B1960,Berekening!$G$27,TRUE)","v":1},1956,{"$f":"POISSON(D1960,Berekening!$G$50,TRUE)","v":1},1956,{"$f":"POISSON(F1960,Berekening!$G$52,TRUE)","v":1},1956]
[{"$f":"POISSON(B1961,Berekening!$G$27,TRUE)","v":1},1957,{"$f":"POISSON(D1961,Berekening!$G$50,TRUE)","v":1},1957,{"$f":"POISSON(F1961,Berekening!$G$52,TRUE)","v":1},1957]
[{"$f":"POISSON(B1962,Berekening!$G$27,TRUE)","v":1},1958,{"$f":"POISSON(D1962,Berekening!$G$50,TRUE)","v":1},1958,{"$f":"POISSON(F1962,Berekening!$G$52,TRUE)","v":1},1958]
[{"$f":"POISSON(B1963,Berekening!$G$27,TRUE)","v":1},1959,{"$f":"POISSON(D1963,Berekening!$G$50,TRUE)","v":1},1959,{"$f":"POISSON(F1963,Berekening!$G$52,TRUE)","v":1},1959]
[{"$f":"POISSON(B1964,Berekening!$G$27,TRUE)","v":1},1960,{"$f":"POISSON(D1964,Berekening!$G$50,TRUE)","v":1},1960,{"$f":"POISSON(F1964,Berekening!$G$52,TRUE)","v":1},1960]
[{"$f":"POISSON(B1965,Berekening!$G$27,TRUE)","v":1},1961,{"$f":"POISSON(D1965,Berekening!$G$50,TRUE)","v":1},1961,{"$f":"POISSON(F1965,Berekening!$G$52,TRUE)","v":1},1961]
[{"$f":"POISSON(B1966,Berekening!$G$27,TRUE)","v":1},1962,{"$f":"POISSON(D1966,Berekening!$G$50,TRUE)","v":1},1962,{"$f":"POISSON(F1966,Berekening!$G$52,TRUE)","v":1},1962]
[{"$f":"POISSON(B1967,Berekening!$G$27,TRUE)","v":1},1963,{"$f":"POISSON(D1967,Berekening!$G$50,TRUE)","v":1},1963,{"$f":"POISSON(F1967,Berekening!$G$52,TRUE)","v":1},1963]
[{"$f":"POISSON(B1968,Berekening!$G$27,TRUE)","v":1},1964,{"$f":"POISSON(D1968,Berekening!$G$50,TRUE)","v":1},1964,{"$f":"POISSON(F1968,Berekening!$G$52,TRUE)","v":1},1964]
[{"$f":"POISSON(B1969,Berekening!$G$27,TRUE)","v":1},1965,{"$f":"POISSON(D1969,Berekening!$G$50,TRUE)","v":1},1965,{"$f":"POISSON(F1969,Berekening!$G$52,TRUE)","v":1},1965]
[{"$f":"POISSON(B1970,Berekening!$G$27,TRUE)","v":1},1966,{"$f":"POISSON(D1970,Berekening!$G$50,TRUE)","v":1},1966,{"$f":"POISSON(F1970,Berekening!$G$52,TRUE)","v":1},1966]
[{"$f":"POISSON(B1971,Berekening!$G$27,TRUE)","v":1},1967,{"$f":"POISSON(D1971,Berekening!$G$50,TRUE)","v":1},1967,{"$f":"POISSON(F1971,Berekening!$G$52,TRUE)","v":1},1967]
[{"$f":"POISSON(B1972,Berekening!$G$27,TRUE)","v":1},1968,{"$f":"POISSON(D1972,Berekening!$G$50,TRUE)","v":1},1968,{"$f":"POISSON(F1972,Berekening!$G$52,TRUE)","v":1},1968]
[{"$f":"POISSON(B1973,Berekening!$G$27,TRUE)","v":1},1969,{"$f":"POISSON(D1973,Berekening!$G$50,TRUE)","v":1},1969,{"$f":"POISSON(F1973,Berekening!$G$52,TRUE)","v":1},1969]
[{"$f":"POISSON(B1974,Berekening!$G$27,TRUE)","v":1},1970,{"$f":"POISSON(D1974,Berekening!$G$50,TRUE)","v":1},1970,{"$f":"POISSON(F1974,Berekening!$G$52,TRUE)","v":1},1970]
[{"$f":"POISSON(B1975,Berekening!$G$27,TRUE)","v":1},1971,{"$f":"POISSON(D1975,Berekening!$G$50,TRUE)","v":1},1971,{"$f":"POISSON(F1975,Berekening!$G$52,TRUE)","v":1},1971]
[{"$f":"POISSON(B1976,Berekening!$G$27,TRUE)","v":1},1972,{"$f":"POISSON(D1976,Berekening!$G$50,TRUE)","v":1},1972,{"$f":"POISSON(F1976,Berekening!$G$52,TRUE)","v":1},1972]
[{"$f":"POISSON(B1977,Berekening!$G$27,TRUE)","v":1},1973,{"$f":"POISSON(D1977,Berekening!$G$50,TRUE)","v":1},1973,{"$f":"POISSON(F1977,Berekening!$G$52,TRUE)","v":1},1973]
[{"$f":"POISSON(B1978,Berekening!$G$27,TRUE)","v":1},1974,{"$f":"POISSON(D1978,Berekening!$G$50,TRUE)","v":1},1974,{"$f":"POISSON(F1978,Berekening!$G$52,TRUE)","v":1},1974]
[{"$f":"POISSON(B1979,Berekening!$G$27,TRUE)","v":1},1975,{"$f":"POISSON(D1979,Berekening!$G$50,TRUE)","v":1},1975,{"$f":"POISSON(F1979,Berekening!$G$52,TRUE)","v":1},1975]
[{"$f":"POISSON(B1980,Berekening!$G$27,TRUE)","v":1},1976,{"$f":"POISSON(D1980,Berekening!$G$50,TRUE)","v":1},1976,{"$f":"POISSON(F1980,Berekening!$G$52,TRUE)","v":1},1976]
[{"$f":"POISSON(B1981,Berekening!$G$27,TRUE)","v":1},1977,{"$f":"POISSON(D1981,Berekening!$G$50,TRUE)","v":1},1977,{"$f":"POISSON(F1981,Berekening!$G$52,TRUE)","v":1},1977]
[{"$f":"POISSON(B1982,Berekening!$G$27,TRUE)","v":1},1978,{"$f":"POISSON(D1982,Berekening!$G$50,TRUE)","v":1},1978,{"$f":"POISSON(F1982,Berekening!$G$52,TRUE)","v":1},1978]
[{"$f":"POISSON(B1983,Berekening!$G$27,TRUE)","v":1},1979,{"$f":"POISSON(D1983,Berekening!$G$50,TRUE)","v":1},1979,{"$f":"POISSON(F1983,Berekening!$G$52,TRUE)","v":1},1979]
[{"$f":"POISSON(B1984,Berekening!$G$27,TRUE)","v":1},1980,{"$f":"POISSON(D1984,Berekening!$G$50,TRUE)","v":1},1980,{"$f":"POISSON(F1984,Berekening!$G$52,TRUE)","v":1},1980]
[{"$f":"POISSON(B1985,Berekening!$G$27,TRUE)","v":1},1981,{"$f":"POISSON(D1985,Berekening!$G$50,TRUE)","v":1},1981,{"$f":"POISSON(F1985,Berekening!$G$52,TRUE)","v":1},1981]
[{"$f":"POISSON(B1986,Berekening!$G$27,TRUE)","v":1},1982,{"$f":"POISSON(D1986,Berekening!$G$50,TRUE)","v":1},1982,{"$f":"POISSON(F1986,Berekening!$G$52,TRUE)","v":1},1982]
[{"$f":"POISSON(B1987,Berekening!$G$27,TRUE)","v":1},1983,{"$f":"POISSON(D1987,Berekening!$G$50,TRUE)","v":1},1983,{"$f":"POISSON(F1987,Berekening!$G$52,TRUE)","v":1},1983]
[{"$f":"POISSON(B1988,Berekening!$G$27,TRUE)","v":1},1984,{"$f":"POISSON(D1988,Berekening!$G$50,TRUE)","v":1},1984,{"$f":"POISSON(F1988,Berekening!$G$52,TRUE)","v":1},1984]
[{"$f":"POISSON(B1989,Berekening!$G$27,TRUE)","v":1},1985,{"$f":"POISSON(D1989,Berekening!$G$50,TRUE)","v":1},1985,{"$f":"POISSON(F1989,Berekening!$G$52,TRUE)","v":1},1985]
[{"$f":"POISSON(B1990,Berekening!$G$27,TRUE)","v":1},1986,{"$f":"POISSON(D1990,Berekening!$G$50,TRUE)","v":1},1986,{"$f":"POISSON(F1990,Berekening!$G$52,TRUE)","v":1},1986]
[{"$f":"POISSON(B1991,Berekening!$G$27,TRUE)","v":1},1987,{"$f":"POISSON(D1991,Berekening!$G$50,TRUE)","v":1},1987,{"$f":"POISSON(F1991,Berekening!$G$52,TRUE)","v":1},1987]
[{"$f":"POISSON(B1992,Berekening!$G$27,TRUE)","v":1},1988,{"$f":"POISSON(D1992,Berekening!$G$50,TRUE)","v":1},1988,{"$f":"POISSON(F1992,Berekening!$G$52,TRUE)","v":1},1988]
[{"$f":"POISSON(B1993,Berekening!$G$27,TRUE)","v":1},1989,{"$f":"POISSON(D1993,Berekening!$G$50,TRUE)","v":1},1989,{"$f":"POISSON(F1993,Berekening!$G$52,TRUE)","v":1},1989]
[{"$f":"POISSON(B1994,Berekening!$G$27,TRUE)","v":1},1990,{"$f":"POISSON(D1994,Berekening!$G$50,TRUE)","v":1},1990,{"$f":"POISSON(F1994,Berekening!$G$52,TRUE)","v":1},1990]
[{"$f":"POISSON(B1995,Berekening!$G$27,TRUE)","v":1},1991,{"$f":"POISSON(D1995,Berekening!$G$50,TRUE)","v":1},1991,{"$f":"POISSON(F1995,Berekening!$G$52,TRUE)","v":1},1991]
[{"$f":"POISSON(B1996,Berekening!$G$27,TRUE)","v":1},1992,{"$f":"POISSON(D1996,Berekening!$G$50,TRUE)","v":1},1992,{"$f":"POISSON(F1996,Berekening!$G$52,TRUE)","v":1},1992]
[{"$f":"POISSON(B1997,Berekening!$G$27,TRUE)","v":1},1993,{"$f":"POISSON(D1997,Berekening!$G$50,TRUE)","v":1},1993,{"$f":"POISSON(F1997,Berekening!$G$52,TRUE)","v":1},1993]
[{"$f":"POISSON(B1998,Berekening!$G$27,TRUE)","v":1},1994,{"$f":"POISSON(D1998,Berekening!$G$50,TRUE)","v":1},1994,{"$f":"POISSON(F1998,Berekening!$G$52,TRUE)","v":1},1994]
[{"$f":"POISSON(B1999,Berekening!$G$27,TRUE)","v":1},1995,{"$f":"POISSON(D1999,Berekening!$G$50,TRUE)","v":1},1995,{"$f":"POISSON(F1999,Berekening!$G$52,TRUE)","v":1},1995]
[{"$f":"POISSON(B2000,Berekening!$G$27,TRUE)","v":1},1996,{"$f":"POISSON(D2000,Berekening!$G$50,TRUE)","v":1},1996,{"$f":"POISSON(F2000,Berekening!$G$52,TRUE)","v":1},1996]
[{"$f":"POISSON(B2001,Berekening!$G$27,TRUE)","v":1},1997,{"$f":"POISSON(D2001,Berekening!$G$50,TRUE)","v":1},1997,{"$f":"POISSON(F2001,Berekening!$G$52,TRUE)","v":1},1997]
[{"$f":"POISSON(B2002,Berekening!$G$27,TRUE)","v":1},1998,{"$f":"POISSON(D2002,Berekening!$G$50,TRUE)","v":1},1998,{"$f":"POISSON(F2002,Berekening!$G$52,TRUE)","v":1},1998]
[{"$f":"POISSON(B2003,Berekening!$G$27,TRUE)","v":1},1999,{"$f":"POISSON(D2003,Berekening!$G$50,TRUE)","v":1},1999,{"$f":"POISSON(F2003,Berekening!$G$52,TRUE)","v":1},1999]
[{"$f":"POISSON(B2004,Berekening!$G$27,TRUE)","v":1},2000,{"$f":"POISSON(D2004,Berekening!$G$50,TRUE)","v":1},2000,{"$f":"POISSON(F2004,Berekening!$G$52,TRUE)","v":1},2000]
[{"$f":"POISSON(B2005,Berekening!$G$27,TRUE)","v":1},2001,{"$f":"POISSON(D2005,Berekening!$G$50,TRUE)","v":1},2001,{"$f":"POISSON(F2005,Berekening!$G$52,TRUE)","v":1},2001]
[{"$f":"POISSON(B2006,Berekening!$G$27,TRUE)","v":1},2002,{"$f":"POISSON(D2006,Berekening!$G$50,TRUE)","v":1},2002,{"$f":"POISSON(F2006,Berekening!$G$52,TRUE)","v":1},2002]
[{"$f":"POISSON(B2007,Berekening!$G$27,TRUE)","v":1},2003,{"$f":"POISSON(D2007,Berekening!$G$50,TRUE)","v":1},2003,{"$f":"POISSON(F2007,Berekening!$G$52,TRUE)","v":1},2003]
[{"$f":"POISSON(B2008,Berekening!$G$27,TRUE)","v":1},2004,{"$f":"POISSON(D2008,Berekening!$G$50,TRUE)","v":1},2004,{"$f":"POISSON(F2008,Berekening!$G$52,TRUE)","v":1},2004]
[{"$f":"POISSON(B2009,Berekening!$G$27,TRUE)","v":1},2005,{"$f":"POISSON(D2009,Berekening!$G$50,TRUE)","v":1},2005,{"$f":"POISSON(F2009,Berekening!$G$52,TRUE)","v":1},2005]
[{"$f":"POISSON(B2010,Berekening!$G$27,TRUE)","v":1},2006,{"$f":"POISSON(D2010,Berekening!$G$50,TRUE)","v":1},2006,{"$f":"POISSON(F2010,Berekening!$G$52,TRUE)","v":1},2006]
[{"$f":"POISSON(B2011,Berekening!$G$27,TRUE)","v":1},2007,{"$f":"POISSON(D2011,Berekening!$G$50,TRUE)","v":1},2007,{"$f":"POISSON(F2011,Berekening!$G$52,TRUE)","v":1},2007]
[{"$f":"POISSON(B2012,Berekening!$G$27,TRUE)","v":1},2008,{"$f":"POISSON(D2012,Berekening!$G$50,TRUE)","v":1},2008,{"$f":"POISSON(F2012,Berekening!$G$52,TRUE)","v":1},2008]
[{"$f":"POISSON(B2013,Berekening!$G$27,TRUE)","v":1},2009,{"$f":"POISSON(D2013,Berekening!$G$50,TRUE)","v":1},2009,{"$f":"POISSON(F2013,Berekening!$G$52,TRUE)","v":1},2009]
[{"$f":"POISSON(B2014,Berekening!$G$27,TRUE)","v":1},2010,{"$f":"POISSON(D2014,Berekening!$G$50,TRUE)","v":1},2010,{"$f":"POISSON(F2014,Berekening!$G$52,TRUE)","v":1},2010]
[{"$f":"POISSON(B2015,Berekening!$G$27,TRUE)","v":1},2011,{"$f":"POISSON(D2015,Berekening!$G$50,TRUE)","v":1},2011,{"$f":"POISSON(F2015,Berekening!$G$52,TRUE)","v":1},2011]
[{"$f":"POISSON(B2016,Berekening!$G$27,TRUE)","v":1},2012,{"$f":"POISSON(D2016,Berekening!$G$50,TRUE)","v":1},2012,{"$f":"POISSON(F2016,Berekening!$G$52,TRUE)","v":1},2012]
[{"$f":"POISSON(B2017,Berekening!$G$27,TRUE)","v":1},2013,{"$f":"POISSON(D2017,Berekening!$G$50,TRUE)","v":1},2013,{"$f":"POISSON(F2017,Berekening!$G$52,TRUE)","v":1},2013]
[{"$f":"POISSON(B2018,Berekening!$G$27,TRUE)","v":1},2014,{"$f":"POISSON(D2018,Berekening!$G$50,TRUE)","v":1},2014,{"$f":"POISSON(F2018,Berekening!$G$52,TRUE)","v":1},2014]
[{"$f":"POISSON(B2019,Berekening!$G$27,TRUE)","v":1},2015,{"$f":"POISSON(D2019,Berekening!$G$50,TRUE)","v":1},2015,{"$f":"POISSON(F2019,Berekening!$G$52,TRUE)","v":1},2015]
[{"$f":"POISSON(B2020,Berekening!$G$27,TRUE)","v":1},2016,{"$f":"POISSON(D2020,Berekening!$G$50,TRUE)","v":1},2016,{"$f":"POISSON(F2020,Berekening!$G$52,TRUE)","v":1},2016]
[{"$f":"POISSON(B2021,Berekening!$G$27,TRUE)","v":1},2017,{"$f":"POISSON(D2021,Berekening!$G$50,TRUE)","v":1},2017,{"$f":"POISSON(F2021,Berekening!$G$52,TRUE)","v":1},2017]
[{"$f":"POISSON(B2022,Berekening!$G$27,TRUE)","v":1},2018,{"$f":"POISSON(D2022,Berekening!$G$50,TRUE)","v":1},2018,{"$f":"POISSON(F2022,Berekening!$G$52,TRUE)","v":1},2018]
[{"$f":"POISSON(B2023,Berekening!$G$27,TRUE)","v":1},2019,{"$f":"POISSON(D2023,Berekening!$G$50,TRUE)","v":1},2019,{"$f":"POISSON(F2023,Berekening!$G$52,TRUE)","v":1},2019]
[{"$f":"POISSON(B2024,Berekening!$G$27,TRUE)","v":1},2020,{"$f":"POISSON(D2024,Berekening!$G$50,TRUE)","v":1},2020,{"$f":"POISSON(F2024,Berekening!$G$52,TRUE)","v":1},2020]
[{"$f":"POISSON(B2025,Berekening!$G$27,TRUE)","v":1},2021,{"$f":"POISSON(D2025,Berekening!$G$50,TRUE)","v":1},2021,{"$f":"POISSON(F2025,Berekening!$G$52,TRUE)","v":1},2021]
[{"$f":"POISSON(B2026,Berekening!$G$27,TRUE)","v":1},2022,{"$f":"POISSON(D2026,Berekening!$G$50,TRUE)","v":1},2022,{"$f":"POISSON(F2026,Berekening!$G$52,TRUE)","v":1},2022]
[{"$f":"POISSON(B2027,Berekening!$G$27,TRUE)","v":1},2023,{"$f":"POISSON(D2027,Berekening!$G$50,TRUE)","v":1},2023,{"$f":"POISSON(F2027,Berekening!$G$52,TRUE)","v":1},2023]
[{"$f":"POISSON(B2028,Berekening!$G$27,TRUE)","v":1},2024,{"$f":"POISSON(D2028,Berekening!$G$50,TRUE)","v":1},2024,{"$f":"POISSON(F2028,Berekening!$G$52,TRUE)","v":1},2024]
[{"$f":"POISSON(B2029,Berekening!$G$27,TRUE)","v":1},2025,{"$f":"POISSON(D2029,Berekening!$G$50,TRUE)","v":1},2025,{"$f":"POISSON(F2029,Berekening!$G$52,TRUE)","v":1},2025]
[{"$f":"POISSON(B2030,Berekening!$G$27,TRUE)","v":1},2026,{"$f":"POISSON(D2030,Berekening!$G$50,TRUE)","v":1},2026,{"$f":"POISSON(F2030,Berekening!$G$52,TRUE)","v":1},2026]
[{"$f":"POISSON(B2031,Berekening!$G$27,TRUE)","v":1},2027,{"$f":"POISSON(D2031,Berekening!$G$50,TRUE)","v":1},2027,{"$f":"POISSON(F2031,Berekening!$G$52,TRUE)","v":1},2027]
[{"$f":"POISSON(B2032,Berekening!$G$27,TRUE)","v":1},2028,{"$f":"POISSON(D2032,Berekening!$G$50,TRUE)","v":1},2028,{"$f":"POISSON(F2032,Berekening!$G$52,TRUE)","v":1},2028]
[{"$f":"POISSON(B2033,Berekening!$G$27,TRUE)","v":1},2029,{"$f":"POISSON(D2033,Berekening!$G$50,TRUE)","v":1},2029,{"$f":"POISSON(F2033,Berekening!$G$52,TRUE)","v":1},2029]
[{"$f":"POISSON(B2034,Berekening!$G$27,TRUE)","v":1},2030,{"$f":"POISSON(D2034,Berekening!$G$50,TRUE)","v":1},2030,{"$f":"POISSON(F2034,Berekening!$G$52,TRUE)","v":1},2030]
[{"$f":"POISSON(B2035,Berekening!$G$27,TRUE)","v":1},2031,{"$f":"POISSON(D2035,Berekening!$G$50,TRUE)","v":1},2031,{"$f":"POISSON(F2035,Berekening!$G$52,TRUE)","v":1},2031]
[{"$f":"POISSON(B2036,Berekening!$G$27,TRUE)","v":1},2032,{"$f":"POISSON(D2036,Berekening!$G$50,TRUE)","v":1},2032,{"$f":"POISSON(F2036,Berekening!$G$52,TRUE)","v":1},2032]
[{"$f":"POISSON(B2037,Berekening!$G$27,TRUE)","v":1},2033,{"$f":"POISSON(D2037,Berekening!$G$50,TRUE)","v":1},2033,{"$f":"POISSON(F2037,Berekening!$G$52,TRUE)","v":1},2033]
[{"$f":"POISSON(B2038,Berekening!$G$27,TRUE)","v":1},2034,{"$f":"POISSON(D2038,Berekening!$G$50,TRUE)","v":1},2034,{"$f":"POISSON(F2038,Berekening!$G$52,TRUE)","v":1},2034]
[{"$f":"POISSON(B2039,Berekening!$G$27,TRUE)","v":1},2035,{"$f":"POISSON(D2039,Berekening!$G$50,TRUE)","v":1},2035,{"$f":"POISSON(F2039,Berekening!$G$52,TRUE)","v":1},2035]
[{"$f":"POISSON(B2040,Berekening!$G$27,TRUE)","v":1},2036,{"$f":"POISSON(D2040,Berekening!$G$50,TRUE)","v":1},2036,{"$f":"POISSON(F2040,Berekening!$G$52,TRUE)","v":1},2036]
[{"$f":"POISSON(B2041,Berekening!$G$27,TRUE)","v":1},2037,{"$f":"POISSON(D2041,Berekening!$G$50,TRUE)","v":1},2037,{"$f":"POISSON(F2041,Berekening!$G$52,TRUE)","v":1},2037]
[{"$f":"POISSON(B2042,Berekening!$G$27,TRUE)","v":1},2038,{"$f":"POISSON(D2042,Berekening!$G$50,TRUE)","v":1},2038,{"$f":"POISSON(F2042,Berekening!$G$52,TRUE)","v":1},2038]
[{"$f":"POISSON(B2043,Berekening!$G$27,TRUE)","v":1},2039,{"$f":"POISSON(D2043,Berekening!$G$50,TRUE)","v":1},2039,{"$f":"POISSON(F2043,Berekening!$G$52,TRUE)","v":1},2039]
[{"$f":"POISSON(B2044,Berekening!$G$27,TRUE)","v":1},2040,{"$f":"POISSON(D2044,Berekening!$G$50,TRUE)","v":1},2040,{"$f":"POISSON(F2044,Berekening!$G$52,TRUE)","v":1},2040]
[{"$f":"POISSON(B2045,Berekening!$G$27,TRUE)","v":1},2041,{"$f":"POISSON(D2045,Berekening!$G$50,TRUE)","v":1},2041,{"$f":"POISSON(F2045,Berekening!$G$52,TRUE)","v":1},2041]
[{"$f":"POISSON(B2046,Berekening!$G$27,TRUE)","v":1},2042,{"$f":"POISSON(D2046,Berekening!$G$50,TRUE)","v":1},2042,{"$f":"POISSON(F2046,Berekening!$G$52,TRUE)","v":1},2042]
[{"$f":"POISSON(B2047,Berekening!$G$27,TRUE)","v":1},2043,{"$f":"POISSON(D2047,Berekening!$G$50,TRUE)","v":1},2043,{"$f":"POISSON(F2047,Berekening!$G$52,TRUE)","v":1},2043]
[{"$f":"POISSON(B2048,Berekening!$G$27,TRUE)","v":1},2044,{"$f":"POISSON(D2048,Berekening!$G$50,TRUE)","v":1},2044,{"$f":"POISSON(F2048,Berekening!$G$52,TRUE)","v":1},2044]
[{"$f":"POISSON(B2049,Berekening!$G$27,TRUE)","v":1},2045,{"$f":"POISSON(D2049,Berekening!$G$50,TRUE)","v":1},2045,{"$f":"POISSON(F2049,Berekening!$G$52,TRUE)","v":1},2045]
[{"$f":"POISSON(B2050,Berekening!$G$27,TRUE)","v":1},2046,{"$f":"POISSON(D2050,Berekening!$G$50,TRUE)","v":1},2046,{"$f":"POISSON(F2050,Berekening!$G$52,TRUE)","v":1},2046]
[{"$f":"POISSON(B2051,Berekening!$G$27,TRUE)","v":1},2047,{"$f":"POISSON(D2051,Berekening!$G$50,TRUE)","v":1},2047,{"$f":"POISSON(F2051,Berekening!$G$52,TRUE)","v":1},2047]
[{"$f":"POISSON(B2052,Berekening!$G$27,TRUE)","v":1},2048,{"$f":"POISSON(D2052,Berekening!$G$50,TRUE)","v":1},2048,{"$f":"POISSON(F2052,Berekening!$G$52,TRUE)","v":1},2048]
[{"$f":"POISSON(B2053,Berekening!$G$27,TRUE)","v":1},2049,{"$f":"POISSON(D2053,Berekening!$G$50,TRUE)","v":1},2049,{"$f":"POISSON(F2053,Berekening!$G$52,TRUE)","v":1},2049]
[{"$f":"POISSON(B2054,Berekening!$G$27,TRUE)","v":1},2050,{"$f":"POISSON(D2054,Berekening!$G$50,TRUE)","v":1},2050,{"$f":"POISSON(F2054,Berekening!$G$52,TRUE)","v":1},2050]
[{"$f":"POISSON(B2055,Berekening!$G$27,TRUE)","v":1},2051,{"$f":"POISSON(D2055,Berekening!$G$50,TRUE)","v":1},2051,{"$f":"POISSON(F2055,Berekening!$G$52,TRUE)","v":1},2051]
[{"$f":"POISSON(B2056,Berekening!$G$27,TRUE)","v":1},2052,{"$f":"POISSON(D2056,Berekening!$G$50,TRUE)","v":1},2052,{"$f":"POISSON(F2056,Berekening!$G$52,TRUE)","v":1},2052]
[{"$f":"POISSON(B2057,Berekening!$G$27,TRUE)","v":1},2053,{"$f":"POISSON(D2057,Berekening!$G$50,TRUE)","v":1},2053,{"$f":"POISSON(F2057,Berekening!$G$52,TRUE)","v":1},2053]
[{"$f":"POISSON(B2058,Berekening!$G$27,TRUE)","v":1},2054,{"$f":"POISSON(D2058,Berekening!$G$50,TRUE)","v":1},2054,{"$f":"POISSON(F2058,Berekening!$G$52,TRUE)","v":1},2054]
[{"$f":"POISSON(B2059,Berekening!$G$27,TRUE)","v":1},2055,{"$f":"POISSON(D2059,Berekening!$G$50,TRUE)","v":1},2055,{"$f":"POISSON(F2059,Berekening!$G$52,TRUE)","v":1},2055]
[{"$f":"POISSON(B2060,Berekening!$G$27,TRUE)","v":1},2056,{"$f":"POISSON(D2060,Berekening!$G$50,TRUE)","v":1},2056,{"$f":"POISSON(F2060,Berekening!$G$52,TRUE)","v":1},2056]
[{"$f":"POISSON(B2061,Berekening!$G$27,TRUE)","v":1},2057,{"$f":"POISSON(D2061,Berekening!$G$50,TRUE)","v":1},2057,{"$f":"POISSON(F2061,Berekening!$G$52,TRUE)","v":1},2057]
[{"$f":"POISSON(B2062,Berekening!$G$27,TRUE)","v":1},2058,{"$f":"POISSON(D2062,Berekening!$G$50,TRUE)","v":1},2058,{"$f":"POISSON(F2062,Berekening!$G$52,TRUE)","v":1},2058]
[{"$f":"POISSON(B2063,Berekening!$G$27,TRUE)","v":1},2059,{"$f":"POISSON(D2063,Berekening!$G$50,TRUE)","v":1},2059,{"$f":"POISSON(F2063,Berekening!$G$52,TRUE)","v":1},2059]
[{"$f":"POISSON(B2064,Berekening!$G$27,TRUE)","v":1},2060,{"$f":"POISSON(D2064,Berekening!$G$50,TRUE)","v":1},2060,{"$f":"POISSON(F2064,Berekening!$G$52,TRUE)","v":1},2060]
[{"$f":"POISSON(B2065,Berekening!$G$27,TRUE)","v":1},2061,{"$f":"POISSON(D2065,Berekening!$G$50,TRUE)","v":1},2061,{"$f":"POISSON(F2065,Berekening!$G$52,TRUE)","v":1},2061]
[{"$f":"POISSON(B2066,Berekening!$G$27,TRUE)","v":1},2062,{"$f":"POISSON(D2066,Berekening!$G$50,TRUE)","v":1},2062,{"$f":"POISSON(F2066,Berekening!$G$52,TRUE)","v":1},2062]
[{"$f":"POISSON(B2067,Berekening!$G$27,TRUE)","v":1},2063,{"$f":"POISSON(D2067,Berekening!$G$50,TRUE)","v":1},2063,{"$f":"POISSON(F2067,Berekening!$G$52,TRUE)","v":1},2063]
[{"$f":"POISSON(B2068,Berekening!$G$27,TRUE)","v":1},2064,{"$f":"POISSON(D2068,Berekening!$G$50,TRUE)","v":1},2064,{"$f":"POISSON(F2068,Berekening!$G$52,TRUE)","v":1},2064]
[{"$f":"POISSON(B2069,Berekening!$G$27,TRUE)","v":1},2065,{"$f":"POISSON(D2069,Berekening!$G$50,TRUE)","v":1},2065,{"$f":"POISSON(F2069,Berekening!$G$52,TRUE)","v":1},2065]
[{"$f":"POISSON(B2070,Berekening!$G$27,TRUE)","v":1},2066,{"$f":"POISSON(D2070,Berekening!$G$50,TRUE)","v":1},2066,{"$f":"POISSON(F2070,Berekening!$G$52,TRUE)","v":1},2066]
[{"$f":"POISSON(B2071,Berekening!$G$27,TRUE)","v":1},2067,{"$f":"POISSON(D2071,Berekening!$G$50,TRUE)","v":1},2067,{"$f":"POISSON(F2071,Berekening!$G$52,TRUE)","v":1},2067]
[{"$f":"POISSON(B2072,Berekening!$G$27,TRUE)","v":1},2068,{"$f":"POISSON(D2072,Berekening!$G$50,TRUE)","v":1},2068,{"$f":"POISSON(F2072,Berekening!$G$52,TRUE)","v":1},2068]
[{"$f":"POISSON(B2073,Berekening!$G$27,TRUE)","v":1},2069,{"$f":"POISSON(D2073,Berekening!$G$50,TRUE)","v":1},2069,{"$f":"POISSON(F2073,Berekening!$G$52,TRUE)","v":1},2069]
[{"$f":"POISSON(B2074,Berekening!$G$27,TRUE)","v":1},2070,{"$f":"POISSON(D2074,Berekening!$G$50,TRUE)","v":1},2070,{"$f":"POISSON(F2074,Berekening!$G$52,TRUE)","v":1},2070]
[{"$f":"POISSON(B2075,Berekening!$G$27,TRUE)","v":1},2071,{"$f":"POISSON(D2075,Berekening!$G$50,TRUE)","v":1},2071,{"$f":"POISSON(F2075,Berekening!$G$52,TRUE)","v":1},2071]
[{"$f":"POISSON(B2076,Berekening!$G$27,TRUE)","v":1},2072,{"$f":"POISSON(D2076,Berekening!$G$50,TRUE)","v":1},2072,{"$f":"POISSON(F2076,Berekening!$G$52,TRUE)","v":1},2072]
[{"$f":"POISSON(B2077,Berekening!$G$27,TRUE)","v":1},2073,{"$f":"POISSON(D2077,Berekening!$G$50,TRUE)","v":1},2073,{"$f":"POISSON(F2077,Berekening!$G$52,TRUE)","v":1},2073]
[{"$f":"POISSON(B2078,Berekening!$G$27,TRUE)","v":1},2074,{"$f":"POISSON(D2078,Berekening!$G$50,TRUE)","v":1},2074,{"$f":"POISSON(F2078,Berekening!$G$52,TRUE)","v":1},2074]
[{"$f":"POISSON(B2079,Berekening!$G$27,TRUE)","v":1},2075,{"$f":"POISSON(D2079,Berekening!$G$50,TRUE)","v":1},2075,{"$f":"POISSON(F2079,Berekening!$G$52,TRUE)","v":1},2075]
[{"$f":"POISSON(B2080,Berekening!$G$27,TRUE)","v":1},2076,{"$f":"POISSON(D2080,Berekening!$G$50,TRUE)","v":1},2076,{"$f":"POISSON(F2080,Berekening!$G$52,TRUE)","v":1},2076]
[{"$f":"POISSON(B2081,Berekening!$G$27,TRUE)","v":1},2077,{"$f":"POISSON(D2081,Berekening!$G$50,TRUE)","v":1},2077,{"$f":"POISSON(F2081,Berekening!$G$52,TRUE)","v":1},2077]
[{"$f":"POISSON(B2082,Berekening!$G$27,TRUE)","v":1},2078,{"$f":"POISSON(D2082,Berekening!$G$50,TRUE)","v":1},2078,{"$f":"POISSON(F2082,Berekening!$G$52,TRUE)","v":1},2078]
[{"$f":"POISSON(B2083,Berekening!$G$27,TRUE)","v":1},2079,{"$f":"POISSON(D2083,Berekening!$G$50,TRUE)","v":1},2079,{"$f":"POISSON(F2083,Berekening!$G$52,TRUE)","v":1},2079]
[{"$f":"POISSON(B2084,Berekening!$G$27,TRUE)","v":1},2080,{"$f":"POISSON(D2084,Berekening!$G$50,TRUE)","v":1},2080,{"$f":"POISSON(F2084,Berekening!$G$52,TRUE)","v":1},2080]
[{"$f":"POISSON(B2085,Berekening!$G$27,TRUE)","v":1},2081,{"$f":"POISSON(D2085,Berekening!$G$50,TRUE)","v":1},2081,{"$f":"POISSON(F2085,Berekening!$G$52,TRUE)","v":1},2081]
[{"$f":"POISSON(B2086,Berekening!$G$27,TRUE)","v":1},2082,{"$f":"POISSON(D2086,Berekening!$G$50,TRUE)","v":1},2082,{"$f":"POISSON(F2086,Berekening!$G$52,TRUE)","v":1},2082]
[{"$f":"POISSON(B2087,Berekening!$G$27,TRUE)","v":1},2083,{"$f":"POISSON(D2087,Berekening!$G$50,TRUE)","v":1},2083,{"$f":"POISSON(F2087,Berekening!$G$52,TRUE)","v":1},2083]
[{"$f":"POISSON(B2088,Berekening!$G$27,TRUE)","v":1},2084,{"$f":"POISSON(D2088,Berekening!$G$50,TRUE)","v":1},2084,{"$f":"POISSON(F2088,Berekening!$G$52,TRUE)","v":1},2084]
[{"$f":"POISSON(B2089,Berekening!$G$27,TRUE)","v":1},2085,{"$f":"POISSON(D2089,Berekening!$G$50,TRUE)","v":1},2085,{"$f":"POISSON(F2089,Berekening!$G$52,TRUE)","v":1},2085]
[{"$f":"POISSON(B2090,Berekening!$G$27,TRUE)","v":1},2086,{"$f":"POISSON(D2090,Berekening!$G$50,TRUE)","v":1},2086,{"$f":"POISSON(F2090,Berekening!$G$52,TRUE)","v":1},2086]
[{"$f":"POISSON(B2091,Berekening!$G$27,TRUE)","v":1},2087,{"$f":"POISSON(D2091,Berekening!$G$50,TRUE)","v":1},2087,{"$f":"POISSON(F2091,Berekening!$G$52,TRUE)","v":1},2087]
[{"$f":"POISSON(B2092,Berekening!$G$27,TRUE)","v":1},2088,{"$f":"POISSON(D2092,Berekening!$G$50,TRUE)","v":1},2088,{"$f":"POISSON(F2092,Berekening!$G$52,TRUE)","v":1},2088]
[{"$f":"POISSON(B2093,Berekening!$G$27,TRUE)","v":1},2089,{"$f":"POISSON(D2093,Berekening!$G$50,TRUE)","v":1},2089,{"$f":"POISSON(F2093,Berekening!$G$52,TRUE)","v":1},2089]
[{"$f":"POISSON(B2094,Berekening!$G$27,TRUE)","v":1},2090,{"$f":"POISSON(D2094,Berekening!$G$50,TRUE)","v":1},2090,{"$f":"POISSON(F2094,Berekening!$G$52,TRUE)","v":1},2090]
[{"$f":"POISSON(B2095,Berekening!$G$27,TRUE)","v":1},2091,{"$f":"POISSON(D2095,Berekening!$G$50,TRUE)","v":1},2091,{"$f":"POISSON(F2095,Berekening!$G$52,TRUE)","v":1},2091]
[{"$f":"POISSON(B2096,Berekening!$G$27,TRUE)","v":1},2092,{"$f":"POISSON(D2096,Berekening!$G$50,TRUE)","v":1},2092,{"$f":"POISSON(F2096,Berekening!$G$52,TRUE)","v":1},2092]
[{"$f":"POISSON(B2097,Berekening!$G$27,TRUE)","v":1},2093,{"$f":"POISSON(D2097,Berekening!$G$50,TRUE)","v":1},2093,{"$f":"POISSON(F2097,Berekening!$G$52,TRUE)","v":1},2093]
[{"$f":"POISSON(B2098,Berekening!$G$27,TRUE)","v":1},2094,{"$f":"POISSON(D2098,Berekening!$G$50,TRUE)","v":1},2094,{"$f":"POISSON(F2098,Berekening!$G$52,TRUE)","v":1},2094]
[{"$f":"POISSON(B2099,Berekening!$G$27,TRUE)","v":1},2095,{"$f":"POISSON(D2099,Berekening!$G$50,TRUE)","v":1},2095,{"$f":"POISSON(F2099,Berekening!$G$52,TRUE)","v":1},2095]
[{"$f":"POISSON(B2100,Berekening!$G$27,TRUE)","v":1},2096,{"$f":"POISSON(D2100,Berekening!$G$50,TRUE)","v":1},2096,{"$f":"POISSON(F2100,Berekening!$G$52,TRUE)","v":1},2096]
[{"$f":"POISSON(B2101,Berekening!$G$27,TRUE)","v":1},2097,{"$f":"POISSON(D2101,Berekening!$G$50,TRUE)","v":1},2097,{"$f":"POISSON(F2101,Berekening!$G$52,TRUE)","v":1},2097]
[{"$f":"POISSON(B2102,Berekening!$G$27,TRUE)","v":1},2098,{"$f":"POISSON(D2102,Berekening!$G$50,TRUE)","v":1},2098,{"$f":"POISSON(F2102,Berekening!$G$52,TRUE)","v":1},2098]
[{"$f":"POISSON(B2103,Berekening!$G$27,TRUE)","v":1},2099,{"$f":"POISSON(D2103,Berekening!$G$50,TRUE)","v":1},2099,{"$f":"POISSON(F2103,Berekening!$G$52,TRUE)","v":1},2099]
[{"$f":"POISSON(B2104,Berekening!$G$27,TRUE)","v":1},2100,{"$f":"POISSON(D2104,Berekening!$G$50,TRUE)","v":1},2100,{"$f":"POISSON(F2104,Berekening!$G$52,TRUE)","v":1},2100]
[{"$f":"POISSON(B2105,Berekening!$G$27,TRUE)","v":1},2101,{"$f":"POISSON(D2105,Berekening!$G$50,TRUE)","v":1},2101,{"$f":"POISSON(F2105,Berekening!$G$52,TRUE)","v":1},2101]
[{"$f":"POISSON(B2106,Berekening!$G$27,TRUE)","v":1},2102,{"$f":"POISSON(D2106,Berekening!$G$50,TRUE)","v":1},2102,{"$f":"POISSON(F2106,Berekening!$G$52,TRUE)","v":1},2102]
[{"$f":"POISSON(B2107,Berekening!$G$27,TRUE)","v":1},2103,{"$f":"POISSON(D2107,Berekening!$G$50,TRUE)","v":1},2103,{"$f":"POISSON(F2107,Berekening!$G$52,TRUE)","v":1},2103]
[{"$f":"POISSON(B2108,Berekening!$G$27,TRUE)","v":1},2104,{"$f":"POISSON(D2108,Berekening!$G$50,TRUE)","v":1},2104,{"$f":"POISSON(F2108,Berekening!$G$52,TRUE)","v":1},2104]
[{"$f":"POISSON(B2109,Berekening!$G$27,TRUE)","v":1},2105,{"$f":"POISSON(D2109,Berekening!$G$50,TRUE)","v":1},2105,{"$f":"POISSON(F2109,Berekening!$G$52,TRUE)","v":1},2105]
[{"$f":"POISSON(B2110,Berekening!$G$27,TRUE)","v":1},2106,{"$f":"POISSON(D2110,Berekening!$G$50,TRUE)","v":1},2106,{"$f":"POISSON(F2110,Berekening!$G$52,TRUE)","v":1},2106]
[{"$f":"POISSON(B2111,Berekening!$G$27,TRUE)","v":1},2107,{"$f":"POISSON(D2111,Berekening!$G$50,TRUE)","v":1},2107,{"$f":"POISSON(F2111,Berekening!$G$52,TRUE)","v":1},2107]
[{"$f":"POISSON(B2112,Berekening!$G$27,TRUE)","v":1},2108,{"$f":"POISSON(D2112,Berekening!$G$50,TRUE)","v":1},2108,{"$f":"POISSON(F2112,Berekening!$G$52,TRUE)","v":1},2108]
[{"$f":"POISSON(B2113,Berekening!$G$27,TRUE)","v":1},2109,{"$f":"POISSON(D2113,Berekening!$G$50,TRUE)","v":1},2109,{"$f":"POISSON(F2113,Berekening!$G$52,TRUE)","v":1},2109]
[{"$f":"POISSON(B2114,Berekening!$G$27,TRUE)","v":1},2110,{"$f":"POISSON(D2114,Berekening!$G$50,TRUE)","v":1},2110,{"$f":"POISSON(F2114,Berekening!$G$52,TRUE)","v":1},2110]
[{"$f":"POISSON(B2115,Berekening!$G$27,TRUE)","v":1},2111,{"$f":"POISSON(D2115,Berekening!$G$50,TRUE)","v":1},2111,{"$f":"POISSON(F2115,Berekening!$G$52,TRUE)","v":1},2111]
[{"$f":"POISSON(B2116,Berekening!$G$27,TRUE)","v":1},2112,{"$f":"POISSON(D2116,Berekening!$G$50,TRUE)","v":1},2112,{"$f":"POISSON(F2116,Berekening!$G$52,TRUE)","v":1},2112]
[{"$f":"POISSON(B2117,Berekening!$G$27,TRUE)","v":1},2113,{"$f":"POISSON(D2117,Berekening!$G$50,TRUE)","v":1},2113,{"$f":"POISSON(F2117,Berekening!$G$52,TRUE)","v":1},2113]
[{"$f":"POISSON(B2118,Berekening!$G$27,TRUE)","v":1},2114,{"$f":"POISSON(D2118,Berekening!$G$50,TRUE)","v":1},2114,{"$f":"POISSON(F2118,Berekening!$G$52,TRUE)","v":1},2114]
[{"$f":"POISSON(B2119,Berekening!$G$27,TRUE)","v":1},2115,{"$f":"POISSON(D2119,Berekening!$G$50,TRUE)","v":1},2115,{"$f":"POISSON(F2119,Berekening!$G$52,TRUE)","v":1},2115]
[{"$f":"POISSON(B2120,Berekening!$G$27,TRUE)","v":1},2116,{"$f":"POISSON(D2120,Berekening!$G$50,TRUE)","v":1},2116,{"$f":"POISSON(F2120,Berekening!$G$52,TRUE)","v":1},2116]
[{"$f":"POISSON(B2121,Berekening!$G$27,TRUE)","v":1},2117,{"$f":"POISSON(D2121,Berekening!$G$50,TRUE)","v":1},2117,{"$f":"POISSON(F2121,Berekening!$G$52,TRUE)","v":1},2117]
[{"$f":"POISSON(B2122,Berekening!$G$27,TRUE)","v":1},2118,{"$f":"POISSON(D2122,Berekening!$G$50,TRUE)","v":1},2118,{"$f":"POISSON(F2122,Berekening!$G$52,TRUE)","v":1},2118]
[{"$f":"POISSON(B2123,Berekening!$G$27,TRUE)","v":1},2119,{"$f":"POISSON(D2123,Berekening!$G$50,TRUE)","v":1},2119,{"$f":"POISSON(F2123,Berekening!$G$52,TRUE)","v":1},2119]
[{"$f":"POISSON(B2124,Berekening!$G$27,TRUE)","v":1},2120,{"$f":"POISSON(D2124,Berekening!$G$50,TRUE)","v":1},2120,{"$f":"POISSON(F2124,Berekening!$G$52,TRUE)","v":1},2120]
[{"$f":"POISSON(B2125,Berekening!$G$27,TRUE)","v":1},2121,{"$f":"POISSON(D2125,Berekening!$G$50,TRUE)","v":1},2121,{"$f":"POISSON(F2125,Berekening!$G$52,TRUE)","v":1},2121]
[{"$f":"POISSON(B2126,Berekening!$G$27,TRUE)","v":1},2122,{"$f":"POISSON(D2126,Berekening!$G$50,TRUE)","v":1},2122,{"$f":"POISSON(F2126,Berekening!$G$52,TRUE)","v":1},2122]
[{"$f":"POISSON(B2127,Berekening!$G$27,TRUE)","v":1},2123,{"$f":"POISSON(D2127,Berekening!$G$50,TRUE)","v":1},2123,{"$f":"POISSON(F2127,Berekening!$G$52,TRUE)","v":1},2123]
[{"$f":"POISSON(B2128,Berekening!$G$27,TRUE)","v":1},2124,{"$f":"POISSON(D2128,Berekening!$G$50,TRUE)","v":1},2124,{"$f":"POISSON(F2128,Berekening!$G$52,TRUE)","v":1},2124]
[{"$f":"POISSON(B2129,Berekening!$G$27,TRUE)","v":1},2125,{"$f":"POISSON(D2129,Berekening!$G$50,TRUE)","v":1},2125,{"$f":"POISSON(F2129,Berekening!$G$52,TRUE)","v":1},2125]
[{"$f":"POISSON(B2130,Berekening!$G$27,TRUE)","v":1},2126,{"$f":"POISSON(D2130,Berekening!$G$50,TRUE)","v":1},2126,{"$f":"POISSON(F2130,Berekening!$G$52,TRUE)","v":1},2126]
[{"$f":"POISSON(B2131,Berekening!$G$27,TRUE)","v":1},2127,{"$f":"POISSON(D2131,Berekening!$G$50,TRUE)","v":1},2127,{"$f":"POISSON(F2131,Berekening!$G$52,TRUE)","v":1},2127]
[{"$f":"POISSON(B2132,Berekening!$G$27,TRUE)","v":1},2128,{"$f":"POISSON(D2132,Berekening!$G$50,TRUE)","v":1},2128,{"$f":"POISSON(F2132,Berekening!$G$52,TRUE)","v":1},2128]
[{"$f":"POISSON(B2133,Berekening!$G$27,TRUE)","v":1},2129,{"$f":"POISSON(D2133,Berekening!$G$50,TRUE)","v":1},2129,{"$f":"POISSON(F2133,Berekening!$G$52,TRUE)","v":1},2129]
[{"$f":"POISSON(B2134,Berekening!$G$27,TRUE)","v":1},2130,{"$f":"POISSON(D2134,Berekening!$G$50,TRUE)","v":1},2130,{"$f":"POISSON(F2134,Berekening!$G$52,TRUE)","v":1},2130]
[{"$f":"POISSON(B2135,Berekening!$G$27,TRUE)","v":1},2131,{"$f":"POISSON(D2135,Berekening!$G$50,TRUE)","v":1},2131,{"$f":"POISSON(F2135,Berekening!$G$52,TRUE)","v":1},2131]
[{"$f":"POISSON(B2136,Berekening!$G$27,TRUE)","v":1},2132,{"$f":"POISSON(D2136,Berekening!$G$50,TRUE)","v":1},2132,{"$f":"POISSON(F2136,Berekening!$G$52,TRUE)","v":1},2132]
[{"$f":"POISSON(B2137,Berekening!$G$27,TRUE)","v":1},2133,{"$f":"POISSON(D2137,Berekening!$G$50,TRUE)","v":1},2133,{"$f":"POISSON(F2137,Berekening!$G$52,TRUE)","v":1},2133]
[{"$f":"POISSON(B2138,Berekening!$G$27,TRUE)","v":1},2134,{"$f":"POISSON(D2138,Berekening!$G$50,TRUE)","v":1},2134,{"$f":"POISSON(F2138,Berekening!$G$52,TRUE)","v":1},2134]
[{"$f":"POISSON(B2139,Berekening!$G$27,TRUE)","v":1},2135,{"$f":"POISSON(D2139,Berekening!$G$50,TRUE)","v":1},2135,{"$f":"POISSON(F2139,Berekening!$G$52,TRUE)","v":1},2135]
[{"$f":"POISSON(B2140,Berekening!$G$27,TRUE)","v":1},2136,{"$f":"POISSON(D2140,Berekening!$G$50,TRUE)","v":1},2136,{"$f":"POISSON(F2140,Berekening!$G$52,TRUE)","v":1},2136]
[{"$f":"POISSON(B2141,Berekening!$G$27,TRUE)","v":1},2137,{"$f":"POISSON(D2141,Berekening!$G$50,TRUE)","v":1},2137,{"$f":"POISSON(F2141,Berekening!$G$52,TRUE)","v":1},2137]
[{"$f":"POISSON(B2142,Berekening!$G$27,TRUE)","v":1},2138,{"$f":"POISSON(D2142,Berekening!$G$50,TRUE)","v":1},2138,{"$f":"POISSON(F2142,Berekening!$G$52,TRUE)","v":1},2138]
[{"$f":"POISSON(B2143,Berekening!$G$27,TRUE)","v":1},2139,{"$f":"POISSON(D2143,Berekening!$G$50,TRUE)","v":1},2139,{"$f":"POISSON(F2143,Berekening!$G$52,TRUE)","v":1},2139]
[{"$f":"POISSON(B2144,Berekening!$G$27,TRUE)","v":1},2140,{"$f":"POISSON(D2144,Berekening!$G$50,TRUE)","v":1},2140,{"$f":"POISSON(F2144,Berekening!$G$52,TRUE)","v":1},2140]
[{"$f":"POISSON(B2145,Berekening!$G$27,TRUE)","v":1},2141,{"$f":"POISSON(D2145,Berekening!$G$50,TRUE)","v":1},2141,{"$f":"POISSON(F2145,Berekening!$G$52,TRUE)","v":1},2141]
[{"$f":"POISSON(B2146,Berekening!$G$27,TRUE)","v":1},2142,{"$f":"POISSON(D2146,Berekening!$G$50,TRUE)","v":1},2142,{"$f":"POISSON(F2146,Berekening!$G$52,TRUE)","v":1},2142]
[{"$f":"POISSON(B2147,Berekening!$G$27,TRUE)","v":1},2143,{"$f":"POISSON(D2147,Berekening!$G$50,TRUE)","v":1},2143,{"$f":"POISSON(F2147,Berekening!$G$52,TRUE)","v":1},2143]
[{"$f":"POISSON(B2148,Berekening!$G$27,TRUE)","v":1},2144,{"$f":"POISSON(D2148,Berekening!$G$50,TRUE)","v":1},2144,{"$f":"POISSON(F2148,Berekening!$G$52,TRUE)","v":1},2144]
[{"$f":"POISSON(B2149,Berekening!$G$27,TRUE)","v":1},2145,{"$f":"POISSON(D2149,Berekening!$G$50,TRUE)","v":1},2145,{"$f":"POISSON(F2149,Berekening!$G$52,TRUE)","v":1},2145]
[{"$f":"POISSON(B2150,Berekening!$G$27,TRUE)","v":1},2146,{"$f":"POISSON(D2150,Berekening!$G$50,TRUE)","v":1},2146,{"$f":"POISSON(F2150,Berekening!$G$52,TRUE)","v":1},2146]
[{"$f":"POISSON(B2151,Berekening!$G$27,TRUE)","v":1},2147,{"$f":"POISSON(D2151,Berekening!$G$50,TRUE)","v":1},2147,{"$f":"POISSON(F2151,Berekening!$G$52,TRUE)","v":1},2147]
[{"$f":"POISSON(B2152,Berekening!$G$27,TRUE)","v":1},2148,{"$f":"POISSON(D2152,Berekening!$G$50,TRUE)","v":1},2148,{"$f":"POISSON(F2152,Berekening!$G$52,TRUE)","v":1},2148]
[{"$f":"POISSON(B2153,Berekening!$G$27,TRUE)","v":1},2149,{"$f":"POISSON(D2153,Berekening!$G$50,TRUE)","v":1},2149,{"$f":"POISSON(F2153,Berekening!$G$52,TRUE)","v":1},2149]
[{"$f":"POISSON(B2154,Berekening!$G$27,TRUE)","v":1},2150,{"$f":"POISSON(D2154,Berekening!$G$50,TRUE)","v":1},2150,{"$f":"POISSON(F2154,Berekening!$G$52,TRUE)","v":1},2150]
[{"$f":"POISSON(B2155,Berekening!$G$27,TRUE)","v":1},2151,{"$f":"POISSON(D2155,Berekening!$G$50,TRUE)","v":1},2151,{"$f":"POISSON(F2155,Berekening!$G$52,TRUE)","v":1},2151]
[{"$f":"POISSON(B2156,Berekening!$G$27,TRUE)","v":1},2152,{"$f":"POISSON(D2156,Berekening!$G$50,TRUE)","v":1},2152,{"$f":"POISSON(F2156,Berekening!$G$52,TRUE)","v":1},2152]
[{"$f":"POISSON(B2157,Berekening!$G$27,TRUE)","v":1},2153,{"$f":"POISSON(D2157,Berekening!$G$50,TRUE)","v":1},2153,{"$f":"POISSON(F2157,Berekening!$G$52,TRUE)","v":1},2153]
[{"$f":"POISSON(B2158,Berekening!$G$27,TRUE)","v":1},2154,{"$f":"POISSON(D2158,Berekening!$G$50,TRUE)","v":1},2154,{"$f":"POISSON(F2158,Berekening!$G$52,TRUE)","v":1},2154]
[{"$f":"POISSON(B2159,Berekening!$G$27,TRUE)","v":1},2155,{"$f":"POISSON(D2159,Berekening!$G$50,TRUE)","v":1},2155,{"$f":"POISSON(F2159,Berekening!$G$52,TRUE)","v":1},2155]
[{"$f":"POISSON(B2160,Berekening!$G$27,TRUE)","v":1},2156,{"$f":"POISSON(D2160,Berekening!$G$50,TRUE)","v":1},2156,{"$f":"POISSON(F2160,Berekening!$G$52,TRUE)","v":1},2156]
[{"$f":"POISSON(B2161,Berekening!$G$27,TRUE)","v":1},2157,{"$f":"POISSON(D2161,Berekening!$G$50,TRUE)","v":1},2157,{"$f":"POISSON(F2161,Berekening!$G$52,TRUE)","v":1},2157]
[{"$f":"POISSON(B2162,Berekening!$G$27,TRUE)","v":1},2158,{"$f":"POISSON(D2162,Berekening!$G$50,TRUE)","v":1},2158,{"$f":"POISSON(F2162,Berekening!$G$52,TRUE)","v":1},2158]
[{"$f":"POISSON(B2163,Berekening!$G$27,TRUE)","v":1},2159,{"$f":"POISSON(D2163,Berekening!$G$50,TRUE)","v":1},2159,{"$f":"POISSON(F2163,Berekening!$G$52,TRUE)","v":1},2159]
[{"$f":"POISSON(B2164,Berekening!$G$27,TRUE)","v":1},2160,{"$f":"POISSON(D2164,Berekening!$G$50,TRUE)","v":1},2160,{"$f":"POISSON(F2164,Berekening!$G$52,TRUE)","v":1},2160]
[{"$f":"POISSON(B2165,Berekening!$G$27,TRUE)","v":1},2161,{"$f":"POISSON(D2165,Berekening!$G$50,TRUE)","v":1},2161,{"$f":"POISSON(F2165,Berekening!$G$52,TRUE)","v":1},2161]
[{"$f":"POISSON(B2166,Berekening!$G$27,TRUE)","v":1},2162,{"$f":"POISSON(D2166,Berekening!$G$50,TRUE)","v":1},2162,{"$f":"POISSON(F2166,Berekening!$G$52,TRUE)","v":1},2162]
[{"$f":"POISSON(B2167,Berekening!$G$27,TRUE)","v":1},2163,{"$f":"POISSON(D2167,Berekening!$G$50,TRUE)","v":1},2163,{"$f":"POISSON(F2167,Berekening!$G$52,TRUE)","v":1},2163]
[{"$f":"POISSON(B2168,Berekening!$G$27,TRUE)","v":1},2164,{"$f":"POISSON(D2168,Berekening!$G$50,TRUE)","v":1},2164,{"$f":"POISSON(F2168,Berekening!$G$52,TRUE)","v":1},2164]
[{"$f":"POISSON(B2169,Berekening!$G$27,TRUE)","v":1},2165,{"$f":"POISSON(D2169,Berekening!$G$50,TRUE)","v":1},2165,{"$f":"POISSON(F2169,Berekening!$G$52,TRUE)","v":1},2165]
[{"$f":"POISSON(B2170,Berekening!$G$27,TRUE)","v":1},2166,{"$f":"POISSON(D2170,Berekening!$G$50,TRUE)","v":1},2166,{"$f":"POISSON(F2170,Berekening!$G$52,TRUE)","v":1},2166]
[{"$f":"POISSON(B2171,Berekening!$G$27,TRUE)","v":1},2167,{"$f":"POISSON(D2171,Berekening!$G$50,TRUE)","v":1},2167,{"$f":"POISSON(F2171,Berekening!$G$52,TRUE)","v":1},2167]
[{"$f":"POISSON(B2172,Berekening!$G$27,TRUE)","v":1},2168,{"$f":"POISSON(D2172,Berekening!$G$50,TRUE)","v":1},2168,{"$f":"POISSON(F2172,Berekening!$G$52,TRUE)","v":1},2168]
[{"$f":"POISSON(B2173,Berekening!$G$27,TRUE)","v":1},2169,{"$f":"POISSON(D2173,Berekening!$G$50,TRUE)","v":1},2169,{"$f":"POISSON(F2173,Berekening!$G$52,TRUE)","v":1},2169]
[{"$f":"POISSON(B2174,Berekening!$G$27,TRUE)","v":1},2170,{"$f":"POISSON(D2174,Berekening!$G$50,TRUE)","v":1},2170,{"$f":"POISSON(F2174,Berekening!$G$52,TRUE)","v":1},2170]
[{"$f":"POISSON(B2175,Berekening!$G$27,TRUE)","v":1},2171,{"$f":"POISSON(D2175,Berekening!$G$50,TRUE)","v":1},2171,{"$f":"POISSON(F2175,Berekening!$G$52,TRUE)","v":1},2171]
[{"$f":"POISSON(B2176,Berekening!$G$27,TRUE)","v":1},2172,{"$f":"POISSON(D2176,Berekening!$G$50,TRUE)","v":1},2172,{"$f":"POISSON(F2176,Berekening!$G$52,TRUE)","v":1},2172]
[{"$f":"POISSON(B2177,Berekening!$G$27,TRUE)","v":1},2173,{"$f":"POISSON(D2177,Berekening!$G$50,TRUE)","v":1},2173,{"$f":"POISSON(F2177,Berekening!$G$52,TRUE)","v":1},2173]
[{"$f":"POISSON(B2178,Berekening!$G$27,TRUE)","v":1},2174,{"$f":"POISSON(D2178,Berekening!$G$50,TRUE)","v":1},2174,{"$f":"POISSON(F2178,Berekening!$G$52,TRUE)","v":1},2174]
[{"$f":"POISSON(B2179,Berekening!$G$27,TRUE)","v":1},2175,{"$f":"POISSON(D2179,Berekening!$G$50,TRUE)","v":1},2175,{"$f":"POISSON(F2179,Berekening!$G$52,TRUE)","v":1},2175]
[{"$f":"POISSON(B2180,Berekening!$G$27,TRUE)","v":1},2176,{"$f":"POISSON(D2180,Berekening!$G$50,TRUE)","v":1},2176,{"$f":"POISSON(F2180,Berekening!$G$52,TRUE)","v":1},2176]
[{"$f":"POISSON(B2181,Berekening!$G$27,TRUE)","v":1},2177,{"$f":"POISSON(D2181,Berekening!$G$50,TRUE)","v":1},2177,{"$f":"POISSON(F2181,Berekening!$G$52,TRUE)","v":1},2177]
[{"$f":"POISSON(B2182,Berekening!$G$27,TRUE)","v":1},2178,{"$f":"POISSON(D2182,Berekening!$G$50,TRUE)","v":1},2178,{"$f":"POISSON(F2182,Berekening!$G$52,TRUE)","v":1},2178]
[{"$f":"POISSON(B2183,Berekening!$G$27,TRUE)","v":1},2179,{"$f":"POISSON(D2183,Berekening!$G$50,TRUE)","v":1},2179,{"$f":"POISSON(F2183,Berekening!$G$52,TRUE)","v":1},2179]
[{"$f":"POISSON(B2184,Berekening!$G$27,TRUE)","v":1},2180,{"$f":"POISSON(D2184,Berekening!$G$50,TRUE)","v":1},2180,{"$f":"POISSON(F2184,Berekening!$G$52,TRUE)","v":1},2180]
[{"$f":"POISSON(B2185,Berekening!$G$27,TRUE)","v":1},2181,{"$f":"POISSON(D2185,Berekening!$G$50,TRUE)","v":1},2181,{"$f":"POISSON(F2185,Berekening!$G$52,TRUE)","v":1},2181]
[{"$f":"POISSON(B2186,Berekening!$G$27,TRUE)","v":1},2182,{"$f":"POISSON(D2186,Berekening!$G$50,TRUE)","v":1},2182,{"$f":"POISSON(F2186,Berekening!$G$52,TRUE)","v":1},2182]
[{"$f":"POISSON(B2187,Berekening!$G$27,TRUE)","v":1},2183,{"$f":"POISSON(D2187,Berekening!$G$50,TRUE)","v":1},2183,{"$f":"POISSON(F2187,Berekening!$G$52,TRUE)","v":1},2183]
[{"$f":"POISSON(B2188,Berekening!$G$27,TRUE)","v":1},2184,{"$f":"POISSON(D2188,Berekening!$G$50,TRUE)","v":1},2184,{"$f":"POISSON(F2188,Berekening!$G$52,TRUE)","v":1},2184]
[{"$f":"POISSON(B2189,Berekening!$G$27,TRUE)","v":1},2185,{"$f":"POISSON(D2189,Berekening!$G$50,TRUE)","v":1},2185,{"$f":"POISSON(F2189,Berekening!$G$52,TRUE)","v":1},2185]
[{"$f":"POISSON(B2190,Berekening!$G$27,TRUE)","v":1},2186,{"$f":"POISSON(D2190,Berekening!$G$50,TRUE)","v":1},2186,{"$f":"POISSON(F2190,Berekening!$G$52,TRUE)","v":1},2186]
[{"$f":"POISSON(B2191,Berekening!$G$27,TRUE)","v":1},2187,{"$f":"POISSON(D2191,Berekening!$G$50,TRUE)","v":1},2187,{"$f":"POISSON(F2191,Berekening!$G$52,TRUE)","v":1},2187]
[{"$f":"POISSON(B2192,Berekening!$G$27,TRUE)","v":1},2188,{"$f":"POISSON(D2192,Berekening!$G$50,TRUE)","v":1},2188,{"$f":"POISSON(F2192,Berekening!$G$52,TRUE)","v":1},2188]
[{"$f":"POISSON(B2193,Berekening!$G$27,TRUE)","v":1},2189,{"$f":"POISSON(D2193,Berekening!$G$50,TRUE)","v":1},2189,{"$f":"POISSON(F2193,Berekening!$G$52,TRUE)","v":1},2189]
[{"$f":"POISSON(B2194,Berekening!$G$27,TRUE)","v":1},2190,{"$f":"POISSON(D2194,Berekening!$G$50,TRUE)","v":1},2190,{"$f":"POISSON(F2194,Berekening!$G$52,TRUE)","v":1},2190]
[{"$f":"POISSON(B2195,Berekening!$G$27,TRUE)","v":1},2191,{"$f":"POISSON(D2195,Berekening!$G$50,TRUE)","v":1},2191,{"$f":"POISSON(F2195,Berekening!$G$52,TRUE)","v":1},2191]
[{"$f":"POISSON(B2196,Berekening!$G$27,TRUE)","v":1},2192,{"$f":"POISSON(D2196,Berekening!$G$50,TRUE)","v":1},2192,{"$f":"POISSON(F2196,Berekening!$G$52,TRUE)","v":1},2192]
[{"$f":"POISSON(B2197,Berekening!$G$27,TRUE)","v":1},2193,{"$f":"POISSON(D2197,Berekening!$G$50,TRUE)","v":1},2193,{"$f":"POISSON(F2197,Berekening!$G$52,TRUE)","v":1},2193]
[{"$f":"POISSON(B2198,Berekening!$G$27,TRUE)","v":1},2194,{"$f":"POISSON(D2198,Berekening!$G$50,TRUE)","v":1},2194,{"$f":"POISSON(F2198,Berekening!$G$52,TRUE)","v":1},2194]
[{"$f":"POISSON(B2199,Berekening!$G$27,TRUE)","v":1},2195,{"$f":"POISSON(D2199,Berekening!$G$50,TRUE)","v":1},2195,{"$f":"POISSON(F2199,Berekening!$G$52,TRUE)","v":1},2195]
[{"$f":"POISSON(B2200,Berekening!$G$27,TRUE)","v":1},2196,{"$f":"POISSON(D2200,Berekening!$G$50,TRUE)","v":1},2196,{"$f":"POISSON(F2200,Berekening!$G$52,TRUE)","v":1},2196]
[{"$f":"POISSON(B2201,Berekening!$G$27,TRUE)","v":1},2197,{"$f":"POISSON(D2201,Berekening!$G$50,TRUE)","v":1},2197,{"$f":"POISSON(F2201,Berekening!$G$52,TRUE)","v":1},2197]
[{"$f":"POISSON(B2202,Berekening!$G$27,TRUE)","v":1},2198,{"$f":"POISSON(D2202,Berekening!$G$50,TRUE)","v":1},2198,{"$f":"POISSON(F2202,Berekening!$G$52,TRUE)","v":1},2198]
[{"$f":"POISSON(B2203,Berekening!$G$27,TRUE)","v":1},2199,{"$f":"POISSON(D2203,Berekening!$G$50,TRUE)","v":1},2199,{"$f":"POISSON(F2203,Berekening!$G$52,TRUE)","v":1},2199]
[{"$f":"POISSON(B2204,Berekening!$G$27,TRUE)","v":1},2200,{"$f":"POISSON(D2204,Berekening!$G$50,TRUE)","v":1},2200,{"$f":"POISSON(F2204,Berekening!$G$52,TRUE)","v":1},2200]
[{"$f":"POISSON(B2205,Berekening!$G$27,TRUE)","v":1},2201,{"$f":"POISSON(D2205,Berekening!$G$50,TRUE)","v":1},2201,{"$f":"POISSON(F2205,Berekening!$G$52,TRUE)","v":1},2201]
[{"$f":"POISSON(B2206,Berekening!$G$27,TRUE)","v":1},2202,{"$f":"POISSON(D2206,Berekening!$G$50,TRUE)","v":1},2202,{"$f":"POISSON(F2206,Berekening!$G$52,TRUE)","v":1},2202]
[{"$f":"POISSON(B2207,Berekening!$G$27,TRUE)","v":1},2203,{"$f":"POISSON(D2207,Berekening!$G$50,TRUE)","v":1},2203,{"$f":"POISSON(F2207,Berekening!$G$52,TRUE)","v":1},2203]
[{"$f":"POISSON(B2208,Berekening!$G$27,TRUE)","v":1},2204,{"$f":"POISSON(D2208,Berekening!$G$50,TRUE)","v":1},2204,{"$f":"POISSON(F2208,Berekening!$G$52,TRUE)","v":1},2204]
[{"$f":"POISSON(B2209,Berekening!$G$27,TRUE)","v":1},2205,{"$f":"POISSON(D2209,Berekening!$G$50,TRUE)","v":1},2205,{"$f":"POISSON(F2209,Berekening!$G$52,TRUE)","v":1},2205]
[{"$f":"POISSON(B2210,Berekening!$G$27,TRUE)","v":1},2206,{"$f":"POISSON(D2210,Berekening!$G$50,TRUE)","v":1},2206,{"$f":"POISSON(F2210,Berekening!$G$52,TRUE)","v":1},2206]
[{"$f":"POISSON(B2211,Berekening!$G$27,TRUE)","v":1},2207,{"$f":"POISSON(D2211,Berekening!$G$50,TRUE)","v":1},2207,{"$f":"POISSON(F2211,Berekening!$G$52,TRUE)","v":1},2207]
[{"$f":"POISSON(B2212,Berekening!$G$27,TRUE)","v":1},2208,{"$f":"POISSON(D2212,Berekening!$G$50,TRUE)","v":1},2208,{"$f":"POISSON(F2212,Berekening!$G$52,TRUE)","v":1},2208]
[{"$f":"POISSON(B2213,Berekening!$G$27,TRUE)","v":1},2209,{"$f":"POISSON(D2213,Berekening!$G$50,TRUE)","v":1},2209,{"$f":"POISSON(F2213,Berekening!$G$52,TRUE)","v":1},2209]
[{"$f":"POISSON(B2214,Berekening!$G$27,TRUE)","v":1},2210,{"$f":"POISSON(D2214,Berekening!$G$50,TRUE)","v":1},2210,{"$f":"POISSON(F2214,Berekening!$G$52,TRUE)","v":1},2210]
[{"$f":"POISSON(B2215,Berekening!$G$27,TRUE)","v":1},2211,{"$f":"POISSON(D2215,Berekening!$G$50,TRUE)","v":1},2211,{"$f":"POISSON(F2215,Berekening!$G$52,TRUE)","v":1},2211]
[{"$f":"POISSON(B2216,Berekening!$G$27,TRUE)","v":1},2212,{"$f":"POISSON(D2216,Berekening!$G$50,TRUE)","v":1},2212,{"$f":"POISSON(F2216,Berekening!$G$52,TRUE)","v":1},2212]
[{"$f":"POISSON(B2217,Berekening!$G$27,TRUE)","v":1},2213,{"$f":"POISSON(D2217,Berekening!$G$50,TRUE)","v":1},2213,{"$f":"POISSON(F2217,Berekening!$G$52,TRUE)","v":1},2213]
[{"$f":"POISSON(B2218,Berekening!$G$27,TRUE)","v":1},2214,{"$f":"POISSON(D2218,Berekening!$G$50,TRUE)","v":1},2214,{"$f":"POISSON(F2218,Berekening!$G$52,TRUE)","v":1},2214]
[{"$f":"POISSON(B2219,Berekening!$G$27,TRUE)","v":1},2215,{"$f":"POISSON(D2219,Berekening!$G$50,TRUE)","v":1},2215,{"$f":"POISSON(F2219,Berekening!$G$52,TRUE)","v":1},2215]
[{"$f":"POISSON(B2220,Berekening!$G$27,TRUE)","v":1},2216,{"$f":"POISSON(D2220,Berekening!$G$50,TRUE)","v":1},2216,{"$f":"POISSON(F2220,Berekening!$G$52,TRUE)","v":1},2216]
[{"$f":"POISSON(B2221,Berekening!$G$27,TRUE)","v":1},2217,{"$f":"POISSON(D2221,Berekening!$G$50,TRUE)","v":1},2217,{"$f":"POISSON(F2221,Berekening!$G$52,TRUE)","v":1},2217]
[{"$f":"POISSON(B2222,Berekening!$G$27,TRUE)","v":1},2218,{"$f":"POISSON(D2222,Berekening!$G$50,TRUE)","v":1},2218,{"$f":"POISSON(F2222,Berekening!$G$52,TRUE)","v":1},2218]
[{"$f":"POISSON(B2223,Berekening!$G$27,TRUE)","v":1},2219,{"$f":"POISSON(D2223,Berekening!$G$50,TRUE)","v":1},2219,{"$f":"POISSON(F2223,Berekening!$G$52,TRUE)","v":1},2219]
[{"$f":"POISSON(B2224,Berekening!$G$27,TRUE)","v":1},2220,{"$f":"POISSON(D2224,Berekening!$G$50,TRUE)","v":1},2220,{"$f":"POISSON(F2224,Berekening!$G$52,TRUE)","v":1},2220]
[{"$f":"POISSON(B2225,Berekening!$G$27,TRUE)","v":1},2221,{"$f":"POISSON(D2225,Berekening!$G$50,TRUE)","v":1},2221,{"$f":"POISSON(F2225,Berekening!$G$52,TRUE)","v":1},2221]
[{"$f":"POISSON(B2226,Berekening!$G$27,TRUE)","v":1},2222,{"$f":"POISSON(D2226,Berekening!$G$50,TRUE)","v":1},2222,{"$f":"POISSON(F2226,Berekening!$G$52,TRUE)","v":1},2222]
[{"$f":"POISSON(B2227,Berekening!$G$27,TRUE)","v":1},2223,{"$f":"POISSON(D2227,Berekening!$G$50,TRUE)","v":1},2223,{"$f":"POISSON(F2227,Berekening!$G$52,TRUE)","v":1},2223]
[{"$f":"POISSON(B2228,Berekening!$G$27,TRUE)","v":1},2224,{"$f":"POISSON(D2228,Berekening!$G$50,TRUE)","v":1},2224,{"$f":"POISSON(F2228,Berekening!$G$52,TRUE)","v":1},2224]
[{"$f":"POISSON(B2229,Berekening!$G$27,TRUE)","v":1},2225,{"$f":"POISSON(D2229,Berekening!$G$50,TRUE)","v":1},2225,{"$f":"POISSON(F2229,Berekening!$G$52,TRUE)","v":1},2225]
[{"$f":"POISSON(B2230,Berekening!$G$27,TRUE)","v":1},2226,{"$f":"POISSON(D2230,Berekening!$G$50,TRUE)","v":1},2226,{"$f":"POISSON(F2230,Berekening!$G$52,TRUE)","v":1},2226]
[{"$f":"POISSON(B2231,Berekening!$G$27,TRUE)","v":1},2227,{"$f":"POISSON(D2231,Berekening!$G$50,TRUE)","v":1},2227,{"$f":"POISSON(F2231,Berekening!$G$52,TRUE)","v":1},2227]
[{"$f":"POISSON(B2232,Berekening!$G$27,TRUE)","v":1},2228,{"$f":"POISSON(D2232,Berekening!$G$50,TRUE)","v":1},2228,{"$f":"POISSON(F2232,Berekening!$G$52,TRUE)","v":1},2228]
[{"$f":"POISSON(B2233,Berekening!$G$27,TRUE)","v":1},2229,{"$f":"POISSON(D2233,Berekening!$G$50,TRUE)","v":1},2229,{"$f":"POISSON(F2233,Berekening!$G$52,TRUE)","v":1},2229]
[{"$f":"POISSON(B2234,Berekening!$G$27,TRUE)","v":1},2230,{"$f":"POISSON(D2234,Berekening!$G$50,TRUE)","v":1},2230,{"$f":"POISSON(F2234,Berekening!$G$52,TRUE)","v":1},2230]
[{"$f":"POISSON(B2235,Berekening!$G$27,TRUE)","v":1},2231,{"$f":"POISSON(D2235,Berekening!$G$50,TRUE)","v":1},2231,{"$f":"POISSON(F2235,Berekening!$G$52,TRUE)","v":1},2231]
[{"$f":"POISSON(B2236,Berekening!$G$27,TRUE)","v":1},2232,{"$f":"POISSON(D2236,Berekening!$G$50,TRUE)","v":1},2232,{"$f":"POISSON(F2236,Berekening!$G$52,TRUE)","v":1},2232]
[{"$f":"POISSON(B2237,Berekening!$G$27,TRUE)","v":1},2233,{"$f":"POISSON(D2237,Berekening!$G$50,TRUE)","v":1},2233,{"$f":"POISSON(F2237,Berekening!$G$52,TRUE)","v":1},2233]
[{"$f":"POISSON(B2238,Berekening!$G$27,TRUE)","v":1},2234,{"$f":"POISSON(D2238,Berekening!$G$50,TRUE)","v":1},2234,{"$f":"POISSON(F2238,Berekening!$G$52,TRUE)","v":1},2234]
[{"$f":"POISSON(B2239,Berekening!$G$27,TRUE)","v":1},2235,{"$f":"POISSON(D2239,Berekening!$G$50,TRUE)","v":1},2235,{"$f":"POISSON(F2239,Berekening!$G$52,TRUE)","v":1},2235]
[{"$f":"POISSON(B2240,Berekening!$G$27,TRUE)","v":1},2236,{"$f":"POISSON(D2240,Berekening!$G$50,TRUE)","v":1},2236,{"$f":"POISSON(F2240,Berekening!$G$52,TRUE)","v":1},2236]
[{"$f":"POISSON(B2241,Berekening!$G$27,TRUE)","v":1},2237,{"$f":"POISSON(D2241,Berekening!$G$50,TRUE)","v":1},2237,{"$f":"POISSON(F2241,Berekening!$G$52,TRUE)","v":1},2237]
[{"$f":"POISSON(B2242,Berekening!$G$27,TRUE)","v":1},2238,{"$f":"POISSON(D2242,Berekening!$G$50,TRUE)","v":1},2238,{"$f":"POISSON(F2242,Berekening!$G$52,TRUE)","v":1},2238]
[{"$f":"POISSON(B2243,Berekening!$G$27,TRUE)","v":1},2239,{"$f":"POISSON(D2243,Berekening!$G$50,TRUE)","v":1},2239,{"$f":"POISSON(F2243,Berekening!$G$52,TRUE)","v":1},2239]
[{"$f":"POISSON(B2244,Berekening!$G$27,TRUE)","v":1},2240,{"$f":"POISSON(D2244,Berekening!$G$50,TRUE)","v":1},2240,{"$f":"POISSON(F2244,Berekening!$G$52,TRUE)","v":1},2240]
[{"$f":"POISSON(B2245,Berekening!$G$27,TRUE)","v":1},2241,{"$f":"POISSON(D2245,Berekening!$G$50,TRUE)","v":1},2241,{"$f":"POISSON(F2245,Berekening!$G$52,TRUE)","v":1},2241]
[{"$f":"POISSON(B2246,Berekening!$G$27,TRUE)","v":1},2242,{"$f":"POISSON(D2246,Berekening!$G$50,TRUE)","v":1},2242,{"$f":"POISSON(F2246,Berekening!$G$52,TRUE)","v":1},2242]
[{"$f":"POISSON(B2247,Berekening!$G$27,TRUE)","v":1},2243,{"$f":"POISSON(D2247,Berekening!$G$50,TRUE)","v":1},2243,{"$f":"POISSON(F2247,Berekening!$G$52,TRUE)","v":1},2243]
[{"$f":"POISSON(B2248,Berekening!$G$27,TRUE)","v":1},2244,{"$f":"POISSON(D2248,Berekening!$G$50,TRUE)","v":1},2244,{"$f":"POISSON(F2248,Berekening!$G$52,TRUE)","v":1},2244]
[{"$f":"POISSON(B2249,Berekening!$G$27,TRUE)","v":1},2245,{"$f":"POISSON(D2249,Berekening!$G$50,TRUE)","v":1},2245,{"$f":"POISSON(F2249,Berekening!$G$52,TRUE)","v":1},2245]
[{"$f":"POISSON(B2250,Berekening!$G$27,TRUE)","v":1},2246,{"$f":"POISSON(D2250,Berekening!$G$50,TRUE)","v":1},2246,{"$f":"POISSON(F2250,Berekening!$G$52,TRUE)","v":1},2246]
[{"$f":"POISSON(B2251,Berekening!$G$27,TRUE)","v":1},2247,{"$f":"POISSON(D2251,Berekening!$G$50,TRUE)","v":1},2247,{"$f":"POISSON(F2251,Berekening!$G$52,TRUE)","v":1},2247]
[{"$f":"POISSON(B2252,Berekening!$G$27,TRUE)","v":1},2248,{"$f":"POISSON(D2252,Berekening!$G$50,TRUE)","v":1},2248,{"$f":"POISSON(F2252,Berekening!$G$52,TRUE)","v":1},2248]
[{"$f":"POISSON(B2253,Berekening!$G$27,TRUE)","v":1},2249,{"$f":"POISSON(D2253,Berekening!$G$50,TRUE)","v":1},2249,{"$f":"POISSON(F2253,Berekening!$G$52,TRUE)","v":1},2249]
[{"$f":"POISSON(B2254,Berekening!$G$27,TRUE)","v":1},2250,{"$f":"POISSON(D2254,Berekening!$G$50,TRUE)","v":1},2250,{"$f":"POISSON(F2254,Berekening!$G$52,TRUE)","v":1},2250]
[{"$f":"POISSON(B2255,Berekening!$G$27,TRUE)","v":1},2251,{"$f":"POISSON(D2255,Berekening!$G$50,TRUE)","v":1},2251,{"$f":"POISSON(F2255,Berekening!$G$52,TRUE)","v":1},2251]
[{"$f":"POISSON(B2256,Berekening!$G$27,TRUE)","v":1},2252,{"$f":"POISSON(D2256,Berekening!$G$50,TRUE)","v":1},2252,{"$f":"POISSON(F2256,Berekening!$G$52,TRUE)","v":1},2252]
[{"$f":"POISSON(B2257,Berekening!$G$27,TRUE)","v":1},2253,{"$f":"POISSON(D2257,Berekening!$G$50,TRUE)","v":1},2253,{"$f":"POISSON(F2257,Berekening!$G$52,TRUE)","v":1},2253]
[{"$f":"POISSON(B2258,Berekening!$G$27,TRUE)","v":1},2254,{"$f":"POISSON(D2258,Berekening!$G$50,TRUE)","v":1},2254,{"$f":"POISSON(F2258,Berekening!$G$52,TRUE)","v":1},2254]
[{"$f":"POISSON(B2259,Berekening!$G$27,TRUE)","v":1},2255,{"$f":"POISSON(D2259,Berekening!$G$50,TRUE)","v":1},2255,{"$f":"POISSON(F2259,Berekening!$G$52,TRUE)","v":1},2255]
[{"$f":"POISSON(B2260,Berekening!$G$27,TRUE)","v":1},2256,{"$f":"POISSON(D2260,Berekening!$G$50,TRUE)","v":1},2256,{"$f":"POISSON(F2260,Berekening!$G$52,TRUE)","v":1},2256]
[{"$f":"POISSON(B2261,Berekening!$G$27,TRUE)","v":1},2257,{"$f":"POISSON(D2261,Berekening!$G$50,TRUE)","v":1},2257,{"$f":"POISSON(F2261,Berekening!$G$52,TRUE)","v":1},2257]
[{"$f":"POISSON(B2262,Berekening!$G$27,TRUE)","v":1},2258,{"$f":"POISSON(D2262,Berekening!$G$50,TRUE)","v":1},2258,{"$f":"POISSON(F2262,Berekening!$G$52,TRUE)","v":1},2258]
[{"$f":"POISSON(B2263,Berekening!$G$27,TRUE)","v":1},2259,{"$f":"POISSON(D2263,Berekening!$G$50,TRUE)","v":1},2259,{"$f":"POISSON(F2263,Berekening!$G$52,TRUE)","v":1},2259]
[{"$f":"POISSON(B2264,Berekening!$G$27,TRUE)","v":1},2260,{"$f":"POISSON(D2264,Berekening!$G$50,TRUE)","v":1},2260,{"$f":"POISSON(F2264,Berekening!$G$52,TRUE)","v":1},2260]
[{"$f":"POISSON(B2265,Berekening!$G$27,TRUE)","v":1},2261,{"$f":"POISSON(D2265,Berekening!$G$50,TRUE)","v":1},2261,{"$f":"POISSON(F2265,Berekening!$G$52,TRUE)","v":1},2261]
[{"$f":"POISSON(B2266,Berekening!$G$27,TRUE)","v":1},2262,{"$f":"POISSON(D2266,Berekening!$G$50,TRUE)","v":1},2262,{"$f":"POISSON(F2266,Berekening!$G$52,TRUE)","v":1},2262]
[{"$f":"POISSON(B2267,Berekening!$G$27,TRUE)","v":1},2263,{"$f":"POISSON(D2267,Berekening!$G$50,TRUE)","v":1},2263,{"$f":"POISSON(F2267,Berekening!$G$52,TRUE)","v":1},2263]
[{"$f":"POISSON(B2268,Berekening!$G$27,TRUE)","v":1},2264,{"$f":"POISSON(D2268,Berekening!$G$50,TRUE)","v":1},2264,{"$f":"POISSON(F2268,Berekening!$G$52,TRUE)","v":1},2264]
[{"$f":"POISSON(B2269,Berekening!$G$27,TRUE)","v":1},2265,{"$f":"POISSON(D2269,Berekening!$G$50,TRUE)","v":1},2265,{"$f":"POISSON(F2269,Berekening!$G$52,TRUE)","v":1},2265]
[{"$f":"POISSON(B2270,Berekening!$G$27,TRUE)","v":1},2266,{"$f":"POISSON(D2270,Berekening!$G$50,TRUE)","v":1},2266,{"$f":"POISSON(F2270,Berekening!$G$52,TRUE)","v":1},2266]
[{"$f":"POISSON(B2271,Berekening!$G$27,TRUE)","v":1},2267,{"$f":"POISSON(D2271,Berekening!$G$50,TRUE)","v":1},2267,{"$f":"POISSON(F2271,Berekening!$G$52,TRUE)","v":1},2267]
[{"$f":"POISSON(B2272,Berekening!$G$27,TRUE)","v":1},2268,{"$f":"POISSON(D2272,Berekening!$G$50,TRUE)","v":1},2268,{"$f":"POISSON(F2272,Berekening!$G$52,TRUE)","v":1},2268]
[{"$f":"POISSON(B2273,Berekening!$G$27,TRUE)","v":1},2269,{"$f":"POISSON(D2273,Berekening!$G$50,TRUE)","v":1},2269,{"$f":"POISSON(F2273,Berekening!$G$52,TRUE)","v":1},2269]
[{"$f":"POISSON(B2274,Berekening!$G$27,TRUE)","v":1},2270,{"$f":"POISSON(D2274,Berekening!$G$50,TRUE)","v":1},2270,{"$f":"POISSON(F2274,Berekening!$G$52,TRUE)","v":1},2270]
[{"$f":"POISSON(B2275,Berekening!$G$27,TRUE)","v":1},2271,{"$f":"POISSON(D2275,Berekening!$G$50,TRUE)","v":1},2271,{"$f":"POISSON(F2275,Berekening!$G$52,TRUE)","v":1},2271]
[{"$f":"POISSON(B2276,Berekening!$G$27,TRUE)","v":1},2272,{"$f":"POISSON(D2276,Berekening!$G$50,TRUE)","v":1},2272,{"$f":"POISSON(F2276,Berekening!$G$52,TRUE)","v":1},2272]
[{"$f":"POISSON(B2277,Berekening!$G$27,TRUE)","v":1},2273,{"$f":"POISSON(D2277,Berekening!$G$50,TRUE)","v":1},2273,{"$f":"POISSON(F2277,Berekening!$G$52,TRUE)","v":1},2273]
[{"$f":"POISSON(B2278,Berekening!$G$27,TRUE)","v":1},2274,{"$f":"POISSON(D2278,Berekening!$G$50,TRUE)","v":1},2274,{"$f":"POISSON(F2278,Berekening!$G$52,TRUE)","v":1},2274]
[{"$f":"POISSON(B2279,Berekening!$G$27,TRUE)","v":1},2275,{"$f":"POISSON(D2279,Berekening!$G$50,TRUE)","v":1},2275,{"$f":"POISSON(F2279,Berekening!$G$52,TRUE)","v":1},2275]
[{"$f":"POISSON(B2280,Berekening!$G$27,TRUE)","v":1},2276,{"$f":"POISSON(D2280,Berekening!$G$50,TRUE)","v":1},2276,{"$f":"POISSON(F2280,Berekening!$G$52,TRUE)","v":1},2276]
[{"$f":"POISSON(B2281,Berekening!$G$27,TRUE)","v":1},2277,{"$f":"POISSON(D2281,Berekening!$G$50,TRUE)","v":1},2277,{"$f":"POISSON(F2281,Berekening!$G$52,TRUE)","v":1},2277]
[{"$f":"POISSON(B2282,Berekening!$G$27,TRUE)","v":1},2278,{"$f":"POISSON(D2282,Berekening!$G$50,TRUE)","v":1},2278,{"$f":"POISSON(F2282,Berekening!$G$52,TRUE)","v":1},2278]
[{"$f":"POISSON(B2283,Berekening!$G$27,TRUE)","v":1},2279,{"$f":"POISSON(D2283,Berekening!$G$50,TRUE)","v":1},2279,{"$f":"POISSON(F2283,Berekening!$G$52,TRUE)","v":1},2279]
[{"$f":"POISSON(B2284,Berekening!$G$27,TRUE)","v":1},2280,{"$f":"POISSON(D2284,Berekening!$G$50,TRUE)","v":1},2280,{"$f":"POISSON(F2284,Berekening!$G$52,TRUE)","v":1},2280]
[{"$f":"POISSON(B2285,Berekening!$G$27,TRUE)","v":1},2281,{"$f":"POISSON(D2285,Berekening!$G$50,TRUE)","v":1},2281,{"$f":"POISSON(F2285,Berekening!$G$52,TRUE)","v":1},2281]
[{"$f":"POISSON(B2286,Berekening!$G$27,TRUE)","v":1},2282,{"$f":"POISSON(D2286,Berekening!$G$50,TRUE)","v":1},2282,{"$f":"POISSON(F2286,Berekening!$G$52,TRUE)","v":1},2282]
[{"$f":"POISSON(B2287,Berekening!$G$27,TRUE)","v":1},2283,{"$f":"POISSON(D2287,Berekening!$G$50,TRUE)","v":1},2283,{"$f":"POISSON(F2287,Berekening!$G$52,TRUE)","v":1},2283]
[{"$f":"POISSON(B2288,Berekening!$G$27,TRUE)","v":1},2284,{"$f":"POISSON(D2288,Berekening!$G$50,TRUE)","v":1},2284,{"$f":"POISSON(F2288,Berekening!$G$52,TRUE)","v":1},2284]
[{"$f":"POISSON(B2289,Berekening!$G$27,TRUE)","v":1},2285,{"$f":"POISSON(D2289,Berekening!$G$50,TRUE)","v":1},2285,{"$f":"POISSON(F2289,Berekening!$G$52,TRUE)","v":1},2285]
[{"$f":"POISSON(B2290,Berekening!$G$27,TRUE)","v":1},2286,{"$f":"POISSON(D2290,Berekening!$G$50,TRUE)","v":1},2286,{"$f":"POISSON(F2290,Berekening!$G$52,TRUE)","v":1},2286]
[{"$f":"POISSON(B2291,Berekening!$G$27,TRUE)","v":1},2287,{"$f":"POISSON(D2291,Berekening!$G$50,TRUE)","v":1},2287,{"$f":"POISSON(F2291,Berekening!$G$52,TRUE)","v":1},2287]
[{"$f":"POISSON(B2292,Berekening!$G$27,TRUE)","v":1},2288,{"$f":"POISSON(D2292,Berekening!$G$50,TRUE)","v":1},2288,{"$f":"POISSON(F2292,Berekening!$G$52,TRUE)","v":1},2288]
[{"$f":"POISSON(B2293,Berekening!$G$27,TRUE)","v":1},2289,{"$f":"POISSON(D2293,Berekening!$G$50,TRUE)","v":1},2289,{"$f":"POISSON(F2293,Berekening!$G$52,TRUE)","v":1},2289]
[{"$f":"POISSON(B2294,Berekening!$G$27,TRUE)","v":1},2290,{"$f":"POISSON(D2294,Berekening!$G$50,TRUE)","v":1},2290,{"$f":"POISSON(F2294,Berekening!$G$52,TRUE)","v":1},2290]
[{"$f":"POISSON(B2295,Berekening!$G$27,TRUE)","v":1},2291,{"$f":"POISSON(D2295,Berekening!$G$50,TRUE)","v":1},2291,{"$f":"POISSON(F2295,Berekening!$G$52,TRUE)","v":1},2291]
[{"$f":"POISSON(B2296,Berekening!$G$27,TRUE)","v":1},2292,{"$f":"POISSON(D2296,Berekening!$G$50,TRUE)","v":1},2292,{"$f":"POISSON(F2296,Berekening!$G$52,TRUE)","v":1},2292]
[{"$f":"POISSON(B2297,Berekening!$G$27,TRUE)","v":1},2293,{"$f":"POISSON(D2297,Berekening!$G$50,TRUE)","v":1},2293,{"$f":"POISSON(F2297,Berekening!$G$52,TRUE)","v":1},2293]
[{"$f":"POISSON(B2298,Berekening!$G$27,TRUE)","v":1},2294,{"$f":"POISSON(D2298,Berekening!$G$50,TRUE)","v":1},2294,{"$f":"POISSON(F2298,Berekening!$G$52,TRUE)","v":1},2294]
[{"$f":"POISSON(B2299,Berekening!$G$27,TRUE)","v":1},2295,{"$f":"POISSON(D2299,Berekening!$G$50,TRUE)","v":1},2295,{"$f":"POISSON(F2299,Berekening!$G$52,TRUE)","v":1},2295]
[{"$f":"POISSON(B2300,Berekening!$G$27,TRUE)","v":1},2296,{"$f":"POISSON(D2300,Berekening!$G$50,TRUE)","v":1},2296,{"$f":"POISSON(F2300,Berekening!$G$52,TRUE)","v":1},2296]
[{"$f":"POISSON(B2301,Berekening!$G$27,TRUE)","v":1},2297,{"$f":"POISSON(D2301,Berekening!$G$50,TRUE)","v":1},2297,{"$f":"POISSON(F2301,Berekening!$G$52,TRUE)","v":1},2297]
[{"$f":"POISSON(B2302,Berekening!$G$27,TRUE)","v":1},2298,{"$f":"POISSON(D2302,Berekening!$G$50,TRUE)","v":1},2298,{"$f":"POISSON(F2302,Berekening!$G$52,TRUE)","v":1},2298]
[{"$f":"POISSON(B2303,Berekening!$G$27,TRUE)","v":1},2299,{"$f":"POISSON(D2303,Berekening!$G$50,TRUE)","v":1},2299,{"$f":"POISSON(F2303,Berekening!$G$52,TRUE)","v":1},2299]
[{"$f":"POISSON(B2304,Berekening!$G$27,TRUE)","v":1},2300,{"$f":"POISSON(D2304,Berekening!$G$50,TRUE)","v":1},2300,{"$f":"POISSON(F2304,Berekening!$G$52,TRUE)","v":1},2300]
[{"$f":"POISSON(B2305,Berekening!$G$27,TRUE)","v":1},2301,{"$f":"POISSON(D2305,Berekening!$G$50,TRUE)","v":1},2301,{"$f":"POISSON(F2305,Berekening!$G$52,TRUE)","v":1},2301]
[{"$f":"POISSON(B2306,Berekening!$G$27,TRUE)","v":1},2302,{"$f":"POISSON(D2306,Berekening!$G$50,TRUE)","v":1},2302,{"$f":"POISSON(F2306,Berekening!$G$52,TRUE)","v":1},2302]
[{"$f":"POISSON(B2307,Berekening!$G$27,TRUE)","v":1},2303,{"$f":"POISSON(D2307,Berekening!$G$50,TRUE)","v":1},2303,{"$f":"POISSON(F2307,Berekening!$G$52,TRUE)","v":1},2303]
[{"$f":"POISSON(B2308,Berekening!$G$27,TRUE)","v":1},2304,{"$f":"POISSON(D2308,Berekening!$G$50,TRUE)","v":1},2304,{"$f":"POISSON(F2308,Berekening!$G$52,TRUE)","v":1},2304]
[{"$f":"POISSON(B2309,Berekening!$G$27,TRUE)","v":1},2305,{"$f":"POISSON(D2309,Berekening!$G$50,TRUE)","v":1},2305,{"$f":"POISSON(F2309,Berekening!$G$52,TRUE)","v":1},2305]
[{"$f":"POISSON(B2310,Berekening!$G$27,TRUE)","v":1},2306,{"$f":"POISSON(D2310,Berekening!$G$50,TRUE)","v":1},2306,{"$f":"POISSON(F2310,Berekening!$G$52,TRUE)","v":1},2306]
[{"$f":"POISSON(B2311,Berekening!$G$27,TRUE)","v":1},2307,{"$f":"POISSON(D2311,Berekening!$G$50,TRUE)","v":1},2307,{"$f":"POISSON(F2311,Berekening!$G$52,TRUE)","v":1},2307]
[{"$f":"POISSON(B2312,Berekening!$G$27,TRUE)","v":1},2308,{"$f":"POISSON(D2312,Berekening!$G$50,TRUE)","v":1},2308,{"$f":"POISSON(F2312,Berekening!$G$52,TRUE)","v":1},2308]
[{"$f":"POISSON(B2313,Berekening!$G$27,TRUE)","v":1},2309,{"$f":"POISSON(D2313,Berekening!$G$50,TRUE)","v":1},2309,{"$f":"POISSON(F2313,Berekening!$G$52,TRUE)","v":1},2309]
[{"$f":"POISSON(B2314,Berekening!$G$27,TRUE)","v":1},2310,{"$f":"POISSON(D2314,Berekening!$G$50,TRUE)","v":1},2310,{"$f":"POISSON(F2314,Berekening!$G$52,TRUE)","v":1},2310]
[{"$f":"POISSON(B2315,Berekening!$G$27,TRUE)","v":1},2311,{"$f":"POISSON(D2315,Berekening!$G$50,TRUE)","v":1},2311,{"$f":"POISSON(F2315,Berekening!$G$52,TRUE)","v":1},2311]
[{"$f":"POISSON(B2316,Berekening!$G$27,TRUE)","v":1},2312,{"$f":"POISSON(D2316,Berekening!$G$50,TRUE)","v":1},2312,{"$f":"POISSON(F2316,Berekening!$G$52,TRUE)","v":1},2312]
[{"$f":"POISSON(B2317,Berekening!$G$27,TRUE)","v":1},2313,{"$f":"POISSON(D2317,Berekening!$G$50,TRUE)","v":1},2313,{"$f":"POISSON(F2317,Berekening!$G$52,TRUE)","v":1},2313]
[{"$f":"POISSON(B2318,Berekening!$G$27,TRUE)","v":1},2314,{"$f":"POISSON(D2318,Berekening!$G$50,TRUE)","v":1},2314,{"$f":"POISSON(F2318,Berekening!$G$52,TRUE)","v":1},2314]
[{"$f":"POISSON(B2319,Berekening!$G$27,TRUE)","v":1},2315,{"$f":"POISSON(D2319,Berekening!$G$50,TRUE)","v":1},2315,{"$f":"POISSON(F2319,Berekening!$G$52,TRUE)","v":1},2315]
[{"$f":"POISSON(B2320,Berekening!$G$27,TRUE)","v":1},2316,{"$f":"POISSON(D2320,Berekening!$G$50,TRUE)","v":1},2316,{"$f":"POISSON(F2320,Berekening!$G$52,TRUE)","v":1},2316]
[{"$f":"POISSON(B2321,Berekening!$G$27,TRUE)","v":1},2317,{"$f":"POISSON(D2321,Berekening!$G$50,TRUE)","v":1},2317,{"$f":"POISSON(F2321,Berekening!$G$52,TRUE)","v":1},2317]
[{"$f":"POISSON(B2322,Berekening!$G$27,TRUE)","v":1},2318,{"$f":"POISSON(D2322,Berekening!$G$50,TRUE)","v":1},2318,{"$f":"POISSON(F2322,Berekening!$G$52,TRUE)","v":1},2318]
[{"$f":"POISSON(B2323,Berekening!$G$27,TRUE)","v":1},2319,{"$f":"POISSON(D2323,Berekening!$G$50,TRUE)","v":1},2319,{"$f":"POISSON(F2323,Berekening!$G$52,TRUE)","v":1},2319]
[{"$f":"POISSON(B2324,Berekening!$G$27,TRUE)","v":1},2320,{"$f":"POISSON(D2324,Berekening!$G$50,TRUE)","v":1},2320,{"$f":"POISSON(F2324,Berekening!$G$52,TRUE)","v":1},2320]
[{"$f":"POISSON(B2325,Berekening!$G$27,TRUE)","v":1},2321,{"$f":"POISSON(D2325,Berekening!$G$50,TRUE)","v":1},2321,{"$f":"POISSON(F2325,Berekening!$G$52,TRUE)","v":1},2321]
[{"$f":"POISSON(B2326,Berekening!$G$27,TRUE)","v":1},2322,{"$f":"POISSON(D2326,Berekening!$G$50,TRUE)","v":1},2322,{"$f":"POISSON(F2326,Berekening!$G$52,TRUE)","v":1},2322]
[{"$f":"POISSON(B2327,Berekening!$G$27,TRUE)","v":1},2323,{"$f":"POISSON(D2327,Berekening!$G$50,TRUE)","v":1},2323,{"$f":"POISSON(F2327,Berekening!$G$52,TRUE)","v":1},2323]
[{"$f":"POISSON(B2328,Berekening!$G$27,TRUE)","v":1},2324,{"$f":"POISSON(D2328,Berekening!$G$50,TRUE)","v":1},2324,{"$f":"POISSON(F2328,Berekening!$G$52,TRUE)","v":1},2324]
[{"$f":"POISSON(B2329,Berekening!$G$27,TRUE)","v":1},2325,{"$f":"POISSON(D2329,Berekening!$G$50,TRUE)","v":1},2325,{"$f":"POISSON(F2329,Berekening!$G$52,TRUE)","v":1},2325]
[{"$f":"POISSON(B2330,Berekening!$G$27,TRUE)","v":1},2326,{"$f":"POISSON(D2330,Berekening!$G$50,TRUE)","v":1},2326,{"$f":"POISSON(F2330,Berekening!$G$52,TRUE)","v":1},2326]
[{"$f":"POISSON(B2331,Berekening!$G$27,TRUE)","v":1},2327,{"$f":"POISSON(D2331,Berekening!$G$50,TRUE)","v":1},2327,{"$f":"POISSON(F2331,Berekening!$G$52,TRUE)","v":1},2327]
[{"$f":"POISSON(B2332,Berekening!$G$27,TRUE)","v":1},2328,{"$f":"POISSON(D2332,Berekening!$G$50,TRUE)","v":1},2328,{"$f":"POISSON(F2332,Berekening!$G$52,TRUE)","v":1},2328]
[{"$f":"POISSON(B2333,Berekening!$G$27,TRUE)","v":1},2329,{"$f":"POISSON(D2333,Berekening!$G$50,TRUE)","v":1},2329,{"$f":"POISSON(F2333,Berekening!$G$52,TRUE)","v":1},2329]
[{"$f":"POISSON(B2334,Berekening!$G$27,TRUE)","v":1},2330,{"$f":"POISSON(D2334,Berekening!$G$50,TRUE)","v":1},2330,{"$f":"POISSON(F2334,Berekening!$G$52,TRUE)","v":1},2330]
[{"$f":"POISSON(B2335,Berekening!$G$27,TRUE)","v":1},2331,{"$f":"POISSON(D2335,Berekening!$G$50,TRUE)","v":1},2331,{"$f":"POISSON(F2335,Berekening!$G$52,TRUE)","v":1},2331]
[{"$f":"POISSON(B2336,Berekening!$G$27,TRUE)","v":1},2332,{"$f":"POISSON(D2336,Berekening!$G$50,TRUE)","v":1},2332,{"$f":"POISSON(F2336,Berekening!$G$52,TRUE)","v":1},2332]
[{"$f":"POISSON(B2337,Berekening!$G$27,TRUE)","v":1},2333,{"$f":"POISSON(D2337,Berekening!$G$50,TRUE)","v":1},2333,{"$f":"POISSON(F2337,Berekening!$G$52,TRUE)","v":1},2333]
[{"$f":"POISSON(B2338,Berekening!$G$27,TRUE)","v":1},2334,{"$f":"POISSON(D2338,Berekening!$G$50,TRUE)","v":1},2334,{"$f":"POISSON(F2338,Berekening!$G$52,TRUE)","v":1},2334]
[{"$f":"POISSON(B2339,Berekening!$G$27,TRUE)","v":1},2335,{"$f":"POISSON(D2339,Berekening!$G$50,TRUE)","v":1},2335,{"$f":"POISSON(F2339,Berekening!$G$52,TRUE)","v":1},2335]
[{"$f":"POISSON(B2340,Berekening!$G$27,TRUE)","v":1},2336,{"$f":"POISSON(D2340,Berekening!$G$50,TRUE)","v":1},2336,{"$f":"POISSON(F2340,Berekening!$G$52,TRUE)","v":1},2336]
[{"$f":"POISSON(B2341,Berekening!$G$27,TRUE)","v":1},2337,{"$f":"POISSON(D2341,Berekening!$G$50,TRUE)","v":1},2337,{"$f":"POISSON(F2341,Berekening!$G$52,TRUE)","v":1},2337]
[{"$f":"POISSON(B2342,Berekening!$G$27,TRUE)","v":1},2338,{"$f":"POISSON(D2342,Berekening!$G$50,TRUE)","v":1},2338,{"$f":"POISSON(F2342,Berekening!$G$52,TRUE)","v":1},2338]
[{"$f":"POISSON(B2343,Berekening!$G$27,TRUE)","v":1},2339,{"$f":"POISSON(D2343,Berekening!$G$50,TRUE)","v":1},2339,{"$f":"POISSON(F2343,Berekening!$G$52,TRUE)","v":1},2339]
[{"$f":"POISSON(B2344,Berekening!$G$27,TRUE)","v":1},2340,{"$f":"POISSON(D2344,Berekening!$G$50,TRUE)","v":1},2340,{"$f":"POISSON(F2344,Berekening!$G$52,TRUE)","v":1},2340]
[{"$f":"POISSON(B2345,Berekening!$G$27,TRUE)","v":1},2341,{"$f":"POISSON(D2345,Berekening!$G$50,TRUE)","v":1},2341,{"$f":"POISSON(F2345,Berekening!$G$52,TRUE)","v":1},2341]
[{"$f":"POISSON(B2346,Berekening!$G$27,TRUE)","v":1},2342,{"$f":"POISSON(D2346,Berekening!$G$50,TRUE)","v":1},2342,{"$f":"POISSON(F2346,Berekening!$G$52,TRUE)","v":1},2342]
[{"$f":"POISSON(B2347,Berekening!$G$27,TRUE)","v":1},2343,{"$f":"POISSON(D2347,Berekening!$G$50,TRUE)","v":1},2343,{"$f":"POISSON(F2347,Berekening!$G$52,TRUE)","v":1},2343]
[{"$f":"POISSON(B2348,Berekening!$G$27,TRUE)","v":1},2344,{"$f":"POISSON(D2348,Berekening!$G$50,TRUE)","v":1},2344,{"$f":"POISSON(F2348,Berekening!$G$52,TRUE)","v":1},2344]
[{"$f":"POISSON(B2349,Berekening!$G$27,TRUE)","v":1},2345,{"$f":"POISSON(D2349,Berekening!$G$50,TRUE)","v":1},2345,{"$f":"POISSON(F2349,Berekening!$G$52,TRUE)","v":1},2345]
[{"$f":"POISSON(B2350,Berekening!$G$27,TRUE)","v":1},2346,{"$f":"POISSON(D2350,Berekening!$G$50,TRUE)","v":1},2346,{"$f":"POISSON(F2350,Berekening!$G$52,TRUE)","v":1},2346]
[{"$f":"POISSON(B2351,Berekening!$G$27,TRUE)","v":1},2347,{"$f":"POISSON(D2351,Berekening!$G$50,TRUE)","v":1},2347,{"$f":"POISSON(F2351,Berekening!$G$52,TRUE)","v":1},2347]
[{"$f":"POISSON(B2352,Berekening!$G$27,TRUE)","v":1},2348,{"$f":"POISSON(D2352,Berekening!$G$50,TRUE)","v":1},2348,{"$f":"POISSON(F2352,Berekening!$G$52,TRUE)","v":1},2348]
[{"$f":"POISSON(B2353,Berekening!$G$27,TRUE)","v":1},2349,{"$f":"POISSON(D2353,Berekening!$G$50,TRUE)","v":1},2349,{"$f":"POISSON(F2353,Berekening!$G$52,TRUE)","v":1},2349]
[{"$f":"POISSON(B2354,Berekening!$G$27,TRUE)","v":1},2350,{"$f":"POISSON(D2354,Berekening!$G$50,TRUE)","v":1},2350,{"$f":"POISSON(F2354,Berekening!$G$52,TRUE)","v":1},2350]
[{"$f":"POISSON(B2355,Berekening!$G$27,TRUE)","v":1},2351,{"$f":"POISSON(D2355,Berekening!$G$50,TRUE)","v":1},2351,{"$f":"POISSON(F2355,Berekening!$G$52,TRUE)","v":1},2351]
[{"$f":"POISSON(B2356,Berekening!$G$27,TRUE)","v":1},2352,{"$f":"POISSON(D2356,Berekening!$G$50,TRUE)","v":1},2352,{"$f":"POISSON(F2356,Berekening!$G$52,TRUE)","v":1},2352]
[{"$f":"POISSON(B2357,Berekening!$G$27,TRUE)","v":1},2353,{"$f":"POISSON(D2357,Berekening!$G$50,TRUE)","v":1},2353,{"$f":"POISSON(F2357,Berekening!$G$52,TRUE)","v":1},2353]
[{"$f":"POISSON(B2358,Berekening!$G$27,TRUE)","v":1},2354,{"$f":"POISSON(D2358,Berekening!$G$50,TRUE)","v":1},2354,{"$f":"POISSON(F2358,Berekening!$G$52,TRUE)","v":1},2354]
[{"$f":"POISSON(B2359,Berekening!$G$27,TRUE)","v":1},2355,{"$f":"POISSON(D2359,Berekening!$G$50,TRUE)","v":1},2355,{"$f":"POISSON(F2359,Berekening!$G$52,TRUE)","v":1},2355]
[{"$f":"POISSON(B2360,Berekening!$G$27,TRUE)","v":1},2356,{"$f":"POISSON(D2360,Berekening!$G$50,TRUE)","v":1},2356,{"$f":"POISSON(F2360,Berekening!$G$52,TRUE)","v":1},2356]
[{"$f":"POISSON(B2361,Berekening!$G$27,TRUE)","v":1},2357,{"$f":"POISSON(D2361,Berekening!$G$50,TRUE)","v":1},2357,{"$f":"POISSON(F2361,Berekening!$G$52,TRUE)","v":1},2357]
[{"$f":"POISSON(B2362,Berekening!$G$27,TRUE)","v":1},2358,{"$f":"POISSON(D2362,Berekening!$G$50,TRUE)","v":1},2358,{"$f":"POISSON(F2362,Berekening!$G$52,TRUE)","v":1},2358]
[{"$f":"POISSON(B2363,Berekening!$G$27,TRUE)","v":1},2359,{"$f":"POISSON(D2363,Berekening!$G$50,TRUE)","v":1},2359,{"$f":"POISSON(F2363,Berekening!$G$52,TRUE)","v":1},2359]
[{"$f":"POISSON(B2364,Berekening!$G$27,TRUE)","v":1},2360,{"$f":"POISSON(D2364,Berekening!$G$50,TRUE)","v":1},2360,{"$f":"POISSON(F2364,Berekening!$G$52,TRUE)","v":1},2360]
[{"$f":"POISSON(B2365,Berekening!$G$27,TRUE)","v":1},2361,{"$f":"POISSON(D2365,Berekening!$G$50,TRUE)","v":1},2361,{"$f":"POISSON(F2365,Berekening!$G$52,TRUE)","v":1},2361]
[{"$f":"POISSON(B2366,Berekening!$G$27,TRUE)","v":1},2362,{"$f":"POISSON(D2366,Berekening!$G$50,TRUE)","v":1},2362,{"$f":"POISSON(F2366,Berekening!$G$52,TRUE)","v":1},2362]
[{"$f":"POISSON(B2367,Berekening!$G$27,TRUE)","v":1},2363,{"$f":"POISSON(D2367,Berekening!$G$50,TRUE)","v":1},2363,{"$f":"POISSON(F2367,Berekening!$G$52,TRUE)","v":1},2363]
[{"$f":"POISSON(B2368,Berekening!$G$27,TRUE)","v":1},2364,{"$f":"POISSON(D2368,Berekening!$G$50,TRUE)","v":1},2364,{"$f":"POISSON(F2368,Berekening!$G$52,TRUE)","v":1},2364]
[{"$f":"POISSON(B2369,Berekening!$G$27,TRUE)","v":1},2365,{"$f":"POISSON(D2369,Berekening!$G$50,TRUE)","v":1},2365,{"$f":"POISSON(F2369,Berekening!$G$52,TRUE)","v":1},2365]
[{"$f":"POISSON(B2370,Berekening!$G$27,TRUE)","v":1},2366,{"$f":"POISSON(D2370,Berekening!$G$50,TRUE)","v":1},2366,{"$f":"POISSON(F2370,Berekening!$G$52,TRUE)","v":1},2366]
[{"$f":"POISSON(B2371,Berekening!$G$27,TRUE)","v":1},2367,{"$f":"POISSON(D2371,Berekening!$G$50,TRUE)","v":1},2367,{"$f":"POISSON(F2371,Berekening!$G$52,TRUE)","v":1},2367]
[{"$f":"POISSON(B2372,Berekening!$G$27,TRUE)","v":1},2368,{"$f":"POISSON(D2372,Berekening!$G$50,TRUE)","v":1},2368,{"$f":"POISSON(F2372,Berekening!$G$52,TRUE)","v":1},2368]
[{"$f":"POISSON(B2373,Berekening!$G$27,TRUE)","v":1},2369,{"$f":"POISSON(D2373,Berekening!$G$50,TRUE)","v":1},2369,{"$f":"POISSON(F2373,Berekening!$G$52,TRUE)","v":1},2369]
[{"$f":"POISSON(B2374,Berekening!$G$27,TRUE)","v":1},2370,{"$f":"POISSON(D2374,Berekening!$G$50,TRUE)","v":1},2370,{"$f":"POISSON(F2374,Berekening!$G$52,TRUE)","v":1},2370]
[{"$f":"POISSON(B2375,Berekening!$G$27,TRUE)","v":1},2371,{"$f":"POISSON(D2375,Berekening!$G$50,TRUE)","v":1},2371,{"$f":"POISSON(F2375,Berekening!$G$52,TRUE)","v":1},2371]
[{"$f":"POISSON(B2376,Berekening!$G$27,TRUE)","v":1},2372,{"$f":"POISSON(D2376,Berekening!$G$50,TRUE)","v":1},2372,{"$f":"POISSON(F2376,Berekening!$G$52,TRUE)","v":1},2372]
[{"$f":"POISSON(B2377,Berekening!$G$27,TRUE)","v":1},2373,{"$f":"POISSON(D2377,Berekening!$G$50,TRUE)","v":1},2373,{"$f":"POISSON(F2377,Berekening!$G$52,TRUE)","v":1},2373]
[{"$f":"POISSON(B2378,Berekening!$G$27,TRUE)","v":1},2374,{"$f":"POISSON(D2378,Berekening!$G$50,TRUE)","v":1},2374,{"$f":"POISSON(F2378,Berekening!$G$52,TRUE)","v":1},2374]
[{"$f":"POISSON(B2379,Berekening!$G$27,TRUE)","v":1},2375,{"$f":"POISSON(D2379,Berekening!$G$50,TRUE)","v":1},2375,{"$f":"POISSON(F2379,Berekening!$G$52,TRUE)","v":1},2375]
[{"$f":"POISSON(B2380,Berekening!$G$27,TRUE)","v":1},2376,{"$f":"POISSON(D2380,Berekening!$G$50,TRUE)","v":1},2376,{"$f":"POISSON(F2380,Berekening!$G$52,TRUE)","v":1},2376]
[{"$f":"POISSON(B2381,Berekening!$G$27,TRUE)","v":1},2377,{"$f":"POISSON(D2381,Berekening!$G$50,TRUE)","v":1},2377,{"$f":"POISSON(F2381,Berekening!$G$52,TRUE)","v":1},2377]
[{"$f":"POISSON(B2382,Berekening!$G$27,TRUE)","v":1},2378,{"$f":"POISSON(D2382,Berekening!$G$50,TRUE)","v":1},2378,{"$f":"POISSON(F2382,Berekening!$G$52,TRUE)","v":1},2378]
[{"$f":"POISSON(B2383,Berekening!$G$27,TRUE)","v":1},2379,{"$f":"POISSON(D2383,Berekening!$G$50,TRUE)","v":1},2379,{"$f":"POISSON(F2383,Berekening!$G$52,TRUE)","v":1},2379]
[{"$f":"POISSON(B2384,Berekening!$G$27,TRUE)","v":1},2380,{"$f":"POISSON(D2384,Berekening!$G$50,TRUE)","v":1},2380,{"$f":"POISSON(F2384,Berekening!$G$52,TRUE)","v":1},2380]
[{"$f":"POISSON(B2385,Berekening!$G$27,TRUE)","v":1},2381,{"$f":"POISSON(D2385,Berekening!$G$50,TRUE)","v":1},2381,{"$f":"POISSON(F2385,Berekening!$G$52,TRUE)","v":1},2381]
[{"$f":"POISSON(B2386,Berekening!$G$27,TRUE)","v":1},2382,{"$f":"POISSON(D2386,Berekening!$G$50,TRUE)","v":1},2382,{"$f":"POISSON(F2386,Berekening!$G$52,TRUE)","v":1},2382]
[{"$f":"POISSON(B2387,Berekening!$G$27,TRUE)","v":1},2383,{"$f":"POISSON(D2387,Berekening!$G$50,TRUE)","v":1},2383,{"$f":"POISSON(F2387,Berekening!$G$52,TRUE)","v":1},2383]
[{"$f":"POISSON(B2388,Berekening!$G$27,TRUE)","v":1},2384,{"$f":"POISSON(D2388,Berekening!$G$50,TRUE)","v":1},2384,{"$f":"POISSON(F2388,Berekening!$G$52,TRUE)","v":1},2384]
[{"$f":"POISSON(B2389,Berekening!$G$27,TRUE)","v":1},2385,{"$f":"POISSON(D2389,Berekening!$G$50,TRUE)","v":1},2385,{"$f":"POISSON(F2389,Berekening!$G$52,TRUE)","v":1},2385]
[{"$f":"POISSON(B2390,Berekening!$G$27,TRUE)","v":1},2386,{"$f":"POISSON(D2390,Berekening!$G$50,TRUE)","v":1},2386,{"$f":"POISSON(F2390,Berekening!$G$52,TRUE)","v":1},2386]
[{"$f":"POISSON(B2391,Berekening!$G$27,TRUE)","v":1},2387,{"$f":"POISSON(D2391,Berekening!$G$50,TRUE)","v":1},2387,{"$f":"POISSON(F2391,Berekening!$G$52,TRUE)","v":1},2387]
[{"$f":"POISSON(B2392,Berekening!$G$27,TRUE)","v":1},2388,{"$f":"POISSON(D2392,Berekening!$G$50,TRUE)","v":1},2388,{"$f":"POISSON(F2392,Berekening!$G$52,TRUE)","v":1},2388]
[{"$f":"POISSON(B2393,Berekening!$G$27,TRUE)","v":1},2389,{"$f":"POISSON(D2393,Berekening!$G$50,TRUE)","v":1},2389,{"$f":"POISSON(F2393,Berekening!$G$52,TRUE)","v":1},2389]
[{"$f":"POISSON(B2394,Berekening!$G$27,TRUE)","v":1},2390,{"$f":"POISSON(D2394,Berekening!$G$50,TRUE)","v":1},2390,{"$f":"POISSON(F2394,Berekening!$G$52,TRUE)","v":1},2390]
[{"$f":"POISSON(B2395,Berekening!$G$27,TRUE)","v":1},2391,{"$f":"POISSON(D2395,Berekening!$G$50,TRUE)","v":1},2391,{"$f":"POISSON(F2395,Berekening!$G$52,TRUE)","v":1},2391]
[{"$f":"POISSON(B2396,Berekening!$G$27,TRUE)","v":1},2392,{"$f":"POISSON(D2396,Berekening!$G$50,TRUE)","v":1},2392,{"$f":"POISSON(F2396,Berekening!$G$52,TRUE)","v":1},2392]
[{"$f":"POISSON(B2397,Berekening!$G$27,TRUE)","v":1},2393,{"$f":"POISSON(D2397,Berekening!$G$50,TRUE)","v":1},2393,{"$f":"POISSON(F2397,Berekening!$G$52,TRUE)","v":1},2393]
[{"$f":"POISSON(B2398,Berekening!$G$27,TRUE)","v":1},2394,{"$f":"POISSON(D2398,Berekening!$G$50,TRUE)","v":1},2394,{"$f":"POISSON(F2398,Berekening!$G$52,TRUE)","v":1},2394]
[{"$f":"POISSON(B2399,Berekening!$G$27,TRUE)","v":1},2395,{"$f":"POISSON(D2399,Berekening!$G$50,TRUE)","v":1},2395,{"$f":"POISSON(F2399,Berekening!$G$52,TRUE)","v":1},2395]
[{"$f":"POISSON(B2400,Berekening!$G$27,TRUE)","v":1},2396,{"$f":"POISSON(D2400,Berekening!$G$50,TRUE)","v":1},2396,{"$f":"POISSON(F2400,Berekening!$G$52,TRUE)","v":1},2396]
[{"$f":"POISSON(B2401,Berekening!$G$27,TRUE)","v":1},2397,{"$f":"POISSON(D2401,Berekening!$G$50,TRUE)","v":1},2397,{"$f":"POISSON(F2401,Berekening!$G$52,TRUE)","v":1},2397]
[{"$f":"POISSON(B2402,Berekening!$G$27,TRUE)","v":1},2398,{"$f":"POISSON(D2402,Berekening!$G$50,TRUE)","v":1},2398,{"$f":"POISSON(F2402,Berekening!$G$52,TRUE)","v":1},2398]
[{"$f":"POISSON(B2403,Berekening!$G$27,TRUE)","v":1},2399,{"$f":"POISSON(D2403,Berekening!$G$50,TRUE)","v":1},2399,{"$f":"POISSON(F2403,Berekening!$G$52,TRUE)","v":1},2399]
[{"$f":"POISSON(B2404,Berekening!$G$27,TRUE)","v":1},2400,{"$f":"POISSON(D2404,Berekening!$G$50,TRUE)","v":1},2400,{"$f":"POISSON(F2404,Berekening!$G$52,TRUE)","v":1},2400]
[{"$f":"POISSON(B2405,Berekening!$G$27,TRUE)","v":1},2401,{"$f":"POISSON(D2405,Berekening!$G$50,TRUE)","v":1},2401,{"$f":"POISSON(F2405,Berekening!$G$52,TRUE)","v":1},2401]
[{"$f":"POISSON(B2406,Berekening!$G$27,TRUE)","v":1},2402,{"$f":"POISSON(D2406,Berekening!$G$50,TRUE)","v":1},2402,{"$f":"POISSON(F2406,Berekening!$G$52,TRUE)","v":1},2402]
[{"$f":"POISSON(B2407,Berekening!$G$27,TRUE)","v":1},2403,{"$f":"POISSON(D2407,Berekening!$G$50,TRUE)","v":1},2403,{"$f":"POISSON(F2407,Berekening!$G$52,TRUE)","v":1},2403]
[{"$f":"POISSON(B2408,Berekening!$G$27,TRUE)","v":1},2404,{"$f":"POISSON(D2408,Berekening!$G$50,TRUE)","v":1},2404,{"$f":"POISSON(F2408,Berekening!$G$52,TRUE)","v":1},2404]
[{"$f":"POISSON(B2409,Berekening!$G$27,TRUE)","v":1},2405,{"$f":"POISSON(D2409,Berekening!$G$50,TRUE)","v":1},2405,{"$f":"POISSON(F2409,Berekening!$G$52,TRUE)","v":1},2405]
[{"$f":"POISSON(B2410,Berekening!$G$27,TRUE)","v":1},2406,{"$f":"POISSON(D2410,Berekening!$G$50,TRUE)","v":1},2406,{"$f":"POISSON(F2410,Berekening!$G$52,TRUE)","v":1},2406]
[{"$f":"POISSON(B2411,Berekening!$G$27,TRUE)","v":1},2407,{"$f":"POISSON(D2411,Berekening!$G$50,TRUE)","v":1},2407,{"$f":"POISSON(F2411,Berekening!$G$52,TRUE)","v":1},2407]
[{"$f":"POISSON(B2412,Berekening!$G$27,TRUE)","v":1},2408,{"$f":"POISSON(D2412,Berekening!$G$50,TRUE)","v":1},2408,{"$f":"POISSON(F2412,Berekening!$G$52,TRUE)","v":1},2408]
[{"$f":"POISSON(B2413,Berekening!$G$27,TRUE)","v":1},2409,{"$f":"POISSON(D2413,Berekening!$G$50,TRUE)","v":1},2409,{"$f":"POISSON(F2413,Berekening!$G$52,TRUE)","v":1},2409]
[{"$f":"POISSON(B2414,Berekening!$G$27,TRUE)","v":1},2410,{"$f":"POISSON(D2414,Berekening!$G$50,TRUE)","v":1},2410,{"$f":"POISSON(F2414,Berekening!$G$52,TRUE)","v":1},2410]
[{"$f":"POISSON(B2415,Berekening!$G$27,TRUE)","v":1},2411,{"$f":"POISSON(D2415,Berekening!$G$50,TRUE)","v":1},2411,{"$f":"POISSON(F2415,Berekening!$G$52,TRUE)","v":1},2411]
[{"$f":"POISSON(B2416,Berekening!$G$27,TRUE)","v":1},2412,{"$f":"POISSON(D2416,Berekening!$G$50,TRUE)","v":1},2412,{"$f":"POISSON(F2416,Berekening!$G$52,TRUE)","v":1},2412]
[{"$f":"POISSON(B2417,Berekening!$G$27,TRUE)","v":1},2413,{"$f":"POISSON(D2417,Berekening!$G$50,TRUE)","v":1},2413,{"$f":"POISSON(F2417,Berekening!$G$52,TRUE)","v":1},2413]
[{"$f":"POISSON(B2418,Berekening!$G$27,TRUE)","v":1},2414,{"$f":"POISSON(D2418,Berekening!$G$50,TRUE)","v":1},2414,{"$f":"POISSON(F2418,Berekening!$G$52,TRUE)","v":1},2414]
[{"$f":"POISSON(B2419,Berekening!$G$27,TRUE)","v":1},2415,{"$f":"POISSON(D2419,Berekening!$G$50,TRUE)","v":1},2415,{"$f":"POISSON(F2419,Berekening!$G$52,TRUE)","v":1},2415]
[{"$f":"POISSON(B2420,Berekening!$G$27,TRUE)","v":1},2416,{"$f":"POISSON(D2420,Berekening!$G$50,TRUE)","v":1},2416,{"$f":"POISSON(F2420,Berekening!$G$52,TRUE)","v":1},2416]
[{"$f":"POISSON(B2421,Berekening!$G$27,TRUE)","v":1},2417,{"$f":"POISSON(D2421,Berekening!$G$50,TRUE)","v":1},2417,{"$f":"POISSON(F2421,Berekening!$G$52,TRUE)","v":1},2417]
[{"$f":"POISSON(B2422,Berekening!$G$27,TRUE)","v":1},2418,{"$f":"POISSON(D2422,Berekening!$G$50,TRUE)","v":1},2418,{"$f":"POISSON(F2422,Berekening!$G$52,TRUE)","v":1},2418]
[{"$f":"POISSON(B2423,Berekening!$G$27,TRUE)","v":1},2419,{"$f":"POISSON(D2423,Berekening!$G$50,TRUE)","v":1},2419,{"$f":"POISSON(F2423,Berekening!$G$52,TRUE)","v":1},2419]
[{"$f":"POISSON(B2424,Berekening!$G$27,TRUE)","v":1},2420,{"$f":"POISSON(D2424,Berekening!$G$50,TRUE)","v":1},2420,{"$f":"POISSON(F2424,Berekening!$G$52,TRUE)","v":1},2420]
[{"$f":"POISSON(B2425,Berekening!$G$27,TRUE)","v":1},2421,{"$f":"POISSON(D2425,Berekening!$G$50,TRUE)","v":1},2421,{"$f":"POISSON(F2425,Berekening!$G$52,TRUE)","v":1},2421]
[{"$f":"POISSON(B2426,Berekening!$G$27,TRUE)","v":1},2422,{"$f":"POISSON(D2426,Berekening!$G$50,TRUE)","v":1},2422,{"$f":"POISSON(F2426,Berekening!$G$52,TRUE)","v":1},2422]
[{"$f":"POISSON(B2427,Berekening!$G$27,TRUE)","v":1},2423,{"$f":"POISSON(D2427,Berekening!$G$50,TRUE)","v":1},2423,{"$f":"POISSON(F2427,Berekening!$G$52,TRUE)","v":1},2423]
[{"$f":"POISSON(B2428,Berekening!$G$27,TRUE)","v":1},2424,{"$f":"POISSON(D2428,Berekening!$G$50,TRUE)","v":1},2424,{"$f":"POISSON(F2428,Berekening!$G$52,TRUE)","v":1},2424]
[{"$f":"POISSON(B2429,Berekening!$G$27,TRUE)","v":1},2425,{"$f":"POISSON(D2429,Berekening!$G$50,TRUE)","v":1},2425,{"$f":"POISSON(F2429,Berekening!$G$52,TRUE)","v":1},2425]
[{"$f":"POISSON(B2430,Berekening!$G$27,TRUE)","v":1},2426,{"$f":"POISSON(D2430,Berekening!$G$50,TRUE)","v":1},2426,{"$f":"POISSON(F2430,Berekening!$G$52,TRUE)","v":1},2426]
[{"$f":"POISSON(B2431,Berekening!$G$27,TRUE)","v":1},2427,{"$f":"POISSON(D2431,Berekening!$G$50,TRUE)","v":1},2427,{"$f":"POISSON(F2431,Berekening!$G$52,TRUE)","v":1},2427]
[{"$f":"POISSON(B2432,Berekening!$G$27,TRUE)","v":1},2428,{"$f":"POISSON(D2432,Berekening!$G$50,TRUE)","v":1},2428,{"$f":"POISSON(F2432,Berekening!$G$52,TRUE)","v":1},2428]
[{"$f":"POISSON(B2433,Berekening!$G$27,TRUE)","v":1},2429,{"$f":"POISSON(D2433,Berekening!$G$50,TRUE)","v":1},2429,{"$f":"POISSON(F2433,Berekening!$G$52,TRUE)","v":1},2429]
[{"$f":"POISSON(B2434,Berekening!$G$27,TRUE)","v":1},2430,{"$f":"POISSON(D2434,Berekening!$G$50,TRUE)","v":1},2430,{"$f":"POISSON(F2434,Berekening!$G$52,TRUE)","v":1},2430]
[{"$f":"POISSON(B2435,Berekening!$G$27,TRUE)","v":1},2431,{"$f":"POISSON(D2435,Berekening!$G$50,TRUE)","v":1},2431,{"$f":"POISSON(F2435,Berekening!$G$52,TRUE)","v":1},2431]
[{"$f":"POISSON(B2436,Berekening!$G$27,TRUE)","v":1},2432,{"$f":"POISSON(D2436,Berekening!$G$50,TRUE)","v":1},2432,{"$f":"POISSON(F2436,Berekening!$G$52,TRUE)","v":1},2432]
[{"$f":"POISSON(B2437,Berekening!$G$27,TRUE)","v":1},2433,{"$f":"POISSON(D2437,Berekening!$G$50,TRUE)","v":1},2433,{"$f":"POISSON(F2437,Berekening!$G$52,TRUE)","v":1},2433]
[{"$f":"POISSON(B2438,Berekening!$G$27,TRUE)","v":1},2434,{"$f":"POISSON(D2438,Berekening!$G$50,TRUE)","v":1},2434,{"$f":"POISSON(F2438,Berekening!$G$52,TRUE)","v":1},2434]
[{"$f":"POISSON(B2439,Berekening!$G$27,TRUE)","v":1},2435,{"$f":"POISSON(D2439,Berekening!$G$50,TRUE)","v":1},2435,{"$f":"POISSON(F2439,Berekening!$G$52,TRUE)","v":1},2435]
[{"$f":"POISSON(B2440,Berekening!$G$27,TRUE)","v":1},2436,{"$f":"POISSON(D2440,Berekening!$G$50,TRUE)","v":1},2436,{"$f":"POISSON(F2440,Berekening!$G$52,TRUE)","v":1},2436]
[{"$f":"POISSON(B2441,Berekening!$G$27,TRUE)","v":1},2437,{"$f":"POISSON(D2441,Berekening!$G$50,TRUE)","v":1},2437,{"$f":"POISSON(F2441,Berekening!$G$52,TRUE)","v":1},2437]
[{"$f":"POISSON(B2442,Berekening!$G$27,TRUE)","v":1},2438,{"$f":"POISSON(D2442,Berekening!$G$50,TRUE)","v":1},2438,{"$f":"POISSON(F2442,Berekening!$G$52,TRUE)","v":1},2438]
[{"$f":"POISSON(B2443,Berekening!$G$27,TRUE)","v":1},2439,{"$f":"POISSON(D2443,Berekening!$G$50,TRUE)","v":1},2439,{"$f":"POISSON(F2443,Berekening!$G$52,TRUE)","v":1},2439]
[{"$f":"POISSON(B2444,Berekening!$G$27,TRUE)","v":1},2440,{"$f":"POISSON(D2444,Berekening!$G$50,TRUE)","v":1},2440,{"$f":"POISSON(F2444,Berekening!$G$52,TRUE)","v":1},2440]
[{"$f":"POISSON(B2445,Berekening!$G$27,TRUE)","v":1},2441,{"$f":"POISSON(D2445,Berekening!$G$50,TRUE)","v":1},2441,{"$f":"POISSON(F2445,Berekening!$G$52,TRUE)","v":1},2441]
[{"$f":"POISSON(B2446,Berekening!$G$27,TRUE)","v":1},2442,{"$f":"POISSON(D2446,Berekening!$G$50,TRUE)","v":1},2442,{"$f":"POISSON(F2446,Berekening!$G$52,TRUE)","v":1},2442]
[{"$f":"POISSON(B2447,Berekening!$G$27,TRUE)","v":1},2443,{"$f":"POISSON(D2447,Berekening!$G$50,TRUE)","v":1},2443,{"$f":"POISSON(F2447,Berekening!$G$52,TRUE)","v":1},2443]
[{"$f":"POISSON(B2448,Berekening!$G$27,TRUE)","v":1},2444,{"$f":"POISSON(D2448,Berekening!$G$50,TRUE)","v":1},2444,{"$f":"POISSON(F2448,Berekening!$G$52,TRUE)","v":1},2444]
[{"$f":"POISSON(B2449,Berekening!$G$27,TRUE)","v":1},2445,{"$f":"POISSON(D2449,Berekening!$G$50,TRUE)","v":1},2445,{"$f":"POISSON(F2449,Berekening!$G$52,TRUE)","v":1},2445]
[{"$f":"POISSON(B2450,Berekening!$G$27,TRUE)","v":1},2446,{"$f":"POISSON(D2450,Berekening!$G$50,TRUE)","v":1},2446,{"$f":"POISSON(F2450,Berekening!$G$52,TRUE)","v":1},2446]
[{"$f":"POISSON(B2451,Berekening!$G$27,TRUE)","v":1},2447,{"$f":"POISSON(D2451,Berekening!$G$50,TRUE)","v":1},2447,{"$f":"POISSON(F2451,Berekening!$G$52,TRUE)","v":1},2447]
[{"$f":"POISSON(B2452,Berekening!$G$27,TRUE)","v":1},2448,{"$f":"POISSON(D2452,Berekening!$G$50,TRUE)","v":1},2448,{"$f":"POISSON(F2452,Berekening!$G$52,TRUE)","v":1},2448]
[{"$f":"POISSON(B2453,Berekening!$G$27,TRUE)","v":1},2449,{"$f":"POISSON(D2453,Berekening!$G$50,TRUE)","v":1},2449,{"$f":"POISSON(F2453,Berekening!$G$52,TRUE)","v":1},2449]
[{"$f":"POISSON(B2454,Berekening!$G$27,TRUE)","v":1},2450,{"$f":"POISSON(D2454,Berekening!$G$50,TRUE)","v":1},2450,{"$f":"POISSON(F2454,Berekening!$G$52,TRUE)","v":1},2450]
[{"$f":"POISSON(B2455,Berekening!$G$27,TRUE)","v":1},2451,{"$f":"POISSON(D2455,Berekening!$G$50,TRUE)","v":1},2451,{"$f":"POISSON(F2455,Berekening!$G$52,TRUE)","v":1},2451]
[{"$f":"POISSON(B2456,Berekening!$G$27,TRUE)","v":1},2452,{"$f":"POISSON(D2456,Berekening!$G$50,TRUE)","v":1},2452,{"$f":"POISSON(F2456,Berekening!$G$52,TRUE)","v":1},2452]
[{"$f":"POISSON(B2457,Berekening!$G$27,TRUE)","v":1},2453,{"$f":"POISSON(D2457,Berekening!$G$50,TRUE)","v":1},2453,{"$f":"POISSON(F2457,Berekening!$G$52,TRUE)","v":1},2453]
[{"$f":"POISSON(B2458,Berekening!$G$27,TRUE)","v":1},2454,{"$f":"POISSON(D2458,Berekening!$G$50,TRUE)","v":1},2454,{"$f":"POISSON(F2458,Berekening!$G$52,TRUE)","v":1},2454]
[{"$f":"POISSON(B2459,Berekening!$G$27,TRUE)","v":1},2455,{"$f":"POISSON(D2459,Berekening!$G$50,TRUE)","v":1},2455,{"$f":"POISSON(F2459,Berekening!$G$52,TRUE)","v":1},2455]
[{"$f":"POISSON(B2460,Berekening!$G$27,TRUE)","v":1},2456,{"$f":"POISSON(D2460,Berekening!$G$50,TRUE)","v":1},2456,{"$f":"POISSON(F2460,Berekening!$G$52,TRUE)","v":1},2456]
[{"$f":"POISSON(B2461,Berekening!$G$27,TRUE)","v":1},2457,{"$f":"POISSON(D2461,Berekening!$G$50,TRUE)","v":1},2457,{"$f":"POISSON(F2461,Berekening!$G$52,TRUE)","v":1},2457]
[{"$f":"POISSON(B2462,Berekening!$G$27,TRUE)","v":1},2458,{"$f":"POISSON(D2462,Berekening!$G$50,TRUE)","v":1},2458,{"$f":"POISSON(F2462,Berekening!$G$52,TRUE)","v":1},2458]
[{"$f":"POISSON(B2463,Berekening!$G$27,TRUE)","v":1},2459,{"$f":"POISSON(D2463,Berekening!$G$50,TRUE)","v":1},2459,{"$f":"POISSON(F2463,Berekening!$G$52,TRUE)","v":1},2459]
[{"$f":"POISSON(B2464,Berekening!$G$27,TRUE)","v":1},2460,{"$f":"POISSON(D2464,Berekening!$G$50,TRUE)","v":1},2460,{"$f":"POISSON(F2464,Berekening!$G$52,TRUE)","v":1},2460]
[{"$f":"POISSON(B2465,Berekening!$G$27,TRUE)","v":1},2461,{"$f":"POISSON(D2465,Berekening!$G$50,TRUE)","v":1},2461,{"$f":"POISSON(F2465,Berekening!$G$52,TRUE)","v":1},2461]
[{"$f":"POISSON(B2466,Berekening!$G$27,TRUE)","v":1},2462,{"$f":"POISSON(D2466,Berekening!$G$50,TRUE)","v":1},2462,{"$f":"POISSON(F2466,Berekening!$G$52,TRUE)","v":1},2462]
[{"$f":"POISSON(B2467,Berekening!$G$27,TRUE)","v":1},2463,{"$f":"POISSON(D2467,Berekening!$G$50,TRUE)","v":1},2463,{"$f":"POISSON(F2467,Berekening!$G$52,TRUE)","v":1},2463]
[{"$f":"POISSON(B2468,Berekening!$G$27,TRUE)","v":1},2464,{"$f":"POISSON(D2468,Berekening!$G$50,TRUE)","v":1},2464,{"$f":"POISSON(F2468,Berekening!$G$52,TRUE)","v":1},2464]
[{"$f":"POISSON(B2469,Berekening!$G$27,TRUE)","v":1},2465,{"$f":"POISSON(D2469,Berekening!$G$50,TRUE)","v":1},2465,{"$f":"POISSON(F2469,Berekening!$G$52,TRUE)","v":1},2465]
[{"$f":"POISSON(B2470,Berekening!$G$27,TRUE)","v":1},2466,{"$f":"POISSON(D2470,Berekening!$G$50,TRUE)","v":1},2466,{"$f":"POISSON(F2470,Berekening!$G$52,TRUE)","v":1},2466]
[{"$f":"POISSON(B2471,Berekening!$G$27,TRUE)","v":1},2467,{"$f":"POISSON(D2471,Berekening!$G$50,TRUE)","v":1},2467,{"$f":"POISSON(F2471,Berekening!$G$52,TRUE)","v":1},2467]
[{"$f":"POISSON(B2472,Berekening!$G$27,TRUE)","v":1},2468,{"$f":"POISSON(D2472,Berekening!$G$50,TRUE)","v":1},2468,{"$f":"POISSON(F2472,Berekening!$G$52,TRUE)","v":1},2468]
[{"$f":"POISSON(B2473,Berekening!$G$27,TRUE)","v":1},2469,{"$f":"POISSON(D2473,Berekening!$G$50,TRUE)","v":1},2469,{"$f":"POISSON(F2473,Berekening!$G$52,TRUE)","v":1},2469]
[{"$f":"POISSON(B2474,Berekening!$G$27,TRUE)","v":1},2470,{"$f":"POISSON(D2474,Berekening!$G$50,TRUE)","v":1},2470,{"$f":"POISSON(F2474,Berekening!$G$52,TRUE)","v":1},2470]
[{"$f":"POISSON(B2475,Berekening!$G$27,TRUE)","v":1},2471,{"$f":"POISSON(D2475,Berekening!$G$50,TRUE)","v":1},2471,{"$f":"POISSON(F2475,Berekening!$G$52,TRUE)","v":1},2471]
[{"$f":"POISSON(B2476,Berekening!$G$27,TRUE)","v":1},2472,{"$f":"POISSON(D2476,Berekening!$G$50,TRUE)","v":1},2472,{"$f":"POISSON(F2476,Berekening!$G$52,TRUE)","v":1},2472]
[{"$f":"POISSON(B2477,Berekening!$G$27,TRUE)","v":1},2473,{"$f":"POISSON(D2477,Berekening!$G$50,TRUE)","v":1},2473,{"$f":"POISSON(F2477,Berekening!$G$52,TRUE)","v":1},2473]
[{"$f":"POISSON(B2478,Berekening!$G$27,TRUE)","v":1},2474,{"$f":"POISSON(D2478,Berekening!$G$50,TRUE)","v":1},2474,{"$f":"POISSON(F2478,Berekening!$G$52,TRUE)","v":1},2474]
[{"$f":"POISSON(B2479,Berekening!$G$27,TRUE)","v":1},2475,{"$f":"POISSON(D2479,Berekening!$G$50,TRUE)","v":1},2475,{"$f":"POISSON(F2479,Berekening!$G$52,TRUE)","v":1},2475]
[{"$f":"POISSON(B2480,Berekening!$G$27,TRUE)","v":1},2476,{"$f":"POISSON(D2480,Berekening!$G$50,TRUE)","v":1},2476,{"$f":"POISSON(F2480,Berekening!$G$52,TRUE)","v":1},2476]
[{"$f":"POISSON(B2481,Berekening!$G$27,TRUE)","v":1},2477,{"$f":"POISSON(D2481,Berekening!$G$50,TRUE)","v":1},2477,{"$f":"POISSON(F2481,Berekening!$G$52,TRUE)","v":1},2477]
[{"$f":"POISSON(B2482,Berekening!$G$27,TRUE)","v":1},2478,{"$f":"POISSON(D2482,Berekening!$G$50,TRUE)","v":1},2478,{"$f":"POISSON(F2482,Berekening!$G$52,TRUE)","v":1},2478]
[{"$f":"POISSON(B2483,Berekening!$G$27,TRUE)","v":1},2479,{"$f":"POISSON(D2483,Berekening!$G$50,TRUE)","v":1},2479,{"$f":"POISSON(F2483,Berekening!$G$52,TRUE)","v":1},2479]
[{"$f":"POISSON(B2484,Berekening!$G$27,TRUE)","v":1},2480,{"$f":"POISSON(D2484,Berekening!$G$50,TRUE)","v":1},2480,{"$f":"POISSON(F2484,Berekening!$G$52,TRUE)","v":1},2480]
[{"$f":"POISSON(B2485,Berekening!$G$27,TRUE)","v":1},2481,{"$f":"POISSON(D2485,Berekening!$G$50,TRUE)","v":1},2481,{"$f":"POISSON(F2485,Berekening!$G$52,TRUE)","v":1},2481]
[{"$f":"POISSON(B2486,Berekening!$G$27,TRUE)","v":1},2482,{"$f":"POISSON(D2486,Berekening!$G$50,TRUE)","v":1},2482,{"$f":"POISSON(F2486,Berekening!$G$52,TRUE)","v":1},2482]
[{"$f":"POISSON(B2487,Berekening!$G$27,TRUE)","v":1},2483,{"$f":"POISSON(D2487,Berekening!$G$50,TRUE)","v":1},2483,{"$f":"POISSON(F2487,Berekening!$G$52,TRUE)","v":1},2483]
[{"$f":"POISSON(B2488,Berekening!$G$27,TRUE)","v":1},2484,{"$f":"POISSON(D2488,Berekening!$G$50,TRUE)","v":1},2484,{"$f":"POISSON(F2488,Berekening!$G$52,TRUE)","v":1},2484]
[{"$f":"POISSON(B2489,Berekening!$G$27,TRUE)","v":1},2485,{"$f":"POISSON(D2489,Berekening!$G$50,TRUE)","v":1},2485,{"$f":"POISSON(F2489,Berekening!$G$52,TRUE)","v":1},2485]
[{"$f":"POISSON(B2490,Berekening!$G$27,TRUE)","v":1},2486,{"$f":"POISSON(D2490,Berekening!$G$50,TRUE)","v":1},2486,{"$f":"POISSON(F2490,Berekening!$G$52,TRUE)","v":1},2486]
[{"$f":"POISSON(B2491,Berekening!$G$27,TRUE)","v":1},2487,{"$f":"POISSON(D2491,Berekening!$G$50,TRUE)","v":1},2487,{"$f":"POISSON(F2491,Berekening!$G$52,TRUE)","v":1},2487]
[{"$f":"POISSON(B2492,Berekening!$G$27,TRUE)","v":1},2488,{"$f":"POISSON(D2492,Berekening!$G$50,TRUE)","v":1},2488,{"$f":"POISSON(F2492,Berekening!$G$52,TRUE)","v":1},2488]
[{"$f":"POISSON(B2493,Berekening!$G$27,TRUE)","v":1},2489,{"$f":"POISSON(D2493,Berekening!$G$50,TRUE)","v":1},2489,{"$f":"POISSON(F2493,Berekening!$G$52,TRUE)","v":1},2489]
[{"$f":"POISSON(B2494,Berekening!$G$27,TRUE)","v":1},2490,{"$f":"POISSON(D2494,Berekening!$G$50,TRUE)","v":1},2490,{"$f":"POISSON(F2494,Berekening!$G$52,TRUE)","v":1},2490]
[{"$f":"POISSON(B2495,Berekening!$G$27,TRUE)","v":1},2491,{"$f":"POISSON(D2495,Berekening!$G$50,TRUE)","v":1},2491,{"$f":"POISSON(F2495,Berekening!$G$52,TRUE)","v":1},2491]
[{"$f":"POISSON(B2496,Berekening!$G$27,TRUE)","v":1},2492,{"$f":"POISSON(D2496,Berekening!$G$50,TRUE)","v":1},2492,{"$f":"POISSON(F2496,Berekening!$G$52,TRUE)","v":1},2492]
[{"$f":"POISSON(B2497,Berekening!$G$27,TRUE)","v":1},2493,{"$f":"POISSON(D2497,Berekening!$G$50,TRUE)","v":1},2493,{"$f":"POISSON(F2497,Berekening!$G$52,TRUE)","v":1},2493]
[{"$f":"POISSON(B2498,Berekening!$G$27,TRUE)","v":1},2494,{"$f":"POISSON(D2498,Berekening!$G$50,TRUE)","v":1},2494,{"$f":"POISSON(F2498,Berekening!$G$52,TRUE)","v":1},2494]
[{"$f":"POISSON(B2499,Berekening!$G$27,TRUE)","v":1},2495,{"$f":"POISSON(D2499,Berekening!$G$50,TRUE)","v":1},2495,{"$f":"POISSON(F2499,Berekening!$G$52,TRUE)","v":1},2495]
[{"$f":"POISSON(B2500,Berekening!$G$27,TRUE)","v":1},2496,{"$f":"POISSON(D2500,Berekening!$G$50,TRUE)","v":1},2496,{"$f":"POISSON(F2500,Berekening!$G$52,TRUE)","v":1},2496]
[{"$f":"POISSON(B2501,Berekening!$G$27,TRUE)","v":1},2497,{"$f":"POISSON(D2501,Berekening!$G$50,TRUE)","v":1},2497,{"$f":"POISSON(F2501,Berekening!$G$52,TRUE)","v":1},2497]
[{"$f":"POISSON(B2502,Berekening!$G$27,TRUE)","v":1},2498,{"$f":"POISSON(D2502,Berekening!$G$50,TRUE)","v":1},2498,{"$f":"POISSON(F2502,Berekening!$G$52,TRUE)","v":1},2498]
[{"$f":"POISSON(B2503,Berekening!$G$27,TRUE)","v":1},2499,{"$f":"POISSON(D2503,Berekening!$G$50,TRUE)","v":1},2499,{"$f":"POISSON(F2503,Berekening!$G$52,TRUE)","v":1},2499]
[{"$f":"POISSON(B2504,Berekening!$G$27,TRUE)","v":1},2500,{"$f":"POISSON(D2504,Berekening!$G$50,TRUE)","v":1},2500,{"$f":"POISSON(F2504,Berekening!$G$52,TRUE)","v":1},2500]
[{"$f":"POISSON(B2505,Berekening!$G$27,TRUE)","v":1},2501,{"$f":"POISSON(D2505,Berekening!$G$50,TRUE)","v":1},2501,{"$f":"POISSON(F2505,Berekening!$G$52,TRUE)","v":1},2501]
[{"$f":"POISSON(B2506,Berekening!$G$27,TRUE)","v":1},2502,{"$f":"POISSON(D2506,Berekening!$G$50,TRUE)","v":1},2502,{"$f":"POISSON(F2506,Berekening!$G$52,TRUE)","v":1},2502]
[{"$f":"POISSON(B2507,Berekening!$G$27,TRUE)","v":1},2503,{"$f":"POISSON(D2507,Berekening!$G$50,TRUE)","v":1},2503,{"$f":"POISSON(F2507,Berekening!$G$52,TRUE)","v":1},2503]
[{"$f":"POISSON(B2508,Berekening!$G$27,TRUE)","v":1},2504,{"$f":"POISSON(D2508,Berekening!$G$50,TRUE)","v":1},2504,{"$f":"POISSON(F2508,Berekening!$G$52,TRUE)","v":1},2504]
[{"$f":"POISSON(B2509,Berekening!$G$27,TRUE)","v":1},2505,{"$f":"POISSON(D2509,Berekening!$G$50,TRUE)","v":1},2505,{"$f":"POISSON(F2509,Berekening!$G$52,TRUE)","v":1},2505]
[{"$f":"POISSON(B2510,Berekening!$G$27,TRUE)","v":1},2506,{"$f":"POISSON(D2510,Berekening!$G$50,TRUE)","v":1},2506,{"$f":"POISSON(F2510,Berekening!$G$52,TRUE)","v":1},2506]
[{"$f":"POISSON(B2511,Berekening!$G$27,TRUE)","v":1},2507,{"$f":"POISSON(D2511,Berekening!$G$50,TRUE)","v":1},2507,{"$f":"POISSON(F2511,Berekening!$G$52,TRUE)","v":1},2507]
[{"$f":"POISSON(B2512,Berekening!$G$27,TRUE)","v":1},2508,{"$f":"POISSON(D2512,Berekening!$G$50,TRUE)","v":1},2508,{"$f":"POISSON(F2512,Berekening!$G$52,TRUE)","v":1},2508]
[{"$f":"POISSON(B2513,Berekening!$G$27,TRUE)","v":1},2509,{"$f":"POISSON(D2513,Berekening!$G$50,TRUE)","v":1},2509,{"$f":"POISSON(F2513,Berekening!$G$52,TRUE)","v":1},2509]
[{"$f":"POISSON(B2514,Berekening!$G$27,TRUE)","v":1},2510,{"$f":"POISSON(D2514,Berekening!$G$50,TRUE)","v":1},2510,{"$f":"POISSON(F2514,Berekening!$G$52,TRUE)","v":1},2510]
[{"$f":"POISSON(B2515,Berekening!$G$27,TRUE)","v":1},2511,{"$f":"POISSON(D2515,Berekening!$G$50,TRUE)","v":1},2511,{"$f":"POISSON(F2515,Berekening!$G$52,TRUE)","v":1},2511]
[{"$f":"POISSON(B2516,Berekening!$G$27,TRUE)","v":1},2512,{"$f":"POISSON(D2516,Berekening!$G$50,TRUE)","v":1},2512,{"$f":"POISSON(F2516,Berekening!$G$52,TRUE)","v":1},2512]
[{"$f":"POISSON(B2517,Berekening!$G$27,TRUE)","v":1},2513,{"$f":"POISSON(D2517,Berekening!$G$50,TRUE)","v":1},2513,{"$f":"POISSON(F2517,Berekening!$G$52,TRUE)","v":1},2513]
[{"$f":"POISSON(B2518,Berekening!$G$27,TRUE)","v":1},2514,{"$f":"POISSON(D2518,Berekening!$G$50,TRUE)","v":1},2514,{"$f":"POISSON(F2518,Berekening!$G$52,TRUE)","v":1},2514]
[{"$f":"POISSON(B2519,Berekening!$G$27,TRUE)","v":1},2515,{"$f":"POISSON(D2519,Berekening!$G$50,TRUE)","v":1},2515,{"$f":"POISSON(F2519,Berekening!$G$52,TRUE)","v":1},2515]
[{"$f":"POISSON(B2520,Berekening!$G$27,TRUE)","v":1},2516,{"$f":"POISSON(D2520,Berekening!$G$50,TRUE)","v":1},2516,{"$f":"POISSON(F2520,Berekening!$G$52,TRUE)","v":1},2516]
[{"$f":"POISSON(B2521,Berekening!$G$27,TRUE)","v":1},2517,{"$f":"POISSON(D2521,Berekening!$G$50,TRUE)","v":1},2517,{"$f":"POISSON(F2521,Berekening!$G$52,TRUE)","v":1},2517]
[{"$f":"POISSON(B2522,Berekening!$G$27,TRUE)","v":1},2518,{"$f":"POISSON(D2522,Berekening!$G$50,TRUE)","v":1},2518,{"$f":"POISSON(F2522,Berekening!$G$52,TRUE)","v":1},2518]
[{"$f":"POISSON(B2523,Berekening!$G$27,TRUE)","v":1},2519,{"$f":"POISSON(D2523,Berekening!$G$50,TRUE)","v":1},2519,{"$f":"POISSON(F2523,Berekening!$G$52,TRUE)","v":1},2519]
[{"$f":"POISSON(B2524,Berekening!$G$27,TRUE)","v":1},2520,{"$f":"POISSON(D2524,Berekening!$G$50,TRUE)","v":1},2520,{"$f":"POISSON(F2524,Berekening!$G$52,TRUE)","v":1},2520]
[{"$f":"POISSON(B2525,Berekening!$G$27,TRUE)","v":1},2521,{"$f":"POISSON(D2525,Berekening!$G$50,TRUE)","v":1},2521,{"$f":"POISSON(F2525,Berekening!$G$52,TRUE)","v":1},2521]
[{"$f":"POISSON(B2526,Berekening!$G$27,TRUE)","v":1},2522,{"$f":"POISSON(D2526,Berekening!$G$50,TRUE)","v":1},2522,{"$f":"POISSON(F2526,Berekening!$G$52,TRUE)","v":1},2522]
[{"$f":"POISSON(B2527,Berekening!$G$27,TRUE)","v":1},2523,{"$f":"POISSON(D2527,Berekening!$G$50,TRUE)","v":1},2523,{"$f":"POISSON(F2527,Berekening!$G$52,TRUE)","v":1},2523]
[{"$f":"POISSON(B2528,Berekening!$G$27,TRUE)","v":1},2524,{"$f":"POISSON(D2528,Berekening!$G$50,TRUE)","v":1},2524,{"$f":"POISSON(F2528,Berekening!$G$52,TRUE)","v":1},2524]
[{"$f":"POISSON(B2529,Berekening!$G$27,TRUE)","v":1},2525,{"$f":"POISSON(D2529,Berekening!$G$50,TRUE)","v":1},2525,{"$f":"POISSON(F2529,Berekening!$G$52,TRUE)","v":1},2525]
[{"$f":"POISSON(B2530,Berekening!$G$27,TRUE)","v":1},2526,{"$f":"POISSON(D2530,Berekening!$G$50,TRUE)","v":1},2526,{"$f":"POISSON(F2530,Berekening!$G$52,TRUE)","v":1},2526]
[{"$f":"POISSON(B2531,Berekening!$G$27,TRUE)","v":1},2527,{"$f":"POISSON(D2531,Berekening!$G$50,TRUE)","v":1},2527,{"$f":"POISSON(F2531,Berekening!$G$52,TRUE)","v":1},2527]
[{"$f":"POISSON(B2532,Berekening!$G$27,TRUE)","v":1},2528,{"$f":"POISSON(D2532,Berekening!$G$50,TRUE)","v":1},2528,{"$f":"POISSON(F2532,Berekening!$G$52,TRUE)","v":1},2528]
[{"$f":"POISSON(B2533,Berekening!$G$27,TRUE)","v":1},2529,{"$f":"POISSON(D2533,Berekening!$G$50,TRUE)","v":1},2529,{"$f":"POISSON(F2533,Berekening!$G$52,TRUE)","v":1},2529]
[{"$f":"POISSON(B2534,Berekening!$G$27,TRUE)","v":1},2530,{"$f":"POISSON(D2534,Berekening!$G$50,TRUE)","v":1},2530,{"$f":"POISSON(F2534,Berekening!$G$52,TRUE)","v":1},2530]
[{"$f":"POISSON(B2535,Berekening!$G$27,TRUE)","v":1},2531,{"$f":"POISSON(D2535,Berekening!$G$50,TRUE)","v":1},2531,{"$f":"POISSON(F2535,Berekening!$G$52,TRUE)","v":1},2531]
[{"$f":"POISSON(B2536,Berekening!$G$27,TRUE)","v":1},2532,{"$f":"POISSON(D2536,Berekening!$G$50,TRUE)","v":1},2532,{"$f":"POISSON(F2536,Berekening!$G$52,TRUE)","v":1},2532]
[{"$f":"POISSON(B2537,Berekening!$G$27,TRUE)","v":1},2533,{"$f":"POISSON(D2537,Berekening!$G$50,TRUE)","v":1},2533,{"$f":"POISSON(F2537,Berekening!$G$52,TRUE)","v":1},2533]
[{"$f":"POISSON(B2538,Berekening!$G$27,TRUE)","v":1},2534,{"$f":"POISSON(D2538,Berekening!$G$50,TRUE)","v":1},2534,{"$f":"POISSON(F2538,Berekening!$G$52,TRUE)","v":1},2534]
[{"$f":"POISSON(B2539,Berekening!$G$27,TRUE)","v":1},2535,{"$f":"POISSON(D2539,Berekening!$G$50,TRUE)","v":1},2535,{"$f":"POISSON(F2539,Berekening!$G$52,TRUE)","v":1},2535]
[{"$f":"POISSON(B2540,Berekening!$G$27,TRUE)","v":1},2536,{"$f":"POISSON(D2540,Berekening!$G$50,TRUE)","v":1},2536,{"$f":"POISSON(F2540,Berekening!$G$52,TRUE)","v":1},2536]
[{"$f":"POISSON(B2541,Berekening!$G$27,TRUE)","v":1},2537,{"$f":"POISSON(D2541,Berekening!$G$50,TRUE)","v":1},2537,{"$f":"POISSON(F2541,Berekening!$G$52,TRUE)","v":1},2537]
[{"$f":"POISSON(B2542,Berekening!$G$27,TRUE)","v":1},2538,{"$f":"POISSON(D2542,Berekening!$G$50,TRUE)","v":1},2538,{"$f":"POISSON(F2542,Berekening!$G$52,TRUE)","v":1},2538]
[{"$f":"POISSON(B2543,Berekening!$G$27,TRUE)","v":1},2539,{"$f":"POISSON(D2543,Berekening!$G$50,TRUE)","v":1},2539,{"$f":"POISSON(F2543,Berekening!$G$52,TRUE)","v":1},2539]
[{"$f":"POISSON(B2544,Berekening!$G$27,TRUE)","v":1},2540,{"$f":"POISSON(D2544,Berekening!$G$50,TRUE)","v":1},2540,{"$f":"POISSON(F2544,Berekening!$G$52,TRUE)","v":1},2540]
[{"$f":"POISSON(B2545,Berekening!$G$27,TRUE)","v":1},2541,{"$f":"POISSON(D2545,Berekening!$G$50,TRUE)","v":1},2541,{"$f":"POISSON(F2545,Berekening!$G$52,TRUE)","v":1},2541]
[{"$f":"POISSON(B2546,Berekening!$G$27,TRUE)","v":1},2542,{"$f":"POISSON(D2546,Berekening!$G$50,TRUE)","v":1},2542,{"$f":"POISSON(F2546,Berekening!$G$52,TRUE)","v":1},2542]
[{"$f":"POISSON(B2547,Berekening!$G$27,TRUE)","v":1},2543,{"$f":"POISSON(D2547,Berekening!$G$50,TRUE)","v":1},2543,{"$f":"POISSON(F2547,Berekening!$G$52,TRUE)","v":1},2543]
[{"$f":"POISSON(B2548,Berekening!$G$27,TRUE)","v":1},2544,{"$f":"POISSON(D2548,Berekening!$G$50,TRUE)","v":1},2544,{"$f":"POISSON(F2548,Berekening!$G$52,TRUE)","v":1},2544]
[{"$f":"POISSON(B2549,Berekening!$G$27,TRUE)","v":1},2545,{"$f":"POISSON(D2549,Berekening!$G$50,TRUE)","v":1},2545,{"$f":"POISSON(F2549,Berekening!$G$52,TRUE)","v":1},2545]
[{"$f":"POISSON(B2550,Berekening!$G$27,TRUE)","v":1},2546,{"$f":"POISSON(D2550,Berekening!$G$50,TRUE)","v":1},2546,{"$f":"POISSON(F2550,Berekening!$G$52,TRUE)","v":1},2546]
[{"$f":"POISSON(B2551,Berekening!$G$27,TRUE)","v":1},2547,{"$f":"POISSON(D2551,Berekening!$G$50,TRUE)","v":1},2547,{"$f":"POISSON(F2551,Berekening!$G$52,TRUE)","v":1},2547]
[{"$f":"POISSON(B2552,Berekening!$G$27,TRUE)","v":1},2548,{"$f":"POISSON(D2552,Berekening!$G$50,TRUE)","v":1},2548,{"$f":"POISSON(F2552,Berekening!$G$52,TRUE)","v":1},2548]
[{"$f":"POISSON(B2553,Berekening!$G$27,TRUE)","v":1},2549,{"$f":"POISSON(D2553,Berekening!$G$50,TRUE)","v":1},2549,{"$f":"POISSON(F2553,Berekening!$G$52,TRUE)","v":1},2549]
[{"$f":"POISSON(B2554,Berekening!$G$27,TRUE)","v":1},2550,{"$f":"POISSON(D2554,Berekening!$G$50,TRUE)","v":1},2550,{"$f":"POISSON(F2554,Berekening!$G$52,TRUE)","v":1},2550]
[{"$f":"POISSON(B2555,Berekening!$G$27,TRUE)","v":1},2551,{"$f":"POISSON(D2555,Berekening!$G$50,TRUE)","v":1},2551,{"$f":"POISSON(F2555,Berekening!$G$52,TRUE)","v":1},2551]
[{"$f":"POISSON(B2556,Berekening!$G$27,TRUE)","v":1},2552,{"$f":"POISSON(D2556,Berekening!$G$50,TRUE)","v":1},2552,{"$f":"POISSON(F2556,Berekening!$G$52,TRUE)","v":1},2552]
[{"$f":"POISSON(B2557,Berekening!$G$27,TRUE)","v":1},2553,{"$f":"POISSON(D2557,Berekening!$G$50,TRUE)","v":1},2553,{"$f":"POISSON(F2557,Berekening!$G$52,TRUE)","v":1},2553]
[{"$f":"POISSON(B2558,Berekening!$G$27,TRUE)","v":1},2554,{"$f":"POISSON(D2558,Berekening!$G$50,TRUE)","v":1},2554,{"$f":"POISSON(F2558,Berekening!$G$52,TRUE)","v":1},2554]
[{"$f":"POISSON(B2559,Berekening!$G$27,TRUE)","v":1},2555,{"$f":"POISSON(D2559,Berekening!$G$50,TRUE)","v":1},2555,{"$f":"POISSON(F2559,Berekening!$G$52,TRUE)","v":1},2555]
[{"$f":"POISSON(B2560,Berekening!$G$27,TRUE)","v":1},2556,{"$f":"POISSON(D2560,Berekening!$G$50,TRUE)","v":1},2556,{"$f":"POISSON(F2560,Berekening!$G$52,TRUE)","v":1},2556]
[{"$f":"POISSON(B2561,Berekening!$G$27,TRUE)","v":1},2557,{"$f":"POISSON(D2561,Berekening!$G$50,TRUE)","v":1},2557,{"$f":"POISSON(F2561,Berekening!$G$52,TRUE)","v":1},2557]
[{"$f":"POISSON(B2562,Berekening!$G$27,TRUE)","v":1},2558,{"$f":"POISSON(D2562,Berekening!$G$50,TRUE)","v":1},2558,{"$f":"POISSON(F2562,Berekening!$G$52,TRUE)","v":1},2558]
[{"$f":"POISSON(B2563,Berekening!$G$27,TRUE)","v":1},2559,{"$f":"POISSON(D2563,Berekening!$G$50,TRUE)","v":1},2559,{"$f":"POISSON(F2563,Berekening!$G$52,TRUE)","v":1},2559]
[{"$f":"POISSON(B2564,Berekening!$G$27,TRUE)","v":1},2560,{"$f":"POISSON(D2564,Berekening!$G$50,TRUE)","v":1},2560,{"$f":"POISSON(F2564,Berekening!$G$52,TRUE)","v":1},2560]
[{"$f":"POISSON(B2565,Berekening!$G$27,TRUE)","v":1},2561,{"$f":"POISSON(D2565,Berekening!$G$50,TRUE)","v":1},2561,{"$f":"POISSON(F2565,Berekening!$G$52,TRUE)","v":1},2561]
[{"$f":"POISSON(B2566,Berekening!$G$27,TRUE)","v":1},2562,{"$f":"POISSON(D2566,Berekening!$G$50,TRUE)","v":1},2562,{"$f":"POISSON(F2566,Berekening!$G$52,TRUE)","v":1},2562]
[{"$f":"POISSON(B2567,Berekening!$G$27,TRUE)","v":1},2563,{"$f":"POISSON(D2567,Berekening!$G$50,TRUE)","v":1},2563,{"$f":"POISSON(F2567,Berekening!$G$52,TRUE)","v":1},2563]
[{"$f":"POISSON(B2568,Berekening!$G$27,TRUE)","v":1},2564,{"$f":"POISSON(D2568,Berekening!$G$50,TRUE)","v":1},2564,{"$f":"POISSON(F2568,Berekening!$G$52,TRUE)","v":1},2564]
[{"$f":"POISSON(B2569,Berekening!$G$27,TRUE)","v":1},2565,{"$f":"POISSON(D2569,Berekening!$G$50,TRUE)","v":1},2565,{"$f":"POISSON(F2569,Berekening!$G$52,TRUE)","v":1},2565]
[{"$f":"POISSON(B2570,Berekening!$G$27,TRUE)","v":1},2566,{"$f":"POISSON(D2570,Berekening!$G$50,TRUE)","v":1},2566,{"$f":"POISSON(F2570,Berekening!$G$52,TRUE)","v":1},2566]
[{"$f":"POISSON(B2571,Berekening!$G$27,TRUE)","v":1},2567,{"$f":"POISSON(D2571,Berekening!$G$50,TRUE)","v":1},2567,{"$f":"POISSON(F2571,Berekening!$G$52,TRUE)","v":1},2567]
[{"$f":"POISSON(B2572,Berekening!$G$27,TRUE)","v":1},2568,{"$f":"POISSON(D2572,Berekening!$G$50,TRUE)","v":1},2568,{"$f":"POISSON(F2572,Berekening!$G$52,TRUE)","v":1},2568]
[{"$f":"POISSON(B2573,Berekening!$G$27,TRUE)","v":1},2569,{"$f":"POISSON(D2573,Berekening!$G$50,TRUE)","v":1},2569,{"$f":"POISSON(F2573,Berekening!$G$52,TRUE)","v":1},2569]
[{"$f":"POISSON(B2574,Berekening!$G$27,TRUE)","v":1},2570,{"$f":"POISSON(D2574,Berekening!$G$50,TRUE)","v":1},2570,{"$f":"POISSON(F2574,Berekening!$G$52,TRUE)","v":1},2570]
[{"$f":"POISSON(B2575,Berekening!$G$27,TRUE)","v":1},2571,{"$f":"POISSON(D2575,Berekening!$G$50,TRUE)","v":1},2571,{"$f":"POISSON(F2575,Berekening!$G$52,TRUE)","v":1},2571]
[{"$f":"POISSON(B2576,Berekening!$G$27,TRUE)","v":1},2572,{"$f":"POISSON(D2576,Berekening!$G$50,TRUE)","v":1},2572,{"$f":"POISSON(F2576,Berekening!$G$52,TRUE)","v":1},2572]
[{"$f":"POISSON(B2577,Berekening!$G$27,TRUE)","v":1},2573,{"$f":"POISSON(D2577,Berekening!$G$50,TRUE)","v":1},2573,{"$f":"POISSON(F2577,Berekening!$G$52,TRUE)","v":1},2573]
[{"$f":"POISSON(B2578,Berekening!$G$27,TRUE)","v":1},2574,{"$f":"POISSON(D2578,Berekening!$G$50,TRUE)","v":1},2574,{"$f":"POISSON(F2578,Berekening!$G$52,TRUE)","v":1},2574]
[{"$f":"POISSON(B2579,Berekening!$G$27,TRUE)","v":1},2575,{"$f":"POISSON(D2579,Berekening!$G$50,TRUE)","v":1},2575,{"$f":"POISSON(F2579,Berekening!$G$52,TRUE)","v":1},2575]
[{"$f":"POISSON(B2580,Berekening!$G$27,TRUE)","v":1},2576,{"$f":"POISSON(D2580,Berekening!$G$50,TRUE)","v":1},2576,{"$f":"POISSON(F2580,Berekening!$G$52,TRUE)","v":1},2576]
[{"$f":"POISSON(B2581,Berekening!$G$27,TRUE)","v":1},2577,{"$f":"POISSON(D2581,Berekening!$G$50,TRUE)","v":1},2577,{"$f":"POISSON(F2581,Berekening!$G$52,TRUE)","v":1},2577]
[{"$f":"POISSON(B2582,Berekening!$G$27,TRUE)","v":1},2578,{"$f":"POISSON(D2582,Berekening!$G$50,TRUE)","v":1},2578,{"$f":"POISSON(F2582,Berekening!$G$52,TRUE)","v":1},2578]
[{"$f":"POISSON(B2583,Berekening!$G$27,TRUE)","v":1},2579,{"$f":"POISSON(D2583,Berekening!$G$50,TRUE)","v":1},2579,{"$f":"POISSON(F2583,Berekening!$G$52,TRUE)","v":1},2579]
[{"$f":"POISSON(B2584,Berekening!$G$27,TRUE)","v":1},2580,{"$f":"POISSON(D2584,Berekening!$G$50,TRUE)","v":1},2580,{"$f":"POISSON(F2584,Berekening!$G$52,TRUE)","v":1},2580]
[{"$f":"POISSON(B2585,Berekening!$G$27,TRUE)","v":1},2581,{"$f":"POISSON(D2585,Berekening!$G$50,TRUE)","v":1},2581,{"$f":"POISSON(F2585,Berekening!$G$52,TRUE)","v":1},2581]
[{"$f":"POISSON(B2586,Berekening!$G$27,TRUE)","v":1},2582,{"$f":"POISSON(D2586,Berekening!$G$50,TRUE)","v":1},2582,{"$f":"POISSON(F2586,Berekening!$G$52,TRUE)","v":1},2582]
[{"$f":"POISSON(B2587,Berekening!$G$27,TRUE)","v":1},2583,{"$f":"POISSON(D2587,Berekening!$G$50,TRUE)","v":1},2583,{"$f":"POISSON(F2587,Berekening!$G$52,TRUE)","v":1},2583]
[{"$f":"POISSON(B2588,Berekening!$G$27,TRUE)","v":1},2584,{"$f":"POISSON(D2588,Berekening!$G$50,TRUE)","v":1},2584,{"$f":"POISSON(F2588,Berekening!$G$52,TRUE)","v":1},2584]
[{"$f":"POISSON(B2589,Berekening!$G$27,TRUE)","v":1},2585,{"$f":"POISSON(D2589,Berekening!$G$50,TRUE)","v":1},2585,{"$f":"POISSON(F2589,Berekening!$G$52,TRUE)","v":1},2585]
[{"$f":"POISSON(B2590,Berekening!$G$27,TRUE)","v":1},2586,{"$f":"POISSON(D2590,Berekening!$G$50,TRUE)","v":1},2586,{"$f":"POISSON(F2590,Berekening!$G$52,TRUE)","v":1},2586]
[{"$f":"POISSON(B2591,Berekening!$G$27,TRUE)","v":1},2587,{"$f":"POISSON(D2591,Berekening!$G$50,TRUE)","v":1},2587,{"$f":"POISSON(F2591,Berekening!$G$52,TRUE)","v":1},2587]
[{"$f":"POISSON(B2592,Berekening!$G$27,TRUE)","v":1},2588,{"$f":"POISSON(D2592,Berekening!$G$50,TRUE)","v":1},2588,{"$f":"POISSON(F2592,Berekening!$G$52,TRUE)","v":1},2588]
[{"$f":"POISSON(B2593,Berekening!$G$27,TRUE)","v":1},2589,{"$f":"POISSON(D2593,Berekening!$G$50,TRUE)","v":1},2589,{"$f":"POISSON(F2593,Berekening!$G$52,TRUE)","v":1},2589]
[{"$f":"POISSON(B2594,Berekening!$G$27,TRUE)","v":1},2590,{"$f":"POISSON(D2594,Berekening!$G$50,TRUE)","v":1},2590,{"$f":"POISSON(F2594,Berekening!$G$52,TRUE)","v":1},2590]
[{"$f":"POISSON(B2595,Berekening!$G$27,TRUE)","v":1},2591,{"$f":"POISSON(D2595,Berekening!$G$50,TRUE)","v":1},2591,{"$f":"POISSON(F2595,Berekening!$G$52,TRUE)","v":1},2591]
[{"$f":"POISSON(B2596,Berekening!$G$27,TRUE)","v":1},2592,{"$f":"POISSON(D2596,Berekening!$G$50,TRUE)","v":1},2592,{"$f":"POISSON(F2596,Berekening!$G$52,TRUE)","v":1},2592]
[{"$f":"POISSON(B2597,Berekening!$G$27,TRUE)","v":1},2593,{"$f":"POISSON(D2597,Berekening!$G$50,TRUE)","v":1},2593,{"$f":"POISSON(F2597,Berekening!$G$52,TRUE)","v":1},2593]
[{"$f":"POISSON(B2598,Berekening!$G$27,TRUE)","v":1},2594,{"$f":"POISSON(D2598,Berekening!$G$50,TRUE)","v":1},2594,{"$f":"POISSON(F2598,Berekening!$G$52,TRUE)","v":1},2594]
[{"$f":"POISSON(B2599,Berekening!$G$27,TRUE)","v":1},2595,{"$f":"POISSON(D2599,Berekening!$G$50,TRUE)","v":1},2595,{"$f":"POISSON(F2599,Berekening!$G$52,TRUE)","v":1},2595]
[{"$f":"POISSON(B2600,Berekening!$G$27,TRUE)","v":1},2596,{"$f":"POISSON(D2600,Berekening!$G$50,TRUE)","v":1},2596,{"$f":"POISSON(F2600,Berekening!$G$52,TRUE)","v":1},2596]
[{"$f":"POISSON(B2601,Berekening!$G$27,TRUE)","v":1},2597,{"$f":"POISSON(D2601,Berekening!$G$50,TRUE)","v":1},2597,{"$f":"POISSON(F2601,Berekening!$G$52,TRUE)","v":1},2597]
[{"$f":"POISSON(B2602,Berekening!$G$27,TRUE)","v":1},2598,{"$f":"POISSON(D2602,Berekening!$G$50,TRUE)","v":1},2598,{"$f":"POISSON(F2602,Berekening!$G$52,TRUE)","v":1},2598]
[{"$f":"POISSON(B2603,Berekening!$G$27,TRUE)","v":1},2599,{"$f":"POISSON(D2603,Berekening!$G$50,TRUE)","v":1},2599,{"$f":"POISSON(F2603,Berekening!$G$52,TRUE)","v":1},2599]
[{"$f":"POISSON(B2604,Berekening!$G$27,TRUE)","v":1},2600,{"$f":"POISSON(D2604,Berekening!$G$50,TRUE)","v":1},2600,{"$f":"POISSON(F2604,Berekening!$G$52,TRUE)","v":1},2600]
[{"$f":"POISSON(B2605,Berekening!$G$27,TRUE)","v":1},2601,{"$f":"POISSON(D2605,Berekening!$G$50,TRUE)","v":1},2601,{"$f":"POISSON(F2605,Berekening!$G$52,TRUE)","v":1},2601]
[{"$f":"POISSON(B2606,Berekening!$G$27,TRUE)","v":1},2602,{"$f":"POISSON(D2606,Berekening!$G$50,TRUE)","v":1},2602,{"$f":"POISSON(F2606,Berekening!$G$52,TRUE)","v":1},2602]
[{"$f":"POISSON(B2607,Berekening!$G$27,TRUE)","v":1},2603,{"$f":"POISSON(D2607,Berekening!$G$50,TRUE)","v":1},2603,{"$f":"POISSON(F2607,Berekening!$G$52,TRUE)","v":1},2603]
[{"$f":"POISSON(B2608,Berekening!$G$27,TRUE)","v":1},2604,{"$f":"POISSON(D2608,Berekening!$G$50,TRUE)","v":1},2604,{"$f":"POISSON(F2608,Berekening!$G$52,TRUE)","v":1},2604]
[{"$f":"POISSON(B2609,Berekening!$G$27,TRUE)","v":1},2605,{"$f":"POISSON(D2609,Berekening!$G$50,TRUE)","v":1},2605,{"$f":"POISSON(F2609,Berekening!$G$52,TRUE)","v":1},2605]
[{"$f":"POISSON(B2610,Berekening!$G$27,TRUE)","v":1},2606,{"$f":"POISSON(D2610,Berekening!$G$50,TRUE)","v":1},2606,{"$f":"POISSON(F2610,Berekening!$G$52,TRUE)","v":1},2606]
[{"$f":"POISSON(B2611,Berekening!$G$27,TRUE)","v":1},2607,{"$f":"POISSON(D2611,Berekening!$G$50,TRUE)","v":1},2607,{"$f":"POISSON(F2611,Berekening!$G$52,TRUE)","v":1},2607]
[{"$f":"POISSON(B2612,Berekening!$G$27,TRUE)","v":1},2608,{"$f":"POISSON(D2612,Berekening!$G$50,TRUE)","v":1},2608,{"$f":"POISSON(F2612,Berekening!$G$52,TRUE)","v":1},2608]
[{"$f":"POISSON(B2613,Berekening!$G$27,TRUE)","v":1},2609,{"$f":"POISSON(D2613,Berekening!$G$50,TRUE)","v":1},2609,{"$f":"POISSON(F2613,Berekening!$G$52,TRUE)","v":1},2609]
[{"$f":"POISSON(B2614,Berekening!$G$27,TRUE)","v":1},2610,{"$f":"POISSON(D2614,Berekening!$G$50,TRUE)","v":1},2610,{"$f":"POISSON(F2614,Berekening!$G$52,TRUE)","v":1},2610]
[{"$f":"POISSON(B2615,Berekening!$G$27,TRUE)","v":1},2611,{"$f":"POISSON(D2615,Berekening!$G$50,TRUE)","v":1},2611,{"$f":"POISSON(F2615,Berekening!$G$52,TRUE)","v":1},2611]
[{"$f":"POISSON(B2616,Berekening!$G$27,TRUE)","v":1},2612,{"$f":"POISSON(D2616,Berekening!$G$50,TRUE)","v":1},2612,{"$f":"POISSON(F2616,Berekening!$G$52,TRUE)","v":1},2612]
[{"$f":"POISSON(B2617,Berekening!$G$27,TRUE)","v":1},2613,{"$f":"POISSON(D2617,Berekening!$G$50,TRUE)","v":1},2613,{"$f":"POISSON(F2617,Berekening!$G$52,TRUE)","v":1},2613]
[{"$f":"POISSON(B2618,Berekening!$G$27,TRUE)","v":1},2614,{"$f":"POISSON(D2618,Berekening!$G$50,TRUE)","v":1},2614,{"$f":"POISSON(F2618,Berekening!$G$52,TRUE)","v":1},2614]
[{"$f":"POISSON(B2619,Berekening!$G$27,TRUE)","v":1},2615,{"$f":"POISSON(D2619,Berekening!$G$50,TRUE)","v":1},2615,{"$f":"POISSON(F2619,Berekening!$G$52,TRUE)","v":1},2615]
[{"$f":"POISSON(B2620,Berekening!$G$27,TRUE)","v":1},2616,{"$f":"POISSON(D2620,Berekening!$G$50,TRUE)","v":1},2616,{"$f":"POISSON(F2620,Berekening!$G$52,TRUE)","v":1},2616]
[{"$f":"POISSON(B2621,Berekening!$G$27,TRUE)","v":1},2617,{"$f":"POISSON(D2621,Berekening!$G$50,TRUE)","v":1},2617,{"$f":"POISSON(F2621,Berekening!$G$52,TRUE)","v":1},2617]
[{"$f":"POISSON(B2622,Berekening!$G$27,TRUE)","v":1},2618,{"$f":"POISSON(D2622,Berekening!$G$50,TRUE)","v":1},2618,{"$f":"POISSON(F2622,Berekening!$G$52,TRUE)","v":1},2618]
[{"$f":"POISSON(B2623,Berekening!$G$27,TRUE)","v":1},2619,{"$f":"POISSON(D2623,Berekening!$G$50,TRUE)","v":1},2619,{"$f":"POISSON(F2623,Berekening!$G$52,TRUE)","v":1},2619]
[{"$f":"POISSON(B2624,Berekening!$G$27,TRUE)","v":1},2620,{"$f":"POISSON(D2624,Berekening!$G$50,TRUE)","v":1},2620,{"$f":"POISSON(F2624,Berekening!$G$52,TRUE)","v":1},2620]
[{"$f":"POISSON(B2625,Berekening!$G$27,TRUE)","v":1},2621,{"$f":"POISSON(D2625,Berekening!$G$50,TRUE)","v":1},2621,{"$f":"POISSON(F2625,Berekening!$G$52,TRUE)","v":1},2621]
[{"$f":"POISSON(B2626,Berekening!$G$27,TRUE)","v":1},2622,{"$f":"POISSON(D2626,Berekening!$G$50,TRUE)","v":1},2622,{"$f":"POISSON(F2626,Berekening!$G$52,TRUE)","v":1},2622]
[{"$f":"POISSON(B2627,Berekening!$G$27,TRUE)","v":1},2623,{"$f":"POISSON(D2627,Berekening!$G$50,TRUE)","v":1},2623,{"$f":"POISSON(F2627,Berekening!$G$52,TRUE)","v":1},2623]
[{"$f":"POISSON(B2628,Berekening!$G$27,TRUE)","v":1},2624,{"$f":"POISSON(D2628,Berekening!$G$50,TRUE)","v":1},2624,{"$f":"POISSON(F2628,Berekening!$G$52,TRUE)","v":1},2624]
[{"$f":"POISSON(B2629,Berekening!$G$27,TRUE)","v":1},2625,{"$f":"POISSON(D2629,Berekening!$G$50,TRUE)","v":1},2625,{"$f":"POISSON(F2629,Berekening!$G$52,TRUE)","v":1},2625]
[{"$f":"POISSON(B2630,Berekening!$G$27,TRUE)","v":1},2626,{"$f":"POISSON(D2630,Berekening!$G$50,TRUE)","v":1},2626,{"$f":"POISSON(F2630,Berekening!$G$52,TRUE)","v":1},2626]
[{"$f":"POISSON(B2631,Berekening!$G$27,TRUE)","v":1},2627,{"$f":"POISSON(D2631,Berekening!$G$50,TRUE)","v":1},2627,{"$f":"POISSON(F2631,Berekening!$G$52,TRUE)","v":1},2627]
[{"$f":"POISSON(B2632,Berekening!$G$27,TRUE)","v":1},2628,{"$f":"POISSON(D2632,Berekening!$G$50,TRUE)","v":1},2628,{"$f":"POISSON(F2632,Berekening!$G$52,TRUE)","v":1},2628]
[{"$f":"POISSON(B2633,Berekening!$G$27,TRUE)","v":1},2629,{"$f":"POISSON(D2633,Berekening!$G$50,TRUE)","v":1},2629,{"$f":"POISSON(F2633,Berekening!$G$52,TRUE)","v":1},2629]
[{"$f":"POISSON(B2634,Berekening!$G$27,TRUE)","v":1},2630,{"$f":"POISSON(D2634,Berekening!$G$50,TRUE)","v":1},2630,{"$f":"POISSON(F2634,Berekening!$G$52,TRUE)","v":1},2630]
[{"$f":"POISSON(B2635,Berekening!$G$27,TRUE)","v":1},2631,{"$f":"POISSON(D2635,Berekening!$G$50,TRUE)","v":1},2631,{"$f":"POISSON(F2635,Berekening!$G$52,TRUE)","v":1},2631]
[{"$f":"POISSON(B2636,Berekening!$G$27,TRUE)","v":1},2632,{"$f":"POISSON(D2636,Berekening!$G$50,TRUE)","v":1},2632,{"$f":"POISSON(F2636,Berekening!$G$52,TRUE)","v":1},2632]
[{"$f":"POISSON(B2637,Berekening!$G$27,TRUE)","v":1},2633,{"$f":"POISSON(D2637,Berekening!$G$50,TRUE)","v":1},2633,{"$f":"POISSON(F2637,Berekening!$G$52,TRUE)","v":1},2633]
[{"$f":"POISSON(B2638,Berekening!$G$27,TRUE)","v":1},2634,{"$f":"POISSON(D2638,Berekening!$G$50,TRUE)","v":1},2634,{"$f":"POISSON(F2638,Berekening!$G$52,TRUE)","v":1},2634]
[{"$f":"POISSON(B2639,Berekening!$G$27,TRUE)","v":1},2635,{"$f":"POISSON(D2639,Berekening!$G$50,TRUE)","v":1},2635,{"$f":"POISSON(F2639,Berekening!$G$52,TRUE)","v":1},2635]
[{"$f":"POISSON(B2640,Berekening!$G$27,TRUE)","v":1},2636,{"$f":"POISSON(D2640,Berekening!$G$50,TRUE)","v":1},2636,{"$f":"POISSON(F2640,Berekening!$G$52,TRUE)","v":1},2636]
[{"$f":"POISSON(B2641,Berekening!$G$27,TRUE)","v":1},2637,{"$f":"POISSON(D2641,Berekening!$G$50,TRUE)","v":1},2637,{"$f":"POISSON(F2641,Berekening!$G$52,TRUE)","v":1},2637]
[{"$f":"POISSON(B2642,Berekening!$G$27,TRUE)","v":1},2638,{"$f":"POISSON(D2642,Berekening!$G$50,TRUE)","v":1},2638,{"$f":"POISSON(F2642,Berekening!$G$52,TRUE)","v":1},2638]
[{"$f":"POISSON(B2643,Berekening!$G$27,TRUE)","v":1},2639,{"$f":"POISSON(D2643,Berekening!$G$50,TRUE)","v":1},2639,{"$f":"POISSON(F2643,Berekening!$G$52,TRUE)","v":1},2639]
[{"$f":"POISSON(B2644,Berekening!$G$27,TRUE)","v":1},2640,{"$f":"POISSON(D2644,Berekening!$G$50,TRUE)","v":1},2640,{"$f":"POISSON(F2644,Berekening!$G$52,TRUE)","v":1},2640]
[{"$f":"POISSON(B2645,Berekening!$G$27,TRUE)","v":1},2641,{"$f":"POISSON(D2645,Berekening!$G$50,TRUE)","v":1},2641,{"$f":"POISSON(F2645,Berekening!$G$52,TRUE)","v":1},2641]
[{"$f":"POISSON(B2646,Berekening!$G$27,TRUE)","v":1},2642,{"$f":"POISSON(D2646,Berekening!$G$50,TRUE)","v":1},2642,{"$f":"POISSON(F2646,Berekening!$G$52,TRUE)","v":1},2642]
[{"$f":"POISSON(B2647,Berekening!$G$27,TRUE)","v":1},2643,{"$f":"POISSON(D2647,Berekening!$G$50,TRUE)","v":1},2643,{"$f":"POISSON(F2647,Berekening!$G$52,TRUE)","v":1},2643]
[{"$f":"POISSON(B2648,Berekening!$G$27,TRUE)","v":1},2644,{"$f":"POISSON(D2648,Berekening!$G$50,TRUE)","v":1},2644,{"$f":"POISSON(F2648,Berekening!$G$52,TRUE)","v":1},2644]
[{"$f":"POISSON(B2649,Berekening!$G$27,TRUE)","v":1},2645,{"$f":"POISSON(D2649,Berekening!$G$50,TRUE)","v":1},2645,{"$f":"POISSON(F2649,Berekening!$G$52,TRUE)","v":1},2645]
[{"$f":"POISSON(B2650,Berekening!$G$27,TRUE)","v":1},2646,{"$f":"POISSON(D2650,Berekening!$G$50,TRUE)","v":1},2646,{"$f":"POISSON(F2650,Berekening!$G$52,TRUE)","v":1},2646]
[{"$f":"POISSON(B2651,Berekening!$G$27,TRUE)","v":1},2647,{"$f":"POISSON(D2651,Berekening!$G$50,TRUE)","v":1},2647,{"$f":"POISSON(F2651,Berekening!$G$52,TRUE)","v":1},2647]
[{"$f":"POISSON(B2652,Berekening!$G$27,TRUE)","v":1},2648,{"$f":"POISSON(D2652,Berekening!$G$50,TRUE)","v":1},2648,{"$f":"POISSON(F2652,Berekening!$G$52,TRUE)","v":1},2648]
[{"$f":"POISSON(B2653,Berekening!$G$27,TRUE)","v":1},2649,{"$f":"POISSON(D2653,Berekening!$G$50,TRUE)","v":1},2649,{"$f":"POISSON(F2653,Berekening!$G$52,TRUE)","v":1},2649]
[{"$f":"POISSON(B2654,Berekening!$G$27,TRUE)","v":1},2650,{"$f":"POISSON(D2654,Berekening!$G$50,TRUE)","v":1},2650,{"$f":"POISSON(F2654,Berekening!$G$52,TRUE)","v":1},2650]
[{"$f":"POISSON(B2655,Berekening!$G$27,TRUE)","v":1},2651,{"$f":"POISSON(D2655,Berekening!$G$50,TRUE)","v":1},2651,{"$f":"POISSON(F2655,Berekening!$G$52,TRUE)","v":1},2651]
[{"$f":"POISSON(B2656,Berekening!$G$27,TRUE)","v":1},2652,{"$f":"POISSON(D2656,Berekening!$G$50,TRUE)","v":1},2652,{"$f":"POISSON(F2656,Berekening!$G$52,TRUE)","v":1},2652]
[{"$f":"POISSON(B2657,Berekening!$G$27,TRUE)","v":1},2653,{"$f":"POISSON(D2657,Berekening!$G$50,TRUE)","v":1},2653,{"$f":"POISSON(F2657,Berekening!$G$52,TRUE)","v":1},2653]
[{"$f":"POISSON(B2658,Berekening!$G$27,TRUE)","v":1},2654,{"$f":"POISSON(D2658,Berekening!$G$50,TRUE)","v":1},2654,{"$f":"POISSON(F2658,Berekening!$G$52,TRUE)","v":1},2654]
[{"$f":"POISSON(B2659,Berekening!$G$27,TRUE)","v":1},2655,{"$f":"POISSON(D2659,Berekening!$G$50,TRUE)","v":1},2655,{"$f":"POISSON(F2659,Berekening!$G$52,TRUE)","v":1},2655]
[{"$f":"POISSON(B2660,Berekening!$G$27,TRUE)","v":1},2656,{"$f":"POISSON(D2660,Berekening!$G$50,TRUE)","v":1},2656,{"$f":"POISSON(F2660,Berekening!$G$52,TRUE)","v":1},2656]
[{"$f":"POISSON(B2661,Berekening!$G$27,TRUE)","v":1},2657,{"$f":"POISSON(D2661,Berekening!$G$50,TRUE)","v":1},2657,{"$f":"POISSON(F2661,Berekening!$G$52,TRUE)","v":1},2657]
[{"$f":"POISSON(B2662,Berekening!$G$27,TRUE)","v":1},2658,{"$f":"POISSON(D2662,Berekening!$G$50,TRUE)","v":1},2658,{"$f":"POISSON(F2662,Berekening!$G$52,TRUE)","v":1},2658]
[{"$f":"POISSON(B2663,Berekening!$G$27,TRUE)","v":1},2659,{"$f":"POISSON(D2663,Berekening!$G$50,TRUE)","v":1},2659,{"$f":"POISSON(F2663,Berekening!$G$52,TRUE)","v":1},2659]
[{"$f":"POISSON(B2664,Berekening!$G$27,TRUE)","v":1},2660,{"$f":"POISSON(D2664,Berekening!$G$50,TRUE)","v":1},2660,{"$f":"POISSON(F2664,Berekening!$G$52,TRUE)","v":1},2660]
[{"$f":"POISSON(B2665,Berekening!$G$27,TRUE)","v":1},2661,{"$f":"POISSON(D2665,Berekening!$G$50,TRUE)","v":1},2661,{"$f":"POISSON(F2665,Berekening!$G$52,TRUE)","v":1},2661]
[{"$f":"POISSON(B2666,Berekening!$G$27,TRUE)","v":1},2662,{"$f":"POISSON(D2666,Berekening!$G$50,TRUE)","v":1},2662,{"$f":"POISSON(F2666,Berekening!$G$52,TRUE)","v":1},2662]
[{"$f":"POISSON(B2667,Berekening!$G$27,TRUE)","v":1},2663,{"$f":"POISSON(D2667,Berekening!$G$50,TRUE)","v":1},2663,{"$f":"POISSON(F2667,Berekening!$G$52,TRUE)","v":1},2663]
[{"$f":"POISSON(B2668,Berekening!$G$27,TRUE)","v":1},2664,{"$f":"POISSON(D2668,Berekening!$G$50,TRUE)","v":1},2664,{"$f":"POISSON(F2668,Berekening!$G$52,TRUE)","v":1},2664]
[{"$f":"POISSON(B2669,Berekening!$G$27,TRUE)","v":1},2665,{"$f":"POISSON(D2669,Berekening!$G$50,TRUE)","v":1},2665,{"$f":"POISSON(F2669,Berekening!$G$52,TRUE)","v":1},2665]
[{"$f":"POISSON(B2670,Berekening!$G$27,TRUE)","v":1},2666,{"$f":"POISSON(D2670,Berekening!$G$50,TRUE)","v":1},2666,{"$f":"POISSON(F2670,Berekening!$G$52,TRUE)","v":1},2666]
[{"$f":"POISSON(B2671,Berekening!$G$27,TRUE)","v":1},2667,{"$f":"POISSON(D2671,Berekening!$G$50,TRUE)","v":1},2667,{"$f":"POISSON(F2671,Berekening!$G$52,TRUE)","v":1},2667]
[{"$f":"POISSON(B2672,Berekening!$G$27,TRUE)","v":1},2668,{"$f":"POISSON(D2672,Berekening!$G$50,TRUE)","v":1},2668,{"$f":"POISSON(F2672,Berekening!$G$52,TRUE)","v":1},2668]
[{"$f":"POISSON(B2673,Berekening!$G$27,TRUE)","v":1},2669,{"$f":"POISSON(D2673,Berekening!$G$50,TRUE)","v":1},2669,{"$f":"POISSON(F2673,Berekening!$G$52,TRUE)","v":1},2669]
[{"$f":"POISSON(B2674,Berekening!$G$27,TRUE)","v":1},2670,{"$f":"POISSON(D2674,Berekening!$G$50,TRUE)","v":1},2670,{"$f":"POISSON(F2674,Berekening!$G$52,TRUE)","v":1},2670]
[{"$f":"POISSON(B2675,Berekening!$G$27,TRUE)","v":1},2671,{"$f":"POISSON(D2675,Berekening!$G$50,TRUE)","v":1},2671,{"$f":"POISSON(F2675,Berekening!$G$52,TRUE)","v":1},2671]
[{"$f":"POISSON(B2676,Berekening!$G$27,TRUE)","v":1},2672,{"$f":"POISSON(D2676,Berekening!$G$50,TRUE)","v":1},2672,{"$f":"POISSON(F2676,Berekening!$G$52,TRUE)","v":1},2672]
[{"$f":"POISSON(B2677,Berekening!$G$27,TRUE)","v":1},2673,{"$f":"POISSON(D2677,Berekening!$G$50,TRUE)","v":1},2673,{"$f":"POISSON(F2677,Berekening!$G$52,TRUE)","v":1},2673]
[{"$f":"POISSON(B2678,Berekening!$G$27,TRUE)","v":1},2674,{"$f":"POISSON(D2678,Berekening!$G$50,TRUE)","v":1},2674,{"$f":"POISSON(F2678,Berekening!$G$52,TRUE)","v":1},2674]
[{"$f":"POISSON(B2679,Berekening!$G$27,TRUE)","v":1},2675,{"$f":"POISSON(D2679,Berekening!$G$50,TRUE)","v":1},2675,{"$f":"POISSON(F2679,Berekening!$G$52,TRUE)","v":1},2675]
[{"$f":"POISSON(B2680,Berekening!$G$27,TRUE)","v":1},2676,{"$f":"POISSON(D2680,Berekening!$G$50,TRUE)","v":1},2676,{"$f":"POISSON(F2680,Berekening!$G$52,TRUE)","v":1},2676]
[{"$f":"POISSON(B2681,Berekening!$G$27,TRUE)","v":1},2677,{"$f":"POISSON(D2681,Berekening!$G$50,TRUE)","v":1},2677,{"$f":"POISSON(F2681,Berekening!$G$52,TRUE)","v":1},2677]
[{"$f":"POISSON(B2682,Berekening!$G$27,TRUE)","v":1},2678,{"$f":"POISSON(D2682,Berekening!$G$50,TRUE)","v":1},2678,{"$f":"POISSON(F2682,Berekening!$G$52,TRUE)","v":1},2678]
[{"$f":"POISSON(B2683,Berekening!$G$27,TRUE)","v":1},2679,{"$f":"POISSON(D2683,Berekening!$G$50,TRUE)","v":1},2679,{"$f":"POISSON(F2683,Berekening!$G$52,TRUE)","v":1},2679]
[{"$f":"POISSON(B2684,Berekening!$G$27,TRUE)","v":1},2680,{"$f":"POISSON(D2684,Berekening!$G$50,TRUE)","v":1},2680,{"$f":"POISSON(F2684,Berekening!$G$52,TRUE)","v":1},2680]
[{"$f":"POISSON(B2685,Berekening!$G$27,TRUE)","v":1},2681,{"$f":"POISSON(D2685,Berekening!$G$50,TRUE)","v":1},2681,{"$f":"POISSON(F2685,Berekening!$G$52,TRUE)","v":1},2681]
[{"$f":"POISSON(B2686,Berekening!$G$27,TRUE)","v":1},2682,{"$f":"POISSON(D2686,Berekening!$G$50,TRUE)","v":1},2682,{"$f":"POISSON(F2686,Berekening!$G$52,TRUE)","v":1},2682]
[{"$f":"POISSON(B2687,Berekening!$G$27,TRUE)","v":1},2683,{"$f":"POISSON(D2687,Berekening!$G$50,TRUE)","v":1},2683,{"$f":"POISSON(F2687,Berekening!$G$52,TRUE)","v":1},2683]
[{"$f":"POISSON(B2688,Berekening!$G$27,TRUE)","v":1},2684,{"$f":"POISSON(D2688,Berekening!$G$50,TRUE)","v":1},2684,{"$f":"POISSON(F2688,Berekening!$G$52,TRUE)","v":1},2684]
[{"$f":"POISSON(B2689,Berekening!$G$27,TRUE)","v":1},2685,{"$f":"POISSON(D2689,Berekening!$G$50,TRUE)","v":1},2685,{"$f":"POISSON(F2689,Berekening!$G$52,TRUE)","v":1},2685]
[{"$f":"POISSON(B2690,Berekening!$G$27,TRUE)","v":1},2686,{"$f":"POISSON(D2690,Berekening!$G$50,TRUE)","v":1},2686,{"$f":"POISSON(F2690,Berekening!$G$52,TRUE)","v":1},2686]
[{"$f":"POISSON(B2691,Berekening!$G$27,TRUE)","v":1},2687,{"$f":"POISSON(D2691,Berekening!$G$50,TRUE)","v":1},2687,{"$f":"POISSON(F2691,Berekening!$G$52,TRUE)","v":1},2687]
[{"$f":"POISSON(B2692,Berekening!$G$27,TRUE)","v":1},2688,{"$f":"POISSON(D2692,Berekening!$G$50,TRUE)","v":1},2688,{"$f":"POISSON(F2692,Berekening!$G$52,TRUE)","v":1},2688]
[{"$f":"POISSON(B2693,Berekening!$G$27,TRUE)","v":1},2689,{"$f":"POISSON(D2693,Berekening!$G$50,TRUE)","v":1},2689,{"$f":"POISSON(F2693,Berekening!$G$52,TRUE)","v":1},2689]
[{"$f":"POISSON(B2694,Berekening!$G$27,TRUE)","v":1},2690,{"$f":"POISSON(D2694,Berekening!$G$50,TRUE)","v":1},2690,{"$f":"POISSON(F2694,Berekening!$G$52,TRUE)","v":1},2690]
[{"$f":"POISSON(B2695,Berekening!$G$27,TRUE)","v":1},2691,{"$f":"POISSON(D2695,Berekening!$G$50,TRUE)","v":1},2691,{"$f":"POISSON(F2695,Berekening!$G$52,TRUE)","v":1},2691]
[{"$f":"POISSON(B2696,Berekening!$G$27,TRUE)","v":1},2692,{"$f":"POISSON(D2696,Berekening!$G$50,TRUE)","v":1},2692,{"$f":"POISSON(F2696,Berekening!$G$52,TRUE)","v":1},2692]
[{"$f":"POISSON(B2697,Berekening!$G$27,TRUE)","v":1},2693,{"$f":"POISSON(D2697,Berekening!$G$50,TRUE)","v":1},2693,{"$f":"POISSON(F2697,Berekening!$G$52,TRUE)","v":1},2693]
[{"$f":"POISSON(B2698,Berekening!$G$27,TRUE)","v":1},2694,{"$f":"POISSON(D2698,Berekening!$G$50,TRUE)","v":1},2694,{"$f":"POISSON(F2698,Berekening!$G$52,TRUE)","v":1},2694]
[{"$f":"POISSON(B2699,Berekening!$G$27,TRUE)","v":1},2695,{"$f":"POISSON(D2699,Berekening!$G$50,TRUE)","v":1},2695,{"$f":"POISSON(F2699,Berekening!$G$52,TRUE)","v":1},2695]
[{"$f":"POISSON(B2700,Berekening!$G$27,TRUE)","v":1},2696,{"$f":"POISSON(D2700,Berekening!$G$50,TRUE)","v":1},2696,{"$f":"POISSON(F2700,Berekening!$G$52,TRUE)","v":1},2696]
[{"$f":"POISSON(B2701,Berekening!$G$27,TRUE)","v":1},2697,{"$f":"POISSON(D2701,Berekening!$G$50,TRUE)","v":1},2697,{"$f":"POISSON(F2701,Berekening!$G$52,TRUE)","v":1},2697]
[{"$f":"POISSON(B2702,Berekening!$G$27,TRUE)","v":1},2698,{"$f":"POISSON(D2702,Berekening!$G$50,TRUE)","v":1},2698,{"$f":"POISSON(F2702,Berekening!$G$52,TRUE)","v":1},2698]
[{"$f":"POISSON(B2703,Berekening!$G$27,TRUE)","v":1},2699,{"$f":"POISSON(D2703,Berekening!$G$50,TRUE)","v":1},2699,{"$f":"POISSON(F2703,Berekening!$G$52,TRUE)","v":1},2699]
[{"$f":"POISSON(B2704,Berekening!$G$27,TRUE)","v":1},2700,{"$f":"POISSON(D2704,Berekening!$G$50,TRUE)","v":1},2700,{"$f":"POISSON(F2704,Berekening!$G$52,TRUE)","v":1},2700]
[{"$f":"POISSON(B2705,Berekening!$G$27,TRUE)","v":1},2701,{"$f":"POISSON(D2705,Berekening!$G$50,TRUE)","v":1},2701,{"$f":"POISSON(F2705,Berekening!$G$52,TRUE)","v":1},2701]
[{"$f":"POISSON(B2706,Berekening!$G$27,TRUE)","v":1},2702,{"$f":"POISSON(D2706,Berekening!$G$50,TRUE)","v":1},2702,{"$f":"POISSON(F2706,Berekening!$G$52,TRUE)","v":1},2702]
[{"$f":"POISSON(B2707,Berekening!$G$27,TRUE)","v":1},2703,{"$f":"POISSON(D2707,Berekening!$G$50,TRUE)","v":1},2703,{"$f":"POISSON(F2707,Berekening!$G$52,TRUE)","v":1},2703]
[{"$f":"POISSON(B2708,Berekening!$G$27,TRUE)","v":1},2704,{"$f":"POISSON(D2708,Berekening!$G$50,TRUE)","v":1},2704,{"$f":"POISSON(F2708,Berekening!$G$52,TRUE)","v":1},2704]
[{"$f":"POISSON(B2709,Berekening!$G$27,TRUE)","v":1},2705,{"$f":"POISSON(D2709,Berekening!$G$50,TRUE)","v":1},2705,{"$f":"POISSON(F2709,Berekening!$G$52,TRUE)","v":1},2705]
[{"$f":"POISSON(B2710,Berekening!$G$27,TRUE)","v":1},2706,{"$f":"POISSON(D2710,Berekening!$G$50,TRUE)","v":1},2706,{"$f":"POISSON(F2710,Berekening!$G$52,TRUE)","v":1},2706]
[{"$f":"POISSON(B2711,Berekening!$G$27,TRUE)","v":1},2707,{"$f":"POISSON(D2711,Berekening!$G$50,TRUE)","v":1},2707,{"$f":"POISSON(F2711,Berekening!$G$52,TRUE)","v":1},2707]
[{"$f":"POISSON(B2712,Berekening!$G$27,TRUE)","v":1},2708,{"$f":"POISSON(D2712,Berekening!$G$50,TRUE)","v":1},2708,{"$f":"POISSON(F2712,Berekening!$G$52,TRUE)","v":1},2708]
[{"$f":"POISSON(B2713,Berekening!$G$27,TRUE)","v":1},2709,{"$f":"POISSON(D2713,Berekening!$G$50,TRUE)","v":1},2709,{"$f":"POISSON(F2713,Berekening!$G$52,TRUE)","v":1},2709]
[{"$f":"POISSON(B2714,Berekening!$G$27,TRUE)","v":1},2710,{"$f":"POISSON(D2714,Berekening!$G$50,TRUE)","v":1},2710,{"$f":"POISSON(F2714,Berekening!$G$52,TRUE)","v":1},2710]
[{"$f":"POISSON(B2715,Berekening!$G$27,TRUE)","v":1},2711,{"$f":"POISSON(D2715,Berekening!$G$50,TRUE)","v":1},2711,{"$f":"POISSON(F2715,Berekening!$G$52,TRUE)","v":1},2711]
[{"$f":"POISSON(B2716,Berekening!$G$27,TRUE)","v":1},2712,{"$f":"POISSON(D2716,Berekening!$G$50,TRUE)","v":1},2712,{"$f":"POISSON(F2716,Berekening!$G$52,TRUE)","v":1},2712]
[{"$f":"POISSON(B2717,Berekening!$G$27,TRUE)","v":1},2713,{"$f":"POISSON(D2717,Berekening!$G$50,TRUE)","v":1},2713,{"$f":"POISSON(F2717,Berekening!$G$52,TRUE)","v":1},2713]
[{"$f":"POISSON(B2718,Berekening!$G$27,TRUE)","v":1},2714,{"$f":"POISSON(D2718,Berekening!$G$50,TRUE)","v":1},2714,{"$f":"POISSON(F2718,Berekening!$G$52,TRUE)","v":1},2714]
[{"$f":"POISSON(B2719,Berekening!$G$27,TRUE)","v":1},2715,{"$f":"POISSON(D2719,Berekening!$G$50,TRUE)","v":1},2715,{"$f":"POISSON(F2719,Berekening!$G$52,TRUE)","v":1},2715]
[{"$f":"POISSON(B2720,Berekening!$G$27,TRUE)","v":1},2716,{"$f":"POISSON(D2720,Berekening!$G$50,TRUE)","v":1},2716,{"$f":"POISSON(F2720,Berekening!$G$52,TRUE)","v":1},2716]
[{"$f":"POISSON(B2721,Berekening!$G$27,TRUE)","v":1},2717,{"$f":"POISSON(D2721,Berekening!$G$50,TRUE)","v":1},2717,{"$f":"POISSON(F2721,Berekening!$G$52,TRUE)","v":1},2717]
[{"$f":"POISSON(B2722,Berekening!$G$27,TRUE)","v":1},2718,{"$f":"POISSON(D2722,Berekening!$G$50,TRUE)","v":1},2718,{"$f":"POISSON(F2722,Berekening!$G$52,TRUE)","v":1},2718]
[{"$f":"POISSON(B2723,Berekening!$G$27,TRUE)","v":1},2719,{"$f":"POISSON(D2723,Berekening!$G$50,TRUE)","v":1},2719,{"$f":"POISSON(F2723,Berekening!$G$52,TRUE)","v":1},2719]
[{"$f":"POISSON(B2724,Berekening!$G$27,TRUE)","v":1},2720,{"$f":"POISSON(D2724,Berekening!$G$50,TRUE)","v":1},2720,{"$f":"POISSON(F2724,Berekening!$G$52,TRUE)","v":1},2720]
[{"$f":"POISSON(B2725,Berekening!$G$27,TRUE)","v":1},2721,{"$f":"POISSON(D2725,Berekening!$G$50,TRUE)","v":1},2721,{"$f":"POISSON(F2725,Berekening!$G$52,TRUE)","v":1},2721]
[{"$f":"POISSON(B2726,Berekening!$G$27,TRUE)","v":1},2722,{"$f":"POISSON(D2726,Berekening!$G$50,TRUE)","v":1},2722,{"$f":"POISSON(F2726,Berekening!$G$52,TRUE)","v":1},2722]
[{"$f":"POISSON(B2727,Berekening!$G$27,TRUE)","v":1},2723,{"$f":"POISSON(D2727,Berekening!$G$50,TRUE)","v":1},2723,{"$f":"POISSON(F2727,Berekening!$G$52,TRUE)","v":1},2723]
[{"$f":"POISSON(B2728,Berekening!$G$27,TRUE)","v":1},2724,{"$f":"POISSON(D2728,Berekening!$G$50,TRUE)","v":1},2724,{"$f":"POISSON(F2728,Berekening!$G$52,TRUE)","v":1},2724]
[{"$f":"POISSON(B2729,Berekening!$G$27,TRUE)","v":1},2725,{"$f":"POISSON(D2729,Berekening!$G$50,TRUE)","v":1},2725,{"$f":"POISSON(F2729,Berekening!$G$52,TRUE)","v":1},2725]
[{"$f":"POISSON(B2730,Berekening!$G$27,TRUE)","v":1},2726,{"$f":"POISSON(D2730,Berekening!$G$50,TRUE)","v":1},2726,{"$f":"POISSON(F2730,Berekening!$G$52,TRUE)","v":1},2726]
[{"$f":"POISSON(B2731,Berekening!$G$27,TRUE)","v":1},2727,{"$f":"POISSON(D2731,Berekening!$G$50,TRUE)","v":1},2727,{"$f":"POISSON(F2731,Berekening!$G$52,TRUE)","v":1},2727]
[{"$f":"POISSON(B2732,Berekening!$G$27,TRUE)","v":1},2728,{"$f":"POISSON(D2732,Berekening!$G$50,TRUE)","v":1},2728,{"$f":"POISSON(F2732,Berekening!$G$52,TRUE)","v":1},2728]
[{"$f":"POISSON(B2733,Berekening!$G$27,TRUE)","v":1},2729,{"$f":"POISSON(D2733,Berekening!$G$50,TRUE)","v":1},2729,{"$f":"POISSON(F2733,Berekening!$G$52,TRUE)","v":1},2729]
[{"$f":"POISSON(B2734,Berekening!$G$27,TRUE)","v":1},2730,{"$f":"POISSON(D2734,Berekening!$G$50,TRUE)","v":1},2730,{"$f":"POISSON(F2734,Berekening!$G$52,TRUE)","v":1},2730]
[{"$f":"POISSON(B2735,Berekening!$G$27,TRUE)","v":1},2731,{"$f":"POISSON(D2735,Berekening!$G$50,TRUE)","v":1},2731,{"$f":"POISSON(F2735,Berekening!$G$52,TRUE)","v":1},2731]
[{"$f":"POISSON(B2736,Berekening!$G$27,TRUE)","v":1},2732,{"$f":"POISSON(D2736,Berekening!$G$50,TRUE)","v":1},2732,{"$f":"POISSON(F2736,Berekening!$G$52,TRUE)","v":1},2732]
[{"$f":"POISSON(B2737,Berekening!$G$27,TRUE)","v":1},2733,{"$f":"POISSON(D2737,Berekening!$G$50,TRUE)","v":1},2733,{"$f":"POISSON(F2737,Berekening!$G$52,TRUE)","v":1},2733]
[{"$f":"POISSON(B2738,Berekening!$G$27,TRUE)","v":1},2734,{"$f":"POISSON(D2738,Berekening!$G$50,TRUE)","v":1},2734,{"$f":"POISSON(F2738,Berekening!$G$52,TRUE)","v":1},2734]
[{"$f":"POISSON(B2739,Berekening!$G$27,TRUE)","v":1},2735,{"$f":"POISSON(D2739,Berekening!$G$50,TRUE)","v":1},2735,{"$f":"POISSON(F2739,Berekening!$G$52,TRUE)","v":1},2735]
[{"$f":"POISSON(B2740,Berekening!$G$27,TRUE)","v":1},2736,{"$f":"POISSON(D2740,Berekening!$G$50,TRUE)","v":1},2736,{"$f":"POISSON(F2740,Berekening!$G$52,TRUE)","v":1},2736]
[{"$f":"POISSON(B2741,Berekening!$G$27,TRUE)","v":1},2737,{"$f":"POISSON(D2741,Berekening!$G$50,TRUE)","v":1},2737,{"$f":"POISSON(F2741,Berekening!$G$52,TRUE)","v":1},2737]
[{"$f":"POISSON(B2742,Berekening!$G$27,TRUE)","v":1},2738,{"$f":"POISSON(D2742,Berekening!$G$50,TRUE)","v":1},2738,{"$f":"POISSON(F2742,Berekening!$G$52,TRUE)","v":1},2738]
[{"$f":"POISSON(B2743,Berekening!$G$27,TRUE)","v":1},2739,{"$f":"POISSON(D2743,Berekening!$G$50,TRUE)","v":1},2739,{"$f":"POISSON(F2743,Berekening!$G$52,TRUE)","v":1},2739]
[{"$f":"POISSON(B2744,Berekening!$G$27,TRUE)","v":1},2740,{"$f":"POISSON(D2744,Berekening!$G$50,TRUE)","v":1},2740,{"$f":"POISSON(F2744,Berekening!$G$52,TRUE)","v":1},2740]
[{"$f":"POISSON(B2745,Berekening!$G$27,TRUE)","v":1},2741,{"$f":"POISSON(D2745,Berekening!$G$50,TRUE)","v":1},2741,{"$f":"POISSON(F2745,Berekening!$G$52,TRUE)","v":1},2741]
[{"$f":"POISSON(B2746,Berekening!$G$27,TRUE)","v":1},2742,{"$f":"POISSON(D2746,Berekening!$G$50,TRUE)","v":1},2742,{"$f":"POISSON(F2746,Berekening!$G$52,TRUE)","v":1},2742]
[{"$f":"POISSON(B2747,Berekening!$G$27,TRUE)","v":1},2743,{"$f":"POISSON(D2747,Berekening!$G$50,TRUE)","v":1},2743,{"$f":"POISSON(F2747,Berekening!$G$52,TRUE)","v":1},2743]
[{"$f":"POISSON(B2748,Berekening!$G$27,TRUE)","v":1},2744,{"$f":"POISSON(D2748,Berekening!$G$50,TRUE)","v":1},2744,{"$f":"POISSON(F2748,Berekening!$G$52,TRUE)","v":1},2744]
[{"$f":"POISSON(B2749,Berekening!$G$27,TRUE)","v":1},2745,{"$f":"POISSON(D2749,Berekening!$G$50,TRUE)","v":1},2745,{"$f":"POISSON(F2749,Berekening!$G$52,TRUE)","v":1},2745]
[{"$f":"POISSON(B2750,Berekening!$G$27,TRUE)","v":1},2746,{"$f":"POISSON(D2750,Berekening!$G$50,TRUE)","v":1},2746,{"$f":"POISSON(F2750,Berekening!$G$52,TRUE)","v":1},2746]
[{"$f":"POISSON(B2751,Berekening!$G$27,TRUE)","v":1},2747,{"$f":"POISSON(D2751,Berekening!$G$50,TRUE)","v":1},2747,{"$f":"POISSON(F2751,Berekening!$G$52,TRUE)","v":1},2747]
[{"$f":"POISSON(B2752,Berekening!$G$27,TRUE)","v":1},2748,{"$f":"POISSON(D2752,Berekening!$G$50,TRUE)","v":1},2748,{"$f":"POISSON(F2752,Berekening!$G$52,TRUE)","v":1},2748]
[{"$f":"POISSON(B2753,Berekening!$G$27,TRUE)","v":1},2749,{"$f":"POISSON(D2753,Berekening!$G$50,TRUE)","v":1},2749,{"$f":"POISSON(F2753,Berekening!$G$52,TRUE)","v":1},2749]
[{"$f":"POISSON(B2754,Berekening!$G$27,TRUE)","v":1},2750,{"$f":"POISSON(D2754,Berekening!$G$50,TRUE)","v":1},2750,{"$f":"POISSON(F2754,Berekening!$G$52,TRUE)","v":1},2750]
[{"$f":"POISSON(B2755,Berekening!$G$27,TRUE)","v":1},2751,{"$f":"POISSON(D2755,Berekening!$G$50,TRUE)","v":1},2751,{"$f":"POISSON(F2755,Berekening!$G$52,TRUE)","v":1},2751]
[{"$f":"POISSON(B2756,Berekening!$G$27,TRUE)","v":1},2752,{"$f":"POISSON(D2756,Berekening!$G$50,TRUE)","v":1},2752,{"$f":"POISSON(F2756,Berekening!$G$52,TRUE)","v":1},2752]
[{"$f":"POISSON(B2757,Berekening!$G$27,TRUE)","v":1},2753,{"$f":"POISSON(D2757,Berekening!$G$50,TRUE)","v":1},2753,{"$f":"POISSON(F2757,Berekening!$G$52,TRUE)","v":1},2753]
[{"$f":"POISSON(B2758,Berekening!$G$27,TRUE)","v":1},2754,{"$f":"POISSON(D2758,Berekening!$G$50,TRUE)","v":1},2754,{"$f":"POISSON(F2758,Berekening!$G$52,TRUE)","v":1},2754]
[{"$f":"POISSON(B2759,Berekening!$G$27,TRUE)","v":1},2755,{"$f":"POISSON(D2759,Berekening!$G$50,TRUE)","v":1},2755,{"$f":"POISSON(F2759,Berekening!$G$52,TRUE)","v":1},2755]
[{"$f":"POISSON(B2760,Berekening!$G$27,TRUE)","v":1},2756,{"$f":"POISSON(D2760,Berekening!$G$50,TRUE)","v":1},2756,{"$f":"POISSON(F2760,Berekening!$G$52,TRUE)","v":1},2756]
[{"$f":"POISSON(B2761,Berekening!$G$27,TRUE)","v":1},2757,{"$f":"POISSON(D2761,Berekening!$G$50,TRUE)","v":1},2757,{"$f":"POISSON(F2761,Berekening!$G$52,TRUE)","v":1},2757]
[{"$f":"POISSON(B2762,Berekening!$G$27,TRUE)","v":1},2758,{"$f":"POISSON(D2762,Berekening!$G$50,TRUE)","v":1},2758,{"$f":"POISSON(F2762,Berekening!$G$52,TRUE)","v":1},2758]
[{"$f":"POISSON(B2763,Berekening!$G$27,TRUE)","v":1},2759,{"$f":"POISSON(D2763,Berekening!$G$50,TRUE)","v":1},2759,{"$f":"POISSON(F2763,Berekening!$G$52,TRUE)","v":1},2759]
[{"$f":"POISSON(B2764,Berekening!$G$27,TRUE)","v":1},2760,{"$f":"POISSON(D2764,Berekening!$G$50,TRUE)","v":1},2760,{"$f":"POISSON(F2764,Berekening!$G$52,TRUE)","v":1},2760]
[{"$f":"POISSON(B2765,Berekening!$G$27,TRUE)","v":1},2761,{"$f":"POISSON(D2765,Berekening!$G$50,TRUE)","v":1},2761,{"$f":"POISSON(F2765,Berekening!$G$52,TRUE)","v":1},2761]
[{"$f":"POISSON(B2766,Berekening!$G$27,TRUE)","v":1},2762,{"$f":"POISSON(D2766,Berekening!$G$50,TRUE)","v":1},2762,{"$f":"POISSON(F2766,Berekening!$G$52,TRUE)","v":1},2762]
[{"$f":"POISSON(B2767,Berekening!$G$27,TRUE)","v":1},2763,{"$f":"POISSON(D2767,Berekening!$G$50,TRUE)","v":1},2763,{"$f":"POISSON(F2767,Berekening!$G$52,TRUE)","v":1},2763]
[{"$f":"POISSON(B2768,Berekening!$G$27,TRUE)","v":1},2764,{"$f":"POISSON(D2768,Berekening!$G$50,TRUE)","v":1},2764,{"$f":"POISSON(F2768,Berekening!$G$52,TRUE)","v":1},2764]
[{"$f":"POISSON(B2769,Berekening!$G$27,TRUE)","v":1},2765,{"$f":"POISSON(D2769,Berekening!$G$50,TRUE)","v":1},2765,{"$f":"POISSON(F2769,Berekening!$G$52,TRUE)","v":1},2765]
[{"$f":"POISSON(B2770,Berekening!$G$27,TRUE)","v":1},2766,{"$f":"POISSON(D2770,Berekening!$G$50,TRUE)","v":1},2766,{"$f":"POISSON(F2770,Berekening!$G$52,TRUE)","v":1},2766]
[{"$f":"POISSON(B2771,Berekening!$G$27,TRUE)","v":1},2767,{"$f":"POISSON(D2771,Berekening!$G$50,TRUE)","v":1},2767,{"$f":"POISSON(F2771,Berekening!$G$52,TRUE)","v":1},2767]
[{"$f":"POISSON(B2772,Berekening!$G$27,TRUE)","v":1},2768,{"$f":"POISSON(D2772,Berekening!$G$50,TRUE)","v":1},2768,{"$f":"POISSON(F2772,Berekening!$G$52,TRUE)","v":1},2768]
[{"$f":"POISSON(B2773,Berekening!$G$27,TRUE)","v":1},2769,{"$f":"POISSON(D2773,Berekening!$G$50,TRUE)","v":1},2769,{"$f":"POISSON(F2773,Berekening!$G$52,TRUE)","v":1},2769]
[{"$f":"POISSON(B2774,Berekening!$G$27,TRUE)","v":1},2770,{"$f":"POISSON(D2774,Berekening!$G$50,TRUE)","v":1},2770,{"$f":"POISSON(F2774,Berekening!$G$52,TRUE)","v":1},2770]
[{"$f":"POISSON(B2775,Berekening!$G$27,TRUE)","v":1},2771,{"$f":"POISSON(D2775,Berekening!$G$50,TRUE)","v":1},2771,{"$f":"POISSON(F2775,Berekening!$G$52,TRUE)","v":1},2771]
[{"$f":"POISSON(B2776,Berekening!$G$27,TRUE)","v":1},2772,{"$f":"POISSON(D2776,Berekening!$G$50,TRUE)","v":1},2772,{"$f":"POISSON(F2776,Berekening!$G$52,TRUE)","v":1},2772]
[{"$f":"POISSON(B2777,Berekening!$G$27,TRUE)","v":1},2773,{"$f":"POISSON(D2777,Berekening!$G$50,TRUE)","v":1},2773,{"$f":"POISSON(F2777,Berekening!$G$52,TRUE)","v":1},2773]
[{"$f":"POISSON(B2778,Berekening!$G$27,TRUE)","v":1},2774,{"$f":"POISSON(D2778,Berekening!$G$50,TRUE)","v":1},2774,{"$f":"POISSON(F2778,Berekening!$G$52,TRUE)","v":1},2774]
[{"$f":"POISSON(B2779,Berekening!$G$27,TRUE)","v":1},2775,{"$f":"POISSON(D2779,Berekening!$G$50,TRUE)","v":1},2775,{"$f":"POISSON(F2779,Berekening!$G$52,TRUE)","v":1},2775]
[{"$f":"POISSON(B2780,Berekening!$G$27,TRUE)","v":1},2776,{"$f":"POISSON(D2780,Berekening!$G$50,TRUE)","v":1},2776,{"$f":"POISSON(F2780,Berekening!$G$52,TRUE)","v":1},2776]
[{"$f":"POISSON(B2781,Berekening!$G$27,TRUE)","v":1},2777,{"$f":"POISSON(D2781,Berekening!$G$50,TRUE)","v":1},2777,{"$f":"POISSON(F2781,Berekening!$G$52,TRUE)","v":1},2777]
[{"$f":"POISSON(B2782,Berekening!$G$27,TRUE)","v":1},2778,{"$f":"POISSON(D2782,Berekening!$G$50,TRUE)","v":1},2778,{"$f":"POISSON(F2782,Berekening!$G$52,TRUE)","v":1},2778]
[{"$f":"POISSON(B2783,Berekening!$G$27,TRUE)","v":1},2779,{"$f":"POISSON(D2783,Berekening!$G$50,TRUE)","v":1},2779,{"$f":"POISSON(F2783,Berekening!$G$52,TRUE)","v":1},2779]
[{"$f":"POISSON(B2784,Berekening!$G$27,TRUE)","v":1},2780,{"$f":"POISSON(D2784,Berekening!$G$50,TRUE)","v":1},2780,{"$f":"POISSON(F2784,Berekening!$G$52,TRUE)","v":1},2780]
[{"$f":"POISSON(B2785,Berekening!$G$27,TRUE)","v":1},2781,{"$f":"POISSON(D2785,Berekening!$G$50,TRUE)","v":1},2781,{"$f":"POISSON(F2785,Berekening!$G$52,TRUE)","v":1},2781]
[{"$f":"POISSON(B2786,Berekening!$G$27,TRUE)","v":1},2782,{"$f":"POISSON(D2786,Berekening!$G$50,TRUE)","v":1},2782,{"$f":"POISSON(F2786,Berekening!$G$52,TRUE)","v":1},2782]
[{"$f":"POISSON(B2787,Berekening!$G$27,TRUE)","v":1},2783,{"$f":"POISSON(D2787,Berekening!$G$50,TRUE)","v":1},2783,{"$f":"POISSON(F2787,Berekening!$G$52,TRUE)","v":1},2783]
[{"$f":"POISSON(B2788,Berekening!$G$27,TRUE)","v":1},2784,{"$f":"POISSON(D2788,Berekening!$G$50,TRUE)","v":1},2784,{"$f":"POISSON(F2788,Berekening!$G$52,TRUE)","v":1},2784]
[{"$f":"POISSON(B2789,Berekening!$G$27,TRUE)","v":1},2785,{"$f":"POISSON(D2789,Berekening!$G$50,TRUE)","v":1},2785,{"$f":"POISSON(F2789,Berekening!$G$52,TRUE)","v":1},2785]
[{"$f":"POISSON(B2790,Berekening!$G$27,TRUE)","v":1},2786,{"$f":"POISSON(D2790,Berekening!$G$50,TRUE)","v":1},2786,{"$f":"POISSON(F2790,Berekening!$G$52,TRUE)","v":1},2786]
[{"$f":"POISSON(B2791,Berekening!$G$27,TRUE)","v":1},2787,{"$f":"POISSON(D2791,Berekening!$G$50,TRUE)","v":1},2787,{"$f":"POISSON(F2791,Berekening!$G$52,TRUE)","v":1},2787]
[{"$f":"POISSON(B2792,Berekening!$G$27,TRUE)","v":1},2788,{"$f":"POISSON(D2792,Berekening!$G$50,TRUE)","v":1},2788,{"$f":"POISSON(F2792,Berekening!$G$52,TRUE)","v":1},2788]
[{"$f":"POISSON(B2793,Berekening!$G$27,TRUE)","v":1},2789,{"$f":"POISSON(D2793,Berekening!$G$50,TRUE)","v":1},2789,{"$f":"POISSON(F2793,Berekening!$G$52,TRUE)","v":1},2789]
[{"$f":"POISSON(B2794,Berekening!$G$27,TRUE)","v":1},2790,{"$f":"POISSON(D2794,Berekening!$G$50,TRUE)","v":1},2790,{"$f":"POISSON(F2794,Berekening!$G$52,TRUE)","v":1},2790]
[{"$f":"POISSON(B2795,Berekening!$G$27,TRUE)","v":1},2791,{"$f":"POISSON(D2795,Berekening!$G$50,TRUE)","v":1},2791,{"$f":"POISSON(F2795,Berekening!$G$52,TRUE)","v":1},2791]
[{"$f":"POISSON(B2796,Berekening!$G$27,TRUE)","v":1},2792,{"$f":"POISSON(D2796,Berekening!$G$50,TRUE)","v":1},2792,{"$f":"POISSON(F2796,Berekening!$G$52,TRUE)","v":1},2792]
[{"$f":"POISSON(B2797,Berekening!$G$27,TRUE)","v":1},2793,{"$f":"POISSON(D2797,Berekening!$G$50,TRUE)","v":1},2793,{"$f":"POISSON(F2797,Berekening!$G$52,TRUE)","v":1},2793]
[{"$f":"POISSON(B2798,Berekening!$G$27,TRUE)","v":1},2794,{"$f":"POISSON(D2798,Berekening!$G$50,TRUE)","v":1},2794,{"$f":"POISSON(F2798,Berekening!$G$52,TRUE)","v":1},2794]
[{"$f":"POISSON(B2799,Berekening!$G$27,TRUE)","v":1},2795,{"$f":"POISSON(D2799,Berekening!$G$50,TRUE)","v":1},2795,{"$f":"POISSON(F2799,Berekening!$G$52,TRUE)","v":1},2795]
[{"$f":"POISSON(B2800,Berekening!$G$27,TRUE)","v":1},2796,{"$f":"POISSON(D2800,Berekening!$G$50,TRUE)","v":1},2796,{"$f":"POISSON(F2800,Berekening!$G$52,TRUE)","v":1},2796]
[{"$f":"POISSON(B2801,Berekening!$G$27,TRUE)","v":1},2797,{"$f":"POISSON(D2801,Berekening!$G$50,TRUE)","v":1},2797,{"$f":"POISSON(F2801,Berekening!$G$52,TRUE)","v":1},2797]
[{"$f":"POISSON(B2802,Berekening!$G$27,TRUE)","v":1},2798,{"$f":"POISSON(D2802,Berekening!$G$50,TRUE)","v":1},2798,{"$f":"POISSON(F2802,Berekening!$G$52,TRUE)","v":1},2798]
[{"$f":"POISSON(B2803,Berekening!$G$27,TRUE)","v":1},2799,{"$f":"POISSON(D2803,Berekening!$G$50,TRUE)","v":1},2799,{"$f":"POISSON(F2803,Berekening!$G$52,TRUE)","v":1},2799]
[{"$f":"POISSON(B2804,Berekening!$G$27,TRUE)","v":1},2800,{"$f":"POISSON(D2804,Berekening!$G$50,TRUE)","v":1},2800,{"$f":"POISSON(F2804,Berekening!$G$52,TRUE)","v":1},2800]
[{"$f":"POISSON(B2805,Berekening!$G$27,TRUE)","v":1},2801,{"$f":"POISSON(D2805,Berekening!$G$50,TRUE)","v":1},2801,{"$f":"POISSON(F2805,Berekening!$G$52,TRUE)","v":1},2801]
[{"$f":"POISSON(B2806,Berekening!$G$27,TRUE)","v":1},2802,{"$f":"POISSON(D2806,Berekening!$G$50,TRUE)","v":1},2802,{"$f":"POISSON(F2806,Berekening!$G$52,TRUE)","v":1},2802]
[{"$f":"POISSON(B2807,Berekening!$G$27,TRUE)","v":1},2803,{"$f":"POISSON(D2807,Berekening!$G$50,TRUE)","v":1},2803,{"$f":"POISSON(F2807,Berekening!$G$52,TRUE)","v":1},2803]
[{"$f":"POISSON(B2808,Berekening!$G$27,TRUE)","v":1},2804,{"$f":"POISSON(D2808,Berekening!$G$50,TRUE)","v":1},2804,{"$f":"POISSON(F2808,Berekening!$G$52,TRUE)","v":1},2804]
[{"$f":"POISSON(B2809,Berekening!$G$27,TRUE)","v":1},2805,{"$f":"POISSON(D2809,Berekening!$G$50,TRUE)","v":1},2805,{"$f":"POISSON(F2809,Berekening!$G$52,TRUE)","v":1},2805]
[{"$f":"POISSON(B2810,Berekening!$G$27,TRUE)","v":1},2806,{"$f":"POISSON(D2810,Berekening!$G$50,TRUE)","v":1},2806,{"$f":"POISSON(F2810,Berekening!$G$52,TRUE)","v":1},2806]
[{"$f":"POISSON(B2811,Berekening!$G$27,TRUE)","v":1},2807,{"$f":"POISSON(D2811,Berekening!$G$50,TRUE)","v":1},2807,{"$f":"POISSON(F2811,Berekening!$G$52,TRUE)","v":1},2807]
[{"$f":"POISSON(B2812,Berekening!$G$27,TRUE)","v":1},2808,{"$f":"POISSON(D2812,Berekening!$G$50,TRUE)","v":1},2808,{"$f":"POISSON(F2812,Berekening!$G$52,TRUE)","v":1},2808]
[{"$f":"POISSON(B2813,Berekening!$G$27,TRUE)","v":1},2809,{"$f":"POISSON(D2813,Berekening!$G$50,TRUE)","v":1},2809,{"$f":"POISSON(F2813,Berekening!$G$52,TRUE)","v":1},2809]
[{"$f":"POISSON(B2814,Berekening!$G$27,TRUE)","v":1},2810,{"$f":"POISSON(D2814,Berekening!$G$50,TRUE)","v":1},2810,{"$f":"POISSON(F2814,Berekening!$G$52,TRUE)","v":1},2810]
[{"$f":"POISSON(B2815,Berekening!$G$27,TRUE)","v":1},2811,{"$f":"POISSON(D2815,Berekening!$G$50,TRUE)","v":1},2811,{"$f":"POISSON(F2815,Berekening!$G$52,TRUE)","v":1},2811]
[{"$f":"POISSON(B2816,Berekening!$G$27,TRUE)","v":1},2812,{"$f":"POISSON(D2816,Berekening!$G$50,TRUE)","v":1},2812,{"$f":"POISSON(F2816,Berekening!$G$52,TRUE)","v":1},2812]
[{"$f":"POISSON(B2817,Berekening!$G$27,TRUE)","v":1},2813,{"$f":"POISSON(D2817,Berekening!$G$50,TRUE)","v":1},2813,{"$f":"POISSON(F2817,Berekening!$G$52,TRUE)","v":1},2813]
[{"$f":"POISSON(B2818,Berekening!$G$27,TRUE)","v":1},2814,{"$f":"POISSON(D2818,Berekening!$G$50,TRUE)","v":1},2814,{"$f":"POISSON(F2818,Berekening!$G$52,TRUE)","v":1},2814]
[{"$f":"POISSON(B2819,Berekening!$G$27,TRUE)","v":1},2815,{"$f":"POISSON(D2819,Berekening!$G$50,TRUE)","v":1},2815,{"$f":"POISSON(F2819,Berekening!$G$52,TRUE)","v":1},2815]
[{"$f":"POISSON(B2820,Berekening!$G$27,TRUE)","v":1},2816,{"$f":"POISSON(D2820,Berekening!$G$50,TRUE)","v":1},2816,{"$f":"POISSON(F2820,Berekening!$G$52,TRUE)","v":1},2816]
[{"$f":"POISSON(B2821,Berekening!$G$27,TRUE)","v":1},2817,{"$f":"POISSON(D2821,Berekening!$G$50,TRUE)","v":1},2817,{"$f":"POISSON(F2821,Berekening!$G$52,TRUE)","v":1},2817]
[{"$f":"POISSON(B2822,Berekening!$G$27,TRUE)","v":1},2818,{"$f":"POISSON(D2822,Berekening!$G$50,TRUE)","v":1},2818,{"$f":"POISSON(F2822,Berekening!$G$52,TRUE)","v":1},2818]
[{"$f":"POISSON(B2823,Berekening!$G$27,TRUE)","v":1},2819,{"$f":"POISSON(D2823,Berekening!$G$50,TRUE)","v":1},2819,{"$f":"POISSON(F2823,Berekening!$G$52,TRUE)","v":1},2819]
[{"$f":"POISSON(B2824,Berekening!$G$27,TRUE)","v":1},2820,{"$f":"POISSON(D2824,Berekening!$G$50,TRUE)","v":1},2820,{"$f":"POISSON(F2824,Berekening!$G$52,TRUE)","v":1},2820]
[{"$f":"POISSON(B2825,Berekening!$G$27,TRUE)","v":1},2821,{"$f":"POISSON(D2825,Berekening!$G$50,TRUE)","v":1},2821,{"$f":"POISSON(F2825,Berekening!$G$52,TRUE)","v":1},2821]
[{"$f":"POISSON(B2826,Berekening!$G$27,TRUE)","v":1},2822,{"$f":"POISSON(D2826,Berekening!$G$50,TRUE)","v":1},2822,{"$f":"POISSON(F2826,Berekening!$G$52,TRUE)","v":1},2822]
[{"$f":"POISSON(B2827,Berekening!$G$27,TRUE)","v":1},2823,{"$f":"POISSON(D2827,Berekening!$G$50,TRUE)","v":1},2823,{"$f":"POISSON(F2827,Berekening!$G$52,TRUE)","v":1},2823]
[{"$f":"POISSON(B2828,Berekening!$G$27,TRUE)","v":1},2824,{"$f":"POISSON(D2828,Berekening!$G$50,TRUE)","v":1},2824,{"$f":"POISSON(F2828,Berekening!$G$52,TRUE)","v":1},2824]
[{"$f":"POISSON(B2829,Berekening!$G$27,TRUE)","v":1},2825,{"$f":"POISSON(D2829,Berekening!$G$50,TRUE)","v":1},2825,{"$f":"POISSON(F2829,Berekening!$G$52,TRUE)","v":1},2825]
[{"$f":"POISSON(B2830,Berekening!$G$27,TRUE)","v":1},2826,{"$f":"POISSON(D2830,Berekening!$G$50,TRUE)","v":1},2826,{"$f":"POISSON(F2830,Berekening!$G$52,TRUE)","v":1},2826]
[{"$f":"POISSON(B2831,Berekening!$G$27,TRUE)","v":1},2827,{"$f":"POISSON(D2831,Berekening!$G$50,TRUE)","v":1},2827,{"$f":"POISSON(F2831,Berekening!$G$52,TRUE)","v":1},2827]
[{"$f":"POISSON(B2832,Berekening!$G$27,TRUE)","v":1},2828,{"$f":"POISSON(D2832,Berekening!$G$50,TRUE)","v":1},2828,{"$f":"POISSON(F2832,Berekening!$G$52,TRUE)","v":1},2828]
[{"$f":"POISSON(B2833,Berekening!$G$27,TRUE)","v":1},2829,{"$f":"POISSON(D2833,Berekening!$G$50,TRUE)","v":1},2829,{"$f":"POISSON(F2833,Berekening!$G$52,TRUE)","v":1},2829]
[{"$f":"POISSON(B2834,Berekening!$G$27,TRUE)","v":1},2830,{"$f":"POISSON(D2834,Berekening!$G$50,TRUE)","v":1},2830,{"$f":"POISSON(F2834,Berekening!$G$52,TRUE)","v":1},2830]
[{"$f":"POISSON(B2835,Berekening!$G$27,TRUE)","v":1},2831,{"$f":"POISSON(D2835,Berekening!$G$50,TRUE)","v":1},2831,{"$f":"POISSON(F2835,Berekening!$G$52,TRUE)","v":1},2831]
[{"$f":"POISSON(B2836,Berekening!$G$27,TRUE)","v":1},2832,{"$f":"POISSON(D2836,Berekening!$G$50,TRUE)","v":1},2832,{"$f":"POISSON(F2836,Berekening!$G$52,TRUE)","v":1},2832]
[{"$f":"POISSON(B2837,Berekening!$G$27,TRUE)","v":1},2833,{"$f":"POISSON(D2837,Berekening!$G$50,TRUE)","v":1},2833,{"$f":"POISSON(F2837,Berekening!$G$52,TRUE)","v":1},2833]
[{"$f":"POISSON(B2838,Berekening!$G$27,TRUE)","v":1},2834,{"$f":"POISSON(D2838,Berekening!$G$50,TRUE)","v":1},2834,{"$f":"POISSON(F2838,Berekening!$G$52,TRUE)","v":1},2834]
[{"$f":"POISSON(B2839,Berekening!$G$27,TRUE)","v":1},2835,{"$f":"POISSON(D2839,Berekening!$G$50,TRUE)","v":1},2835,{"$f":"POISSON(F2839,Berekening!$G$52,TRUE)","v":1},2835]
[{"$f":"POISSON(B2840,Berekening!$G$27,TRUE)","v":1},2836,{"$f":"POISSON(D2840,Berekening!$G$50,TRUE)","v":1},2836,{"$f":"POISSON(F2840,Berekening!$G$52,TRUE)","v":1},2836]
[{"$f":"POISSON(B2841,Berekening!$G$27,TRUE)","v":1},2837,{"$f":"POISSON(D2841,Berekening!$G$50,TRUE)","v":1},2837,{"$f":"POISSON(F2841,Berekening!$G$52,TRUE)","v":1},2837]
[{"$f":"POISSON(B2842,Berekening!$G$27,TRUE)","v":1},2838,{"$f":"POISSON(D2842,Berekening!$G$50,TRUE)","v":1},2838,{"$f":"POISSON(F2842,Berekening!$G$52,TRUE)","v":1},2838]
[{"$f":"POISSON(B2843,Berekening!$G$27,TRUE)","v":1},2839,{"$f":"POISSON(D2843,Berekening!$G$50,TRUE)","v":1},2839,{"$f":"POISSON(F2843,Berekening!$G$52,TRUE)","v":1},2839]
[{"$f":"POISSON(B2844,Berekening!$G$27,TRUE)","v":1},2840,{"$f":"POISSON(D2844,Berekening!$G$50,TRUE)","v":1},2840,{"$f":"POISSON(F2844,Berekening!$G$52,TRUE)","v":1},2840]
[{"$f":"POISSON(B2845,Berekening!$G$27,TRUE)","v":1},2841,{"$f":"POISSON(D2845,Berekening!$G$50,TRUE)","v":1},2841,{"$f":"POISSON(F2845,Berekening!$G$52,TRUE)","v":1},2841]
[{"$f":"POISSON(B2846,Berekening!$G$27,TRUE)","v":1},2842,{"$f":"POISSON(D2846,Berekening!$G$50,TRUE)","v":1},2842,{"$f":"POISSON(F2846,Berekening!$G$52,TRUE)","v":1},2842]
[{"$f":"POISSON(B2847,Berekening!$G$27,TRUE)","v":1},2843,{"$f":"POISSON(D2847,Berekening!$G$50,TRUE)","v":1},2843,{"$f":"POISSON(F2847,Berekening!$G$52,TRUE)","v":1},2843]
[{"$f":"POISSON(B2848,Berekening!$G$27,TRUE)","v":1},2844,{"$f":"POISSON(D2848,Berekening!$G$50,TRUE)","v":1},2844,{"$f":"POISSON(F2848,Berekening!$G$52,TRUE)","v":1},2844]
[{"$f":"POISSON(B2849,Berekening!$G$27,TRUE)","v":1},2845,{"$f":"POISSON(D2849,Berekening!$G$50,TRUE)","v":1},2845,{"$f":"POISSON(F2849,Berekening!$G$52,TRUE)","v":1},2845]
[{"$f":"POISSON(B2850,Berekening!$G$27,TRUE)","v":1},2846,{"$f":"POISSON(D2850,Berekening!$G$50,TRUE)","v":1},2846,{"$f":"POISSON(F2850,Berekening!$G$52,TRUE)","v":1},2846]
[{"$f":"POISSON(B2851,Berekening!$G$27,TRUE)","v":1},2847,{"$f":"POISSON(D2851,Berekening!$G$50,TRUE)","v":1},2847,{"$f":"POISSON(F2851,Berekening!$G$52,TRUE)","v":1},2847]
[{"$f":"POISSON(B2852,Berekening!$G$27,TRUE)","v":1},2848,{"$f":"POISSON(D2852,Berekening!$G$50,TRUE)","v":1},2848,{"$f":"POISSON(F2852,Berekening!$G$52,TRUE)","v":1},2848]
[{"$f":"POISSON(B2853,Berekening!$G$27,TRUE)","v":1},2849,{"$f":"POISSON(D2853,Berekening!$G$50,TRUE)","v":1},2849,{"$f":"POISSON(F2853,Berekening!$G$52,TRUE)","v":1},2849]
[{"$f":"POISSON(B2854,Berekening!$G$27,TRUE)","v":1},2850,{"$f":"POISSON(D2854,Berekening!$G$50,TRUE)","v":1},2850,{"$f":"POISSON(F2854,Berekening!$G$52,TRUE)","v":1},2850]
[{"$f":"POISSON(B2855,Berekening!$G$27,TRUE)","v":1},2851,{"$f":"POISSON(D2855,Berekening!$G$50,TRUE)","v":1},2851,{"$f":"POISSON(F2855,Berekening!$G$52,TRUE)","v":1},2851]
[{"$f":"POISSON(B2856,Berekening!$G$27,TRUE)","v":1},2852,{"$f":"POISSON(D2856,Berekening!$G$50,TRUE)","v":1},2852,{"$f":"POISSON(F2856,Berekening!$G$52,TRUE)","v":1},2852]
[{"$f":"POISSON(B2857,Berekening!$G$27,TRUE)","v":1},2853,{"$f":"POISSON(D2857,Berekening!$G$50,TRUE)","v":1},2853,{"$f":"POISSON(F2857,Berekening!$G$52,TRUE)","v":1},2853]
[{"$f":"POISSON(B2858,Berekening!$G$27,TRUE)","v":1},2854,{"$f":"POISSON(D2858,Berekening!$G$50,TRUE)","v":1},2854,{"$f":"POISSON(F2858,Berekening!$G$52,TRUE)","v":1},2854]
[{"$f":"POISSON(B2859,Berekening!$G$27,TRUE)","v":1},2855,{"$f":"POISSON(D2859,Berekening!$G$50,TRUE)","v":1},2855,{"$f":"POISSON(F2859,Berekening!$G$52,TRUE)","v":1},2855]
[{"$f":"POISSON(B2860,Berekening!$G$27,TRUE)","v":1},2856,{"$f":"POISSON(D2860,Berekening!$G$50,TRUE)","v":1},2856,{"$f":"POISSON(F2860,Berekening!$G$52,TRUE)","v":1},2856]
[{"$f":"POISSON(B2861,Berekening!$G$27,TRUE)","v":1},2857,{"$f":"POISSON(D2861,Berekening!$G$50,TRUE)","v":1},2857,{"$f":"POISSON(F2861,Berekening!$G$52,TRUE)","v":1},2857]
[{"$f":"POISSON(B2862,Berekening!$G$27,TRUE)","v":1},2858,{"$f":"POISSON(D2862,Berekening!$G$50,TRUE)","v":1},2858,{"$f":"POISSON(F2862,Berekening!$G$52,TRUE)","v":1},2858]
[{"$f":"POISSON(B2863,Berekening!$G$27,TRUE)","v":1},2859,{"$f":"POISSON(D2863,Berekening!$G$50,TRUE)","v":1},2859,{"$f":"POISSON(F2863,Berekening!$G$52,TRUE)","v":1},2859]
[{"$f":"POISSON(B2864,Berekening!$G$27,TRUE)","v":1},2860,{"$f":"POISSON(D2864,Berekening!$G$50,TRUE)","v":1},2860,{"$f":"POISSON(F2864,Berekening!$G$52,TRUE)","v":1},2860]
[{"$f":"POISSON(B2865,Berekening!$G$27,TRUE)","v":1},2861,{"$f":"POISSON(D2865,Berekening!$G$50,TRUE)","v":1},2861,{"$f":"POISSON(F2865,Berekening!$G$52,TRUE)","v":1},2861]
[{"$f":"POISSON(B2866,Berekening!$G$27,TRUE)","v":1},2862,{"$f":"POISSON(D2866,Berekening!$G$50,TRUE)","v":1},2862,{"$f":"POISSON(F2866,Berekening!$G$52,TRUE)","v":1},2862]
[{"$f":"POISSON(B2867,Berekening!$G$27,TRUE)","v":1},2863,{"$f":"POISSON(D2867,Berekening!$G$50,TRUE)","v":1},2863,{"$f":"POISSON(F2867,Berekening!$G$52,TRUE)","v":1},2863]
[{"$f":"POISSON(B2868,Berekening!$G$27,TRUE)","v":1},2864,{"$f":"POISSON(D2868,Berekening!$G$50,TRUE)","v":1},2864,{"$f":"POISSON(F2868,Berekening!$G$52,TRUE)","v":1},2864]
[{"$f":"POISSON(B2869,Berekening!$G$27,TRUE)","v":1},2865,{"$f":"POISSON(D2869,Berekening!$G$50,TRUE)","v":1},2865,{"$f":"POISSON(F2869,Berekening!$G$52,TRUE)","v":1},2865]
[{"$f":"POISSON(B2870,Berekening!$G$27,TRUE)","v":1},2866,{"$f":"POISSON(D2870,Berekening!$G$50,TRUE)","v":1},2866,{"$f":"POISSON(F2870,Berekening!$G$52,TRUE)","v":1},2866]
[{"$f":"POISSON(B2871,Berekening!$G$27,TRUE)","v":1},2867,{"$f":"POISSON(D2871,Berekening!$G$50,TRUE)","v":1},2867,{"$f":"POISSON(F2871,Berekening!$G$52,TRUE)","v":1},2867]
[{"$f":"POISSON(B2872,Berekening!$G$27,TRUE)","v":1},2868,{"$f":"POISSON(D2872,Berekening!$G$50,TRUE)","v":1},2868,{"$f":"POISSON(F2872,Berekening!$G$52,TRUE)","v":1},2868]
[{"$f":"POISSON(B2873,Berekening!$G$27,TRUE)","v":1},2869,{"$f":"POISSON(D2873,Berekening!$G$50,TRUE)","v":1},2869,{"$f":"POISSON(F2873,Berekening!$G$52,TRUE)","v":1},2869]
[{"$f":"POISSON(B2874,Berekening!$G$27,TRUE)","v":1},2870,{"$f":"POISSON(D2874,Berekening!$G$50,TRUE)","v":1},2870,{"$f":"POISSON(F2874,Berekening!$G$52,TRUE)","v":1},2870]
[{"$f":"POISSON(B2875,Berekening!$G$27,TRUE)","v":1},2871,{"$f":"POISSON(D2875,Berekening!$G$50,TRUE)","v":1},2871,{"$f":"POISSON(F2875,Berekening!$G$52,TRUE)","v":1},2871]
[{"$f":"POISSON(B2876,Berekening!$G$27,TRUE)","v":1},2872,{"$f":"POISSON(D2876,Berekening!$G$50,TRUE)","v":1},2872,{"$f":"POISSON(F2876,Berekening!$G$52,TRUE)","v":1},2872]
[{"$f":"POISSON(B2877,Berekening!$G$27,TRUE)","v":1},2873,{"$f":"POISSON(D2877,Berekening!$G$50,TRUE)","v":1},2873,{"$f":"POISSON(F2877,Berekening!$G$52,TRUE)","v":1},2873]
[{"$f":"POISSON(B2878,Berekening!$G$27,TRUE)","v":1},2874,{"$f":"POISSON(D2878,Berekening!$G$50,TRUE)","v":1},2874,{"$f":"POISSON(F2878,Berekening!$G$52,TRUE)","v":1},2874]
[{"$f":"POISSON(B2879,Berekening!$G$27,TRUE)","v":1},2875,{"$f":"POISSON(D2879,Berekening!$G$50,TRUE)","v":1},2875,{"$f":"POISSON(F2879,Berekening!$G$52,TRUE)","v":1},2875]
[{"$f":"POISSON(B2880,Berekening!$G$27,TRUE)","v":1},2876,{"$f":"POISSON(D2880,Berekening!$G$50,TRUE)","v":1},2876,{"$f":"POISSON(F2880,Berekening!$G$52,TRUE)","v":1},2876]
[{"$f":"POISSON(B2881,Berekening!$G$27,TRUE)","v":1},2877,{"$f":"POISSON(D2881,Berekening!$G$50,TRUE)","v":1},2877,{"$f":"POISSON(F2881,Berekening!$G$52,TRUE)","v":1},2877]
[{"$f":"POISSON(B2882,Berekening!$G$27,TRUE)","v":1},2878,{"$f":"POISSON(D2882,Berekening!$G$50,TRUE)","v":1},2878,{"$f":"POISSON(F2882,Berekening!$G$52,TRUE)","v":1},2878]
[{"$f":"POISSON(B2883,Berekening!$G$27,TRUE)","v":1},2879,{"$f":"POISSON(D2883,Berekening!$G$50,TRUE)","v":1},2879,{"$f":"POISSON(F2883,Berekening!$G$52,TRUE)","v":1},2879]
[{"$f":"POISSON(B2884,Berekening!$G$27,TRUE)","v":1},2880,{"$f":"POISSON(D2884,Berekening!$G$50,TRUE)","v":1},2880,{"$f":"POISSON(F2884,Berekening!$G$52,TRUE)","v":1},2880]
[{"$f":"POISSON(B2885,Berekening!$G$27,TRUE)","v":1},2881,{"$f":"POISSON(D2885,Berekening!$G$50,TRUE)","v":1},2881,{"$f":"POISSON(F2885,Berekening!$G$52,TRUE)","v":1},2881]
[{"$f":"POISSON(B2886,Berekening!$G$27,TRUE)","v":1},2882,{"$f":"POISSON(D2886,Berekening!$G$50,TRUE)","v":1},2882,{"$f":"POISSON(F2886,Berekening!$G$52,TRUE)","v":1},2882]
[{"$f":"POISSON(B2887,Berekening!$G$27,TRUE)","v":1},2883,{"$f":"POISSON(D2887,Berekening!$G$50,TRUE)","v":1},2883,{"$f":"POISSON(F2887,Berekening!$G$52,TRUE)","v":1},2883]
[{"$f":"POISSON(B2888,Berekening!$G$27,TRUE)","v":1},2884,{"$f":"POISSON(D2888,Berekening!$G$50,TRUE)","v":1},2884,{"$f":"POISSON(F2888,Berekening!$G$52,TRUE)","v":1},2884]
[{"$f":"POISSON(B2889,Berekening!$G$27,TRUE)","v":1},2885,{"$f":"POISSON(D2889,Berekening!$G$50,TRUE)","v":1},2885,{"$f":"POISSON(F2889,Berekening!$G$52,TRUE)","v":1},2885]
[{"$f":"POISSON(B2890,Berekening!$G$27,TRUE)","v":1},2886,{"$f":"POISSON(D2890,Berekening!$G$50,TRUE)","v":1},2886,{"$f":"POISSON(F2890,Berekening!$G$52,TRUE)","v":1},2886]
[{"$f":"POISSON(B2891,Berekening!$G$27,TRUE)","v":1},2887,{"$f":"POISSON(D2891,Berekening!$G$50,TRUE)","v":1},2887,{"$f":"POISSON(F2891,Berekening!$G$52,TRUE)","v":1},2887]
[{"$f":"POISSON(B2892,Berekening!$G$27,TRUE)","v":1},2888,{"$f":"POISSON(D2892,Berekening!$G$50,TRUE)","v":1},2888,{"$f":"POISSON(F2892,Berekening!$G$52,TRUE)","v":1},2888]
[{"$f":"POISSON(B2893,Berekening!$G$27,TRUE)","v":1},2889,{"$f":"POISSON(D2893,Berekening!$G$50,TRUE)","v":1},2889,{"$f":"POISSON(F2893,Berekening!$G$52,TRUE)","v":1},2889]
[{"$f":"POISSON(B2894,Berekening!$G$27,TRUE)","v":1},2890,{"$f":"POISSON(D2894,Berekening!$G$50,TRUE)","v":1},2890,{"$f":"POISSON(F2894,Berekening!$G$52,TRUE)","v":1},2890]
[{"$f":"POISSON(B2895,Berekening!$G$27,TRUE)","v":1},2891,{"$f":"POISSON(D2895,Berekening!$G$50,TRUE)","v":1},2891,{"$f":"POISSON(F2895,Berekening!$G$52,TRUE)","v":1},2891]
[{"$f":"POISSON(B2896,Berekening!$G$27,TRUE)","v":1},2892,{"$f":"POISSON(D2896,Berekening!$G$50,TRUE)","v":1},2892,{"$f":"POISSON(F2896,Berekening!$G$52,TRUE)","v":1},2892]
[{"$f":"POISSON(B2897,Berekening!$G$27,TRUE)","v":1},2893,{"$f":"POISSON(D2897,Berekening!$G$50,TRUE)","v":1},2893,{"$f":"POISSON(F2897,Berekening!$G$52,TRUE)","v":1},2893]
[{"$f":"POISSON(B2898,Berekening!$G$27,TRUE)","v":1},2894,{"$f":"POISSON(D2898,Berekening!$G$50,TRUE)","v":1},2894,{"$f":"POISSON(F2898,Berekening!$G$52,TRUE)","v":1},2894]
[{"$f":"POISSON(B2899,Berekening!$G$27,TRUE)","v":1},2895,{"$f":"POISSON(D2899,Berekening!$G$50,TRUE)","v":1},2895,{"$f":"POISSON(F2899,Berekening!$G$52,TRUE)","v":1},2895]
[{"$f":"POISSON(B2900,Berekening!$G$27,TRUE)","v":1},2896,{"$f":"POISSON(D2900,Berekening!$G$50,TRUE)","v":1},2896,{"$f":"POISSON(F2900,Berekening!$G$52,TRUE)","v":1},2896]
[{"$f":"POISSON(B2901,Berekening!$G$27,TRUE)","v":1},2897,{"$f":"POISSON(D2901,Berekening!$G$50,TRUE)","v":1},2897,{"$f":"POISSON(F2901,Berekening!$G$52,TRUE)","v":1},2897]
[{"$f":"POISSON(B2902,Berekening!$G$27,TRUE)","v":1},2898,{"$f":"POISSON(D2902,Berekening!$G$50,TRUE)","v":1},2898,{"$f":"POISSON(F2902,Berekening!$G$52,TRUE)","v":1},2898]
[{"$f":"POISSON(B2903,Berekening!$G$27,TRUE)","v":1},2899,{"$f":"POISSON(D2903,Berekening!$G$50,TRUE)","v":1},2899,{"$f":"POISSON(F2903,Berekening!$G$52,TRUE)","v":1},2899]
[{"$f":"POISSON(B2904,Berekening!$G$27,TRUE)","v":1},2900,{"$f":"POISSON(D2904,Berekening!$G$50,TRUE)","v":1},2900,{"$f":"POISSON(F2904,Berekening!$G$52,TRUE)","v":1},2900]
[{"$f":"POISSON(B2905,Berekening!$G$27,TRUE)","v":1},2901,{"$f":"POISSON(D2905,Berekening!$G$50,TRUE)","v":1},2901,{"$f":"POISSON(F2905,Berekening!$G$52,TRUE)","v":1},2901]
[{"$f":"POISSON(B2906,Berekening!$G$27,TRUE)","v":1},2902,{"$f":"POISSON(D2906,Berekening!$G$50,TRUE)","v":1},2902,{"$f":"POISSON(F2906,Berekening!$G$52,TRUE)","v":1},2902]
[{"$f":"POISSON(B2907,Berekening!$G$27,TRUE)","v":1},2903,{"$f":"POISSON(D2907,Berekening!$G$50,TRUE)","v":1},2903,{"$f":"POISSON(F2907,Berekening!$G$52,TRUE)","v":1},2903]
[{"$f":"POISSON(B2908,Berekening!$G$27,TRUE)","v":1},2904,{"$f":"POISSON(D2908,Berekening!$G$50,TRUE)","v":1},2904,{"$f":"POISSON(F2908,Berekening!$G$52,TRUE)","v":1},2904]
[{"$f":"POISSON(B2909,Berekening!$G$27,TRUE)","v":1},2905,{"$f":"POISSON(D2909,Berekening!$G$50,TRUE)","v":1},2905,{"$f":"POISSON(F2909,Berekening!$G$52,TRUE)","v":1},2905]
[{"$f":"POISSON(B2910,Berekening!$G$27,TRUE)","v":1},2906,{"$f":"POISSON(D2910,Berekening!$G$50,TRUE)","v":1},2906,{"$f":"POISSON(F2910,Berekening!$G$52,TRUE)","v":1},2906]
[{"$f":"POISSON(B2911,Berekening!$G$27,TRUE)","v":1},2907,{"$f":"POISSON(D2911,Berekening!$G$50,TRUE)","v":1},2907,{"$f":"POISSON(F2911,Berekening!$G$52,TRUE)","v":1},2907]
[{"$f":"POISSON(B2912,Berekening!$G$27,TRUE)","v":1},2908,{"$f":"POISSON(D2912,Berekening!$G$50,TRUE)","v":1},2908,{"$f":"POISSON(F2912,Berekening!$G$52,TRUE)","v":1},2908]
[{"$f":"POISSON(B2913,Berekening!$G$27,TRUE)","v":1},2909,{"$f":"POISSON(D2913,Berekening!$G$50,TRUE)","v":1},2909,{"$f":"POISSON(F2913,Berekening!$G$52,TRUE)","v":1},2909]
[{"$f":"POISSON(B2914,Berekening!$G$27,TRUE)","v":1},2910,{"$f":"POISSON(D2914,Berekening!$G$50,TRUE)","v":1},2910,{"$f":"POISSON(F2914,Berekening!$G$52,TRUE)","v":1},2910]
[{"$f":"POISSON(B2915,Berekening!$G$27,TRUE)","v":1},2911,{"$f":"POISSON(D2915,Berekening!$G$50,TRUE)","v":1},2911,{"$f":"POISSON(F2915,Berekening!$G$52,TRUE)","v":1},2911]
[{"$f":"POISSON(B2916,Berekening!$G$27,TRUE)","v":1},2912,{"$f":"POISSON(D2916,Berekening!$G$50,TRUE)","v":1},2912,{"$f":"POISSON(F2916,Berekening!$G$52,TRUE)","v":1},2912]
[{"$f":"POISSON(B2917,Berekening!$G$27,TRUE)","v":1},2913,{"$f":"POISSON(D2917,Berekening!$G$50,TRUE)","v":1},2913,{"$f":"POISSON(F2917,Berekening!$G$52,TRUE)","v":1},2913]
[{"$f":"POISSON(B2918,Berekening!$G$27,TRUE)","v":1},2914,{"$f":"POISSON(D2918,Berekening!$G$50,TRUE)","v":1},2914,{"$f":"POISSON(F2918,Berekening!$G$52,TRUE)","v":1},2914]
[{"$f":"POISSON(B2919,Berekening!$G$27,TRUE)","v":1},2915,{"$f":"POISSON(D2919,Berekening!$G$50,TRUE)","v":1},2915,{"$f":"POISSON(F2919,Berekening!$G$52,TRUE)","v":1},2915]
[{"$f":"POISSON(B2920,Berekening!$G$27,TRUE)","v":1},2916,{"$f":"POISSON(D2920,Berekening!$G$50,TRUE)","v":1},2916,{"$f":"POISSON(F2920,Berekening!$G$52,TRUE)","v":1},2916]
[{"$f":"POISSON(B2921,Berekening!$G$27,TRUE)","v":1},2917,{"$f":"POISSON(D2921,Berekening!$G$50,TRUE)","v":1},2917,{"$f":"POISSON(F2921,Berekening!$G$52,TRUE)","v":1},2917]
[{"$f":"POISSON(B2922,Berekening!$G$27,TRUE)","v":1},2918,{"$f":"POISSON(D2922,Berekening!$G$50,TRUE)","v":1},2918,{"$f":"POISSON(F2922,Berekening!$G$52,TRUE)","v":1},2918]
[{"$f":"POISSON(B2923,Berekening!$G$27,TRUE)","v":1},2919,{"$f":"POISSON(D2923,Berekening!$G$50,TRUE)","v":1},2919,{"$f":"POISSON(F2923,Berekening!$G$52,TRUE)","v":1},2919]
[{"$f":"POISSON(B2924,Berekening!$G$27,TRUE)","v":1},2920,{"$f":"POISSON(D2924,Berekening!$G$50,TRUE)","v":1},2920,{"$f":"POISSON(F2924,Berekening!$G$52,TRUE)","v":1},2920]
[{"$f":"POISSON(B2925,Berekening!$G$27,TRUE)","v":1},2921,{"$f":"POISSON(D2925,Berekening!$G$50,TRUE)","v":1},2921,{"$f":"POISSON(F2925,Berekening!$G$52,TRUE)","v":1},2921]
[{"$f":"POISSON(B2926,Berekening!$G$27,TRUE)","v":1},2922,{"$f":"POISSON(D2926,Berekening!$G$50,TRUE)","v":1},2922,{"$f":"POISSON(F2926,Berekening!$G$52,TRUE)","v":1},2922]
[{"$f":"POISSON(B2927,Berekening!$G$27,TRUE)","v":1},2923,{"$f":"POISSON(D2927,Berekening!$G$50,TRUE)","v":1},2923,{"$f":"POISSON(F2927,Berekening!$G$52,TRUE)","v":1},2923]
[{"$f":"POISSON(B2928,Berekening!$G$27,TRUE)","v":1},2924,{"$f":"POISSON(D2928,Berekening!$G$50,TRUE)","v":1},2924,{"$f":"POISSON(F2928,Berekening!$G$52,TRUE)","v":1},2924]
[{"$f":"POISSON(B2929,Berekening!$G$27,TRUE)","v":1},2925,{"$f":"POISSON(D2929,Berekening!$G$50,TRUE)","v":1},2925,{"$f":"POISSON(F2929,Berekening!$G$52,TRUE)","v":1},2925]
[{"$f":"POISSON(B2930,Berekening!$G$27,TRUE)","v":1},2926,{"$f":"POISSON(D2930,Berekening!$G$50,TRUE)","v":1},2926,{"$f":"POISSON(F2930,Berekening!$G$52,TRUE)","v":1},2926]
[{"$f":"POISSON(B2931,Berekening!$G$27,TRUE)","v":1},2927,{"$f":"POISSON(D2931,Berekening!$G$50,TRUE)","v":1},2927,{"$f":"POISSON(F2931,Berekening!$G$52,TRUE)","v":1},2927]
[{"$f":"POISSON(B2932,Berekening!$G$27,TRUE)","v":1},2928,{"$f":"POISSON(D2932,Berekening!$G$50,TRUE)","v":1},2928,{"$f":"POISSON(F2932,Berekening!$G$52,TRUE)","v":1},2928]
[{"$f":"POISSON(B2933,Berekening!$G$27,TRUE)","v":1},2929,{"$f":"POISSON(D2933,Berekening!$G$50,TRUE)","v":1},2929,{"$f":"POISSON(F2933,Berekening!$G$52,TRUE)","v":1},2929]
[{"$f":"POISSON(B2934,Berekening!$G$27,TRUE)","v":1},2930,{"$f":"POISSON(D2934,Berekening!$G$50,TRUE)","v":1},2930,{"$f":"POISSON(F2934,Berekening!$G$52,TRUE)","v":1},2930]
[{"$f":"POISSON(B2935,Berekening!$G$27,TRUE)","v":1},2931,{"$f":"POISSON(D2935,Berekening!$G$50,TRUE)","v":1},2931,{"$f":"POISSON(F2935,Berekening!$G$52,TRUE)","v":1},2931]
[{"$f":"POISSON(B2936,Berekening!$G$27,TRUE)","v":1},2932,{"$f":"POISSON(D2936,Berekening!$G$50,TRUE)","v":1},2932,{"$f":"POISSON(F2936,Berekening!$G$52,TRUE)","v":1},2932]
[{"$f":"POISSON(B2937,Berekening!$G$27,TRUE)","v":1},2933,{"$f":"POISSON(D2937,Berekening!$G$50,TRUE)","v":1},2933,{"$f":"POISSON(F2937,Berekening!$G$52,TRUE)","v":1},2933]
[{"$f":"POISSON(B2938,Berekening!$G$27,TRUE)","v":1},2934,{"$f":"POISSON(D2938,Berekening!$G$50,TRUE)","v":1},2934,{"$f":"POISSON(F2938,Berekening!$G$52,TRUE)","v":1},2934]
[{"$f":"POISSON(B2939,Berekening!$G$27,TRUE)","v":1},2935,{"$f":"POISSON(D2939,Berekening!$G$50,TRUE)","v":1},2935,{"$f":"POISSON(F2939,Berekening!$G$52,TRUE)","v":1},2935]
[{"$f":"POISSON(B2940,Berekening!$G$27,TRUE)","v":1},2936,{"$f":"POISSON(D2940,Berekening!$G$50,TRUE)","v":1},2936,{"$f":"POISSON(F2940,Berekening!$G$52,TRUE)","v":1},2936]
[{"$f":"POISSON(B2941,Berekening!$G$27,TRUE)","v":1},2937,{"$f":"POISSON(D2941,Berekening!$G$50,TRUE)","v":1},2937,{"$f":"POISSON(F2941,Berekening!$G$52,TRUE)","v":1},2937]
[{"$f":"POISSON(B2942,Berekening!$G$27,TRUE)","v":1},2938,{"$f":"POISSON(D2942,Berekening!$G$50,TRUE)","v":1},2938,{"$f":"POISSON(F2942,Berekening!$G$52,TRUE)","v":1},2938]
[{"$f":"POISSON(B2943,Berekening!$G$27,TRUE)","v":1},2939,{"$f":"POISSON(D2943,Berekening!$G$50,TRUE)","v":1},2939,{"$f":"POISSON(F2943,Berekening!$G$52,TRUE)","v":1},2939]
[{"$f":"POISSON(B2944,Berekening!$G$27,TRUE)","v":1},2940,{"$f":"POISSON(D2944,Berekening!$G$50,TRUE)","v":1},2940,{"$f":"POISSON(F2944,Berekening!$G$52,TRUE)","v":1},2940]
[{"$f":"POISSON(B2945,Berekening!$G$27,TRUE)","v":1},2941,{"$f":"POISSON(D2945,Berekening!$G$50,TRUE)","v":1},2941,{"$f":"POISSON(F2945,Berekening!$G$52,TRUE)","v":1},2941]
[{"$f":"POISSON(B2946,Berekening!$G$27,TRUE)","v":1},2942,{"$f":"POISSON(D2946,Berekening!$G$50,TRUE)","v":1},2942,{"$f":"POISSON(F2946,Berekening!$G$52,TRUE)","v":1},2942]
[{"$f":"POISSON(B2947,Berekening!$G$27,TRUE)","v":1},2943,{"$f":"POISSON(D2947,Berekening!$G$50,TRUE)","v":1},2943,{"$f":"POISSON(F2947,Berekening!$G$52,TRUE)","v":1},2943]
[{"$f":"POISSON(B2948,Berekening!$G$27,TRUE)","v":1},2944,{"$f":"POISSON(D2948,Berekening!$G$50,TRUE)","v":1},2944,{"$f":"POISSON(F2948,Berekening!$G$52,TRUE)","v":1},2944]
[{"$f":"POISSON(B2949,Berekening!$G$27,TRUE)","v":1},2945,{"$f":"POISSON(D2949,Berekening!$G$50,TRUE)","v":1},2945,{"$f":"POISSON(F2949,Berekening!$G$52,TRUE)","v":1},2945]
[{"$f":"POISSON(B2950,Berekening!$G$27,TRUE)","v":1},2946,{"$f":"POISSON(D2950,Berekening!$G$50,TRUE)","v":1},2946,{"$f":"POISSON(F2950,Berekening!$G$52,TRUE)","v":1},2946]
[{"$f":"POISSON(B2951,Berekening!$G$27,TRUE)","v":1},2947,{"$f":"POISSON(D2951,Berekening!$G$50,TRUE)","v":1},2947,{"$f":"POISSON(F2951,Berekening!$G$52,TRUE)","v":1},2947]
[{"$f":"POISSON(B2952,Berekening!$G$27,TRUE)","v":1},2948,{"$f":"POISSON(D2952,Berekening!$G$50,TRUE)","v":1},2948,{"$f":"POISSON(F2952,Berekening!$G$52,TRUE)","v":1},2948]
[{"$f":"POISSON(B2953,Berekening!$G$27,TRUE)","v":1},2949,{"$f":"POISSON(D2953,Berekening!$G$50,TRUE)","v":1},2949,{"$f":"POISSON(F2953,Berekening!$G$52,TRUE)","v":1},2949]
[{"$f":"POISSON(B2954,Berekening!$G$27,TRUE)","v":1},2950,{"$f":"POISSON(D2954,Berekening!$G$50,TRUE)","v":1},2950,{"$f":"POISSON(F2954,Berekening!$G$52,TRUE)","v":1},2950]
[{"$f":"POISSON(B2955,Berekening!$G$27,TRUE)","v":1},2951,{"$f":"POISSON(D2955,Berekening!$G$50,TRUE)","v":1},2951,{"$f":"POISSON(F2955,Berekening!$G$52,TRUE)","v":1},2951]
[{"$f":"POISSON(B2956,Berekening!$G$27,TRUE)","v":1},2952,{"$f":"POISSON(D2956,Berekening!$G$50,TRUE)","v":1},2952,{"$f":"POISSON(F2956,Berekening!$G$52,TRUE)","v":1},2952]
[{"$f":"POISSON(B2957,Berekening!$G$27,TRUE)","v":1},2953,{"$f":"POISSON(D2957,Berekening!$G$50,TRUE)","v":1},2953,{"$f":"POISSON(F2957,Berekening!$G$52,TRUE)","v":1},2953]
[{"$f":"POISSON(B2958,Berekening!$G$27,TRUE)","v":1},2954,{"$f":"POISSON(D2958,Berekening!$G$50,TRUE)","v":1},2954,{"$f":"POISSON(F2958,Berekening!$G$52,TRUE)","v":1},2954]
[{"$f":"POISSON(B2959,Berekening!$G$27,TRUE)","v":1},2955,{"$f":"POISSON(D2959,Berekening!$G$50,TRUE)","v":1},2955,{"$f":"POISSON(F2959,Berekening!$G$52,TRUE)","v":1},2955]
[{"$f":"POISSON(B2960,Berekening!$G$27,TRUE)","v":1},2956,{"$f":"POISSON(D2960,Berekening!$G$50,TRUE)","v":1},2956,{"$f":"POISSON(F2960,Berekening!$G$52,TRUE)","v":1},2956]
[{"$f":"POISSON(B2961,Berekening!$G$27,TRUE)","v":1},2957,{"$f":"POISSON(D2961,Berekening!$G$50,TRUE)","v":1},2957,{"$f":"POISSON(F2961,Berekening!$G$52,TRUE)","v":1},2957]
[{"$f":"POISSON(B2962,Berekening!$G$27,TRUE)","v":1},2958,{"$f":"POISSON(D2962,Berekening!$G$50,TRUE)","v":1},2958,{"$f":"POISSON(F2962,Berekening!$G$52,TRUE)","v":1},2958]
[{"$f":"POISSON(B2963,Berekening!$G$27,TRUE)","v":1},2959,{"$f":"POISSON(D2963,Berekening!$G$50,TRUE)","v":1},2959,{"$f":"POISSON(F2963,Berekening!$G$52,TRUE)","v":1},2959]
[{"$f":"POISSON(B2964,Berekening!$G$27,TRUE)","v":1},2960,{"$f":"POISSON(D2964,Berekening!$G$50,TRUE)","v":1},2960,{"$f":"POISSON(F2964,Berekening!$G$52,TRUE)","v":1},2960]
[{"$f":"POISSON(B2965,Berekening!$G$27,TRUE)","v":1},2961,{"$f":"POISSON(D2965,Berekening!$G$50,TRUE)","v":1},2961,{"$f":"POISSON(F2965,Berekening!$G$52,TRUE)","v":1},2961]
[{"$f":"POISSON(B2966,Berekening!$G$27,TRUE)","v":1},2962,{"$f":"POISSON(D2966,Berekening!$G$50,TRUE)","v":1},2962,{"$f":"POISSON(F2966,Berekening!$G$52,TRUE)","v":1},2962]
[{"$f":"POISSON(B2967,Berekening!$G$27,TRUE)","v":1},2963,{"$f":"POISSON(D2967,Berekening!$G$50,TRUE)","v":1},2963,{"$f":"POISSON(F2967,Berekening!$G$52,TRUE)","v":1},2963]
[{"$f":"POISSON(B2968,Berekening!$G$27,TRUE)","v":1},2964,{"$f":"POISSON(D2968,Berekening!$G$50,TRUE)","v":1},2964,{"$f":"POISSON(F2968,Berekening!$G$52,TRUE)","v":1},2964]
[{"$f":"POISSON(B2969,Berekening!$G$27,TRUE)","v":1},2965,{"$f":"POISSON(D2969,Berekening!$G$50,TRUE)","v":1},2965,{"$f":"POISSON(F2969,Berekening!$G$52,TRUE)","v":1},2965]
[{"$f":"POISSON(B2970,Berekening!$G$27,TRUE)","v":1},2966,{"$f":"POISSON(D2970,Berekening!$G$50,TRUE)","v":1},2966,{"$f":"POISSON(F2970,Berekening!$G$52,TRUE)","v":1},2966]
[{"$f":"POISSON(B2971,Berekening!$G$27,TRUE)","v":1},2967,{"$f":"POISSON(D2971,Berekening!$G$50,TRUE)","v":1},2967,{"$f":"POISSON(F2971,Berekening!$G$52,TRUE)","v":1},2967]
[{"$f":"POISSON(B2972,Berekening!$G$27,TRUE)","v":1},2968,{"$f":"POISSON(D2972,Berekening!$G$50,TRUE)","v":1},2968,{"$f":"POISSON(F2972,Berekening!$G$52,TRUE)","v":1},2968]
[{"$f":"POISSON(B2973,Berekening!$G$27,TRUE)","v":1},2969,{"$f":"POISSON(D2973,Berekening!$G$50,TRUE)","v":1},2969,{"$f":"POISSON(F2973,Berekening!$G$52,TRUE)","v":1},2969]
[{"$f":"POISSON(B2974,Berekening!$G$27,TRUE)","v":1},2970,{"$f":"POISSON(D2974,Berekening!$G$50,TRUE)","v":1},2970,{"$f":"POISSON(F2974,Berekening!$G$52,TRUE)","v":1},2970]
[{"$f":"POISSON(B2975,Berekening!$G$27,TRUE)","v":1},2971,{"$f":"POISSON(D2975,Berekening!$G$50,TRUE)","v":1},2971,{"$f":"POISSON(F2975,Berekening!$G$52,TRUE)","v":1},2971]
[{"$f":"POISSON(B2976,Berekening!$G$27,TRUE)","v":1},2972,{"$f":"POISSON(D2976,Berekening!$G$50,TRUE)","v":1},2972,{"$f":"POISSON(F2976,Berekening!$G$52,TRUE)","v":1},2972]
[{"$f":"POISSON(B2977,Berekening!$G$27,TRUE)","v":1},2973,{"$f":"POISSON(D2977,Berekening!$G$50,TRUE)","v":1},2973,{"$f":"POISSON(F2977,Berekening!$G$52,TRUE)","v":1},2973]
[{"$f":"POISSON(B2978,Berekening!$G$27,TRUE)","v":1},2974,{"$f":"POISSON(D2978,Berekening!$G$50,TRUE)","v":1},2974,{"$f":"POISSON(F2978,Berekening!$G$52,TRUE)","v":1},2974]
[{"$f":"POISSON(B2979,Berekening!$G$27,TRUE)","v":1},2975,{"$f":"POISSON(D2979,Berekening!$G$50,TRUE)","v":1},2975,{"$f":"POISSON(F2979,Berekening!$G$52,TRUE)","v":1},2975]
[{"$f":"POISSON(B2980,Berekening!$G$27,TRUE)","v":1},2976,{"$f":"POISSON(D2980,Berekening!$G$50,TRUE)","v":1},2976,{"$f":"POISSON(F2980,Berekening!$G$52,TRUE)","v":1},2976]
[{"$f":"POISSON(B2981,Berekening!$G$27,TRUE)","v":1},2977,{"$f":"POISSON(D2981,Berekening!$G$50,TRUE)","v":1},2977,{"$f":"POISSON(F2981,Berekening!$G$52,TRUE)","v":1},2977]
[{"$f":"POISSON(B2982,Berekening!$G$27,TRUE)","v":1},2978,{"$f":"POISSON(D2982,Berekening!$G$50,TRUE)","v":1},2978,{"$f":"POISSON(F2982,Berekening!$G$52,TRUE)","v":1},2978]
[{"$f":"POISSON(B2983,Berekening!$G$27,TRUE)","v":1},2979,{"$f":"POISSON(D2983,Berekening!$G$50,TRUE)","v":1},2979,{"$f":"POISSON(F2983,Berekening!$G$52,TRUE)","v":1},2979]
[{"$f":"POISSON(B2984,Berekening!$G$27,TRUE)","v":1},2980,{"$f":"POISSON(D2984,Berekening!$G$50,TRUE)","v":1},2980,{"$f":"POISSON(F2984,Berekening!$G$52,TRUE)","v":1},2980]
[{"$f":"POISSON(B2985,Berekening!$G$27,TRUE)","v":1},2981,{"$f":"POISSON(D2985,Berekening!$G$50,TRUE)","v":1},2981,{"$f":"POISSON(F2985,Berekening!$G$52,TRUE)","v":1},2981]
[{"$f":"POISSON(B2986,Berekening!$G$27,TRUE)","v":1},2982,{"$f":"POISSON(D2986,Berekening!$G$50,TRUE)","v":1},2982,{"$f":"POISSON(F2986,Berekening!$G$52,TRUE)","v":1},2982]
[{"$f":"POISSON(B2987,Berekening!$G$27,TRUE)","v":1},2983,{"$f":"POISSON(D2987,Berekening!$G$50,TRUE)","v":1},2983,{"$f":"POISSON(F2987,Berekening!$G$52,TRUE)","v":1},2983]
[{"$f":"POISSON(B2988,Berekening!$G$27,TRUE)","v":1},2984,{"$f":"POISSON(D2988,Berekening!$G$50,TRUE)","v":1},2984,{"$f":"POISSON(F2988,Berekening!$G$52,TRUE)","v":1},2984]
[{"$f":"POISSON(B2989,Berekening!$G$27,TRUE)","v":1},2985,{"$f":"POISSON(D2989,Berekening!$G$50,TRUE)","v":1},2985,{"$f":"POISSON(F2989,Berekening!$G$52,TRUE)","v":1},2985]
[{"$f":"POISSON(B2990,Berekening!$G$27,TRUE)","v":1},2986,{"$f":"POISSON(D2990,Berekening!$G$50,TRUE)","v":1},2986,{"$f":"POISSON(F2990,Berekening!$G$52,TRUE)","v":1},2986]
[{"$f":"POISSON(B2991,Berekening!$G$27,TRUE)","v":1},2987,{"$f":"POISSON(D2991,Berekening!$G$50,TRUE)","v":1},2987,{"$f":"POISSON(F2991,Berekening!$G$52,TRUE)","v":1},2987]
[{"$f":"POISSON(B2992,Berekening!$G$27,TRUE)","v":1},2988,{"$f":"POISSON(D2992,Berekening!$G$50,TRUE)","v":1},2988,{"$f":"POISSON(F2992,Berekening!$G$52,TRUE)","v":1},2988]
[{"$f":"POISSON(B2993,Berekening!$G$27,TRUE)","v":1},2989,{"$f":"POISSON(D2993,Berekening!$G$50,TRUE)","v":1},2989,{"$f":"POISSON(F2993,Berekening!$G$52,TRUE)","v":1},2989]
[{"$f":"POISSON(B2994,Berekening!$G$27,TRUE)","v":1},2990,{"$f":"POISSON(D2994,Berekening!$G$50,TRUE)","v":1},2990,{"$f":"POISSON(F2994,Berekening!$G$52,TRUE)","v":1},2990]
[{"$f":"POISSON(B2995,Berekening!$G$27,TRUE)","v":1},2991,{"$f":"POISSON(D2995,Berekening!$G$50,TRUE)","v":1},2991,{"$f":"POISSON(F2995,Berekening!$G$52,TRUE)","v":1},2991]
[{"$f":"POISSON(B2996,Berekening!$G$27,TRUE)","v":1},2992,{"$f":"POISSON(D2996,Berekening!$G$50,TRUE)","v":1},2992,{"$f":"POISSON(F2996,Berekening!$G$52,TRUE)","v":1},2992]
[{"$f":"POISSON(B2997,Berekening!$G$27,TRUE)","v":1},2993,{"$f":"POISSON(D2997,Berekening!$G$50,TRUE)","v":1},2993,{"$f":"POISSON(F2997,Berekening!$G$52,TRUE)","v":1},2993]
[{"$f":"POISSON(B2998,Berekening!$G$27,TRUE)","v":1},2994,{"$f":"POISSON(D2998,Berekening!$G$50,TRUE)","v":1},2994,{"$f":"POISSON(F2998,Berekening!$G$52,TRUE)","v":1},2994]
[{"$f":"POISSON(B2999,Berekening!$G$27,TRUE)","v":1},2995,{"$f":"POISSON(D2999,Berekening!$G$50,TRUE)","v":1},2995,{"$f":"POISSON(F2999,Berekening!$G$52,TRUE)","v":1},2995]
[{"$f":"POISSON(B3000,Berekening!$G$27,TRUE)","v":1},2996,{"$f":"POISSON(D3000,Berekening!$G$50,TRUE)","v":1},2996,{"$f":"POISSON(F3000,Berekening!$G$52,TRUE)","v":1},2996]
[{"$f":"POISSON(B3001,Berekening!$G$27,TRUE)","v":1},2997,{"$f":"POISSON(D3001,Berekening!$G$50,TRUE)","v":1},2997,{"$f":"POISSON(F3001,Berekening!$G$52,TRUE)","v":1},2997]
[{"$f":"POISSON(B3002,Berekening!$G$27,TRUE)","v":1},2998,{"$f":"POISSON(D3002,Berekening!$G$50,TRUE)","v":1},2998,{"$f":"POISSON(F3002,Berekening!$G$52,TRUE)","v":1},2998]
[{"$f":"POISSON(B3003,Berekening!$G$27,TRUE)","v":1},2999,{"$f":"POISSON(D3003,Berekening!$G$50,TRUE)","v":1},2999,{"$f":"POISSON(F3003,Berekening!$G$52,TRUE)","v":1},2999]
[{"$f":"POISSON(B3004,Berekening!$G$27,TRUE)","v":1},3000,{"$f":"POISSON(D3004,Berekening!$G$50,TRUE)","v":1},3000,{"$f":"POISSON(F3004,Berekening!$G$52,TRUE)","v":1},3000]
[{"$f":"POISSON(B3005,Berekening!$G$27,TRUE)","v":1},3001,{"$f":"POISSON(D3005,Berekening!$G$50,TRUE)","v":1},3001,{"$f":"POISSON(F3005,Berekening!$G$52,TRUE)","v":1},3001]
[{"$f":"POISSON(B3006,Berekening!$G$27,TRUE)","v":1},3002,{"$f":"POISSON(D3006,Berekening!$G$50,TRUE)","v":1},3002,{"$f":"POISSON(F3006,Berekening!$G$52,TRUE)","v":1},3002]
[{"$f":"POISSON(B3007,Berekening!$G$27,TRUE)","v":1},3003,{"$f":"POISSON(D3007,Berekening!$G$50,TRUE)","v":1},3003,{"$f":"POISSON(F3007,Berekening!$G$52,TRUE)","v":1},3003]
[{"$f":"POISSON(B3008,Berekening!$G$27,TRUE)","v":1},3004,{"$f":"POISSON(D3008,Berekening!$G$50,TRUE)","v":1},3004,{"$f":"POISSON(F3008,Berekening!$G$52,TRUE)","v":1},3004]
[{"$f":"POISSON(B3009,Berekening!$G$27,TRUE)","v":1},3005,{"$f":"POISSON(D3009,Berekening!$G$50,TRUE)","v":1},3005,{"$f":"POISSON(F3009,Berekening!$G$52,TRUE)","v":1},3005]
[{"$f":"POISSON(B3010,Berekening!$G$27,TRUE)","v":1},3006,{"$f":"POISSON(D3010,Berekening!$G$50,TRUE)","v":1},3006,{"$f":"POISSON(F3010,Berekening!$G$52,TRUE)","v":1},3006]
[{"$f":"POISSON(B3011,Berekening!$G$27,TRUE)","v":1},3007,{"$f":"POISSON(D3011,Berekening!$G$50,TRUE)","v":1},3007,{"$f":"POISSON(F3011,Berekening!$G$52,TRUE)","v":1},3007]
[{"$f":"POISSON(B3012,Berekening!$G$27,TRUE)","v":1},3008,{"$f":"POISSON(D3012,Berekening!$G$50,TRUE)","v":1},3008,{"$f":"POISSON(F3012,Berekening!$G$52,TRUE)","v":1},3008]
[{"$f":"POISSON(B3013,Berekening!$G$27,TRUE)","v":1},3009,{"$f":"POISSON(D3013,Berekening!$G$50,TRUE)","v":1},3009,{"$f":"POISSON(F3013,Berekening!$G$52,TRUE)","v":1},3009]
[{"$f":"POISSON(B3014,Berekening!$G$27,TRUE)","v":1},3010,{"$f":"POISSON(D3014,Berekening!$G$50,TRUE)","v":1},3010,{"$f":"POISSON(F3014,Berekening!$G$52,TRUE)","v":1},3010]
[{"$f":"POISSON(B3015,Berekening!$G$27,TRUE)","v":1},3011,{"$f":"POISSON(D3015,Berekening!$G$50,TRUE)","v":1},3011,{"$f":"POISSON(F3015,Berekening!$G$52,TRUE)","v":1},3011]
[{"$f":"POISSON(B3016,Berekening!$G$27,TRUE)","v":1},3012,{"$f":"POISSON(D3016,Berekening!$G$50,TRUE)","v":1},3012,{"$f":"POISSON(F3016,Berekening!$G$52,TRUE)","v":1},3012]
[{"$f":"POISSON(B3017,Berekening!$G$27,TRUE)","v":1},3013,{"$f":"POISSON(D3017,Berekening!$G$50,TRUE)","v":1},3013,{"$f":"POISSON(F3017,Berekening!$G$52,TRUE)","v":1},3013]
[{"$f":"POISSON(B3018,Berekening!$G$27,TRUE)","v":1},3014,{"$f":"POISSON(D3018,Berekening!$G$50,TRUE)","v":1},3014,{"$f":"POISSON(F3018,Berekening!$G$52,TRUE)","v":1},3014]
[{"$f":"POISSON(B3019,Berekening!$G$27,TRUE)","v":1},3015,{"$f":"POISSON(D3019,Berekening!$G$50,TRUE)","v":1},3015,{"$f":"POISSON(F3019,Berekening!$G$52,TRUE)","v":1},3015]
[{"$f":"POISSON(B3020,Berekening!$G$27,TRUE)","v":1},3016,{"$f":"POISSON(D3020,Berekening!$G$50,TRUE)","v":1},3016,{"$f":"POISSON(F3020,Berekening!$G$52,TRUE)","v":1},3016]
[{"$f":"POISSON(B3021,Berekening!$G$27,TRUE)","v":1},3017,{"$f":"POISSON(D3021,Berekening!$G$50,TRUE)","v":1},3017,{"$f":"POISSON(F3021,Berekening!$G$52,TRUE)","v":1},3017]
[{"$f":"POISSON(B3022,Berekening!$G$27,TRUE)","v":1},3018,{"$f":"POISSON(D3022,Berekening!$G$50,TRUE)","v":1},3018,{"$f":"POISSON(F3022,Berekening!$G$52,TRUE)","v":1},3018]
[{"$f":"POISSON(B3023,Berekening!$G$27,TRUE)","v":1},3019,{"$f":"POISSON(D3023,Berekening!$G$50,TRUE)","v":1},3019,{"$f":"POISSON(F3023,Berekening!$G$52,TRUE)","v":1},3019]
[{"$f":"POISSON(B3024,Berekening!$G$27,TRUE)","v":1},3020,{"$f":"POISSON(D3024,Berekening!$G$50,TRUE)","v":1},3020,{"$f":"POISSON(F3024,Berekening!$G$52,TRUE)","v":1},3020]
[{"$f":"POISSON(B3025,Berekening!$G$27,TRUE)","v":1},3021,{"$f":"POISSON(D3025,Berekening!$G$50,TRUE)","v":1},3021,{"$f":"POISSON(F3025,Berekening!$G$52,TRUE)","v":1},3021]
[{"$f":"POISSON(B3026,Berekening!$G$27,TRUE)","v":1},3022,{"$f":"POISSON(D3026,Berekening!$G$50,TRUE)","v":1},3022,{"$f":"POISSON(F3026,Berekening!$G$52,TRUE)","v":1},3022]
[{"$f":"POISSON(B3027,Berekening!$G$27,TRUE)","v":1},3023,{"$f":"POISSON(D3027,Berekening!$G$50,TRUE)","v":1},3023,{"$f":"POISSON(F3027,Berekening!$G$52,TRUE)","v":1},3023]
[{"$f":"POISSON(B3028,Berekening!$G$27,TRUE)","v":1},3024,{"$f":"POISSON(D3028,Berekening!$G$50,TRUE)","v":1},3024,{"$f":"POISSON(F3028,Berekening!$G$52,TRUE)","v":1},3024]
[{"$f":"POISSON(B3029,Berekening!$G$27,TRUE)","v":1},3025,{"$f":"POISSON(D3029,Berekening!$G$50,TRUE)","v":1},3025,{"$f":"POISSON(F3029,Berekening!$G$52,TRUE)","v":1},3025]
[{"$f":"POISSON(B3030,Berekening!$G$27,TRUE)","v":1},3026,{"$f":"POISSON(D3030,Berekening!$G$50,TRUE)","v":1},3026,{"$f":"POISSON(F3030,Berekening!$G$52,TRUE)","v":1},3026]
[{"$f":"POISSON(B3031,Berekening!$G$27,TRUE)","v":1},3027,{"$f":"POISSON(D3031,Berekening!$G$50,TRUE)","v":1},3027,{"$f":"POISSON(F3031,Berekening!$G$52,TRUE)","v":1},3027]
[{"$f":"POISSON(B3032,Berekening!$G$27,TRUE)","v":1},3028,{"$f":"POISSON(D3032,Berekening!$G$50,TRUE)","v":1},3028,{"$f":"POISSON(F3032,Berekening!$G$52,TRUE)","v":1},3028]
[{"$f":"POISSON(B3033,Berekening!$G$27,TRUE)","v":1},3029,{"$f":"POISSON(D3033,Berekening!$G$50,TRUE)","v":1},3029,{"$f":"POISSON(F3033,Berekening!$G$52,TRUE)","v":1},3029]
[{"$f":"POISSON(B3034,Berekening!$G$27,TRUE)","v":1},3030,{"$f":"POISSON(D3034,Berekening!$G$50,TRUE)","v":1},3030,{"$f":"POISSON(F3034,Berekening!$G$52,TRUE)","v":1},3030]
[{"$f":"POISSON(B3035,Berekening!$G$27,TRUE)","v":1},3031,{"$f":"POISSON(D3035,Berekening!$G$50,TRUE)","v":1},3031,{"$f":"POISSON(F3035,Berekening!$G$52,TRUE)","v":1},3031]
[{"$f":"POISSON(B3036,Berekening!$G$27,TRUE)","v":1},3032,{"$f":"POISSON(D3036,Berekening!$G$50,TRUE)","v":1},3032,{"$f":"POISSON(F3036,Berekening!$G$52,TRUE)","v":1},3032]
[{"$f":"POISSON(B3037,Berekening!$G$27,TRUE)","v":1},3033,{"$f":"POISSON(D3037,Berekening!$G$50,TRUE)","v":1},3033,{"$f":"POISSON(F3037,Berekening!$G$52,TRUE)","v":1},3033]
[{"$f":"POISSON(B3038,Berekening!$G$27,TRUE)","v":1},3034,{"$f":"POISSON(D3038,Berekening!$G$50,TRUE)","v":1},3034,{"$f":"POISSON(F3038,Berekening!$G$52,TRUE)","v":1},3034]
[{"$f":"POISSON(B3039,Berekening!$G$27,TRUE)","v":1},3035,{"$f":"POISSON(D3039,Berekening!$G$50,TRUE)","v":1},3035,{"$f":"POISSON(F3039,Berekening!$G$52,TRUE)","v":1},3035]
[{"$f":"POISSON(B3040,Berekening!$G$27,TRUE)","v":1},3036,{"$f":"POISSON(D3040,Berekening!$G$50,TRUE)","v":1},3036,{"$f":"POISSON(F3040,Berekening!$G$52,TRUE)","v":1},3036]
[{"$f":"POISSON(B3041,Berekening!$G$27,TRUE)","v":1},3037,{"$f":"POISSON(D3041,Berekening!$G$50,TRUE)","v":1},3037,{"$f":"POISSON(F3041,Berekening!$G$52,TRUE)","v":1},3037]
[{"$f":"POISSON(B3042,Berekening!$G$27,TRUE)","v":1},3038,{"$f":"POISSON(D3042,Berekening!$G$50,TRUE)","v":1},3038,{"$f":"POISSON(F3042,Berekening!$G$52,TRUE)","v":1},3038]
[{"$f":"POISSON(B3043,Berekening!$G$27,TRUE)","v":1},3039,{"$f":"POISSON(D3043,Berekening!$G$50,TRUE)","v":1},3039,{"$f":"POISSON(F3043,Berekening!$G$52,TRUE)","v":1},3039]
[{"$f":"POISSON(B3044,Berekening!$G$27,TRUE)","v":1},3040,{"$f":"POISSON(D3044,Berekening!$G$50,TRUE)","v":1},3040,{"$f":"POISSON(F3044,Berekening!$G$52,TRUE)","v":1},3040]
[{"$f":"POISSON(B3045,Berekening!$G$27,TRUE)","v":1},3041,{"$f":"POISSON(D3045,Berekening!$G$50,TRUE)","v":1},3041,{"$f":"POISSON(F3045,Berekening!$G$52,TRUE)","v":1},3041]
[{"$f":"POISSON(B3046,Berekening!$G$27,TRUE)","v":1},3042,{"$f":"POISSON(D3046,Berekening!$G$50,TRUE)","v":1},3042,{"$f":"POISSON(F3046,Berekening!$G$52,TRUE)","v":1},3042]
[{"$f":"POISSON(B3047,Berekening!$G$27,TRUE)","v":1},3043,{"$f":"POISSON(D3047,Berekening!$G$50,TRUE)","v":1},3043,{"$f":"POISSON(F3047,Berekening!$G$52,TRUE)","v":1},3043]
[{"$f":"POISSON(B3048,Berekening!$G$27,TRUE)","v":1},3044,{"$f":"POISSON(D3048,Berekening!$G$50,TRUE)","v":1},3044,{"$f":"POISSON(F3048,Berekening!$G$52,TRUE)","v":1},3044]
[{"$f":"POISSON(B3049,Berekening!$G$27,TRUE)","v":1},3045,{"$f":"POISSON(D3049,Berekening!$G$50,TRUE)","v":1},3045,{"$f":"POISSON(F3049,Berekening!$G$52,TRUE)","v":1},3045]
[{"$f":"POISSON(B3050,Berekening!$G$27,TRUE)","v":1},3046,{"$f":"POISSON(D3050,Berekening!$G$50,TRUE)","v":1},3046,{"$f":"POISSON(F3050,Berekening!$G$52,TRUE)","v":1},3046]
[{"$f":"POISSON(B3051,Berekening!$G$27,TRUE)","v":1},3047,{"$f":"POISSON(D3051,Berekening!$G$50,TRUE)","v":1},3047,{"$f":"POISSON(F3051,Berekening!$G$52,TRUE)","v":1},3047]
[{"$f":"POISSON(B3052,Berekening!$G$27,TRUE)","v":1},3048,{"$f":"POISSON(D3052,Berekening!$G$50,TRUE)","v":1},3048,{"$f":"POISSON(F3052,Berekening!$G$52,TRUE)","v":1},3048]
[{"$f":"POISSON(B3053,Berekening!$G$27,TRUE)","v":1},3049,{"$f":"POISSON(D3053,Berekening!$G$50,TRUE)","v":1},3049,{"$f":"POISSON(F3053,Berekening!$G$52,TRUE)","v":1},3049]
[{"$f":"POISSON(B3054,Berekening!$G$27,TRUE)","v":1},3050,{"$f":"POISSON(D3054,Berekening!$G$50,TRUE)","v":1},3050,{"$f":"POISSON(F3054,Berekening!$G$52,TRUE)","v":1},3050]
[{"$f":"POISSON(B3055,Berekening!$G$27,TRUE)","v":1},3051,{"$f":"POISSON(D3055,Berekening!$G$50,TRUE)","v":1},3051,{"$f":"POISSON(F3055,Berekening!$G$52,TRUE)","v":1},3051]
[{"$f":"POISSON(B3056,Berekening!$G$27,TRUE)","v":1},3052,{"$f":"POISSON(D3056,Berekening!$G$50,TRUE)","v":1},3052,{"$f":"POISSON(F3056,Berekening!$G$52,TRUE)","v":1},3052]
[{"$f":"POISSON(B3057,Berekening!$G$27,TRUE)","v":1},3053,{"$f":"POISSON(D3057,Berekening!$G$50,TRUE)","v":1},3053,{"$f":"POISSON(F3057,Berekening!$G$52,TRUE)","v":1},3053]
[{"$f":"POISSON(B3058,Berekening!$G$27,TRUE)","v":1},3054,{"$f":"POISSON(D3058,Berekening!$G$50,TRUE)","v":1},3054,{"$f":"POISSON(F3058,Berekening!$G$52,TRUE)","v":1},3054]
[{"$f":"POISSON(B3059,Berekening!$G$27,TRUE)","v":1},3055,{"$f":"POISSON(D3059,Berekening!$G$50,TRUE)","v":1},3055,{"$f":"POISSON(F3059,Berekening!$G$52,TRUE)","v":1},3055]
[{"$f":"POISSON(B3060,Berekening!$G$27,TRUE)","v":1},3056,{"$f":"POISSON(D3060,Berekening!$G$50,TRUE)","v":1},3056,{"$f":"POISSON(F3060,Berekening!$G$52,TRUE)","v":1},3056]
[{"$f":"POISSON(B3061,Berekening!$G$27,TRUE)","v":1},3057,{"$f":"POISSON(D3061,Berekening!$G$50,TRUE)","v":1},3057,{"$f":"POISSON(F3061,Berekening!$G$52,TRUE)","v":1},3057]
[{"$f":"POISSON(B3062,Berekening!$G$27,TRUE)","v":1},3058,{"$f":"POISSON(D3062,Berekening!$G$50,TRUE)","v":1},3058,{"$f":"POISSON(F3062,Berekening!$G$52,TRUE)","v":1},3058]
[{"$f":"POISSON(B3063,Berekening!$G$27,TRUE)","v":1},3059,{"$f":"POISSON(D3063,Berekening!$G$50,TRUE)","v":1},3059,{"$f":"POISSON(F3063,Berekening!$G$52,TRUE)","v":1},3059]
[{"$f":"POISSON(B3064,Berekening!$G$27,TRUE)","v":1},3060,{"$f":"POISSON(D3064,Berekening!$G$50,TRUE)","v":1},3060,{"$f":"POISSON(F3064,Berekening!$G$52,TRUE)","v":1},3060]
[{"$f":"POISSON(B3065,Berekening!$G$27,TRUE)","v":1},3061,{"$f":"POISSON(D3065,Berekening!$G$50,TRUE)","v":1},3061,{"$f":"POISSON(F3065,Berekening!$G$52,TRUE)","v":1},3061]
[{"$f":"POISSON(B3066,Berekening!$G$27,TRUE)","v":1},3062,{"$f":"POISSON(D3066,Berekening!$G$50,TRUE)","v":1},3062,{"$f":"POISSON(F3066,Berekening!$G$52,TRUE)","v":1},3062]
[{"$f":"POISSON(B3067,Berekening!$G$27,TRUE)","v":1},3063,{"$f":"POISSON(D3067,Berekening!$G$50,TRUE)","v":1},3063,{"$f":"POISSON(F3067,Berekening!$G$52,TRUE)","v":1},3063]
[{"$f":"POISSON(B3068,Berekening!$G$27,TRUE)","v":1},3064,{"$f":"POISSON(D3068,Berekening!$G$50,TRUE)","v":1},3064,{"$f":"POISSON(F3068,Berekening!$G$52,TRUE)","v":1},3064]
[{"$f":"POISSON(B3069,Berekening!$G$27,TRUE)","v":1},3065,{"$f":"POISSON(D3069,Berekening!$G$50,TRUE)","v":1},3065,{"$f":"POISSON(F3069,Berekening!$G$52,TRUE)","v":1},3065]
[{"$f":"POISSON(B3070,Berekening!$G$27,TRUE)","v":1},3066,{"$f":"POISSON(D3070,Berekening!$G$50,TRUE)","v":1},3066,{"$f":"POISSON(F3070,Berekening!$G$52,TRUE)","v":1},3066]
[{"$f":"POISSON(B3071,Berekening!$G$27,TRUE)","v":1},3067,{"$f":"POISSON(D3071,Berekening!$G$50,TRUE)","v":1},3067,{"$f":"POISSON(F3071,Berekening!$G$52,TRUE)","v":1},3067]
[{"$f":"POISSON(B3072,Berekening!$G$27,TRUE)","v":1},3068,{"$f":"POISSON(D3072,Berekening!$G$50,TRUE)","v":1},3068,{"$f":"POISSON(F3072,Berekening!$G$52,TRUE)","v":1},3068]
[{"$f":"POISSON(B3073,Berekening!$G$27,TRUE)","v":1},3069,{"$f":"POISSON(D3073,Berekening!$G$50,TRUE)","v":1},3069,{"$f":"POISSON(F3073,Berekening!$G$52,TRUE)","v":1},3069]
[{"$f":"POISSON(B3074,Berekening!$G$27,TRUE)","v":1},3070,{"$f":"POISSON(D3074,Berekening!$G$50,TRUE)","v":1},3070,{"$f":"POISSON(F3074,Berekening!$G$52,TRUE)","v":1},3070]
[{"$f":"POISSON(B3075,Berekening!$G$27,TRUE)","v":1},3071,{"$f":"POISSON(D3075,Berekening!$G$50,TRUE)","v":1},3071,{"$f":"POISSON(F3075,Berekening!$G$52,TRUE)","v":1},3071]
[{"$f":"POISSON(B3076,Berekening!$G$27,TRUE)","v":1},3072,{"$f":"POISSON(D3076,Berekening!$G$50,TRUE)","v":1},3072,{"$f":"POISSON(F3076,Berekening!$G$52,TRUE)","v":1},3072]
[{"$f":"POISSON(B3077,Berekening!$G$27,TRUE)","v":1},3073,{"$f":"POISSON(D3077,Berekening!$G$50,TRUE)","v":1},3073,{"$f":"POISSON(F3077,Berekening!$G$52,TRUE)","v":1},3073]
[{"$f":"POISSON(B3078,Berekening!$G$27,TRUE)","v":1},3074,{"$f":"POISSON(D3078,Berekening!$G$50,TRUE)","v":1},3074,{"$f":"POISSON(F3078,Berekening!$G$52,TRUE)","v":1},3074]
[{"$f":"POISSON(B3079,Berekening!$G$27,TRUE)","v":1},3075,{"$f":"POISSON(D3079,Berekening!$G$50,TRUE)","v":1},3075,{"$f":"POISSON(F3079,Berekening!$G$52,TRUE)","v":1},3075]
[{"$f":"POISSON(B3080,Berekening!$G$27,TRUE)","v":1},3076,{"$f":"POISSON(D3080,Berekening!$G$50,TRUE)","v":1},3076,{"$f":"POISSON(F3080,Berekening!$G$52,TRUE)","v":1},3076]
[{"$f":"POISSON(B3081,Berekening!$G$27,TRUE)","v":1},3077,{"$f":"POISSON(D3081,Berekening!$G$50,TRUE)","v":1},3077,{"$f":"POISSON(F3081,Berekening!$G$52,TRUE)","v":1},3077]
[{"$f":"POISSON(B3082,Berekening!$G$27,TRUE)","v":1},3078,{"$f":"POISSON(D3082,Berekening!$G$50,TRUE)","v":1},3078,{"$f":"POISSON(F3082,Berekening!$G$52,TRUE)","v":1},3078]
[{"$f":"POISSON(B3083,Berekening!$G$27,TRUE)","v":1},3079,{"$f":"POISSON(D3083,Berekening!$G$50,TRUE)","v":1},3079,{"$f":"POISSON(F3083,Berekening!$G$52,TRUE)","v":1},3079]
[{"$f":"POISSON(B3084,Berekening!$G$27,TRUE)","v":1},3080,{"$f":"POISSON(D3084,Berekening!$G$50,TRUE)","v":1},3080,{"$f":"POISSON(F3084,Berekening!$G$52,TRUE)","v":1},3080]
[{"$f":"POISSON(B3085,Berekening!$G$27,TRUE)","v":1},3081,{"$f":"POISSON(D3085,Berekening!$G$50,TRUE)","v":1},3081,{"$f":"POISSON(F3085,Berekening!$G$52,TRUE)","v":1},3081]
[{"$f":"POISSON(B3086,Berekening!$G$27,TRUE)","v":1},3082,{"$f":"POISSON(D3086,Berekening!$G$50,TRUE)","v":1},3082,{"$f":"POISSON(F3086,Berekening!$G$52,TRUE)","v":1},3082]
[{"$f":"POISSON(B3087,Berekening!$G$27,TRUE)","v":1},3083,{"$f":"POISSON(D3087,Berekening!$G$50,TRUE)","v":1},3083,{"$f":"POISSON(F3087,Berekening!$G$52,TRUE)","v":1},3083]
[{"$f":"POISSON(B3088,Berekening!$G$27,TRUE)","v":1},3084,{"$f":"POISSON(D3088,Berekening!$G$50,TRUE)","v":1},3084,{"$f":"POISSON(F3088,Berekening!$G$52,TRUE)","v":1},3084]
[{"$f":"POISSON(B3089,Berekening!$G$27,TRUE)","v":1},3085,{"$f":"POISSON(D3089,Berekening!$G$50,TRUE)","v":1},3085,{"$f":"POISSON(F3089,Berekening!$G$52,TRUE)","v":1},3085]
[{"$f":"POISSON(B3090,Berekening!$G$27,TRUE)","v":1},3086,{"$f":"POISSON(D3090,Berekening!$G$50,TRUE)","v":1},3086,{"$f":"POISSON(F3090,Berekening!$G$52,TRUE)","v":1},3086]
[{"$f":"POISSON(B3091,Berekening!$G$27,TRUE)","v":1},3087,{"$f":"POISSON(D3091,Berekening!$G$50,TRUE)","v":1},3087,{"$f":"POISSON(F3091,Berekening!$G$52,TRUE)","v":1},3087]
[{"$f":"POISSON(B3092,Berekening!$G$27,TRUE)","v":1},3088,{"$f":"POISSON(D3092,Berekening!$G$50,TRUE)","v":1},3088,{"$f":"POISSON(F3092,Berekening!$G$52,TRUE)","v":1},3088]
[{"$f":"POISSON(B3093,Berekening!$G$27,TRUE)","v":1},3089,{"$f":"POISSON(D3093,Berekening!$G$50,TRUE)","v":1},3089,{"$f":"POISSON(F3093,Berekening!$G$52,TRUE)","v":1},3089]
[{"$f":"POISSON(B3094,Berekening!$G$27,TRUE)","v":1},3090,{"$f":"POISSON(D3094,Berekening!$G$50,TRUE)","v":1},3090,{"$f":"POISSON(F3094,Berekening!$G$52,TRUE)","v":1},3090]
[{"$f":"POISSON(B3095,Berekening!$G$27,TRUE)","v":1},3091,{"$f":"POISSON(D3095,Berekening!$G$50,TRUE)","v":1},3091,{"$f":"POISSON(F3095,Berekening!$G$52,TRUE)","v":1},3091]
[{"$f":"POISSON(B3096,Berekening!$G$27,TRUE)","v":1},3092,{"$f":"POISSON(D3096,Berekening!$G$50,TRUE)","v":1},3092,{"$f":"POISSON(F3096,Berekening!$G$52,TRUE)","v":1},3092]
[{"$f":"POISSON(B3097,Berekening!$G$27,TRUE)","v":1},3093,{"$f":"POISSON(D3097,Berekening!$G$50,TRUE)","v":1},3093,{"$f":"POISSON(F3097,Berekening!$G$52,TRUE)","v":1},3093]
[{"$f":"POISSON(B3098,Berekening!$G$27,TRUE)","v":1},3094,{"$f":"POISSON(D3098,Berekening!$G$50,TRUE)","v":1},3094,{"$f":"POISSON(F3098,Berekening!$G$52,TRUE)","v":1},3094]
[{"$f":"POISSON(B3099,Berekening!$G$27,TRUE)","v":1},3095,{"$f":"POISSON(D3099,Berekening!$G$50,TRUE)","v":1},3095,{"$f":"POISSON(F3099,Berekening!$G$52,TRUE)","v":1},3095]
[{"$f":"POISSON(B3100,Berekening!$G$27,TRUE)","v":1},3096,{"$f":"POISSON(D3100,Berekening!$G$50,TRUE)","v":1},3096,{"$f":"POISSON(F3100,Berekening!$G$52,TRUE)","v":1},3096]
[{"$f":"POISSON(B3101,Berekening!$G$27,TRUE)","v":1},3097,{"$f":"POISSON(D3101,Berekening!$G$50,TRUE)","v":1},3097,{"$f":"POISSON(F3101,Berekening!$G$52,TRUE)","v":1},3097]
[{"$f":"POISSON(B3102,Berekening!$G$27,TRUE)","v":1},3098,{"$f":"POISSON(D3102,Berekening!$G$50,TRUE)","v":1},3098,{"$f":"POISSON(F3102,Berekening!$G$52,TRUE)","v":1},3098]
[{"$f":"POISSON(B3103,Berekening!$G$27,TRUE)","v":1},3099,{"$f":"POISSON(D3103,Berekening!$G$50,TRUE)","v":1},3099,{"$f":"POISSON(F3103,Berekening!$G$52,TRUE)","v":1},3099]
[{"$f":"POISSON(B3104,Berekening!$G$27,TRUE)","v":1},3100,{"$f":"POISSON(D3104,Berekening!$G$50,TRUE)","v":1},3100,{"$f":"POISSON(F3104,Berekening!$G$52,TRUE)","v":1},3100]
[{"$f":"POISSON(B3105,Berekening!$G$27,TRUE)","v":1},3101,{"$f":"POISSON(D3105,Berekening!$G$50,TRUE)","v":1},3101,{"$f":"POISSON(F3105,Berekening!$G$52,TRUE)","v":1},3101]
[{"$f":"POISSON(B3106,Berekening!$G$27,TRUE)","v":1},3102,{"$f":"POISSON(D3106,Berekening!$G$50,TRUE)","v":1},3102,{"$f":"POISSON(F3106,Berekening!$G$52,TRUE)","v":1},3102]
[{"$f":"POISSON(B3107,Berekening!$G$27,TRUE)","v":1},3103,{"$f":"POISSON(D3107,Berekening!$G$50,TRUE)","v":1},3103,{"$f":"POISSON(F3107,Berekening!$G$52,TRUE)","v":1},3103]
[{"$f":"POISSON(B3108,Berekening!$G$27,TRUE)","v":1},3104,{"$f":"POISSON(D3108,Berekening!$G$50,TRUE)","v":1},3104,{"$f":"POISSON(F3108,Berekening!$G$52,TRUE)","v":1},3104]
[{"$f":"POISSON(B3109,Berekening!$G$27,TRUE)","v":1},3105,{"$f":"POISSON(D3109,Berekening!$G$50,TRUE)","v":1},3105,{"$f":"POISSON(F3109,Berekening!$G$52,TRUE)","v":1},3105]
[{"$f":"POISSON(B3110,Berekening!$G$27,TRUE)","v":1},3106,{"$f":"POISSON(D3110,Berekening!$G$50,TRUE)","v":1},3106,{"$f":"POISSON(F3110,Berekening!$G$52,TRUE)","v":1},3106]
[{"$f":"POISSON(B3111,Berekening!$G$27,TRUE)","v":1},3107,{"$f":"POISSON(D3111,Berekening!$G$50,TRUE)","v":1},3107,{"$f":"POISSON(F3111,Berekening!$G$52,TRUE)","v":1},3107]
[{"$f":"POISSON(B3112,Berekening!$G$27,TRUE)","v":1},3108,{"$f":"POISSON(D3112,Berekening!$G$50,TRUE)","v":1},3108,{"$f":"POISSON(F3112,Berekening!$G$52,TRUE)","v":1},3108]
[{"$f":"POISSON(B3113,Berekening!$G$27,TRUE)","v":1},3109,{"$f":"POISSON(D3113,Berekening!$G$50,TRUE)","v":1},3109,{"$f":"POISSON(F3113,Berekening!$G$52,TRUE)","v":1},3109]
[{"$f":"POISSON(B3114,Berekening!$G$27,TRUE)","v":1},3110,{"$f":"POISSON(D3114,Berekening!$G$50,TRUE)","v":1},3110,{"$f":"POISSON(F3114,Berekening!$G$52,TRUE)","v":1},3110]
[{"$f":"POISSON(B3115,Berekening!$G$27,TRUE)","v":1},3111,{"$f":"POISSON(D3115,Berekening!$G$50,TRUE)","v":1},3111,{"$f":"POISSON(F3115,Berekening!$G$52,TRUE)","v":1},3111]
[{"$f":"POISSON(B3116,Berekening!$G$27,TRUE)","v":1},3112,{"$f":"POISSON(D3116,Berekening!$G$50,TRUE)","v":1},3112,{"$f":"POISSON(F3116,Berekening!$G$52,TRUE)","v":1},3112]
[{"$f":"POISSON(B3117,Berekening!$G$27,TRUE)","v":1},3113,{"$f":"POISSON(D3117,Berekening!$G$50,TRUE)","v":1},3113,{"$f":"POISSON(F3117,Berekening!$G$52,TRUE)","v":1},3113]
[{"$f":"POISSON(B3118,Berekening!$G$27,TRUE)","v":1},3114,{"$f":"POISSON(D3118,Berekening!$G$50,TRUE)","v":1},3114,{"$f":"POISSON(F3118,Berekening!$G$52,TRUE)","v":1},3114]
[{"$f":"POISSON(B3119,Berekening!$G$27,TRUE)","v":1},3115,{"$f":"POISSON(D3119,Berekening!$G$50,TRUE)","v":1},3115,{"$f":"POISSON(F3119,Berekening!$G$52,TRUE)","v":1},3115]
[{"$f":"POISSON(B3120,Berekening!$G$27,TRUE)","v":1},3116,{"$f":"POISSON(D3120,Berekening!$G$50,TRUE)","v":1},3116,{"$f":"POISSON(F3120,Berekening!$G$52,TRUE)","v":1},3116]
[{"$f":"POISSON(B3121,Berekening!$G$27,TRUE)","v":1},3117,{"$f":"POISSON(D3121,Berekening!$G$50,TRUE)","v":1},3117,{"$f":"POISSON(F3121,Berekening!$G$52,TRUE)","v":1},3117]
[{"$f":"POISSON(B3122,Berekening!$G$27,TRUE)","v":1},3118,{"$f":"POISSON(D3122,Berekening!$G$50,TRUE)","v":1},3118,{"$f":"POISSON(F3122,Berekening!$G$52,TRUE)","v":1},3118]
[{"$f":"POISSON(B3123,Berekening!$G$27,TRUE)","v":1},3119,{"$f":"POISSON(D3123,Berekening!$G$50,TRUE)","v":1},3119,{"$f":"POISSON(F3123,Berekening!$G$52,TRUE)","v":1},3119]
[{"$f":"POISSON(B3124,Berekening!$G$27,TRUE)","v":1},3120,{"$f":"POISSON(D3124,Berekening!$G$50,TRUE)","v":1},3120,{"$f":"POISSON(F3124,Berekening!$G$52,TRUE)","v":1},3120]
[{"$f":"POISSON(B3125,Berekening!$G$27,TRUE)","v":1},3121,{"$f":"POISSON(D3125,Berekening!$G$50,TRUE)","v":1},3121,{"$f":"POISSON(F3125,Berekening!$G$52,TRUE)","v":1},3121]
[{"$f":"POISSON(B3126,Berekening!$G$27,TRUE)","v":1},3122,{"$f":"POISSON(D3126,Berekening!$G$50,TRUE)","v":1},3122,{"$f":"POISSON(F3126,Berekening!$G$52,TRUE)","v":1},3122]
[{"$f":"POISSON(B3127,Berekening!$G$27,TRUE)","v":1},3123,{"$f":"POISSON(D3127,Berekening!$G$50,TRUE)","v":1},3123,{"$f":"POISSON(F3127,Berekening!$G$52,TRUE)","v":1},3123]
[{"$f":"POISSON(B3128,Berekening!$G$27,TRUE)","v":1},3124,{"$f":"POISSON(D3128,Berekening!$G$50,TRUE)","v":1},3124,{"$f":"POISSON(F3128,Berekening!$G$52,TRUE)","v":1},3124]
[{"$f":"POISSON(B3129,Berekening!$G$27,TRUE)","v":1},3125,{"$f":"POISSON(D3129,Berekening!$G$50,TRUE)","v":1},3125,{"$f":"POISSON(F3129,Berekening!$G$52,TRUE)","v":1},3125]
[{"$f":"POISSON(B3130,Berekening!$G$27,TRUE)","v":1},3126,{"$f":"POISSON(D3130,Berekening!$G$50,TRUE)","v":1},3126,{"$f":"POISSON(F3130,Berekening!$G$52,TRUE)","v":1},3126]
[{"$f":"POISSON(B3131,Berekening!$G$27,TRUE)","v":1},3127,{"$f":"POISSON(D3131,Berekening!$G$50,TRUE)","v":1},3127,{"$f":"POISSON(F3131,Berekening!$G$52,TRUE)","v":1},3127]
[{"$f":"POISSON(B3132,Berekening!$G$27,TRUE)","v":1},3128,{"$f":"POISSON(D3132,Berekening!$G$50,TRUE)","v":1},3128,{"$f":"POISSON(F3132,Berekening!$G$52,TRUE)","v":1},3128]
[{"$f":"POISSON(B3133,Berekening!$G$27,TRUE)","v":1},3129,{"$f":"POISSON(D3133,Berekening!$G$50,TRUE)","v":1},3129,{"$f":"POISSON(F3133,Berekening!$G$52,TRUE)","v":1},3129]
[{"$f":"POISSON(B3134,Berekening!$G$27,TRUE)","v":1},3130,{"$f":"POISSON(D3134,Berekening!$G$50,TRUE)","v":1},3130,{"$f":"POISSON(F3134,Berekening!$G$52,TRUE)","v":1},3130]
[{"$f":"POISSON(B3135,Berekening!$G$27,TRUE)","v":1},3131,{"$f":"POISSON(D3135,Berekening!$G$50,TRUE)","v":1},3131,{"$f":"POISSON(F3135,Berekening!$G$52,TRUE)","v":1},3131]
[{"$f":"POISSON(B3136,Berekening!$G$27,TRUE)","v":1},3132,{"$f":"POISSON(D3136,Berekening!$G$50,TRUE)","v":1},3132,{"$f":"POISSON(F3136,Berekening!$G$52,TRUE)","v":1},3132]
[{"$f":"POISSON(B3137,Berekening!$G$27,TRUE)","v":1},3133,{"$f":"POISSON(D3137,Berekening!$G$50,TRUE)","v":1},3133,{"$f":"POISSON(F3137,Berekening!$G$52,TRUE)","v":1},3133]
[{"$f":"POISSON(B3138,Berekening!$G$27,TRUE)","v":1},3134,{"$f":"POISSON(D3138,Berekening!$G$50,TRUE)","v":1},3134,{"$f":"POISSON(F3138,Berekening!$G$52,TRUE)","v":1},3134]
[{"$f":"POISSON(B3139,Berekening!$G$27,TRUE)","v":1},3135,{"$f":"POISSON(D3139,Berekening!$G$50,TRUE)","v":1},3135,{"$f":"POISSON(F3139,Berekening!$G$52,TRUE)","v":1},3135]
[{"$f":"POISSON(B3140,Berekening!$G$27,TRUE)","v":1},3136,{"$f":"POISSON(D3140,Berekening!$G$50,TRUE)","v":1},3136,{"$f":"POISSON(F3140,Berekening!$G$52,TRUE)","v":1},3136]
[{"$f":"POISSON(B3141,Berekening!$G$27,TRUE)","v":1},3137,{"$f":"POISSON(D3141,Berekening!$G$50,TRUE)","v":1},3137,{"$f":"POISSON(F3141,Berekening!$G$52,TRUE)","v":1},3137]
[{"$f":"POISSON(B3142,Berekening!$G$27,TRUE)","v":1},3138,{"$f":"POISSON(D3142,Berekening!$G$50,TRUE)","v":1},3138,{"$f":"POISSON(F3142,Berekening!$G$52,TRUE)","v":1},3138]
[{"$f":"POISSON(B3143,Berekening!$G$27,TRUE)","v":1},3139,{"$f":"POISSON(D3143,Berekening!$G$50,TRUE)","v":1},3139,{"$f":"POISSON(F3143,Berekening!$G$52,TRUE)","v":1},3139]
[{"$f":"POISSON(B3144,Berekening!$G$27,TRUE)","v":1},3140,{"$f":"POISSON(D3144,Berekening!$G$50,TRUE)","v":1},3140,{"$f":"POISSON(F3144,Berekening!$G$52,TRUE)","v":1},3140]
[{"$f":"POISSON(B3145,Berekening!$G$27,TRUE)","v":1},3141,{"$f":"POISSON(D3145,Berekening!$G$50,TRUE)","v":1},3141,{"$f":"POISSON(F3145,Berekening!$G$52,TRUE)","v":1},3141]
[{"$f":"POISSON(B3146,Berekening!$G$27,TRUE)","v":1},3142,{"$f":"POISSON(D3146,Berekening!$G$50,TRUE)","v":1},3142,{"$f":"POISSON(F3146,Berekening!$G$52,TRUE)","v":1},3142]
[{"$f":"POISSON(B3147,Berekening!$G$27,TRUE)","v":1},3143,{"$f":"POISSON(D3147,Berekening!$G$50,TRUE)","v":1},3143,{"$f":"POISSON(F3147,Berekening!$G$52,TRUE)","v":1},3143]
[{"$f":"POISSON(B3148,Berekening!$G$27,TRUE)","v":1},3144,{"$f":"POISSON(D3148,Berekening!$G$50,TRUE)","v":1},3144,{"$f":"POISSON(F3148,Berekening!$G$52,TRUE)","v":1},3144]
[{"$f":"POISSON(B3149,Berekening!$G$27,TRUE)","v":1},3145,{"$f":"POISSON(D3149,Berekening!$G$50,TRUE)","v":1},3145,{"$f":"POISSON(F3149,Berekening!$G$52,TRUE)","v":1},3145]
[{"$f":"POISSON(B3150,Berekening!$G$27,TRUE)","v":1},3146,{"$f":"POISSON(D3150,Berekening!$G$50,TRUE)","v":1},3146,{"$f":"POISSON(F3150,Berekening!$G$52,TRUE)","v":1},3146]
[{"$f":"POISSON(B3151,Berekening!$G$27,TRUE)","v":1},3147,{"$f":"POISSON(D3151,Berekening!$G$50,TRUE)","v":1},3147,{"$f":"POISSON(F3151,Berekening!$G$52,TRUE)","v":1},3147]
[{"$f":"POISSON(B3152,Berekening!$G$27,TRUE)","v":1},3148,{"$f":"POISSON(D3152,Berekening!$G$50,TRUE)","v":1},3148,{"$f":"POISSON(F3152,Berekening!$G$52,TRUE)","v":1},3148]
[{"$f":"POISSON(B3153,Berekening!$G$27,TRUE)","v":1},3149,{"$f":"POISSON(D3153,Berekening!$G$50,TRUE)","v":1},3149,{"$f":"POISSON(F3153,Berekening!$G$52,TRUE)","v":1},3149]
[{"$f":"POISSON(B3154,Berekening!$G$27,TRUE)","v":1},3150,{"$f":"POISSON(D3154,Berekening!$G$50,TRUE)","v":1},3150,{"$f":"POISSON(F3154,Berekening!$G$52,TRUE)","v":1},3150]
[{"$f":"POISSON(B3155,Berekening!$G$27,TRUE)","v":1},3151,{"$f":"POISSON(D3155,Berekening!$G$50,TRUE)","v":1},3151,{"$f":"POISSON(F3155,Berekening!$G$52,TRUE)","v":1},3151]
[{"$f":"POISSON(B3156,Berekening!$G$27,TRUE)","v":1},3152,{"$f":"POISSON(D3156,Berekening!$G$50,TRUE)","v":1},3152,{"$f":"POISSON(F3156,Berekening!$G$52,TRUE)","v":1},3152]
[{"$f":"POISSON(B3157,Berekening!$G$27,TRUE)","v":1},3153,{"$f":"POISSON(D3157,Berekening!$G$50,TRUE)","v":1},3153,{"$f":"POISSON(F3157,Berekening!$G$52,TRUE)","v":1},3153]
[{"$f":"POISSON(B3158,Berekening!$G$27,TRUE)","v":1},3154,{"$f":"POISSON(D3158,Berekening!$G$50,TRUE)","v":1},3154,{"$f":"POISSON(F3158,Berekening!$G$52,TRUE)","v":1},3154]
[{"$f":"POISSON(B3159,Berekening!$G$27,TRUE)","v":1},3155,{"$f":"POISSON(D3159,Berekening!$G$50,TRUE)","v":1},3155,{"$f":"POISSON(F3159,Berekening!$G$52,TRUE)","v":1},3155]
[{"$f":"POISSON(B3160,Berekening!$G$27,TRUE)","v":1},3156,{"$f":"POISSON(D3160,Berekening!$G$50,TRUE)","v":1},3156,{"$f":"POISSON(F3160,Berekening!$G$52,TRUE)","v":1},3156]
[{"$f":"POISSON(B3161,Berekening!$G$27,TRUE)","v":1},3157,{"$f":"POISSON(D3161,Berekening!$G$50,TRUE)","v":1},3157,{"$f":"POISSON(F3161,Berekening!$G$52,TRUE)","v":1},3157]
[{"$f":"POISSON(B3162,Berekening!$G$27,TRUE)","v":1},3158,{"$f":"POISSON(D3162,Berekening!$G$50,TRUE)","v":1},3158,{"$f":"POISSON(F3162,Berekening!$G$52,TRUE)","v":1},3158]
[{"$f":"POISSON(B3163,Berekening!$G$27,TRUE)","v":1},3159,{"$f":"POISSON(D3163,Berekening!$G$50,TRUE)","v":1},3159,{"$f":"POISSON(F3163,Berekening!$G$52,TRUE)","v":1},3159]
[{"$f":"POISSON(B3164,Berekening!$G$27,TRUE)","v":1},3160,{"$f":"POISSON(D3164,Berekening!$G$50,TRUE)","v":1},3160,{"$f":"POISSON(F3164,Berekening!$G$52,TRUE)","v":1},3160]
[{"$f":"POISSON(B3165,Berekening!$G$27,TRUE)","v":1},3161,{"$f":"POISSON(D3165,Berekening!$G$50,TRUE)","v":1},3161,{"$f":"POISSON(F3165,Berekening!$G$52,TRUE)","v":1},3161]
[{"$f":"POISSON(B3166,Berekening!$G$27,TRUE)","v":1},3162,{"$f":"POISSON(D3166,Berekening!$G$50,TRUE)","v":1},3162,{"$f":"POISSON(F3166,Berekening!$G$52,TRUE)","v":1},3162]
[{"$f":"POISSON(B3167,Berekening!$G$27,TRUE)","v":1},3163,{"$f":"POISSON(D3167,Berekening!$G$50,TRUE)","v":1},3163,{"$f":"POISSON(F3167,Berekening!$G$52,TRUE)","v":1},3163]
[{"$f":"POISSON(B3168,Berekening!$G$27,TRUE)","v":1},3164,{"$f":"POISSON(D3168,Berekening!$G$50,TRUE)","v":1},3164,{"$f":"POISSON(F3168,Berekening!$G$52,TRUE)","v":1},3164]
[{"$f":"POISSON(B3169,Berekening!$G$27,TRUE)","v":1},3165,{"$f":"POISSON(D3169,Berekening!$G$50,TRUE)","v":1},3165,{"$f":"POISSON(F3169,Berekening!$G$52,TRUE)","v":1},3165]
[{"$f":"POISSON(B3170,Berekening!$G$27,TRUE)","v":1},3166,{"$f":"POISSON(D3170,Berekening!$G$50,TRUE)","v":1},3166,{"$f":"POISSON(F3170,Berekening!$G$52,TRUE)","v":1},3166]
[{"$f":"POISSON(B3171,Berekening!$G$27,TRUE)","v":1},3167,{"$f":"POISSON(D3171,Berekening!$G$50,TRUE)","v":1},3167,{"$f":"POISSON(F3171,Berekening!$G$52,TRUE)","v":1},3167]
[{"$f":"POISSON(B3172,Berekening!$G$27,TRUE)","v":1},3168,{"$f":"POISSON(D3172,Berekening!$G$50,TRUE)","v":1},3168,{"$f":"POISSON(F3172,Berekening!$G$52,TRUE)","v":1},3168]
[{"$f":"POISSON(B3173,Berekening!$G$27,TRUE)","v":1},3169,{"$f":"POISSON(D3173,Berekening!$G$50,TRUE)","v":1},3169,{"$f":"POISSON(F3173,Berekening!$G$52,TRUE)","v":1},3169]
[{"$f":"POISSON(B3174,Berekening!$G$27,TRUE)","v":1},3170,{"$f":"POISSON(D3174,Berekening!$G$50,TRUE)","v":1},3170,{"$f":"POISSON(F3174,Berekening!$G$52,TRUE)","v":1},3170]
[{"$f":"POISSON(B3175,Berekening!$G$27,TRUE)","v":1},3171,{"$f":"POISSON(D3175,Berekening!$G$50,TRUE)","v":1},3171,{"$f":"POISSON(F3175,Berekening!$G$52,TRUE)","v":1},3171]
[{"$f":"POISSON(B3176,Berekening!$G$27,TRUE)","v":1},3172,{"$f":"POISSON(D3176,Berekening!$G$50,TRUE)","v":1},3172,{"$f":"POISSON(F3176,Berekening!$G$52,TRUE)","v":1},3172]
[{"$f":"POISSON(B3177,Berekening!$G$27,TRUE)","v":1},3173,{"$f":"POISSON(D3177,Berekening!$G$50,TRUE)","v":1},3173,{"$f":"POISSON(F3177,Berekening!$G$52,TRUE)","v":1},3173]
[{"$f":"POISSON(B3178,Berekening!$G$27,TRUE)","v":1},3174,{"$f":"POISSON(D3178,Berekening!$G$50,TRUE)","v":1},3174,{"$f":"POISSON(F3178,Berekening!$G$52,TRUE)","v":1},3174]
[{"$f":"POISSON(B3179,Berekening!$G$27,TRUE)","v":1},3175,{"$f":"POISSON(D3179,Berekening!$G$50,TRUE)","v":1},3175,{"$f":"POISSON(F3179,Berekening!$G$52,TRUE)","v":1},3175]
[{"$f":"POISSON(B3180,Berekening!$G$27,TRUE)","v":1},3176,{"$f":"POISSON(D3180,Berekening!$G$50,TRUE)","v":1},3176,{"$f":"POISSON(F3180,Berekening!$G$52,TRUE)","v":1},3176]
[{"$f":"POISSON(B3181,Berekening!$G$27,TRUE)","v":1},3177,{"$f":"POISSON(D3181,Berekening!$G$50,TRUE)","v":1},3177,{"$f":"POISSON(F3181,Berekening!$G$52,TRUE)","v":1},3177]
[{"$f":"POISSON(B3182,Berekening!$G$27,TRUE)","v":1},3178,{"$f":"POISSON(D3182,Berekening!$G$50,TRUE)","v":1},3178,{"$f":"POISSON(F3182,Berekening!$G$52,TRUE)","v":1},3178]
[{"$f":"POISSON(B3183,Berekening!$G$27,TRUE)","v":1},3179,{"$f":"POISSON(D3183,Berekening!$G$50,TRUE)","v":1},3179,{"$f":"POISSON(F3183,Berekening!$G$52,TRUE)","v":1},3179]
[{"$f":"POISSON(B3184,Berekening!$G$27,TRUE)","v":1},3180,{"$f":"POISSON(D3184,Berekening!$G$50,TRUE)","v":1},3180,{"$f":"POISSON(F3184,Berekening!$G$52,TRUE)","v":1},3180]
[{"$f":"POISSON(B3185,Berekening!$G$27,TRUE)","v":1},3181,{"$f":"POISSON(D3185,Berekening!$G$50,TRUE)","v":1},3181,{"$f":"POISSON(F3185,Berekening!$G$52,TRUE)","v":1},3181]
[{"$f":"POISSON(B3186,Berekening!$G$27,TRUE)","v":1},3182,{"$f":"POISSON(D3186,Berekening!$G$50,TRUE)","v":1},3182,{"$f":"POISSON(F3186,Berekening!$G$52,TRUE)","v":1},3182]
[{"$f":"POISSON(B3187,Berekening!$G$27,TRUE)","v":1},3183,{"$f":"POISSON(D3187,Berekening!$G$50,TRUE)","v":1},3183,{"$f":"POISSON(F3187,Berekening!$G$52,TRUE)","v":1},3183]
[{"$f":"POISSON(B3188,Berekening!$G$27,TRUE)","v":1},3184,{"$f":"POISSON(D3188,Berekening!$G$50,TRUE)","v":1},3184,{"$f":"POISSON(F3188,Berekening!$G$52,TRUE)","v":1},3184]
[{"$f":"POISSON(B3189,Berekening!$G$27,TRUE)","v":1},3185,{"$f":"POISSON(D3189,Berekening!$G$50,TRUE)","v":1},3185,{"$f":"POISSON(F3189,Berekening!$G$52,TRUE)","v":1},3185]
[{"$f":"POISSON(B3190,Berekening!$G$27,TRUE)","v":1},3186,{"$f":"POISSON(D3190,Berekening!$G$50,TRUE)","v":1},3186,{"$f":"POISSON(F3190,Berekening!$G$52,TRUE)","v":1},3186]
[{"$f":"POISSON(B3191,Berekening!$G$27,TRUE)","v":1},3187,{"$f":"POISSON(D3191,Berekening!$G$50,TRUE)","v":1},3187,{"$f":"POISSON(F3191,Berekening!$G$52,TRUE)","v":1},3187]
[{"$f":"POISSON(B3192,Berekening!$G$27,TRUE)","v":1},3188,{"$f":"POISSON(D3192,Berekening!$G$50,TRUE)","v":1},3188,{"$f":"POISSON(F3192,Berekening!$G$52,TRUE)","v":1},3188]
[{"$f":"POISSON(B3193,Berekening!$G$27,TRUE)","v":1},3189,{"$f":"POISSON(D3193,Berekening!$G$50,TRUE)","v":1},3189,{"$f":"POISSON(F3193,Berekening!$G$52,TRUE)","v":1},3189]
[{"$f":"POISSON(B3194,Berekening!$G$27,TRUE)","v":1},3190,{"$f":"POISSON(D3194,Berekening!$G$50,TRUE)","v":1},3190,{"$f":"POISSON(F3194,Berekening!$G$52,TRUE)","v":1},3190]
[{"$f":"POISSON(B3195,Berekening!$G$27,TRUE)","v":1},3191,{"$f":"POISSON(D3195,Berekening!$G$50,TRUE)","v":1},3191,{"$f":"POISSON(F3195,Berekening!$G$52,TRUE)","v":1},3191]
[{"$f":"POISSON(B3196,Berekening!$G$27,TRUE)","v":1},3192,{"$f":"POISSON(D3196,Berekening!$G$50,TRUE)","v":1},3192,{"$f":"POISSON(F3196,Berekening!$G$52,TRUE)","v":1},3192]
[{"$f":"POISSON(B3197,Berekening!$G$27,TRUE)","v":1},3193,{"$f":"POISSON(D3197,Berekening!$G$50,TRUE)","v":1},3193,{"$f":"POISSON(F3197,Berekening!$G$52,TRUE)","v":1},3193]
[{"$f":"POISSON(B3198,Berekening!$G$27,TRUE)","v":1},3194,{"$f":"POISSON(D3198,Berekening!$G$50,TRUE)","v":1},3194,{"$f":"POISSON(F3198,Berekening!$G$52,TRUE)","v":1},3194]
[{"$f":"POISSON(B3199,Berekening!$G$27,TRUE)","v":1},3195,{"$f":"POISSON(D3199,Berekening!$G$50,TRUE)","v":1},3195,{"$f":"POISSON(F3199,Berekening!$G$52,TRUE)","v":1},3195]
[{"$f":"POISSON(B3200,Berekening!$G$27,TRUE)","v":1},3196,{"$f":"POISSON(D3200,Berekening!$G$50,TRUE)","v":1},3196,{"$f":"POISSON(F3200,Berekening!$G$52,TRUE)","v":1},3196]
[{"$f":"POISSON(B3201,Berekening!$G$27,TRUE)","v":1},3197,{"$f":"POISSON(D3201,Berekening!$G$50,TRUE)","v":1},3197,{"$f":"POISSON(F3201,Berekening!$G$52,TRUE)","v":1},3197]
[{"$f":"POISSON(B3202,Berekening!$G$27,TRUE)","v":1},3198,{"$f":"POISSON(D3202,Berekening!$G$50,TRUE)","v":1},3198,{"$f":"POISSON(F3202,Berekening!$G$52,TRUE)","v":1},3198]
[{"$f":"POISSON(B3203,Berekening!$G$27,TRUE)","v":1},3199,{"$f":"POISSON(D3203,Berekening!$G$50,TRUE)","v":1},3199,{"$f":"POISSON(F3203,Berekening!$G$52,TRUE)","v":1},3199]
[{"$f":"POISSON(B3204,Berekening!$G$27,TRUE)","v":1},3200,{"$f":"POISSON(D3204,Berekening!$G$50,TRUE)","v":1},3200,{"$f":"POISSON(F3204,Berekening!$G$52,TRUE)","v":1},3200]
[{"$f":"POISSON(B3205,Berekening!$G$27,TRUE)","v":1},3201,{"$f":"POISSON(D3205,Berekening!$G$50,TRUE)","v":1},3201,{"$f":"POISSON(F3205,Berekening!$G$52,TRUE)","v":1},3201]
[{"$f":"POISSON(B3206,Berekening!$G$27,TRUE)","v":1},3202,{"$f":"POISSON(D3206,Berekening!$G$50,TRUE)","v":1},3202,{"$f":"POISSON(F3206,Berekening!$G$52,TRUE)","v":1},3202]
[{"$f":"POISSON(B3207,Berekening!$G$27,TRUE)","v":1},3203,{"$f":"POISSON(D3207,Berekening!$G$50,TRUE)","v":1},3203,{"$f":"POISSON(F3207,Berekening!$G$52,TRUE)","v":1},3203]
[{"$f":"POISSON(B3208,Berekening!$G$27,TRUE)","v":1},3204,{"$f":"POISSON(D3208,Berekening!$G$50,TRUE)","v":1},3204,{"$f":"POISSON(F3208,Berekening!$G$52,TRUE)","v":1},3204]
[{"$f":"POISSON(B3209,Berekening!$G$27,TRUE)","v":1},3205,{"$f":"POISSON(D3209,Berekening!$G$50,TRUE)","v":1},3205,{"$f":"POISSON(F3209,Berekening!$G$52,TRUE)","v":1},3205]
[{"$f":"POISSON(B3210,Berekening!$G$27,TRUE)","v":1},3206,{"$f":"POISSON(D3210,Berekening!$G$50,TRUE)","v":1},3206,{"$f":"POISSON(F3210,Berekening!$G$52,TRUE)","v":1},3206]
[{"$f":"POISSON(B3211,Berekening!$G$27,TRUE)","v":1},3207,{"$f":"POISSON(D3211,Berekening!$G$50,TRUE)","v":1},3207,{"$f":"POISSON(F3211,Berekening!$G$52,TRUE)","v":1},3207]
[{"$f":"POISSON(B3212,Berekening!$G$27,TRUE)","v":1},3208,{"$f":"POISSON(D3212,Berekening!$G$50,TRUE)","v":1},3208,{"$f":"POISSON(F3212,Berekening!$G$52,TRUE)","v":1},3208]
[{"$f":"POISSON(B3213,Berekening!$G$27,TRUE)","v":1},3209,{"$f":"POISSON(D3213,Berekening!$G$50,TRUE)","v":1},3209,{"$f":"POISSON(F3213,Berekening!$G$52,TRUE)","v":1},3209]
[{"$f":"POISSON(B3214,Berekening!$G$27,TRUE)","v":1},3210,{"$f":"POISSON(D3214,Berekening!$G$50,TRUE)","v":1},3210,{"$f":"POISSON(F3214,Berekening!$G$52,TRUE)","v":1},3210]
[{"$f":"POISSON(B3215,Berekening!$G$27,TRUE)","v":1},3211,{"$f":"POISSON(D3215,Berekening!$G$50,TRUE)","v":1},3211,{"$f":"POISSON(F3215,Berekening!$G$52,TRUE)","v":1},3211]
[{"$f":"POISSON(B3216,Berekening!$G$27,TRUE)","v":1},3212,{"$f":"POISSON(D3216,Berekening!$G$50,TRUE)","v":1},3212,{"$f":"POISSON(F3216,Berekening!$G$52,TRUE)","v":1},3212]
[{"$f":"POISSON(B3217,Berekening!$G$27,TRUE)","v":1},3213,{"$f":"POISSON(D3217,Berekening!$G$50,TRUE)","v":1},3213,{"$f":"POISSON(F3217,Berekening!$G$52,TRUE)","v":1},3213]
[{"$f":"POISSON(B3218,Berekening!$G$27,TRUE)","v":1},3214,{"$f":"POISSON(D3218,Berekening!$G$50,TRUE)","v":1},3214,{"$f":"POISSON(F3218,Berekening!$G$52,TRUE)","v":1},3214]
[{"$f":"POISSON(B3219,Berekening!$G$27,TRUE)","v":1},3215,{"$f":"POISSON(D3219,Berekening!$G$50,TRUE)","v":1},3215,{"$f":"POISSON(F3219,Berekening!$G$52,TRUE)","v":1},3215]
[{"$f":"POISSON(B3220,Berekening!$G$27,TRUE)","v":1},3216,{"$f":"POISSON(D3220,Berekening!$G$50,TRUE)","v":1},3216,{"$f":"POISSON(F3220,Berekening!$G$52,TRUE)","v":1},3216]
[{"$f":"POISSON(B3221,Berekening!$G$27,TRUE)","v":1},3217,{"$f":"POISSON(D3221,Berekening!$G$50,TRUE)","v":1},3217,{"$f":"POISSON(F3221,Berekening!$G$52,TRUE)","v":1},3217]
[{"$f":"POISSON(B3222,Berekening!$G$27,TRUE)","v":1},3218,{"$f":"POISSON(D3222,Berekening!$G$50,TRUE)","v":1},3218,{"$f":"POISSON(F3222,Berekening!$G$52,TRUE)","v":1},3218]
[{"$f":"POISSON(B3223,Berekening!$G$27,TRUE)","v":1},3219,{"$f":"POISSON(D3223,Berekening!$G$50,TRUE)","v":1},3219,{"$f":"POISSON(F3223,Berekening!$G$52,TRUE)","v":1},3219]
[{"$f":"POISSON(B3224,Berekening!$G$27,TRUE)","v":1},3220,{"$f":"POISSON(D3224,Berekening!$G$50,TRUE)","v":1},3220,{"$f":"POISSON(F3224,Berekening!$G$52,TRUE)","v":1},3220]
[{"$f":"POISSON(B3225,Berekening!$G$27,TRUE)","v":1},3221,{"$f":"POISSON(D3225,Berekening!$G$50,TRUE)","v":1},3221,{"$f":"POISSON(F3225,Berekening!$G$52,TRUE)","v":1},3221]
[{"$f":"POISSON(B3226,Berekening!$G$27,TRUE)","v":1},3222,{"$f":"POISSON(D3226,Berekening!$G$50,TRUE)","v":1},3222,{"$f":"POISSON(F3226,Berekening!$G$52,TRUE)","v":1},3222]
[{"$f":"POISSON(B3227,Berekening!$G$27,TRUE)","v":1},3223,{"$f":"POISSON(D3227,Berekening!$G$50,TRUE)","v":1},3223,{"$f":"POISSON(F3227,Berekening!$G$52,TRUE)","v":1},3223]
[{"$f":"POISSON(B3228,Berekening!$G$27,TRUE)","v":1},3224,{"$f":"POISSON(D3228,Berekening!$G$50,TRUE)","v":1},3224,{"$f":"POISSON(F3228,Berekening!$G$52,TRUE)","v":1},3224]
[{"$f":"POISSON(B3229,Berekening!$G$27,TRUE)","v":1},3225,{"$f":"POISSON(D3229,Berekening!$G$50,TRUE)","v":1},3225,{"$f":"POISSON(F3229,Berekening!$G$52,TRUE)","v":1},3225]
[{"$f":"POISSON(B3230,Berekening!$G$27,TRUE)","v":1},3226,{"$f":"POISSON(D3230,Berekening!$G$50,TRUE)","v":1},3226,{"$f":"POISSON(F3230,Berekening!$G$52,TRUE)","v":1},3226]
[{"$f":"POISSON(B3231,Berekening!$G$27,TRUE)","v":1},3227,{"$f":"POISSON(D3231,Berekening!$G$50,TRUE)","v":1},3227,{"$f":"POISSON(F3231,Berekening!$G$52,TRUE)","v":1},3227]
[{"$f":"POISSON(B3232,Berekening!$G$27,TRUE)","v":1},3228,{"$f":"POISSON(D3232,Berekening!$G$50,TRUE)","v":1},3228,{"$f":"POISSON(F3232,Berekening!$G$52,TRUE)","v":1},3228]
[{"$f":"POISSON(B3233,Berekening!$G$27,TRUE)","v":1},3229,{"$f":"POISSON(D3233,Berekening!$G$50,TRUE)","v":1},3229,{"$f":"POISSON(F3233,Berekening!$G$52,TRUE)","v":1},3229]
[{"$f":"POISSON(B3234,Berekening!$G$27,TRUE)","v":1},3230,{"$f":"POISSON(D3234,Berekening!$G$50,TRUE)","v":1},3230,{"$f":"POISSON(F3234,Berekening!$G$52,TRUE)","v":1},3230]
[{"$f":"POISSON(B3235,Berekening!$G$27,TRUE)","v":1},3231,{"$f":"POISSON(D3235,Berekening!$G$50,TRUE)","v":1},3231,{"$f":"POISSON(F3235,Berekening!$G$52,TRUE)","v":1},3231]
[{"$f":"POISSON(B3236,Berekening!$G$27,TRUE)","v":1},3232,{"$f":"POISSON(D3236,Berekening!$G$50,TRUE)","v":1},3232,{"$f":"POISSON(F3236,Berekening!$G$52,TRUE)","v":1},3232]
[{"$f":"POISSON(B3237,Berekening!$G$27,TRUE)","v":1},3233,{"$f":"POISSON(D3237,Berekening!$G$50,TRUE)","v":1},3233,{"$f":"POISSON(F3237,Berekening!$G$52,TRUE)","v":1},3233]
[{"$f":"POISSON(B3238,Berekening!$G$27,TRUE)","v":1},3234,{"$f":"POISSON(D3238,Berekening!$G$50,TRUE)","v":1},3234,{"$f":"POISSON(F3238,Berekening!$G$52,TRUE)","v":1},3234]
[{"$f":"POISSON(B3239,Berekening!$G$27,TRUE)","v":1},3235,{"$f":"POISSON(D3239,Berekening!$G$50,TRUE)","v":1},3235,{"$f":"POISSON(F3239,Berekening!$G$52,TRUE)","v":1},3235]
[{"$f":"POISSON(B3240,Berekening!$G$27,TRUE)","v":1},3236,{"$f":"POISSON(D3240,Berekening!$G$50,TRUE)","v":1},3236,{"$f":"POISSON(F3240,Berekening!$G$52,TRUE)","v":1},3236]
[{"$f":"POISSON(B3241,Berekening!$G$27,TRUE)","v":1},3237,{"$f":"POISSON(D3241,Berekening!$G$50,TRUE)","v":1},3237,{"$f":"POISSON(F3241,Berekening!$G$52,TRUE)","v":1},3237]
[{"$f":"POISSON(B3242,Berekening!$G$27,TRUE)","v":1},3238,{"$f":"POISSON(D3242,Berekening!$G$50,TRUE)","v":1},3238,{"$f":"POISSON(F3242,Berekening!$G$52,TRUE)","v":1},3238]
[{"$f":"POISSON(B3243,Berekening!$G$27,TRUE)","v":1},3239,{"$f":"POISSON(D3243,Berekening!$G$50,TRUE)","v":1},3239,{"$f":"POISSON(F3243,Berekening!$G$52,TRUE)","v":1},3239]
[{"$f":"POISSON(B3244,Berekening!$G$27,TRUE)","v":1},3240,{"$f":"POISSON(D3244,Berekening!$G$50,TRUE)","v":1},3240,{"$f":"POISSON(F3244,Berekening!$G$52,TRUE)","v":1},3240]
[{"$f":"POISSON(B3245,Berekening!$G$27,TRUE)","v":1},3241,{"$f":"POISSON(D3245,Berekening!$G$50,TRUE)","v":1},3241,{"$f":"POISSON(F3245,Berekening!$G$52,TRUE)","v":1},3241]
[{"$f":"POISSON(B3246,Berekening!$G$27,TRUE)","v":1},3242,{"$f":"POISSON(D3246,Berekening!$G$50,TRUE)","v":1},3242,{"$f":"POISSON(F3246,Berekening!$G$52,TRUE)","v":1},3242]
[{"$f":"POISSON(B3247,Berekening!$G$27,TRUE)","v":1},3243,{"$f":"POISSON(D3247,Berekening!$G$50,TRUE)","v":1},3243,{"$f":"POISSON(F3247,Berekening!$G$52,TRUE)","v":1},3243]
[{"$f":"POISSON(B3248,Berekening!$G$27,TRUE)","v":1},3244,{"$f":"POISSON(D3248,Berekening!$G$50,TRUE)","v":1},3244,{"$f":"POISSON(F3248,Berekening!$G$52,TRUE)","v":1},3244]
[{"$f":"POISSON(B3249,Berekening!$G$27,TRUE)","v":1},3245,{"$f":"POISSON(D3249,Berekening!$G$50,TRUE)","v":1},3245,{"$f":"POISSON(F3249,Berekening!$G$52,TRUE)","v":1},3245]
[{"$f":"POISSON(B3250,Berekening!$G$27,TRUE)","v":1},3246,{"$f":"POISSON(D3250,Berekening!$G$50,TRUE)","v":1},3246,{"$f":"POISSON(F3250,Berekening!$G$52,TRUE)","v":1},3246]
[{"$f":"POISSON(B3251,Berekening!$G$27,TRUE)","v":1},3247,{"$f":"POISSON(D3251,Berekening!$G$50,TRUE)","v":1},3247,{"$f":"POISSON(F3251,Berekening!$G$52,TRUE)","v":1},3247]
[{"$f":"POISSON(B3252,Berekening!$G$27,TRUE)","v":1},3248,{"$f":"POISSON(D3252,Berekening!$G$50,TRUE)","v":1},3248,{"$f":"POISSON(F3252,Berekening!$G$52,TRUE)","v":1},3248]
[{"$f":"POISSON(B3253,Berekening!$G$27,TRUE)","v":1},3249,{"$f":"POISSON(D3253,Berekening!$G$50,TRUE)","v":1},3249,{"$f":"POISSON(F3253,Berekening!$G$52,TRUE)","v":1},3249]
[{"$f":"POISSON(B3254,Berekening!$G$27,TRUE)","v":1},3250,{"$f":"POISSON(D3254,Berekening!$G$50,TRUE)","v":1},3250,{"$f":"POISSON(F3254,Berekening!$G$52,TRUE)","v":1},3250]
[{"$f":"POISSON(B3255,Berekening!$G$27,TRUE)","v":1},3251,{"$f":"POISSON(D3255,Berekening!$G$50,TRUE)","v":1},3251,{"$f":"POISSON(F3255,Berekening!$G$52,TRUE)","v":1},3251]
[{"$f":"POISSON(B3256,Berekening!$G$27,TRUE)","v":1},3252,{"$f":"POISSON(D3256,Berekening!$G$50,TRUE)","v":1},3252,{"$f":"POISSON(F3256,Berekening!$G$52,TRUE)","v":1},3252]
[{"$f":"POISSON(B3257,Berekening!$G$27,TRUE)","v":1},3253,{"$f":"POISSON(D3257,Berekening!$G$50,TRUE)","v":1},3253,{"$f":"POISSON(F3257,Berekening!$G$52,TRUE)","v":1},3253]
[{"$f":"POISSON(B3258,Berekening!$G$27,TRUE)","v":1},3254,{"$f":"POISSON(D3258,Berekening!$G$50,TRUE)","v":1},3254,{"$f":"POISSON(F3258,Berekening!$G$52,TRUE)","v":1},3254]
[{"$f":"POISSON(B3259,Berekening!$G$27,TRUE)","v":1},3255,{"$f":"POISSON(D3259,Berekening!$G$50,TRUE)","v":1},3255,{"$f":"POISSON(F3259,Berekening!$G$52,TRUE)","v":1},3255]
[{"$f":"POISSON(B3260,Berekening!$G$27,TRUE)","v":1},3256,{"$f":"POISSON(D3260,Berekening!$G$50,TRUE)","v":1},3256,{"$f":"POISSON(F3260,Berekening!$G$52,TRUE)","v":1},3256]
[{"$f":"POISSON(B3261,Berekening!$G$27,TRUE)","v":1},3257,{"$f":"POISSON(D3261,Berekening!$G$50,TRUE)","v":1},3257,{"$f":"POISSON(F3261,Berekening!$G$52,TRUE)","v":1},3257]
[{"$f":"POISSON(B3262,Berekening!$G$27,TRUE)","v":1},3258,{"$f":"POISSON(D3262,Berekening!$G$50,TRUE)","v":1},3258,{"$f":"POISSON(F3262,Berekening!$G$52,TRUE)","v":1},3258]
[{"$f":"POISSON(B3263,Berekening!$G$27,TRUE)","v":1},3259,{"$f":"POISSON(D3263,Berekening!$G$50,TRUE)","v":1},3259,{"$f":"POISSON(F3263,Berekening!$G$52,TRUE)","v":1},3259]
[{"$f":"POISSON(B3264,Berekening!$G$27,TRUE)","v":1},3260,{"$f":"POISSON(D3264,Berekening!$G$50,TRUE)","v":1},3260,{"$f":"POISSON(F3264,Berekening!$G$52,TRUE)","v":1},3260]
[{"$f":"POISSON(B3265,Berekening!$G$27,TRUE)","v":1},3261,{"$f":"POISSON(D3265,Berekening!$G$50,TRUE)","v":1},3261,{"$f":"POISSON(F3265,Berekening!$G$52,TRUE)","v":1},3261]
[{"$f":"POISSON(B3266,Berekening!$G$27,TRUE)","v":1},3262,{"$f":"POISSON(D3266,Berekening!$G$50,TRUE)","v":1},3262,{"$f":"POISSON(F3266,Berekening!$G$52,TRUE)","v":1},3262]
[{"$f":"POISSON(B3267,Berekening!$G$27,TRUE)","v":1},3263,{"$f":"POISSON(D3267,Berekening!$G$50,TRUE)","v":1},3263,{"$f":"POISSON(F3267,Berekening!$G$52,TRUE)","v":1},3263]
[{"$f":"POISSON(B3268,Berekening!$G$27,TRUE)","v":1},3264,{"$f":"POISSON(D3268,Berekening!$G$50,TRUE)","v":1},3264,{"$f":"POISSON(F3268,Berekening!$G$52,TRUE)","v":1},3264]
[{"$f":"POISSON(B3269,Berekening!$G$27,TRUE)","v":1},3265,{"$f":"POISSON(D3269,Berekening!$G$50,TRUE)","v":1},3265,{"$f":"POISSON(F3269,Berekening!$G$52,TRUE)","v":1},3265]
[{"$f":"POISSON(B3270,Berekening!$G$27,TRUE)","v":1},3266,{"$f":"POISSON(D3270,Berekening!$G$50,TRUE)","v":1},3266,{"$f":"POISSON(F3270,Berekening!$G$52,TRUE)","v":1},3266]
[{"$f":"POISSON(B3271,Berekening!$G$27,TRUE)","v":1},3267,{"$f":"POISSON(D3271,Berekening!$G$50,TRUE)","v":1},3267,{"$f":"POISSON(F3271,Berekening!$G$52,TRUE)","v":1},3267]
[{"$f":"POISSON(B3272,Berekening!$G$27,TRUE)","v":1},3268,{"$f":"POISSON(D3272,Berekening!$G$50,TRUE)","v":1},3268,{"$f":"POISSON(F3272,Berekening!$G$52,TRUE)","v":1},3268]
[{"$f":"POISSON(B3273,Berekening!$G$27,TRUE)","v":1},3269,{"$f":"POISSON(D3273,Berekening!$G$50,TRUE)","v":1},3269,{"$f":"POISSON(F3273,Berekening!$G$52,TRUE)","v":1},3269]
[{"$f":"POISSON(B3274,Berekening!$G$27,TRUE)","v":1},3270,{"$f":"POISSON(D3274,Berekening!$G$50,TRUE)","v":1},3270,{"$f":"POISSON(F3274,Berekening!$G$52,TRUE)","v":1},3270]
[{"$f":"POISSON(B3275,Berekening!$G$27,TRUE)","v":1},3271,{"$f":"POISSON(D3275,Berekening!$G$50,TRUE)","v":1},3271,{"$f":"POISSON(F3275,Berekening!$G$52,TRUE)","v":1},3271]
[{"$f":"POISSON(B3276,Berekening!$G$27,TRUE)","v":1},3272,{"$f":"POISSON(D3276,Berekening!$G$50,TRUE)","v":1},3272,{"$f":"POISSON(F3276,Berekening!$G$52,TRUE)","v":1},3272]
[{"$f":"POISSON(B3277,Berekening!$G$27,TRUE)","v":1},3273,{"$f":"POISSON(D3277,Berekening!$G$50,TRUE)","v":1},3273,{"$f":"POISSON(F3277,Berekening!$G$52,TRUE)","v":1},3273]
[{"$f":"POISSON(B3278,Berekening!$G$27,TRUE)","v":1},3274,{"$f":"POISSON(D3278,Berekening!$G$50,TRUE)","v":1},3274,{"$f":"POISSON(F3278,Berekening!$G$52,TRUE)","v":1},3274]
[{"$f":"POISSON(B3279,Berekening!$G$27,TRUE)","v":1},3275,{"$f":"POISSON(D3279,Berekening!$G$50,TRUE)","v":1},3275,{"$f":"POISSON(F3279,Berekening!$G$52,TRUE)","v":1},3275]
[{"$f":"POISSON(B3280,Berekening!$G$27,TRUE)","v":1},3276,{"$f":"POISSON(D3280,Berekening!$G$50,TRUE)","v":1},3276,{"$f":"POISSON(F3280,Berekening!$G$52,TRUE)","v":1},3276]
[{"$f":"POISSON(B3281,Berekening!$G$27,TRUE)","v":1},3277,{"$f":"POISSON(D3281,Berekening!$G$50,TRUE)","v":1},3277,{"$f":"POISSON(F3281,Berekening!$G$52,TRUE)","v":1},3277]
[{"$f":"POISSON(B3282,Berekening!$G$27,TRUE)","v":1},3278,{"$f":"POISSON(D3282,Berekening!$G$50,TRUE)","v":1},3278,{"$f":"POISSON(F3282,Berekening!$G$52,TRUE)","v":1},3278]
[{"$f":"POISSON(B3283,Berekening!$G$27,TRUE)","v":1},3279,{"$f":"POISSON(D3283,Berekening!$G$50,TRUE)","v":1},3279,{"$f":"POISSON(F3283,Berekening!$G$52,TRUE)","v":1},3279]
[{"$f":"POISSON(B3284,Berekening!$G$27,TRUE)","v":1},3280,{"$f":"POISSON(D3284,Berekening!$G$50,TRUE)","v":1},3280,{"$f":"POISSON(F3284,Berekening!$G$52,TRUE)","v":1},3280]
[{"$f":"POISSON(B3285,Berekening!$G$27,TRUE)","v":1},3281,{"$f":"POISSON(D3285,Berekening!$G$50,TRUE)","v":1},3281,{"$f":"POISSON(F3285,Berekening!$G$52,TRUE)","v":1},3281]
[{"$f":"POISSON(B3286,Berekening!$G$27,TRUE)","v":1},3282,{"$f":"POISSON(D3286,Berekening!$G$50,TRUE)","v":1},3282,{"$f":"POISSON(F3286,Berekening!$G$52,TRUE)","v":1},3282]
[{"$f":"POISSON(B3287,Berekening!$G$27,TRUE)","v":1},3283,{"$f":"POISSON(D3287,Berekening!$G$50,TRUE)","v":1},3283,{"$f":"POISSON(F3287,Berekening!$G$52,TRUE)","v":1},3283]
[{"$f":"POISSON(B3288,Berekening!$G$27,TRUE)","v":1},3284,{"$f":"POISSON(D3288,Berekening!$G$50,TRUE)","v":1},3284,{"$f":"POISSON(F3288,Berekening!$G$52,TRUE)","v":1},3284]
[{"$f":"POISSON(B3289,Berekening!$G$27,TRUE)","v":1},3285,{"$f":"POISSON(D3289,Berekening!$G$50,TRUE)","v":1},3285,{"$f":"POISSON(F3289,Berekening!$G$52,TRUE)","v":1},3285]
[{"$f":"POISSON(B3290,Berekening!$G$27,TRUE)","v":1},3286,{"$f":"POISSON(D3290,Berekening!$G$50,TRUE)","v":1},3286,{"$f":"POISSON(F3290,Berekening!$G$52,TRUE)","v":1},3286]
[{"$f":"POISSON(B3291,Berekening!$G$27,TRUE)","v":1},3287,{"$f":"POISSON(D3291,Berekening!$G$50,TRUE)","v":1},3287,{"$f":"POISSON(F3291,Berekening!$G$52,TRUE)","v":1},3287]
[{"$f":"POISSON(B3292,Berekening!$G$27,TRUE)","v":1},3288,{"$f":"POISSON(D3292,Berekening!$G$50,TRUE)","v":1},3288,{"$f":"POISSON(F3292,Berekening!$G$52,TRUE)","v":1},3288]
[{"$f":"POISSON(B3293,Berekening!$G$27,TRUE)","v":1},3289,{"$f":"POISSON(D3293,Berekening!$G$50,TRUE)","v":1},3289,{"$f":"POISSON(F3293,Berekening!$G$52,TRUE)","v":1},3289]
[{"$f":"POISSON(B3294,Berekening!$G$27,TRUE)","v":1},3290,{"$f":"POISSON(D3294,Berekening!$G$50,TRUE)","v":1},3290,{"$f":"POISSON(F3294,Berekening!$G$52,TRUE)","v":1},3290]
[{"$f":"POISSON(B3295,Berekening!$G$27,TRUE)","v":1},3291,{"$f":"POISSON(D3295,Berekening!$G$50,TRUE)","v":1},3291,{"$f":"POISSON(F3295,Berekening!$G$52,TRUE)","v":1},3291]
[{"$f":"POISSON(B3296,Berekening!$G$27,TRUE)","v":1},3292,{"$f":"POISSON(D3296,Berekening!$G$50,TRUE)","v":1},3292,{"$f":"POISSON(F3296,Berekening!$G$52,TRUE)","v":1},3292]
[{"$f":"POISSON(B3297,Berekening!$G$27,TRUE)","v":1},3293,{"$f":"POISSON(D3297,Berekening!$G$50,TRUE)","v":1},3293,{"$f":"POISSON(F3297,Berekening!$G$52,TRUE)","v":1},3293]
[{"$f":"POISSON(B3298,Berekening!$G$27,TRUE)","v":1},3294,{"$f":"POISSON(D3298,Berekening!$G$50,TRUE)","v":1},3294,{"$f":"POISSON(F3298,Berekening!$G$52,TRUE)","v":1},3294]
[{"$f":"POISSON(B3299,Berekening!$G$27,TRUE)","v":1},3295,{"$f":"POISSON(D3299,Berekening!$G$50,TRUE)","v":1},3295,{"$f":"POISSON(F3299,Berekening!$G$52,TRUE)","v":1},3295]
[{"$f":"POISSON(B3300,Berekening!$G$27,TRUE)","v":1},3296,{"$f":"POISSON(D3300,Berekening!$G$50,TRUE)","v":1},3296,{"$f":"POISSON(F3300,Berekening!$G$52,TRUE)","v":1},3296]
[{"$f":"POISSON(B3301,Berekening!$G$27,TRUE)","v":1},3297,{"$f":"POISSON(D3301,Berekening!$G$50,TRUE)","v":1},3297,{"$f":"POISSON(F3301,Berekening!$G$52,TRUE)","v":1},3297]
[{"$f":"POISSON(B3302,Berekening!$G$27,TRUE)","v":1},3298,{"$f":"POISSON(D3302,Berekening!$G$50,TRUE)","v":1},3298,{"$f":"POISSON(F3302,Berekening!$G$52,TRUE)","v":1},3298]
[{"$f":"POISSON(B3303,Berekening!$G$27,TRUE)","v":1},3299,{"$f":"POISSON(D3303,Berekening!$G$50,TRUE)","v":1},3299,{"$f":"POISSON(F3303,Berekening!$G$52,TRUE)","v":1},3299]
[{"$f":"POISSON(B3304,Berekening!$G$27,TRUE)","v":1},3300,{"$f":"POISSON(D3304,Berekening!$G$50,TRUE)","v":1},3300,{"$f":"POISSON(F3304,Berekening!$G$52,TRUE)","v":1},3300]
[{"$f":"POISSON(B3305,Berekening!$G$27,TRUE)","v":1},3301,{"$f":"POISSON(D3305,Berekening!$G$50,TRUE)","v":1},3301,{"$f":"POISSON(F3305,Berekening!$G$52,TRUE)","v":1},3301]
[{"$f":"POISSON(B3306,Berekening!$G$27,TRUE)","v":1},3302,{"$f":"POISSON(D3306,Berekening!$G$50,TRUE)","v":1},3302,{"$f":"POISSON(F3306,Berekening!$G$52,TRUE)","v":1},3302]
[{"$f":"POISSON(B3307,Berekening!$G$27,TRUE)","v":1},3303,{"$f":"POISSON(D3307,Berekening!$G$50,TRUE)","v":1},3303,{"$f":"POISSON(F3307,Berekening!$G$52,TRUE)","v":1},3303]
[{"$f":"POISSON(B3308,Berekening!$G$27,TRUE)","v":1},3304,{"$f":"POISSON(D3308,Berekening!$G$50,TRUE)","v":1},3304,{"$f":"POISSON(F3308,Berekening!$G$52,TRUE)","v":1},3304]
[{"$f":"POISSON(B3309,Berekening!$G$27,TRUE)","v":1},3305,{"$f":"POISSON(D3309,Berekening!$G$50,TRUE)","v":1},3305,{"$f":"POISSON(F3309,Berekening!$G$52,TRUE)","v":1},3305]
[{"$f":"POISSON(B3310,Berekening!$G$27,TRUE)","v":1},3306,{"$f":"POISSON(D3310,Berekening!$G$50,TRUE)","v":1},3306,{"$f":"POISSON(F3310,Berekening!$G$52,TRUE)","v":1},3306]
[{"$f":"POISSON(B3311,Berekening!$G$27,TRUE)","v":1},3307,{"$f":"POISSON(D3311,Berekening!$G$50,TRUE)","v":1},3307,{"$f":"POISSON(F3311,Berekening!$G$52,TRUE)","v":1},3307]
[{"$f":"POISSON(B3312,Berekening!$G$27,TRUE)","v":1},3308,{"$f":"POISSON(D3312,Berekening!$G$50,TRUE)","v":1},3308,{"$f":"POISSON(F3312,Berekening!$G$52,TRUE)","v":1},3308]
[{"$f":"POISSON(B3313,Berekening!$G$27,TRUE)","v":1},3309,{"$f":"POISSON(D3313,Berekening!$G$50,TRUE)","v":1},3309,{"$f":"POISSON(F3313,Berekening!$G$52,TRUE)","v":1},3309]
[{"$f":"POISSON(B3314,Berekening!$G$27,TRUE)","v":1},3310,{"$f":"POISSON(D3314,Berekening!$G$50,TRUE)","v":1},3310,{"$f":"POISSON(F3314,Berekening!$G$52,TRUE)","v":1},3310]
[{"$f":"POISSON(B3315,Berekening!$G$27,TRUE)","v":1},3311,{"$f":"POISSON(D3315,Berekening!$G$50,TRUE)","v":1},3311,{"$f":"POISSON(F3315,Berekening!$G$52,TRUE)","v":1},3311]
[{"$f":"POISSON(B3316,Berekening!$G$27,TRUE)","v":1},3312,{"$f":"POISSON(D3316,Berekening!$G$50,TRUE)","v":1},3312,{"$f":"POISSON(F3316,Berekening!$G$52,TRUE)","v":1},3312]
[{"$f":"POISSON(B3317,Berekening!$G$27,TRUE)","v":1},3313,{"$f":"POISSON(D3317,Berekening!$G$50,TRUE)","v":1},3313,{"$f":"POISSON(F3317,Berekening!$G$52,TRUE)","v":1},3313]
[{"$f":"POISSON(B3318,Berekening!$G$27,TRUE)","v":1},3314,{"$f":"POISSON(D3318,Berekening!$G$50,TRUE)","v":1},3314,{"$f":"POISSON(F3318,Berekening!$G$52,TRUE)","v":1},3314]
[{"$f":"POISSON(B3319,Berekening!$G$27,TRUE)","v":1},3315,{"$f":"POISSON(D3319,Berekening!$G$50,TRUE)","v":1},3315,{"$f":"POISSON(F3319,Berekening!$G$52,TRUE)","v":1},3315]
[{"$f":"POISSON(B3320,Berekening!$G$27,TRUE)","v":1},3316,{"$f":"POISSON(D3320,Berekening!$G$50,TRUE)","v":1},3316,{"$f":"POISSON(F3320,Berekening!$G$52,TRUE)","v":1},3316]
[{"$f":"POISSON(B3321,Berekening!$G$27,TRUE)","v":1},3317,{"$f":"POISSON(D3321,Berekening!$G$50,TRUE)","v":1},3317,{"$f":"POISSON(F3321,Berekening!$G$52,TRUE)","v":1},3317]
[{"$f":"POISSON(B3322,Berekening!$G$27,TRUE)","v":1},3318,{"$f":"POISSON(D3322,Berekening!$G$50,TRUE)","v":1},3318,{"$f":"POISSON(F3322,Berekening!$G$52,TRUE)","v":1},3318]
[{"$f":"POISSON(B3323,Berekening!$G$27,TRUE)","v":1},3319,{"$f":"POISSON(D3323,Berekening!$G$50,TRUE)","v":1},3319,{"$f":"POISSON(F3323,Berekening!$G$52,TRUE)","v":1},3319]
[{"$f":"POISSON(B3324,Berekening!$G$27,TRUE)","v":1},3320,{"$f":"POISSON(D3324,Berekening!$G$50,TRUE)","v":1},3320,{"$f":"POISSON(F3324,Berekening!$G$52,TRUE)","v":1},3320]
[{"$f":"POISSON(B3325,Berekening!$G$27,TRUE)","v":1},3321,{"$f":"POISSON(D3325,Berekening!$G$50,TRUE)","v":1},3321,{"$f":"POISSON(F3325,Berekening!$G$52,TRUE)","v":1},3321]
[{"$f":"POISSON(B3326,Berekening!$G$27,TRUE)","v":1},3322,{"$f":"POISSON(D3326,Berekening!$G$50,TRUE)","v":1},3322,{"$f":"POISSON(F3326,Berekening!$G$52,TRUE)","v":1},3322]
[{"$f":"POISSON(B3327,Berekening!$G$27,TRUE)","v":1},3323,{"$f":"POISSON(D3327,Berekening!$G$50,TRUE)","v":1},3323,{"$f":"POISSON(F3327,Berekening!$G$52,TRUE)","v":1},3323]
[{"$f":"POISSON(B3328,Berekening!$G$27,TRUE)","v":1},3324,{"$f":"POISSON(D3328,Berekening!$G$50,TRUE)","v":1},3324,{"$f":"POISSON(F3328,Berekening!$G$52,TRUE)","v":1},3324]
[{"$f":"POISSON(B3329,Berekening!$G$27,TRUE)","v":1},3325,{"$f":"POISSON(D3329,Berekening!$G$50,TRUE)","v":1},3325,{"$f":"POISSON(F3329,Berekening!$G$52,TRUE)","v":1},3325]
[{"$f":"POISSON(B3330,Berekening!$G$27,TRUE)","v":1},3326,{"$f":"POISSON(D3330,Berekening!$G$50,TRUE)","v":1},3326,{"$f":"POISSON(F3330,Berekening!$G$52,TRUE)","v":1},3326]
[{"$f":"POISSON(B3331,Berekening!$G$27,TRUE)","v":1},3327,{"$f":"POISSON(D3331,Berekening!$G$50,TRUE)","v":1},3327,{"$f":"POISSON(F3331,Berekening!$G$52,TRUE)","v":1},3327]
[{"$f":"POISSON(B3332,Berekening!$G$27,TRUE)","v":1},3328,{"$f":"POISSON(D3332,Berekening!$G$50,TRUE)","v":1},3328,{"$f":"POISSON(F3332,Berekening!$G$52,TRUE)","v":1},3328]
[{"$f":"POISSON(B3333,Berekening!$G$27,TRUE)","v":1},3329,{"$f":"POISSON(D3333,Berekening!$G$50,TRUE)","v":1},3329,{"$f":"POISSON(F3333,Berekening!$G$52,TRUE)","v":1},3329]
[{"$f":"POISSON(B3334,Berekening!$G$27,TRUE)","v":1},3330,{"$f":"POISSON(D3334,Berekening!$G$50,TRUE)","v":1},3330,{"$f":"POISSON(F3334,Berekening!$G$52,TRUE)","v":1},3330]
[{"$f":"POISSON(B3335,Berekening!$G$27,TRUE)","v":1},3331,{"$f":"POISSON(D3335,Berekening!$G$50,TRUE)","v":1},3331,{"$f":"POISSON(F3335,Berekening!$G$52,TRUE)","v":1},3331]
[{"$f":"POISSON(B3336,Berekening!$G$27,TRUE)","v":1},3332,{"$f":"POISSON(D3336,Berekening!$G$50,TRUE)","v":1},3332,{"$f":"POISSON(F3336,Berekening!$G$52,TRUE)","v":1},3332]
[{"$f":"POISSON(B3337,Berekening!$G$27,TRUE)","v":1},3333,{"$f":"POISSON(D3337,Berekening!$G$50,TRUE)","v":1},3333,{"$f":"POISSON(F3337,Berekening!$G$52,TRUE)","v":1},3333]
[{"$f":"POISSON(B3338,Berekening!$G$27,TRUE)","v":1},3334,{"$f":"POISSON(D3338,Berekening!$G$50,TRUE)","v":1},3334,{"$f":"POISSON(F3338,Berekening!$G$52,TRUE)","v":1},3334]
[{"$f":"POISSON(B3339,Berekening!$G$27,TRUE)","v":1},3335,{"$f":"POISSON(D3339,Berekening!$G$50,TRUE)","v":1},3335,{"$f":"POISSON(F3339,Berekening!$G$52,TRUE)","v":1},3335]
[{"$f":"POISSON(B3340,Berekening!$G$27,TRUE)","v":1},3336,{"$f":"POISSON(D3340,Berekening!$G$50,TRUE)","v":1},3336,{"$f":"POISSON(F3340,Berekening!$G$52,TRUE)","v":1},3336]
[{"$f":"POISSON(B3341,Berekening!$G$27,TRUE)","v":1},3337,{"$f":"POISSON(D3341,Berekening!$G$50,TRUE)","v":1},3337,{"$f":"POISSON(F3341,Berekening!$G$52,TRUE)","v":1},3337]
[{"$f":"POISSON(B3342,Berekening!$G$27,TRUE)","v":1},3338,{"$f":"POISSON(D3342,Berekening!$G$50,TRUE)","v":1},3338,{"$f":"POISSON(F3342,Berekening!$G$52,TRUE)","v":1},3338]
[{"$f":"POISSON(B3343,Berekening!$G$27,TRUE)","v":1},3339,{"$f":"POISSON(D3343,Berekening!$G$50,TRUE)","v":1},3339,{"$f":"POISSON(F3343,Berekening!$G$52,TRUE)","v":1},3339]
[{"$f":"POISSON(B3344,Berekening!$G$27,TRUE)","v":1},3340,{"$f":"POISSON(D3344,Berekening!$G$50,TRUE)","v":1},3340,{"$f":"POISSON(F3344,Berekening!$G$52,TRUE)","v":1},3340]
[{"$f":"POISSON(B3345,Berekening!$G$27,TRUE)","v":1},3341,{"$f":"POISSON(D3345,Berekening!$G$50,TRUE)","v":1},3341,{"$f":"POISSON(F3345,Berekening!$G$52,TRUE)","v":1},3341]
[{"$f":"POISSON(B3346,Berekening!$G$27,TRUE)","v":1},3342,{"$f":"POISSON(D3346,Berekening!$G$50,TRUE)","v":1},3342,{"$f":"POISSON(F3346,Berekening!$G$52,TRUE)","v":1},3342]
[{"$f":"POISSON(B3347,Berekening!$G$27,TRUE)","v":1},3343,{"$f":"POISSON(D3347,Berekening!$G$50,TRUE)","v":1},3343,{"$f":"POISSON(F3347,Berekening!$G$52,TRUE)","v":1},3343]
[{"$f":"POISSON(B3348,Berekening!$G$27,TRUE)","v":1},3344,{"$f":"POISSON(D3348,Berekening!$G$50,TRUE)","v":1},3344,{"$f":"POISSON(F3348,Berekening!$G$52,TRUE)","v":1},3344]
[{"$f":"POISSON(B3349,Berekening!$G$27,TRUE)","v":1},3345,{"$f":"POISSON(D3349,Berekening!$G$50,TRUE)","v":1},3345,{"$f":"POISSON(F3349,Berekening!$G$52,TRUE)","v":1},3345]
[{"$f":"POISSON(B3350,Berekening!$G$27,TRUE)","v":1},3346,{"$f":"POISSON(D3350,Berekening!$G$50,TRUE)","v":1},3346,{"$f":"POISSON(F3350,Berekening!$G$52,TRUE)","v":1},3346]
[{"$f":"POISSON(B3351,Berekening!$G$27,TRUE)","v":1},3347,{"$f":"POISSON(D3351,Berekening!$G$50,TRUE)","v":1},3347,{"$f":"POISSON(F3351,Berekening!$G$52,TRUE)","v":1},3347]
[{"$f":"POISSON(B3352,Berekening!$G$27,TRUE)","v":1},3348,{"$f":"POISSON(D3352,Berekening!$G$50,TRUE)","v":1},3348,{"$f":"POISSON(F3352,Berekening!$G$52,TRUE)","v":1},3348]
[{"$f":"POISSON(B3353,Berekening!$G$27,TRUE)","v":1},3349,{"$f":"POISSON(D3353,Berekening!$G$50,TRUE)","v":1},3349,{"$f":"POISSON(F3353,Berekening!$G$52,TRUE)","v":1},3349]
[{"$f":"POISSON(B3354,Berekening!$G$27,TRUE)","v":1},3350,{"$f":"POISSON(D3354,Berekening!$G$50,TRUE)","v":1},3350,{"$f":"POISSON(F3354,Berekening!$G$52,TRUE)","v":1},3350]
[{"$f":"POISSON(B3355,Berekening!$G$27,TRUE)","v":1},3351,{"$f":"POISSON(D3355,Berekening!$G$50,TRUE)","v":1},3351,{"$f":"POISSON(F3355,Berekening!$G$52,TRUE)","v":1},3351]
[{"$f":"POISSON(B3356,Berekening!$G$27,TRUE)","v":1},3352,{"$f":"POISSON(D3356,Berekening!$G$50,TRUE)","v":1},3352,{"$f":"POISSON(F3356,Berekening!$G$52,TRUE)","v":1},3352]
[{"$f":"POISSON(B3357,Berekening!$G$27,TRUE)","v":1},3353,{"$f":"POISSON(D3357,Berekening!$G$50,TRUE)","v":1},3353,{"$f":"POISSON(F3357,Berekening!$G$52,TRUE)","v":1},3353]
[{"$f":"POISSON(B3358,Berekening!$G$27,TRUE)","v":1},3354,{"$f":"POISSON(D3358,Berekening!$G$50,TRUE)","v":1},3354,{"$f":"POISSON(F3358,Berekening!$G$52,TRUE)","v":1},3354]
[{"$f":"POISSON(B3359,Berekening!$G$27,TRUE)","v":1},3355,{"$f":"POISSON(D3359,Berekening!$G$50,TRUE)","v":1},3355,{"$f":"POISSON(F3359,Berekening!$G$52,TRUE)","v":1},3355]
[{"$f":"POISSON(B3360,Berekening!$G$27,TRUE)","v":1},3356,{"$f":"POISSON(D3360,Berekening!$G$50,TRUE)","v":1},3356,{"$f":"POISSON(F3360,Berekening!$G$52,TRUE)","v":1},3356]
[{"$f":"POISSON(B3361,Berekening!$G$27,TRUE)","v":1},3357,{"$f":"POISSON(D3361,Berekening!$G$50,TRUE)","v":1},3357,{"$f":"POISSON(F3361,Berekening!$G$52,TRUE)","v":1},3357]
[{"$f":"POISSON(B3362,Berekening!$G$27,TRUE)","v":1},3358,{"$f":"POISSON(D3362,Berekening!$G$50,TRUE)","v":1},3358,{"$f":"POISSON(F3362,Berekening!$G$52,TRUE)","v":1},3358]
[{"$f":"POISSON(B3363,Berekening!$G$27,TRUE)","v":1},3359,{"$f":"POISSON(D3363,Berekening!$G$50,TRUE)","v":1},3359,{"$f":"POISSON(F3363,Berekening!$G$52,TRUE)","v":1},3359]
[{"$f":"POISSON(B3364,Berekening!$G$27,TRUE)","v":1},3360,{"$f":"POISSON(D3364,Berekening!$G$50,TRUE)","v":1},3360,{"$f":"POISSON(F3364,Berekening!$G$52,TRUE)","v":1},3360]
[{"$f":"POISSON(B3365,Berekening!$G$27,TRUE)","v":1},3361,{"$f":"POISSON(D3365,Berekening!$G$50,TRUE)","v":1},3361,{"$f":"POISSON(F3365,Berekening!$G$52,TRUE)","v":1},3361]
[{"$f":"POISSON(B3366,Berekening!$G$27,TRUE)","v":1},3362,{"$f":"POISSON(D3366,Berekening!$G$50,TRUE)","v":1},3362,{"$f":"POISSON(F3366,Berekening!$G$52,TRUE)","v":1},3362]
[{"$f":"POISSON(B3367,Berekening!$G$27,TRUE)","v":1},3363,{"$f":"POISSON(D3367,Berekening!$G$50,TRUE)","v":1},3363,{"$f":"POISSON(F3367,Berekening!$G$52,TRUE)","v":1},3363]
[{"$f":"POISSON(B3368,Berekening!$G$27,TRUE)","v":1},3364,{"$f":"POISSON(D3368,Berekening!$G$50,TRUE)","v":1},3364,{"$f":"POISSON(F3368,Berekening!$G$52,TRUE)","v":1},3364]
[{"$f":"POISSON(B3369,Berekening!$G$27,TRUE)","v":1},3365,{"$f":"POISSON(D3369,Berekening!$G$50,TRUE)","v":1},3365,{"$f":"POISSON(F3369,Berekening!$G$52,TRUE)","v":1},3365]
[{"$f":"POISSON(B3370,Berekening!$G$27,TRUE)","v":1},3366,{"$f":"POISSON(D3370,Berekening!$G$50,TRUE)","v":1},3366,{"$f":"POISSON(F3370,Berekening!$G$52,TRUE)","v":1},3366]
[{"$f":"POISSON(B3371,Berekening!$G$27,TRUE)","v":1},3367,{"$f":"POISSON(D3371,Berekening!$G$50,TRUE)","v":1},3367,{"$f":"POISSON(F3371,Berekening!$G$52,TRUE)","v":1},3367]
[{"$f":"POISSON(B3372,Berekening!$G$27,TRUE)","v":1},3368,{"$f":"POISSON(D3372,Berekening!$G$50,TRUE)","v":1},3368,{"$f":"POISSON(F3372,Berekening!$G$52,TRUE)","v":1},3368]
[{"$f":"POISSON(B3373,Berekening!$G$27,TRUE)","v":1},3369,{"$f":"POISSON(D3373,Berekening!$G$50,TRUE)","v":1},3369,{"$f":"POISSON(F3373,Berekening!$G$52,TRUE)","v":1},3369]
[{"$f":"POISSON(B3374,Berekening!$G$27,TRUE)","v":1},3370,{"$f":"POISSON(D3374,Berekening!$G$50,TRUE)","v":1},3370,{"$f":"POISSON(F3374,Berekening!$G$52,TRUE)","v":1},3370]
[{"$f":"POISSON(B3375,Berekening!$G$27,TRUE)","v":1},3371,{"$f":"POISSON(D3375,Berekening!$G$50,TRUE)","v":1},3371,{"$f":"POISSON(F3375,Berekening!$G$52,TRUE)","v":1},3371]
[{"$f":"POISSON(B3376,Berekening!$G$27,TRUE)","v":1},3372,{"$f":"POISSON(D3376,Berekening!$G$50,TRUE)","v":1},3372,{"$f":"POISSON(F3376,Berekening!$G$52,TRUE)","v":1},3372]
[{"$f":"POISSON(B3377,Berekening!$G$27,TRUE)","v":1},3373,{"$f":"POISSON(D3377,Berekening!$G$50,TRUE)","v":1},3373,{"$f":"POISSON(F3377,Berekening!$G$52,TRUE)","v":1},3373]
[{"$f":"POISSON(B3378,Berekening!$G$27,TRUE)","v":1},3374,{"$f":"POISSON(D3378,Berekening!$G$50,TRUE)","v":1},3374,{"$f":"POISSON(F3378,Berekening!$G$52,TRUE)","v":1},3374]
[{"$f":"POISSON(B3379,Berekening!$G$27,TRUE)","v":1},3375,{"$f":"POISSON(D3379,Berekening!$G$50,TRUE)","v":1},3375,{"$f":"POISSON(F3379,Berekening!$G$52,TRUE)","v":1},3375]
[{"$f":"POISSON(B3380,Berekening!$G$27,TRUE)","v":1},3376,{"$f":"POISSON(D3380,Berekening!$G$50,TRUE)","v":1},3376,{"$f":"POISSON(F3380,Berekening!$G$52,TRUE)","v":1},3376]
[{"$f":"POISSON(B3381,Berekening!$G$27,TRUE)","v":1},3377,{"$f":"POISSON(D3381,Berekening!$G$50,TRUE)","v":1},3377,{"$f":"POISSON(F3381,Berekening!$G$52,TRUE)","v":1},3377]
[{"$f":"POISSON(B3382,Berekening!$G$27,TRUE)","v":1},3378,{"$f":"POISSON(D3382,Berekening!$G$50,TRUE)","v":1},3378,{"$f":"POISSON(F3382,Berekening!$G$52,TRUE)","v":1},3378]
[{"$f":"POISSON(B3383,Berekening!$G$27,TRUE)","v":1},3379,{"$f":"POISSON(D3383,Berekening!$G$50,TRUE)","v":1},3379,{"$f":"POISSON(F3383,Berekening!$G$52,TRUE)","v":1},3379]
[{"$f":"POISSON(B3384,Berekening!$G$27,TRUE)","v":1},3380,{"$f":"POISSON(D3384,Berekening!$G$50,TRUE)","v":1},3380,{"$f":"POISSON(F3384,Berekening!$G$52,TRUE)","v":1},3380]
[{"$f":"POISSON(B3385,Berekening!$G$27,TRUE)","v":1},3381,{"$f":"POISSON(D3385,Berekening!$G$50,TRUE)","v":1},3381,{"$f":"POISSON(F3385,Berekening!$G$52,TRUE)","v":1},3381]
[{"$f":"POISSON(B3386,Berekening!$G$27,TRUE)","v":1},3382,{"$f":"POISSON(D3386,Berekening!$G$50,TRUE)","v":1},3382,{"$f":"POISSON(F3386,Berekening!$G$52,TRUE)","v":1},3382]
[{"$f":"POISSON(B3387,Berekening!$G$27,TRUE)","v":1},3383,{"$f":"POISSON(D3387,Berekening!$G$50,TRUE)","v":1},3383,{"$f":"POISSON(F3387,Berekening!$G$52,TRUE)","v":1},3383]
[{"$f":"POISSON(B3388,Berekening!$G$27,TRUE)","v":1},3384,{"$f":"POISSON(D3388,Berekening!$G$50,TRUE)","v":1},3384,{"$f":"POISSON(F3388,Berekening!$G$52,TRUE)","v":1},3384]
[{"$f":"POISSON(B3389,Berekening!$G$27,TRUE)","v":1},3385,{"$f":"POISSON(D3389,Berekening!$G$50,TRUE)","v":1},3385,{"$f":"POISSON(F3389,Berekening!$G$52,TRUE)","v":1},3385]
[{"$f":"POISSON(B3390,Berekening!$G$27,TRUE)","v":1},3386,{"$f":"POISSON(D3390,Berekening!$G$50,TRUE)","v":1},3386,{"$f":"POISSON(F3390,Berekening!$G$52,TRUE)","v":1},3386]
[{"$f":"POISSON(B3391,Berekening!$G$27,TRUE)","v":1},3387,{"$f":"POISSON(D3391,Berekening!$G$50,TRUE)","v":1},3387,{"$f":"POISSON(F3391,Berekening!$G$52,TRUE)","v":1},3387]
[{"$f":"POISSON(B3392,Berekening!$G$27,TRUE)","v":1},3388,{"$f":"POISSON(D3392,Berekening!$G$50,TRUE)","v":1},3388,{"$f":"POISSON(F3392,Berekening!$G$52,TRUE)","v":1},3388]
[{"$f":"POISSON(B3393,Berekening!$G$27,TRUE)","v":1},3389,{"$f":"POISSON(D3393,Berekening!$G$50,TRUE)","v":1},3389,{"$f":"POISSON(F3393,Berekening!$G$52,TRUE)","v":1},3389]
[{"$f":"POISSON(B3394,Berekening!$G$27,TRUE)","v":1},3390,{"$f":"POISSON(D3394,Berekening!$G$50,TRUE)","v":1},3390,{"$f":"POISSON(F3394,Berekening!$G$52,TRUE)","v":1},3390]
[{"$f":"POISSON(B3395,Berekening!$G$27,TRUE)","v":1},3391,{"$f":"POISSON(D3395,Berekening!$G$50,TRUE)","v":1},3391,{"$f":"POISSON(F3395,Berekening!$G$52,TRUE)","v":1},3391]
[{"$f":"POISSON(B3396,Berekening!$G$27,TRUE)","v":1},3392,{"$f":"POISSON(D3396,Berekening!$G$50,TRUE)","v":1},3392,{"$f":"POISSON(F3396,Berekening!$G$52,TRUE)","v":1},3392]
[{"$f":"POISSON(B3397,Berekening!$G$27,TRUE)","v":1},3393,{"$f":"POISSON(D3397,Berekening!$G$50,TRUE)","v":1},3393,{"$f":"POISSON(F3397,Berekening!$G$52,TRUE)","v":1},3393]
[{"$f":"POISSON(B3398,Berekening!$G$27,TRUE)","v":1},3394,{"$f":"POISSON(D3398,Berekening!$G$50,TRUE)","v":1},3394,{"$f":"POISSON(F3398,Berekening!$G$52,TRUE)","v":1},3394]
[{"$f":"POISSON(B3399,Berekening!$G$27,TRUE)","v":1},3395,{"$f":"POISSON(D3399,Berekening!$G$50,TRUE)","v":1},3395,{"$f":"POISSON(F3399,Berekening!$G$52,TRUE)","v":1},3395]
[{"$f":"POISSON(B3400,Berekening!$G$27,TRUE)","v":1},3396,{"$f":"POISSON(D3400,Berekening!$G$50,TRUE)","v":1},3396,{"$f":"POISSON(F3400,Berekening!$G$52,TRUE)","v":1},3396]
[{"$f":"POISSON(B3401,Berekening!$G$27,TRUE)","v":1},3397,{"$f":"POISSON(D3401,Berekening!$G$50,TRUE)","v":1},3397,{"$f":"POISSON(F3401,Berekening!$G$52,TRUE)","v":1},3397]
[{"$f":"POISSON(B3402,Berekening!$G$27,TRUE)","v":1},3398,{"$f":"POISSON(D3402,Berekening!$G$50,TRUE)","v":1},3398,{"$f":"POISSON(F3402,Berekening!$G$52,TRUE)","v":1},3398]
[{"$f":"POISSON(B3403,Berekening!$G$27,TRUE)","v":1},3399,{"$f":"POISSON(D3403,Berekening!$G$50,TRUE)","v":1},3399,{"$f":"POISSON(F3403,Berekening!$G$52,TRUE)","v":1},3399]
[{"$f":"POISSON(B3404,Berekening!$G$27,TRUE)","v":1},3400,{"$f":"POISSON(D3404,Berekening!$G$50,TRUE)","v":1},3400,{"$f":"POISSON(F3404,Berekening!$G$52,TRUE)","v":1},3400]
[{"$f":"POISSON(B3405,Berekening!$G$27,TRUE)","v":1},3401,{"$f":"POISSON(D3405,Berekening!$G$50,TRUE)","v":1},3401,{"$f":"POISSON(F3405,Berekening!$G$52,TRUE)","v":1},3401]
[{"$f":"POISSON(B3406,Berekening!$G$27,TRUE)","v":1},3402,{"$f":"POISSON(D3406,Berekening!$G$50,TRUE)","v":1},3402,{"$f":"POISSON(F3406,Berekening!$G$52,TRUE)","v":1},3402]
[{"$f":"POISSON(B3407,Berekening!$G$27,TRUE)","v":1},3403,{"$f":"POISSON(D3407,Berekening!$G$50,TRUE)","v":1},3403,{"$f":"POISSON(F3407,Berekening!$G$52,TRUE)","v":1},3403]
[{"$f":"POISSON(B3408,Berekening!$G$27,TRUE)","v":1},3404,{"$f":"POISSON(D3408,Berekening!$G$50,TRUE)","v":1},3404,{"$f":"POISSON(F3408,Berekening!$G$52,TRUE)","v":1},3404]
[{"$f":"POISSON(B3409,Berekening!$G$27,TRUE)","v":1},3405,{"$f":"POISSON(D3409,Berekening!$G$50,TRUE)","v":1},3405,{"$f":"POISSON(F3409,Berekening!$G$52,TRUE)","v":1},3405]
[{"$f":"POISSON(B3410,Berekening!$G$27,TRUE)","v":1},3406,{"$f":"POISSON(D3410,Berekening!$G$50,TRUE)","v":1},3406,{"$f":"POISSON(F3410,Berekening!$G$52,TRUE)","v":1},3406]
[{"$f":"POISSON(B3411,Berekening!$G$27,TRUE)","v":1},3407,{"$f":"POISSON(D3411,Berekening!$G$50,TRUE)","v":1},3407,{"$f":"POISSON(F3411,Berekening!$G$52,TRUE)","v":1},3407]
[{"$f":"POISSON(B3412,Berekening!$G$27,TRUE)","v":1},3408,{"$f":"POISSON(D3412,Berekening!$G$50,TRUE)","v":1},3408,{"$f":"POISSON(F3412,Berekening!$G$52,TRUE)","v":1},3408]
[{"$f":"POISSON(B3413,Berekening!$G$27,TRUE)","v":1},3409,{"$f":"POISSON(D3413,Berekening!$G$50,TRUE)","v":1},3409,{"$f":"POISSON(F3413,Berekening!$G$52,TRUE)","v":1},3409]
[{"$f":"POISSON(B3414,Berekening!$G$27,TRUE)","v":1},3410,{"$f":"POISSON(D3414,Berekening!$G$50,TRUE)","v":1},3410,{"$f":"POISSON(F3414,Berekening!$G$52,TRUE)","v":1},3410]
[{"$f":"POISSON(B3415,Berekening!$G$27,TRUE)","v":1},3411,{"$f":"POISSON(D3415,Berekening!$G$50,TRUE)","v":1},3411,{"$f":"POISSON(F3415,Berekening!$G$52,TRUE)","v":1},3411]
[{"$f":"POISSON(B3416,Berekening!$G$27,TRUE)","v":1},3412,{"$f":"POISSON(D3416,Berekening!$G$50,TRUE)","v":1},3412,{"$f":"POISSON(F3416,Berekening!$G$52,TRUE)","v":1},3412]
[{"$f":"POISSON(B3417,Berekening!$G$27,TRUE)","v":1},3413,{"$f":"POISSON(D3417,Berekening!$G$50,TRUE)","v":1},3413,{"$f":"POISSON(F3417,Berekening!$G$52,TRUE)","v":1},3413]
[{"$f":"POISSON(B3418,Berekening!$G$27,TRUE)","v":1},3414,{"$f":"POISSON(D3418,Berekening!$G$50,TRUE)","v":1},3414,{"$f":"POISSON(F3418,Berekening!$G$52,TRUE)","v":1},3414]
[{"$f":"POISSON(B3419,Berekening!$G$27,TRUE)","v":1},3415,{"$f":"POISSON(D3419,Berekening!$G$50,TRUE)","v":1},3415,{"$f":"POISSON(F3419,Berekening!$G$52,TRUE)","v":1},3415]
[{"$f":"POISSON(B3420,Berekening!$G$27,TRUE)","v":1},3416,{"$f":"POISSON(D3420,Berekening!$G$50,TRUE)","v":1},3416,{"$f":"POISSON(F3420,Berekening!$G$52,TRUE)","v":1},3416]
[{"$f":"POISSON(B3421,Berekening!$G$27,TRUE)","v":1},3417,{"$f":"POISSON(D3421,Berekening!$G$50,TRUE)","v":1},3417,{"$f":"POISSON(F3421,Berekening!$G$52,TRUE)","v":1},3417]
[{"$f":"POISSON(B3422,Berekening!$G$27,TRUE)","v":1},3418,{"$f":"POISSON(D3422,Berekening!$G$50,TRUE)","v":1},3418,{"$f":"POISSON(F3422,Berekening!$G$52,TRUE)","v":1},3418]
[{"$f":"POISSON(B3423,Berekening!$G$27,TRUE)","v":1},3419,{"$f":"POISSON(D3423,Berekening!$G$50,TRUE)","v":1},3419,{"$f":"POISSON(F3423,Berekening!$G$52,TRUE)","v":1},3419]
[{"$f":"POISSON(B3424,Berekening!$G$27,TRUE)","v":1},3420,{"$f":"POISSON(D3424,Berekening!$G$50,TRUE)","v":1},3420,{"$f":"POISSON(F3424,Berekening!$G$52,TRUE)","v":1},3420]
[{"$f":"POISSON(B3425,Berekening!$G$27,TRUE)","v":1},3421,{"$f":"POISSON(D3425,Berekening!$G$50,TRUE)","v":1},3421,{"$f":"POISSON(F3425,Berekening!$G$52,TRUE)","v":1},3421]
[{"$f":"POISSON(B3426,Berekening!$G$27,TRUE)","v":1},3422,{"$f":"POISSON(D3426,Berekening!$G$50,TRUE)","v":1},3422,{"$f":"POISSON(F3426,Berekening!$G$52,TRUE)","v":1},3422]
[{"$f":"POISSON(B3427,Berekening!$G$27,TRUE)","v":1},3423,{"$f":"POISSON(D3427,Berekening!$G$50,TRUE)","v":1},3423,{"$f":"POISSON(F3427,Berekening!$G$52,TRUE)","v":1},3423]
[{"$f":"POISSON(B3428,Berekening!$G$27,TRUE)","v":1},3424,{"$f":"POISSON(D3428,Berekening!$G$50,TRUE)","v":1},3424,{"$f":"POISSON(F3428,Berekening!$G$52,TRUE)","v":1},3424]
[{"$f":"POISSON(B3429,Berekening!$G$27,TRUE)","v":1},3425,{"$f":"POISSON(D3429,Berekening!$G$50,TRUE)","v":1},3425,{"$f":"POISSON(F3429,Berekening!$G$52,TRUE)","v":1},3425]
[{"$f":"POISSON(B3430,Berekening!$G$27,TRUE)","v":1},3426,{"$f":"POISSON(D3430,Berekening!$G$50,TRUE)","v":1},3426,{"$f":"POISSON(F3430,Berekening!$G$52,TRUE)","v":1},3426]
[{"$f":"POISSON(B3431,Berekening!$G$27,TRUE)","v":1},3427,{"$f":"POISSON(D3431,Berekening!$G$50,TRUE)","v":1},3427,{"$f":"POISSON(F3431,Berekening!$G$52,TRUE)","v":1},3427]
[{"$f":"POISSON(B3432,Berekening!$G$27,TRUE)","v":1},3428,{"$f":"POISSON(D3432,Berekening!$G$50,TRUE)","v":1},3428,{"$f":"POISSON(F3432,Berekening!$G$52,TRUE)","v":1},3428]
[{"$f":"POISSON(B3433,Berekening!$G$27,TRUE)","v":1},3429,{"$f":"POISSON(D3433,Berekening!$G$50,TRUE)","v":1},3429,{"$f":"POISSON(F3433,Berekening!$G$52,TRUE)","v":1},3429]
[{"$f":"POISSON(B3434,Berekening!$G$27,TRUE)","v":1},3430,{"$f":"POISSON(D3434,Berekening!$G$50,TRUE)","v":1},3430,{"$f":"POISSON(F3434,Berekening!$G$52,TRUE)","v":1},3430]
[{"$f":"POISSON(B3435,Berekening!$G$27,TRUE)","v":1},3431,{"$f":"POISSON(D3435,Berekening!$G$50,TRUE)","v":1},3431,{"$f":"POISSON(F3435,Berekening!$G$52,TRUE)","v":1},3431]
[{"$f":"POISSON(B3436,Berekening!$G$27,TRUE)","v":1},3432,{"$f":"POISSON(D3436,Berekening!$G$50,TRUE)","v":1},3432,{"$f":"POISSON(F3436,Berekening!$G$52,TRUE)","v":1},3432]
[{"$f":"POISSON(B3437,Berekening!$G$27,TRUE)","v":1},3433,{"$f":"POISSON(D3437,Berekening!$G$50,TRUE)","v":1},3433,{"$f":"POISSON(F3437,Berekening!$G$52,TRUE)","v":1},3433]
[{"$f":"POISSON(B3438,Berekening!$G$27,TRUE)","v":1},3434,{"$f":"POISSON(D3438,Berekening!$G$50,TRUE)","v":1},3434,{"$f":"POISSON(F3438,Berekening!$G$52,TRUE)","v":1},3434]
[{"$f":"POISSON(B3439,Berekening!$G$27,TRUE)","v":1},3435,{"$f":"POISSON(D3439,Berekening!$G$50,TRUE)","v":1},3435,{"$f":"POISSON(F3439,Berekening!$G$52,TRUE)","v":1},3435]
[{"$f":"POISSON(B3440,Berekening!$G$27,TRUE)","v":1},3436,{"$f":"POISSON(D3440,Berekening!$G$50,TRUE)","v":1},3436,{"$f":"POISSON(F3440,Berekening!$G$52,TRUE)","v":1},3436]
[{"$f":"POISSON(B3441,Berekening!$G$27,TRUE)","v":1},3437,{"$f":"POISSON(D3441,Berekening!$G$50,TRUE)","v":1},3437,{"$f":"POISSON(F3441,Berekening!$G$52,TRUE)","v":1},3437]
[{"$f":"POISSON(B3442,Berekening!$G$27,TRUE)","v":1},3438,{"$f":"POISSON(D3442,Berekening!$G$50,TRUE)","v":1},3438,{"$f":"POISSON(F3442,Berekening!$G$52,TRUE)","v":1},3438]
[{"$f":"POISSON(B3443,Berekening!$G$27,TRUE)","v":1},3439,{"$f":"POISSON(D3443,Berekening!$G$50,TRUE)","v":1},3439,{"$f":"POISSON(F3443,Berekening!$G$52,TRUE)","v":1},3439]
[{"$f":"POISSON(B3444,Berekening!$G$27,TRUE)","v":1},3440,{"$f":"POISSON(D3444,Berekening!$G$50,TRUE)","v":1},3440,{"$f":"POISSON(F3444,Berekening!$G$52,TRUE)","v":1},3440]
[{"$f":"POISSON(B3445,Berekening!$G$27,TRUE)","v":1},3441,{"$f":"POISSON(D3445,Berekening!$G$50,TRUE)","v":1},3441,{"$f":"POISSON(F3445,Berekening!$G$52,TRUE)","v":1},3441]
[{"$f":"POISSON(B3446,Berekening!$G$27,TRUE)","v":1},3442,{"$f":"POISSON(D3446,Berekening!$G$50,TRUE)","v":1},3442,{"$f":"POISSON(F3446,Berekening!$G$52,TRUE)","v":1},3442]
[{"$f":"POISSON(B3447,Berekening!$G$27,TRUE)","v":1},3443,{"$f":"POISSON(D3447,Berekening!$G$50,TRUE)","v":1},3443,{"$f":"POISSON(F3447,Berekening!$G$52,TRUE)","v":1},3443]
[{"$f":"POISSON(B3448,Berekening!$G$27,TRUE)","v":1},3444,{"$f":"POISSON(D3448,Berekening!$G$50,TRUE)","v":1},3444,{"$f":"POISSON(F3448,Berekening!$G$52,TRUE)","v":1},3444]
[{"$f":"POISSON(B3449,Berekening!$G$27,TRUE)","v":1},3445,{"$f":"POISSON(D3449,Berekening!$G$50,TRUE)","v":1},3445,{"$f":"POISSON(F3449,Berekening!$G$52,TRUE)","v":1},3445]
[{"$f":"POISSON(B3450,Berekening!$G$27,TRUE)","v":1},3446,{"$f":"POISSON(D3450,Berekening!$G$50,TRUE)","v":1},3446,{"$f":"POISSON(F3450,Berekening!$G$52,TRUE)","v":1},3446]
[{"$f":"POISSON(B3451,Berekening!$G$27,TRUE)","v":1},3447,{"$f":"POISSON(D3451,Berekening!$G$50,TRUE)","v":1},3447,{"$f":"POISSON(F3451,Berekening!$G$52,TRUE)","v":1},3447]
[{"$f":"POISSON(B3452,Berekening!$G$27,TRUE)","v":1},3448,{"$f":"POISSON(D3452,Berekening!$G$50,TRUE)","v":1},3448,{"$f":"POISSON(F3452,Berekening!$G$52,TRUE)","v":1},3448]
[{"$f":"POISSON(B3453,Berekening!$G$27,TRUE)","v":1},3449,{"$f":"POISSON(D3453,Berekening!$G$50,TRUE)","v":1},3449,{"$f":"POISSON(F3453,Berekening!$G$52,TRUE)","v":1},3449]
[{"$f":"POISSON(B3454,Berekening!$G$27,TRUE)","v":1},3450,{"$f":"POISSON(D3454,Berekening!$G$50,TRUE)","v":1},3450,{"$f":"POISSON(F3454,Berekening!$G$52,TRUE)","v":1},3450]
[{"$f":"POISSON(B3455,Berekening!$G$27,TRUE)","v":1},3451,{"$f":"POISSON(D3455,Berekening!$G$50,TRUE)","v":1},3451,{"$f":"POISSON(F3455,Berekening!$G$52,TRUE)","v":1},3451]
[{"$f":"POISSON(B3456,Berekening!$G$27,TRUE)","v":1},3452,{"$f":"POISSON(D3456,Berekening!$G$50,TRUE)","v":1},3452,{"$f":"POISSON(F3456,Berekening!$G$52,TRUE)","v":1},3452]
[{"$f":"POISSON(B3457,Berekening!$G$27,TRUE)","v":1},3453,{"$f":"POISSON(D3457,Berekening!$G$50,TRUE)","v":1},3453,{"$f":"POISSON(F3457,Berekening!$G$52,TRUE)","v":1},3453]
[{"$f":"POISSON(B3458,Berekening!$G$27,TRUE)","v":1},3454,{"$f":"POISSON(D3458,Berekening!$G$50,TRUE)","v":1},3454,{"$f":"POISSON(F3458,Berekening!$G$52,TRUE)","v":1},3454]
[{"$f":"POISSON(B3459,Berekening!$G$27,TRUE)","v":1},3455,{"$f":"POISSON(D3459,Berekening!$G$50,TRUE)","v":1},3455,{"$f":"POISSON(F3459,Berekening!$G$52,TRUE)","v":1},3455]
[{"$f":"POISSON(B3460,Berekening!$G$27,TRUE)","v":1},3456,{"$f":"POISSON(D3460,Berekening!$G$50,TRUE)","v":1},3456,{"$f":"POISSON(F3460,Berekening!$G$52,TRUE)","v":1},3456]
[{"$f":"POISSON(B3461,Berekening!$G$27,TRUE)","v":1},3457,{"$f":"POISSON(D3461,Berekening!$G$50,TRUE)","v":1},3457,{"$f":"POISSON(F3461,Berekening!$G$52,TRUE)","v":1},3457]
[{"$f":"POISSON(B3462,Berekening!$G$27,TRUE)","v":1},3458,{"$f":"POISSON(D3462,Berekening!$G$50,TRUE)","v":1},3458,{"$f":"POISSON(F3462,Berekening!$G$52,TRUE)","v":1},3458]
[{"$f":"POISSON(B3463,Berekening!$G$27,TRUE)","v":1},3459,{"$f":"POISSON(D3463,Berekening!$G$50,TRUE)","v":1},3459,{"$f":"POISSON(F3463,Berekening!$G$52,TRUE)","v":1},3459]
[{"$f":"POISSON(B3464,Berekening!$G$27,TRUE)","v":1},3460,{"$f":"POISSON(D3464,Berekening!$G$50,TRUE)","v":1},3460,{"$f":"POISSON(F3464,Berekening!$G$52,TRUE)","v":1},3460]
[{"$f":"POISSON(B3465,Berekening!$G$27,TRUE)","v":1},3461,{"$f":"POISSON(D3465,Berekening!$G$50,TRUE)","v":1},3461,{"$f":"POISSON(F3465,Berekening!$G$52,TRUE)","v":1},3461]
[{"$f":"POISSON(B3466,Berekening!$G$27,TRUE)","v":1},3462,{"$f":"POISSON(D3466,Berekening!$G$50,TRUE)","v":1},3462,{"$f":"POISSON(F3466,Berekening!$G$52,TRUE)","v":1},3462]
[{"$f":"POISSON(B3467,Berekening!$G$27,TRUE)","v":1},3463,{"$f":"POISSON(D3467,Berekening!$G$50,TRUE)","v":1},3463,{"$f":"POISSON(F3467,Berekening!$G$52,TRUE)","v":1},3463]
[{"$f":"POISSON(B3468,Berekening!$G$27,TRUE)","v":1},3464,{"$f":"POISSON(D3468,Berekening!$G$50,TRUE)","v":1},3464,{"$f":"POISSON(F3468,Berekening!$G$52,TRUE)","v":1},3464]
[{"$f":"POISSON(B3469,Berekening!$G$27,TRUE)","v":1},3465,{"$f":"POISSON(D3469,Berekening!$G$50,TRUE)","v":1},3465,{"$f":"POISSON(F3469,Berekening!$G$52,TRUE)","v":1},3465]
[{"$f":"POISSON(B3470,Berekening!$G$27,TRUE)","v":1},3466,{"$f":"POISSON(D3470,Berekening!$G$50,TRUE)","v":1},3466,{"$f":"POISSON(F3470,Berekening!$G$52,TRUE)","v":1},3466]
[{"$f":"POISSON(B3471,Berekening!$G$27,TRUE)","v":1},3467,{"$f":"POISSON(D3471,Berekening!$G$50,TRUE)","v":1},3467,{"$f":"POISSON(F3471,Berekening!$G$52,TRUE)","v":1},3467]
[{"$f":"POISSON(B3472,Berekening!$G$27,TRUE)","v":1},3468,{"$f":"POISSON(D3472,Berekening!$G$50,TRUE)","v":1},3468,{"$f":"POISSON(F3472,Berekening!$G$52,TRUE)","v":1},3468]
[{"$f":"POISSON(B3473,Berekening!$G$27,TRUE)","v":1},3469,{"$f":"POISSON(D3473,Berekening!$G$50,TRUE)","v":1},3469,{"$f":"POISSON(F3473,Berekening!$G$52,TRUE)","v":1},3469]
[{"$f":"POISSON(B3474,Berekening!$G$27,TRUE)","v":1},3470,{"$f":"POISSON(D3474,Berekening!$G$50,TRUE)","v":1},3470,{"$f":"POISSON(F3474,Berekening!$G$52,TRUE)","v":1},3470]
[{"$f":"POISSON(B3475,Berekening!$G$27,TRUE)","v":1},3471,{"$f":"POISSON(D3475,Berekening!$G$50,TRUE)","v":1},3471,{"$f":"POISSON(F3475,Berekening!$G$52,TRUE)","v":1},3471]
[{"$f":"POISSON(B3476,Berekening!$G$27,TRUE)","v":1},3472,{"$f":"POISSON(D3476,Berekening!$G$50,TRUE)","v":1},3472,{"$f":"POISSON(F3476,Berekening!$G$52,TRUE)","v":1},3472]
[{"$f":"POISSON(B3477,Berekening!$G$27,TRUE)","v":1},3473,{"$f":"POISSON(D3477,Berekening!$G$50,TRUE)","v":1},3473,{"$f":"POISSON(F3477,Berekening!$G$52,TRUE)","v":1},3473]
[{"$f":"POISSON(B3478,Berekening!$G$27,TRUE)","v":1},3474,{"$f":"POISSON(D3478,Berekening!$G$50,TRUE)","v":1},3474,{"$f":"POISSON(F3478,Berekening!$G$52,TRUE)","v":1},3474]
[{"$f":"POISSON(B3479,Berekening!$G$27,TRUE)","v":1},3475,{"$f":"POISSON(D3479,Berekening!$G$50,TRUE)","v":1},3475,{"$f":"POISSON(F3479,Berekening!$G$52,TRUE)","v":1},3475]
[{"$f":"POISSON(B3480,Berekening!$G$27,TRUE)","v":1},3476,{"$f":"POISSON(D3480,Berekening!$G$50,TRUE)","v":1},3476,{"$f":"POISSON(F3480,Berekening!$G$52,TRUE)","v":1},3476]
[{"$f":"POISSON(B3481,Berekening!$G$27,TRUE)","v":1},3477,{"$f":"POISSON(D3481,Berekening!$G$50,TRUE)","v":1},3477,{"$f":"POISSON(F3481,Berekening!$G$52,TRUE)","v":1},3477]
[{"$f":"POISSON(B3482,Berekening!$G$27,TRUE)","v":1},3478,{"$f":"POISSON(D3482,Berekening!$G$50,TRUE)","v":1},3478,{"$f":"POISSON(F3482,Berekening!$G$52,TRUE)","v":1},3478]
[{"$f":"POISSON(B3483,Berekening!$G$27,TRUE)","v":1},3479,{"$f":"POISSON(D3483,Berekening!$G$50,TRUE)","v":1},3479,{"$f":"POISSON(F3483,Berekening!$G$52,TRUE)","v":1},3479]
[{"$f":"POISSON(B3484,Berekening!$G$27,TRUE)","v":1},3480,{"$f":"POISSON(D3484,Berekening!$G$50,TRUE)","v":1},3480,{"$f":"POISSON(F3484,Berekening!$G$52,TRUE)","v":1},3480]
[{"$f":"POISSON(B3485,Berekening!$G$27,TRUE)","v":1},3481,{"$f":"POISSON(D3485,Berekening!$G$50,TRUE)","v":1},3481,{"$f":"POISSON(F3485,Berekening!$G$52,TRUE)","v":1},3481]
[{"$f":"POISSON(B3486,Berekening!$G$27,TRUE)","v":1},3482,{"$f":"POISSON(D3486,Berekening!$G$50,TRUE)","v":1},3482,{"$f":"POISSON(F3486,Berekening!$G$52,TRUE)","v":1},3482]
[{"$f":"POISSON(B3487,Berekening!$G$27,TRUE)","v":1},3483,{"$f":"POISSON(D3487,Berekening!$G$50,TRUE)","v":1},3483,{"$f":"POISSON(F3487,Berekening!$G$52,TRUE)","v":1},3483]
[{"$f":"POISSON(B3488,Berekening!$G$27,TRUE)","v":1},3484,{"$f":"POISSON(D3488,Berekening!$G$50,TRUE)","v":1},3484,{"$f":"POISSON(F3488,Berekening!$G$52,TRUE)","v":1},3484]
[{"$f":"POISSON(B3489,Berekening!$G$27,TRUE)","v":1},3485,{"$f":"POISSON(D3489,Berekening!$G$50,TRUE)","v":1},3485,{"$f":"POISSON(F3489,Berekening!$G$52,TRUE)","v":1},3485]
[{"$f":"POISSON(B3490,Berekening!$G$27,TRUE)","v":1},3486,{"$f":"POISSON(D3490,Berekening!$G$50,TRUE)","v":1},3486,{"$f":"POISSON(F3490,Berekening!$G$52,TRUE)","v":1},3486]
[{"$f":"POISSON(B3491,Berekening!$G$27,TRUE)","v":1},3487,{"$f":"POISSON(D3491,Berekening!$G$50,TRUE)","v":1},3487,{"$f":"POISSON(F3491,Berekening!$G$52,TRUE)","v":1},3487]
[{"$f":"POISSON(B3492,Berekening!$G$27,TRUE)","v":1},3488,{"$f":"POISSON(D3492,Berekening!$G$50,TRUE)","v":1},3488,{"$f":"POISSON(F3492,Berekening!$G$52,TRUE)","v":1},3488]
[{"$f":"POISSON(B3493,Berekening!$G$27,TRUE)","v":1},3489,{"$f":"POISSON(D3493,Berekening!$G$50,TRUE)","v":1},3489,{"$f":"POISSON(F3493,Berekening!$G$52,TRUE)","v":1},3489]
[{"$f":"POISSON(B3494,Berekening!$G$27,TRUE)","v":1},3490,{"$f":"POISSON(D3494,Berekening!$G$50,TRUE)","v":1},3490,{"$f":"POISSON(F3494,Berekening!$G$52,TRUE)","v":1},3490]
[{"$f":"POISSON(B3495,Berekening!$G$27,TRUE)","v":1},3491,{"$f":"POISSON(D3495,Berekening!$G$50,TRUE)","v":1},3491,{"$f":"POISSON(F3495,Berekening!$G$52,TRUE)","v":1},3491]
[{"$f":"POISSON(B3496,Berekening!$G$27,TRUE)","v":1},3492,{"$f":"POISSON(D3496,Berekening!$G$50,TRUE)","v":1},3492,{"$f":"POISSON(F3496,Berekening!$G$52,TRUE)","v":1},3492]
[{"$f":"POISSON(B3497,Berekening!$G$27,TRUE)","v":1},3493,{"$f":"POISSON(D3497,Berekening!$G$50,TRUE)","v":1},3493,{"$f":"POISSON(F3497,Berekening!$G$52,TRUE)","v":1},3493]
[{"$f":"POISSON(B3498,Berekening!$G$27,TRUE)","v":1},3494,{"$f":"POISSON(D3498,Berekening!$G$50,TRUE)","v":1},3494,{"$f":"POISSON(F3498,Berekening!$G$52,TRUE)","v":1},3494]
[{"$f":"POISSON(B3499,Berekening!$G$27,TRUE)","v":1},3495,{"$f":"POISSON(D3499,Berekening!$G$50,TRUE)","v":1},3495,{"$f":"POISSON(F3499,Berekening!$G$52,TRUE)","v":1},3495]
[{"$f":"POISSON(B3500,Berekening!$G$27,TRUE)","v":1},3496,{"$f":"POISSON(D3500,Berekening!$G$50,TRUE)","v":1},3496,{"$f":"POISSON(F3500,Berekening!$G$52,TRUE)","v":1},3496]
[{"$f":"POISSON(B3501,Berekening!$G$27,TRUE)","v":1},3497,{"$f":"POISSON(D3501,Berekening!$G$50,TRUE)","v":1},3497,{"$f":"POISSON(F3501,Berekening!$G$52,TRUE)","v":1},3497]
[{"$f":"POISSON(B3502,Berekening!$G$27,TRUE)","v":1},3498,{"$f":"POISSON(D3502,Berekening!$G$50,TRUE)","v":1},3498,{"$f":"POISSON(F3502,Berekening!$G$52,TRUE)","v":1},3498]
[{"$f":"POISSON(B3503,Berekening!$G$27,TRUE)","v":1},3499,{"$f":"POISSON(D3503,Berekening!$G$50,TRUE)","v":1},3499,{"$f":"POISSON(F3503,Berekening!$G$52,TRUE)","v":1},3499]
[{"$f":"POISSON(B3504,Berekening!$G$27,TRUE)","v":1},3500,{"$f":"POISSON(D3504,Berekening!$G$50,TRUE)","v":1},3500,{"$f":"POISSON(F3504,Berekening!$G$52,TRUE)","v":1},3500]
[{"$f":"POISSON(B3505,Berekening!$G$27,TRUE)","v":1},3501,{"$f":"POISSON(D3505,Berekening!$G$50,TRUE)","v":1},3501,{"$f":"POISSON(F3505,Berekening!$G$52,TRUE)","v":1},3501]
[{"$f":"POISSON(B3506,Berekening!$G$27,TRUE)","v":1},3502,{"$f":"POISSON(D3506,Berekening!$G$50,TRUE)","v":1},3502,{"$f":"POISSON(F3506,Berekening!$G$52,TRUE)","v":1},3502]
[{"$f":"POISSON(B3507,Berekening!$G$27,TRUE)","v":1},3503,{"$f":"POISSON(D3507,Berekening!$G$50,TRUE)","v":1},3503,{"$f":"POISSON(F3507,Berekening!$G$52,TRUE)","v":1},3503]
[{"$f":"POISSON(B3508,Berekening!$G$27,TRUE)","v":1},3504,{"$f":"POISSON(D3508,Berekening!$G$50,TRUE)","v":1},3504,{"$f":"POISSON(F3508,Berekening!$G$52,TRUE)","v":1},3504]
[{"$f":"POISSON(B3509,Berekening!$G$27,TRUE)","v":1},3505,{"$f":"POISSON(D3509,Berekening!$G$50,TRUE)","v":1},3505,{"$f":"POISSON(F3509,Berekening!$G$52,TRUE)","v":1},3505]
[{"$f":"POISSON(B3510,Berekening!$G$27,TRUE)","v":1},3506,{"$f":"POISSON(D3510,Berekening!$G$50,TRUE)","v":1},3506,{"$f":"POISSON(F3510,Berekening!$G$52,TRUE)","v":1},3506]
[{"$f":"POISSON(B3511,Berekening!$G$27,TRUE)","v":1},3507,{"$f":"POISSON(D3511,Berekening!$G$50,TRUE)","v":1},3507,{"$f":"POISSON(F3511,Berekening!$G$52,TRUE)","v":1},3507]
[{"$f":"POISSON(B3512,Berekening!$G$27,TRUE)","v":1},3508,{"$f":"POISSON(D3512,Berekening!$G$50,TRUE)","v":1},3508,{"$f":"POISSON(F3512,Berekening!$G$52,TRUE)","v":1},3508]
[{"$f":"POISSON(B3513,Berekening!$G$27,TRUE)","v":1},3509,{"$f":"POISSON(D3513,Berekening!$G$50,TRUE)","v":1},3509,{"$f":"POISSON(F3513,Berekening!$G$52,TRUE)","v":1},3509]
[{"$f":"POISSON(B3514,Berekening!$G$27,TRUE)","v":1},3510,{"$f":"POISSON(D3514,Berekening!$G$50,TRUE)","v":1},3510,{"$f":"POISSON(F3514,Berekening!$G$52,TRUE)","v":1},3510]
[{"$f":"POISSON(B3515,Berekening!$G$27,TRUE)","v":1},3511,{"$f":"POISSON(D3515,Berekening!$G$50,TRUE)","v":1},3511,{"$f":"POISSON(F3515,Berekening!$G$52,TRUE)","v":1},3511]
[{"$f":"POISSON(B3516,Berekening!$G$27,TRUE)","v":1},3512,{"$f":"POISSON(D3516,Berekening!$G$50,TRUE)","v":1},3512,{"$f":"POISSON(F3516,Berekening!$G$52,TRUE)","v":1},3512]
[{"$f":"POISSON(B3517,Berekening!$G$27,TRUE)","v":1},3513,{"$f":"POISSON(D3517,Berekening!$G$50,TRUE)","v":1},3513,{"$f":"POISSON(F3517,Berekening!$G$52,TRUE)","v":1},3513]
[{"$f":"POISSON(B3518,Berekening!$G$27,TRUE)","v":1},3514,{"$f":"POISSON(D3518,Berekening!$G$50,TRUE)","v":1},3514,{"$f":"POISSON(F3518,Berekening!$G$52,TRUE)","v":1},3514]
[{"$f":"POISSON(B3519,Berekening!$G$27,TRUE)","v":1},3515,{"$f":"POISSON(D3519,Berekening!$G$50,TRUE)","v":1},3515,{"$f":"POISSON(F3519,Berekening!$G$52,TRUE)","v":1},3515]
[{"$f":"POISSON(B3520,Berekening!$G$27,TRUE)","v":1},3516,{"$f":"POISSON(D3520,Berekening!$G$50,TRUE)","v":1},3516,{"$f":"POISSON(F3520,Berekening!$G$52,TRUE)","v":1},3516]
[{"$f":"POISSON(B3521,Berekening!$G$27,TRUE)","v":1},3517,{"$f":"POISSON(D3521,Berekening!$G$50,TRUE)","v":1},3517,{"$f":"POISSON(F3521,Berekening!$G$52,TRUE)","v":1},3517]
[{"$f":"POISSON(B3522,Berekening!$G$27,TRUE)","v":1},3518,{"$f":"POISSON(D3522,Berekening!$G$50,TRUE)","v":1},3518,{"$f":"POISSON(F3522,Berekening!$G$52,TRUE)","v":1},3518]
[{"$f":"POISSON(B3523,Berekening!$G$27,TRUE)","v":1},3519,{"$f":"POISSON(D3523,Berekening!$G$50,TRUE)","v":1},3519,{"$f":"POISSON(F3523,Berekening!$G$52,TRUE)","v":1},3519]
[{"$f":"POISSON(B3524,Berekening!$G$27,TRUE)","v":1},3520,{"$f":"POISSON(D3524,Berekening!$G$50,TRUE)","v":1},3520,{"$f":"POISSON(F3524,Berekening!$G$52,TRUE)","v":1},3520]
[{"$f":"POISSON(B3525,Berekening!$G$27,TRUE)","v":1},3521,{"$f":"POISSON(D3525,Berekening!$G$50,TRUE)","v":1},3521,{"$f":"POISSON(F3525,Berekening!$G$52,TRUE)","v":1},3521]
[{"$f":"POISSON(B3526,Berekening!$G$27,TRUE)","v":1},3522,{"$f":"POISSON(D3526,Berekening!$G$50,TRUE)","v":1},3522,{"$f":"POISSON(F3526,Berekening!$G$52,TRUE)","v":1},3522]
[{"$f":"POISSON(B3527,Berekening!$G$27,TRUE)","v":1},3523,{"$f":"POISSON(D3527,Berekening!$G$50,TRUE)","v":1},3523,{"$f":"POISSON(F3527,Berekening!$G$52,TRUE)","v":1},3523]
[{"$f":"POISSON(B3528,Berekening!$G$27,TRUE)","v":1},3524,{"$f":"POISSON(D3528,Berekening!$G$50,TRUE)","v":1},3524,{"$f":"POISSON(F3528,Berekening!$G$52,TRUE)","v":1},3524]
[{"$f":"POISSON(B3529,Berekening!$G$27,TRUE)","v":1},3525,{"$f":"POISSON(D3529,Berekening!$G$50,TRUE)","v":1},3525,{"$f":"POISSON(F3529,Berekening!$G$52,TRUE)","v":1},3525]
[{"$f":"POISSON(B3530,Berekening!$G$27,TRUE)","v":1},3526,{"$f":"POISSON(D3530,Berekening!$G$50,TRUE)","v":1},3526,{"$f":"POISSON(F3530,Berekening!$G$52,TRUE)","v":1},3526]
[{"$f":"POISSON(B3531,Berekening!$G$27,TRUE)","v":1},3527,{"$f":"POISSON(D3531,Berekening!$G$50,TRUE)","v":1},3527,{"$f":"POISSON(F3531,Berekening!$G$52,TRUE)","v":1},3527]
[{"$f":"POISSON(B3532,Berekening!$G$27,TRUE)","v":1},3528,{"$f":"POISSON(D3532,Berekening!$G$50,TRUE)","v":1},3528,{"$f":"POISSON(F3532,Berekening!$G$52,TRUE)","v":1},3528]
[{"$f":"POISSON(B3533,Berekening!$G$27,TRUE)","v":1},3529,{"$f":"POISSON(D3533,Berekening!$G$50,TRUE)","v":1},3529,{"$f":"POISSON(F3533,Berekening!$G$52,TRUE)","v":1},3529]
[{"$f":"POISSON(B3534,Berekening!$G$27,TRUE)","v":1},3530,{"$f":"POISSON(D3534,Berekening!$G$50,TRUE)","v":1},3530,{"$f":"POISSON(F3534,Berekening!$G$52,TRUE)","v":1},3530]
[{"$f":"POISSON(B3535,Berekening!$G$27,TRUE)","v":1},3531,{"$f":"POISSON(D3535,Berekening!$G$50,TRUE)","v":1},3531,{"$f":"POISSON(F3535,Berekening!$G$52,TRUE)","v":1},3531]
[{"$f":"POISSON(B3536,Berekening!$G$27,TRUE)","v":1},3532,{"$f":"POISSON(D3536,Berekening!$G$50,TRUE)","v":1},3532,{"$f":"POISSON(F3536,Berekening!$G$52,TRUE)","v":1},3532]
[{"$f":"POISSON(B3537,Berekening!$G$27,TRUE)","v":1},3533,{"$f":"POISSON(D3537,Berekening!$G$50,TRUE)","v":1},3533,{"$f":"POISSON(F3537,Berekening!$G$52,TRUE)","v":1},3533]
[{"$f":"POISSON(B3538,Berekening!$G$27,TRUE)","v":1},3534,{"$f":"POISSON(D3538,Berekening!$G$50,TRUE)","v":1},3534,{"$f":"POISSON(F3538,Berekening!$G$52,TRUE)","v":1},3534]
[{"$f":"POISSON(B3539,Berekening!$G$27,TRUE)","v":1},3535,{"$f":"POISSON(D3539,Berekening!$G$50,TRUE)","v":1},3535,{"$f":"POISSON(F3539,Berekening!$G$52,TRUE)","v":1},3535]
[{"$f":"POISSON(B3540,Berekening!$G$27,TRUE)","v":1},3536,{"$f":"POISSON(D3540,Berekening!$G$50,TRUE)","v":1},3536,{"$f":"POISSON(F3540,Berekening!$G$52,TRUE)","v":1},3536]
[{"$f":"POISSON(B3541,Berekening!$G$27,TRUE)","v":1},3537,{"$f":"POISSON(D3541,Berekening!$G$50,TRUE)","v":1},3537,{"$f":"POISSON(F3541,Berekening!$G$52,TRUE)","v":1},3537]
[{"$f":"POISSON(B3542,Berekening!$G$27,TRUE)","v":1},3538,{"$f":"POISSON(D3542,Berekening!$G$50,TRUE)","v":1},3538,{"$f":"POISSON(F3542,Berekening!$G$52,TRUE)","v":1},3538]
[{"$f":"POISSON(B3543,Berekening!$G$27,TRUE)","v":1},3539,{"$f":"POISSON(D3543,Berekening!$G$50,TRUE)","v":1},3539,{"$f":"POISSON(F3543,Berekening!$G$52,TRUE)","v":1},3539]
[{"$f":"POISSON(B3544,Berekening!$G$27,TRUE)","v":1},3540,{"$f":"POISSON(D3544,Berekening!$G$50,TRUE)","v":1},3540,{"$f":"POISSON(F3544,Berekening!$G$52,TRUE)","v":1},3540]
[{"$f":"POISSON(B3545,Berekening!$G$27,TRUE)","v":1},3541,{"$f":"POISSON(D3545,Berekening!$G$50,TRUE)","v":1},3541,{"$f":"POISSON(F3545,Berekening!$G$52,TRUE)","v":1},3541]
[{"$f":"POISSON(B3546,Berekening!$G$27,TRUE)","v":1},3542,{"$f":"POISSON(D3546,Berekening!$G$50,TRUE)","v":1},3542,{"$f":"POISSON(F3546,Berekening!$G$52,TRUE)","v":1},3542]
[{"$f":"POISSON(B3547,Berekening!$G$27,TRUE)","v":1},3543,{"$f":"POISSON(D3547,Berekening!$G$50,TRUE)","v":1},3543,{"$f":"POISSON(F3547,Berekening!$G$52,TRUE)","v":1},3543]
[{"$f":"POISSON(B3548,Berekening!$G$27,TRUE)","v":1},3544,{"$f":"POISSON(D3548,Berekening!$G$50,TRUE)","v":1},3544,{"$f":"POISSON(F3548,Berekening!$G$52,TRUE)","v":1},3544]
[{"$f":"POISSON(B3549,Berekening!$G$27,TRUE)","v":1},3545,{"$f":"POISSON(D3549,Berekening!$G$50,TRUE)","v":1},3545,{"$f":"POISSON(F3549,Berekening!$G$52,TRUE)","v":1},3545]
[{"$f":"POISSON(B3550,Berekening!$G$27,TRUE)","v":1},3546,{"$f":"POISSON(D3550,Berekening!$G$50,TRUE)","v":1},3546,{"$f":"POISSON(F3550,Berekening!$G$52,TRUE)","v":1},3546]
[{"$f":"POISSON(B3551,Berekening!$G$27,TRUE)","v":1},3547,{"$f":"POISSON(D3551,Berekening!$G$50,TRUE)","v":1},3547,{"$f":"POISSON(F3551,Berekening!$G$52,TRUE)","v":1},3547]
[{"$f":"POISSON(B3552,Berekening!$G$27,TRUE)","v":1},3548,{"$f":"POISSON(D3552,Berekening!$G$50,TRUE)","v":1},3548,{"$f":"POISSON(F3552,Berekening!$G$52,TRUE)","v":1},3548]
[{"$f":"POISSON(B3553,Berekening!$G$27,TRUE)","v":1},3549,{"$f":"POISSON(D3553,Berekening!$G$50,TRUE)","v":1},3549,{"$f":"POISSON(F3553,Berekening!$G$52,TRUE)","v":1},3549]
[{"$f":"POISSON(B3554,Berekening!$G$27,TRUE)","v":1},3550,{"$f":"POISSON(D3554,Berekening!$G$50,TRUE)","v":1},3550,{"$f":"POISSON(F3554,Berekening!$G$52,TRUE)","v":1},3550]
[{"$f":"POISSON(B3555,Berekening!$G$27,TRUE)","v":1},3551,{"$f":"POISSON(D3555,Berekening!$G$50,TRUE)","v":1},3551,{"$f":"POISSON(F3555,Berekening!$G$52,TRUE)","v":1},3551]
[{"$f":"POISSON(B3556,Berekening!$G$27,TRUE)","v":1},3552,{"$f":"POISSON(D3556,Berekening!$G$50,TRUE)","v":1},3552,{"$f":"POISSON(F3556,Berekening!$G$52,TRUE)","v":1},3552]
[{"$f":"POISSON(B3557,Berekening!$G$27,TRUE)","v":1},3553,{"$f":"POISSON(D3557,Berekening!$G$50,TRUE)","v":1},3553,{"$f":"POISSON(F3557,Berekening!$G$52,TRUE)","v":1},3553]
[{"$f":"POISSON(B3558,Berekening!$G$27,TRUE)","v":1},3554,{"$f":"POISSON(D3558,Berekening!$G$50,TRUE)","v":1},3554,{"$f":"POISSON(F3558,Berekening!$G$52,TRUE)","v":1},3554]
[{"$f":"POISSON(B3559,Berekening!$G$27,TRUE)","v":1},3555,{"$f":"POISSON(D3559,Berekening!$G$50,TRUE)","v":1},3555,{"$f":"POISSON(F3559,Berekening!$G$52,TRUE)","v":1},3555]
[{"$f":"POISSON(B3560,Berekening!$G$27,TRUE)","v":1},3556,{"$f":"POISSON(D3560,Berekening!$G$50,TRUE)","v":1},3556,{"$f":"POISSON(F3560,Berekening!$G$52,TRUE)","v":1},3556]
[{"$f":"POISSON(B3561,Berekening!$G$27,TRUE)","v":1},3557,{"$f":"POISSON(D3561,Berekening!$G$50,TRUE)","v":1},3557,{"$f":"POISSON(F3561,Berekening!$G$52,TRUE)","v":1},3557]
[{"$f":"POISSON(B3562,Berekening!$G$27,TRUE)","v":1},3558,{"$f":"POISSON(D3562,Berekening!$G$50,TRUE)","v":1},3558,{"$f":"POISSON(F3562,Berekening!$G$52,TRUE)","v":1},3558]
[{"$f":"POISSON(B3563,Berekening!$G$27,TRUE)","v":1},3559,{"$f":"POISSON(D3563,Berekening!$G$50,TRUE)","v":1},3559,{"$f":"POISSON(F3563,Berekening!$G$52,TRUE)","v":1},3559]
[{"$f":"POISSON(B3564,Berekening!$G$27,TRUE)","v":1},3560,{"$f":"POISSON(D3564,Berekening!$G$50,TRUE)","v":1},3560,{"$f":"POISSON(F3564,Berekening!$G$52,TRUE)","v":1},3560]
[{"$f":"POISSON(B3565,Berekening!$G$27,TRUE)","v":1},3561,{"$f":"POISSON(D3565,Berekening!$G$50,TRUE)","v":1},3561,{"$f":"POISSON(F3565,Berekening!$G$52,TRUE)","v":1},3561]
[{"$f":"POISSON(B3566,Berekening!$G$27,TRUE)","v":1},3562,{"$f":"POISSON(D3566,Berekening!$G$50,TRUE)","v":1},3562,{"$f":"POISSON(F3566,Berekening!$G$52,TRUE)","v":1},3562]
[{"$f":"POISSON(B3567,Berekening!$G$27,TRUE)","v":1},3563,{"$f":"POISSON(D3567,Berekening!$G$50,TRUE)","v":1},3563,{"$f":"POISSON(F3567,Berekening!$G$52,TRUE)","v":1},3563]
[{"$f":"POISSON(B3568,Berekening!$G$27,TRUE)","v":1},3564,{"$f":"POISSON(D3568,Berekening!$G$50,TRUE)","v":1},3564,{"$f":"POISSON(F3568,Berekening!$G$52,TRUE)","v":1},3564]
[{"$f":"POISSON(B3569,Berekening!$G$27,TRUE)","v":1},3565,{"$f":"POISSON(D3569,Berekening!$G$50,TRUE)","v":1},3565,{"$f":"POISSON(F3569,Berekening!$G$52,TRUE)","v":1},3565]
[{"$f":"POISSON(B3570,Berekening!$G$27,TRUE)","v":1},3566,{"$f":"POISSON(D3570,Berekening!$G$50,TRUE)","v":1},3566,{"$f":"POISSON(F3570,Berekening!$G$52,TRUE)","v":1},3566]
[{"$f":"POISSON(B3571,Berekening!$G$27,TRUE)","v":1},3567,{"$f":"POISSON(D3571,Berekening!$G$50,TRUE)","v":1},3567,{"$f":"POISSON(F3571,Berekening!$G$52,TRUE)","v":1},3567]
[{"$f":"POISSON(B3572,Berekening!$G$27,TRUE)","v":1},3568,{"$f":"POISSON(D3572,Berekening!$G$50,TRUE)","v":1},3568,{"$f":"POISSON(F3572,Berekening!$G$52,TRUE)","v":1},3568]
[{"$f":"POISSON(B3573,Berekening!$G$27,TRUE)","v":1},3569,{"$f":"POISSON(D3573,Berekening!$G$50,TRUE)","v":1},3569,{"$f":"POISSON(F3573,Berekening!$G$52,TRUE)","v":1},3569]
[{"$f":"POISSON(B3574,Berekening!$G$27,TRUE)","v":1},3570,{"$f":"POISSON(D3574,Berekening!$G$50,TRUE)","v":1},3570,{"$f":"POISSON(F3574,Berekening!$G$52,TRUE)","v":1},3570]
[{"$f":"POISSON(B3575,Berekening!$G$27,TRUE)","v":1},3571,{"$f":"POISSON(D3575,Berekening!$G$50,TRUE)","v":1},3571,{"$f":"POISSON(F3575,Berekening!$G$52,TRUE)","v":1},3571]
[{"$f":"POISSON(B3576,Berekening!$G$27,TRUE)","v":1},3572,{"$f":"POISSON(D3576,Berekening!$G$50,TRUE)","v":1},3572,{"$f":"POISSON(F3576,Berekening!$G$52,TRUE)","v":1},3572]
[{"$f":"POISSON(B3577,Berekening!$G$27,TRUE)","v":1},3573,{"$f":"POISSON(D3577,Berekening!$G$50,TRUE)","v":1},3573,{"$f":"POISSON(F3577,Berekening!$G$52,TRUE)","v":1},3573]
[{"$f":"POISSON(B3578,Berekening!$G$27,TRUE)","v":1},3574,{"$f":"POISSON(D3578,Berekening!$G$50,TRUE)","v":1},3574,{"$f":"POISSON(F3578,Berekening!$G$52,TRUE)","v":1},3574]
[{"$f":"POISSON(B3579,Berekening!$G$27,TRUE)","v":1},3575,{"$f":"POISSON(D3579,Berekening!$G$50,TRUE)","v":1},3575,{"$f":"POISSON(F3579,Berekening!$G$52,TRUE)","v":1},3575]
[{"$f":"POISSON(B3580,Berekening!$G$27,TRUE)","v":1},3576,{"$f":"POISSON(D3580,Berekening!$G$50,TRUE)","v":1},3576,{"$f":"POISSON(F3580,Berekening!$G$52,TRUE)","v":1},3576]
[{"$f":"POISSON(B3581,Berekening!$G$27,TRUE)","v":1},3577,{"$f":"POISSON(D3581,Berekening!$G$50,TRUE)","v":1},3577,{"$f":"POISSON(F3581,Berekening!$G$52,TRUE)","v":1},3577]
[{"$f":"POISSON(B3582,Berekening!$G$27,TRUE)","v":1},3578,{"$f":"POISSON(D3582,Berekening!$G$50,TRUE)","v":1},3578,{"$f":"POISSON(F3582,Berekening!$G$52,TRUE)","v":1},3578]
[{"$f":"POISSON(B3583,Berekening!$G$27,TRUE)","v":1},3579,{"$f":"POISSON(D3583,Berekening!$G$50,TRUE)","v":1},3579,{"$f":"POISSON(F3583,Berekening!$G$52,TRUE)","v":1},3579]
[{"$f":"POISSON(B3584,Berekening!$G$27,TRUE)","v":1},3580,{"$f":"POISSON(D3584,Berekening!$G$50,TRUE)","v":1},3580,{"$f":"POISSON(F3584,Berekening!$G$52,TRUE)","v":1},3580]
[{"$f":"POISSON(B3585,Berekening!$G$27,TRUE)","v":1},3581,{"$f":"POISSON(D3585,Berekening!$G$50,TRUE)","v":1},3581,{"$f":"POISSON(F3585,Berekening!$G$52,TRUE)","v":1},3581]
[{"$f":"POISSON(B3586,Berekening!$G$27,TRUE)","v":1},3582,{"$f":"POISSON(D3586,Berekening!$G$50,TRUE)","v":1},3582,{"$f":"POISSON(F3586,Berekening!$G$52,TRUE)","v":1},3582]
[{"$f":"POISSON(B3587,Berekening!$G$27,TRUE)","v":1},3583,{"$f":"POISSON(D3587,Berekening!$G$50,TRUE)","v":1},3583,{"$f":"POISSON(F3587,Berekening!$G$52,TRUE)","v":1},3583]
[{"$f":"POISSON(B3588,Berekening!$G$27,TRUE)","v":1},3584,{"$f":"POISSON(D3588,Berekening!$G$50,TRUE)","v":1},3584,{"$f":"POISSON(F3588,Berekening!$G$52,TRUE)","v":1},3584]
[{"$f":"POISSON(B3589,Berekening!$G$27,TRUE)","v":1},3585,{"$f":"POISSON(D3589,Berekening!$G$50,TRUE)","v":1},3585,{"$f":"POISSON(F3589,Berekening!$G$52,TRUE)","v":1},3585]
[{"$f":"POISSON(B3590,Berekening!$G$27,TRUE)","v":1},3586,{"$f":"POISSON(D3590,Berekening!$G$50,TRUE)","v":1},3586,{"$f":"POISSON(F3590,Berekening!$G$52,TRUE)","v":1},3586]
[{"$f":"POISSON(B3591,Berekening!$G$27,TRUE)","v":1},3587,{"$f":"POISSON(D3591,Berekening!$G$50,TRUE)","v":1},3587,{"$f":"POISSON(F3591,Berekening!$G$52,TRUE)","v":1},3587]
[{"$f":"POISSON(B3592,Berekening!$G$27,TRUE)","v":1},3588,{"$f":"POISSON(D3592,Berekening!$G$50,TRUE)","v":1},3588,{"$f":"POISSON(F3592,Berekening!$G$52,TRUE)","v":1},3588]
[{"$f":"POISSON(B3593,Berekening!$G$27,TRUE)","v":1},3589,{"$f":"POISSON(D3593,Berekening!$G$50,TRUE)","v":1},3589,{"$f":"POISSON(F3593,Berekening!$G$52,TRUE)","v":1},3589]
[{"$f":"POISSON(B3594,Berekening!$G$27,TRUE)","v":1},3590,{"$f":"POISSON(D3594,Berekening!$G$50,TRUE)","v":1},3590,{"$f":"POISSON(F3594,Berekening!$G$52,TRUE)","v":1},3590]
[{"$f":"POISSON(B3595,Berekening!$G$27,TRUE)","v":1},3591,{"$f":"POISSON(D3595,Berekening!$G$50,TRUE)","v":1},3591,{"$f":"POISSON(F3595,Berekening!$G$52,TRUE)","v":1},3591]
[{"$f":"POISSON(B3596,Berekening!$G$27,TRUE)","v":1},3592,{"$f":"POISSON(D3596,Berekening!$G$50,TRUE)","v":1},3592,{"$f":"POISSON(F3596,Berekening!$G$52,TRUE)","v":1},3592]
[{"$f":"POISSON(B3597,Berekening!$G$27,TRUE)","v":1},3593,{"$f":"POISSON(D3597,Berekening!$G$50,TRUE)","v":1},3593,{"$f":"POISSON(F3597,Berekening!$G$52,TRUE)","v":1},3593]
[{"$f":"POISSON(B3598,Berekening!$G$27,TRUE)","v":1},3594,{"$f":"POISSON(D3598,Berekening!$G$50,TRUE)","v":1},3594,{"$f":"POISSON(F3598,Berekening!$G$52,TRUE)","v":1},3594]
[{"$f":"POISSON(B3599,Berekening!$G$27,TRUE)","v":1},3595,{"$f":"POISSON(D3599,Berekening!$G$50,TRUE)","v":1},3595,{"$f":"POISSON(F3599,Berekening!$G$52,TRUE)","v":1},3595]
[{"$f":"POISSON(B3600,Berekening!$G$27,TRUE)","v":1},3596,{"$f":"POISSON(D3600,Berekening!$G$50,TRUE)","v":1},3596,{"$f":"POISSON(F3600,Berekening!$G$52,TRUE)","v":1},3596]
[{"$f":"POISSON(B3601,Berekening!$G$27,TRUE)","v":1},3597,{"$f":"POISSON(D3601,Berekening!$G$50,TRUE)","v":1},3597,{"$f":"POISSON(F3601,Berekening!$G$52,TRUE)","v":1},3597]
[{"$f":"POISSON(B3602,Berekening!$G$27,TRUE)","v":1},3598,{"$f":"POISSON(D3602,Berekening!$G$50,TRUE)","v":1},3598,{"$f":"POISSON(F3602,Berekening!$G$52,TRUE)","v":1},3598]
[{"$f":"POISSON(B3603,Berekening!$G$27,TRUE)","v":1},3599,{"$f":"POISSON(D3603,Berekening!$G$50,TRUE)","v":1},3599,{"$f":"POISSON(F3603,Berekening!$G$52,TRUE)","v":1},3599]
[{"$f":"POISSON(B3604,Berekening!$G$27,TRUE)","v":1},3600,{"$f":"POISSON(D3604,Berekening!$G$50,TRUE)","v":1},3600,{"$f":"POISSON(F3604,Berekening!$G$52,TRUE)","v":1},3600]
[{"$f":"POISSON(B3605,Berekening!$G$27,TRUE)","v":1},3601,{"$f":"POISSON(D3605,Berekening!$G$50,TRUE)","v":1},3601,{"$f":"POISSON(F3605,Berekening!$G$52,TRUE)","v":1},3601]
[{"$f":"POISSON(B3606,Berekening!$G$27,TRUE)","v":1},3602,{"$f":"POISSON(D3606,Berekening!$G$50,TRUE)","v":1},3602,{"$f":"POISSON(F3606,Berekening!$G$52,TRUE)","v":1},3602]
[{"$f":"POISSON(B3607,Berekening!$G$27,TRUE)","v":1},3603,{"$f":"POISSON(D3607,Berekening!$G$50,TRUE)","v":1},3603,{"$f":"POISSON(F3607,Berekening!$G$52,TRUE)","v":1},3603]
[{"$f":"POISSON(B3608,Berekening!$G$27,TRUE)","v":1},3604,{"$f":"POISSON(D3608,Berekening!$G$50,TRUE)","v":1},3604,{"$f":"POISSON(F3608,Berekening!$G$52,TRUE)","v":1},3604]
[{"$f":"POISSON(B3609,Berekening!$G$27,TRUE)","v":1},3605,{"$f":"POISSON(D3609,Berekening!$G$50,TRUE)","v":1},3605,{"$f":"POISSON(F3609,Berekening!$G$52,TRUE)","v":1},3605]
[{"$f":"POISSON(B3610,Berekening!$G$27,TRUE)","v":1},3606,{"$f":"POISSON(D3610,Berekening!$G$50,TRUE)","v":1},3606,{"$f":"POISSON(F3610,Berekening!$G$52,TRUE)","v":1},3606]
[{"$f":"POISSON(B3611,Berekening!$G$27,TRUE)","v":1},3607,{"$f":"POISSON(D3611,Berekening!$G$50,TRUE)","v":1},3607,{"$f":"POISSON(F3611,Berekening!$G$52,TRUE)","v":1},3607]
[{"$f":"POISSON(B3612,Berekening!$G$27,TRUE)","v":1},3608,{"$f":"POISSON(D3612,Berekening!$G$50,TRUE)","v":1},3608,{"$f":"POISSON(F3612,Berekening!$G$52,TRUE)","v":1},3608]
[{"$f":"POISSON(B3613,Berekening!$G$27,TRUE)","v":1},3609,{"$f":"POISSON(D3613,Berekening!$G$50,TRUE)","v":1},3609,{"$f":"POISSON(F3613,Berekening!$G$52,TRUE)","v":1},3609]
[{"$f":"POISSON(B3614,Berekening!$G$27,TRUE)","v":1},3610,{"$f":"POISSON(D3614,Berekening!$G$50,TRUE)","v":1},3610,{"$f":"POISSON(F3614,Berekening!$G$52,TRUE)","v":1},3610]
[{"$f":"POISSON(B3615,Berekening!$G$27,TRUE)","v":1},3611,{"$f":"POISSON(D3615,Berekening!$G$50,TRUE)","v":1},3611,{"$f":"POISSON(F3615,Berekening!$G$52,TRUE)","v":1},3611]
[{"$f":"POISSON(B3616,Berekening!$G$27,TRUE)","v":1},3612,{"$f":"POISSON(D3616,Berekening!$G$50,TRUE)","v":1},3612,{"$f":"POISSON(F3616,Berekening!$G$52,TRUE)","v":1},3612]
[{"$f":"POISSON(B3617,Berekening!$G$27,TRUE)","v":1},3613,{"$f":"POISSON(D3617,Berekening!$G$50,TRUE)","v":1},3613,{"$f":"POISSON(F3617,Berekening!$G$52,TRUE)","v":1},3613]
[{"$f":"POISSON(B3618,Berekening!$G$27,TRUE)","v":1},3614,{"$f":"POISSON(D3618,Berekening!$G$50,TRUE)","v":1},3614,{"$f":"POISSON(F3618,Berekening!$G$52,TRUE)","v":1},3614]
[{"$f":"POISSON(B3619,Berekening!$G$27,TRUE)","v":1},3615,{"$f":"POISSON(D3619,Berekening!$G$50,TRUE)","v":1},3615,{"$f":"POISSON(F3619,Berekening!$G$52,TRUE)","v":1},3615]
[{"$f":"POISSON(B3620,Berekening!$G$27,TRUE)","v":1},3616,{"$f":"POISSON(D3620,Berekening!$G$50,TRUE)","v":1},3616,{"$f":"POISSON(F3620,Berekening!$G$52,TRUE)","v":1},3616]
[{"$f":"POISSON(B3621,Berekening!$G$27,TRUE)","v":1},3617,{"$f":"POISSON(D3621,Berekening!$G$50,TRUE)","v":1},3617,{"$f":"POISSON(F3621,Berekening!$G$52,TRUE)","v":1},3617]
[{"$f":"POISSON(B3622,Berekening!$G$27,TRUE)","v":1},3618,{"$f":"POISSON(D3622,Berekening!$G$50,TRUE)","v":1},3618,{"$f":"POISSON(F3622,Berekening!$G$52,TRUE)","v":1},3618]
[{"$f":"POISSON(B3623,Berekening!$G$27,TRUE)","v":1},3619,{"$f":"POISSON(D3623,Berekening!$G$50,TRUE)","v":1},3619,{"$f":"POISSON(F3623,Berekening!$G$52,TRUE)","v":1},3619]
[{"$f":"POISSON(B3624,Berekening!$G$27,TRUE)","v":1},3620,{"$f":"POISSON(D3624,Berekening!$G$50,TRUE)","v":1},3620,{"$f":"POISSON(F3624,Berekening!$G$52,TRUE)","v":1},3620]
[{"$f":"POISSON(B3625,Berekening!$G$27,TRUE)","v":1},3621,{"$f":"POISSON(D3625,Berekening!$G$50,TRUE)","v":1},3621,{"$f":"POISSON(F3625,Berekening!$G$52,TRUE)","v":1},3621]
[{"$f":"POISSON(B3626,Berekening!$G$27,TRUE)","v":1},3622,{"$f":"POISSON(D3626,Berekening!$G$50,TRUE)","v":1},3622,{"$f":"POISSON(F3626,Berekening!$G$52,TRUE)","v":1},3622]
[{"$f":"POISSON(B3627,Berekening!$G$27,TRUE)","v":1},3623,{"$f":"POISSON(D3627,Berekening!$G$50,TRUE)","v":1},3623,{"$f":"POISSON(F3627,Berekening!$G$52,TRUE)","v":1},3623]
[{"$f":"POISSON(B3628,Berekening!$G$27,TRUE)","v":1},3624,{"$f":"POISSON(D3628,Berekening!$G$50,TRUE)","v":1},3624,{"$f":"POISSON(F3628,Berekening!$G$52,TRUE)","v":1},3624]
[{"$f":"POISSON(B3629,Berekening!$G$27,TRUE)","v":1},3625,{"$f":"POISSON(D3629,Berekening!$G$50,TRUE)","v":1},3625,{"$f":"POISSON(F3629,Berekening!$G$52,TRUE)","v":1},3625]
[{"$f":"POISSON(B3630,Berekening!$G$27,TRUE)","v":1},3626,{"$f":"POISSON(D3630,Berekening!$G$50,TRUE)","v":1},3626,{"$f":"POISSON(F3630,Berekening!$G$52,TRUE)","v":1},3626]
[{"$f":"POISSON(B3631,Berekening!$G$27,TRUE)","v":1},3627,{"$f":"POISSON(D3631,Berekening!$G$50,TRUE)","v":1},3627,{"$f":"POISSON(F3631,Berekening!$G$52,TRUE)","v":1},3627]
[{"$f":"POISSON(B3632,Berekening!$G$27,TRUE)","v":1},3628,{"$f":"POISSON(D3632,Berekening!$G$50,TRUE)","v":1},3628,{"$f":"POISSON(F3632,Berekening!$G$52,TRUE)","v":1},3628]
[{"$f":"POISSON(B3633,Berekening!$G$27,TRUE)","v":1},3629,{"$f":"POISSON(D3633,Berekening!$G$50,TRUE)","v":1},3629,{"$f":"POISSON(F3633,Berekening!$G$52,TRUE)","v":1},3629]
[{"$f":"POISSON(B3634,Berekening!$G$27,TRUE)","v":1},3630,{"$f":"POISSON(D3634,Berekening!$G$50,TRUE)","v":1},3630,{"$f":"POISSON(F3634,Berekening!$G$52,TRUE)","v":1},3630]
[{"$f":"POISSON(B3635,Berekening!$G$27,TRUE)","v":1},3631,{"$f":"POISSON(D3635,Berekening!$G$50,TRUE)","v":1},3631,{"$f":"POISSON(F3635,Berekening!$G$52,TRUE)","v":1},3631]
[{"$f":"POISSON(B3636,Berekening!$G$27,TRUE)","v":1},3632,{"$f":"POISSON(D3636,Berekening!$G$50,TRUE)","v":1},3632,{"$f":"POISSON(F3636,Berekening!$G$52,TRUE)","v":1},3632]
[{"$f":"POISSON(B3637,Berekening!$G$27,TRUE)","v":1},3633,{"$f":"POISSON(D3637,Berekening!$G$50,TRUE)","v":1},3633,{"$f":"POISSON(F3637,Berekening!$G$52,TRUE)","v":1},3633]
[{"$f":"POISSON(B3638,Berekening!$G$27,TRUE)","v":1},3634,{"$f":"POISSON(D3638,Berekening!$G$50,TRUE)","v":1},3634,{"$f":"POISSON(F3638,Berekening!$G$52,TRUE)","v":1},3634]
[{"$f":"POISSON(B3639,Berekening!$G$27,TRUE)","v":1},3635,{"$f":"POISSON(D3639,Berekening!$G$50,TRUE)","v":1},3635,{"$f":"POISSON(F3639,Berekening!$G$52,TRUE)","v":1},3635]
[{"$f":"POISSON(B3640,Berekening!$G$27,TRUE)","v":1},3636,{"$f":"POISSON(D3640,Berekening!$G$50,TRUE)","v":1},3636,{"$f":"POISSON(F3640,Berekening!$G$52,TRUE)","v":1},3636]
[{"$f":"POISSON(B3641,Berekening!$G$27,TRUE)","v":1},3637,{"$f":"POISSON(D3641,Berekening!$G$50,TRUE)","v":1},3637,{"$f":"POISSON(F3641,Berekening!$G$52,TRUE)","v":1},3637]
[{"$f":"POISSON(B3642,Berekening!$G$27,TRUE)","v":1},3638,{"$f":"POISSON(D3642,Berekening!$G$50,TRUE)","v":1},3638,{"$f":"POISSON(F3642,Berekening!$G$52,TRUE)","v":1},3638]
[{"$f":"POISSON(B3643,Berekening!$G$27,TRUE)","v":1},3639,{"$f":"POISSON(D3643,Berekening!$G$50,TRUE)","v":1},3639,{"$f":"POISSON(F3643,Berekening!$G$52,TRUE)","v":1},3639]
[{"$f":"POISSON(B3644,Berekening!$G$27,TRUE)","v":1},3640,{"$f":"POISSON(D3644,Berekening!$G$50,TRUE)","v":1},3640,{"$f":"POISSON(F3644,Berekening!$G$52,TRUE)","v":1},3640]
[{"$f":"POISSON(B3645,Berekening!$G$27,TRUE)","v":1},3641,{"$f":"POISSON(D3645,Berekening!$G$50,TRUE)","v":1},3641,{"$f":"POISSON(F3645,Berekening!$G$52,TRUE)","v":1},3641]
[{"$f":"POISSON(B3646,Berekening!$G$27,TRUE)","v":1},3642,{"$f":"POISSON(D3646,Berekening!$G$50,TRUE)","v":1},3642,{"$f":"POISSON(F3646,Berekening!$G$52,TRUE)","v":1},3642]
[{"$f":"POISSON(B3647,Berekening!$G$27,TRUE)","v":1},3643,{"$f":"POISSON(D3647,Berekening!$G$50,TRUE)","v":1},3643,{"$f":"POISSON(F3647,Berekening!$G$52,TRUE)","v":1},3643]
[{"$f":"POISSON(B3648,Berekening!$G$27,TRUE)","v":1},3644,{"$f":"POISSON(D3648,Berekening!$G$50,TRUE)","v":1},3644,{"$f":"POISSON(F3648,Berekening!$G$52,TRUE)","v":1},3644]
[{"$f":"POISSON(B3649,Berekening!$G$27,TRUE)","v":1},3645,{"$f":"POISSON(D3649,Berekening!$G$50,TRUE)","v":1},3645,{"$f":"POISSON(F3649,Berekening!$G$52,TRUE)","v":1},3645]
[{"$f":"POISSON(B3650,Berekening!$G$27,TRUE)","v":1},3646,{"$f":"POISSON(D3650,Berekening!$G$50,TRUE)","v":1},3646,{"$f":"POISSON(F3650,Berekening!$G$52,TRUE)","v":1},3646]
[{"$f":"POISSON(B3651,Berekening!$G$27,TRUE)","v":1},3647,{"$f":"POISSON(D3651,Berekening!$G$50,TRUE)","v":1},3647,{"$f":"POISSON(F3651,Berekening!$G$52,TRUE)","v":1},3647]
[{"$f":"POISSON(B3652,Berekening!$G$27,TRUE)","v":1},3648,{"$f":"POISSON(D3652,Berekening!$G$50,TRUE)","v":1},3648,{"$f":"POISSON(F3652,Berekening!$G$52,TRUE)","v":1},3648]
[{"$f":"POISSON(B3653,Berekening!$G$27,TRUE)","v":1},3649,{"$f":"POISSON(D3653,Berekening!$G$50,TRUE)","v":1},3649,{"$f":"POISSON(F3653,Berekening!$G$52,TRUE)","v":1},3649]
[{"$f":"POISSON(B3654,Berekening!$G$27,TRUE)","v":1},3650,{"$f":"POISSON(D3654,Berekening!$G$50,TRUE)","v":1},3650,{"$f":"POISSON(F3654,Berekening!$G$52,TRUE)","v":1},3650]
[{"$f":"POISSON(B3655,Berekening!$G$27,TRUE)","v":1},3651,{"$f":"POISSON(D3655,Berekening!$G$50,TRUE)","v":1},3651,{"$f":"POISSON(F3655,Berekening!$G$52,TRUE)","v":1},3651]
[{"$f":"POISSON(B3656,Berekening!$G$27,TRUE)","v":1},3652,{"$f":"POISSON(D3656,Berekening!$G$50,TRUE)","v":1},3652,{"$f":"POISSON(F3656,Berekening!$G$52,TRUE)","v":1},3652]
[{"$f":"POISSON(B3657,Berekening!$G$27,TRUE)","v":1},3653,{"$f":"POISSON(D3657,Berekening!$G$50,TRUE)","v":1},3653,{"$f":"POISSON(F3657,Berekening!$G$52,TRUE)","v":1},3653]
[{"$f":"POISSON(B3658,Berekening!$G$27,TRUE)","v":1},3654,{"$f":"POISSON(D3658,Berekening!$G$50,TRUE)","v":1},3654,{"$f":"POISSON(F3658,Berekening!$G$52,TRUE)","v":1},3654]
[{"$f":"POISSON(B3659,Berekening!$G$27,TRUE)","v":1},3655,{"$f":"POISSON(D3659,Berekening!$G$50,TRUE)","v":1},3655,{"$f":"POISSON(F3659,Berekening!$G$52,TRUE)","v":1},3655]
[{"$f":"POISSON(B3660,Berekening!$G$27,TRUE)","v":1},3656,{"$f":"POISSON(D3660,Berekening!$G$50,TRUE)","v":1},3656,{"$f":"POISSON(F3660,Berekening!$G$52,TRUE)","v":1},3656]
[{"$f":"POISSON(B3661,Berekening!$G$27,TRUE)","v":1},3657,{"$f":"POISSON(D3661,Berekening!$G$50,TRUE)","v":1},3657,{"$f":"POISSON(F3661,Berekening!$G$52,TRUE)","v":1},3657]
[{"$f":"POISSON(B3662,Berekening!$G$27,TRUE)","v":1},3658,{"$f":"POISSON(D3662,Berekening!$G$50,TRUE)","v":1},3658,{"$f":"POISSON(F3662,Berekening!$G$52,TRUE)","v":1},3658]
[{"$f":"POISSON(B3663,Berekening!$G$27,TRUE)","v":1},3659,{"$f":"POISSON(D3663,Berekening!$G$50,TRUE)","v":1},3659,{"$f":"POISSON(F3663,Berekening!$G$52,TRUE)","v":1},3659]
[{"$f":"POISSON(B3664,Berekening!$G$27,TRUE)","v":1},3660,{"$f":"POISSON(D3664,Berekening!$G$50,TRUE)","v":1},3660,{"$f":"POISSON(F3664,Berekening!$G$52,TRUE)","v":1},3660]
[{"$f":"POISSON(B3665,Berekening!$G$27,TRUE)","v":1},3661,{"$f":"POISSON(D3665,Berekening!$G$50,TRUE)","v":1},3661,{"$f":"POISSON(F3665,Berekening!$G$52,TRUE)","v":1},3661]
[{"$f":"POISSON(B3666,Berekening!$G$27,TRUE)","v":1},3662,{"$f":"POISSON(D3666,Berekening!$G$50,TRUE)","v":1},3662,{"$f":"POISSON(F3666,Berekening!$G$52,TRUE)","v":1},3662]
[{"$f":"POISSON(B3667,Berekening!$G$27,TRUE)","v":1},3663,{"$f":"POISSON(D3667,Berekening!$G$50,TRUE)","v":1},3663,{"$f":"POISSON(F3667,Berekening!$G$52,TRUE)","v":1},3663]
[{"$f":"POISSON(B3668,Berekening!$G$27,TRUE)","v":1},3664,{"$f":"POISSON(D3668,Berekening!$G$50,TRUE)","v":1},3664,{"$f":"POISSON(F3668,Berekening!$G$52,TRUE)","v":1},3664]
[{"$f":"POISSON(B3669,Berekening!$G$27,TRUE)","v":1},3665,{"$f":"POISSON(D3669,Berekening!$G$50,TRUE)","v":1},3665,{"$f":"POISSON(F3669,Berekening!$G$52,TRUE)","v":1},3665]
[{"$f":"POISSON(B3670,Berekening!$G$27,TRUE)","v":1},3666,{"$f":"POISSON(D3670,Berekening!$G$50,TRUE)","v":1},3666,{"$f":"POISSON(F3670,Berekening!$G$52,TRUE)","v":1},3666]
[{"$f":"POISSON(B3671,Berekening!$G$27,TRUE)","v":1},3667,{"$f":"POISSON(D3671,Berekening!$G$50,TRUE)","v":1},3667,{"$f":"POISSON(F3671,Berekening!$G$52,TRUE)","v":1},3667]
[{"$f":"POISSON(B3672,Berekening!$G$27,TRUE)","v":1},3668,{"$f":"POISSON(D3672,Berekening!$G$50,TRUE)","v":1},3668,{"$f":"POISSON(F3672,Berekening!$G$52,TRUE)","v":1},3668]
[{"$f":"POISSON(B3673,Berekening!$G$27,TRUE)","v":1},3669,{"$f":"POISSON(D3673,Berekening!$G$50,TRUE)","v":1},3669,{"$f":"POISSON(F3673,Berekening!$G$52,TRUE)","v":1},3669]
[{"$f":"POISSON(B3674,Berekening!$G$27,TRUE)","v":1},3670,{"$f":"POISSON(D3674,Berekening!$G$50,TRUE)","v":1},3670,{"$f":"POISSON(F3674,Berekening!$G$52,TRUE)","v":1},3670]
[{"$f":"POISSON(B3675,Berekening!$G$27,TRUE)","v":1},3671,{"$f":"POISSON(D3675,Berekening!$G$50,TRUE)","v":1},3671,{"$f":"POISSON(F3675,Berekening!$G$52,TRUE)","v":1},3671]
[{"$f":"POISSON(B3676,Berekening!$G$27,TRUE)","v":1},3672,{"$f":"POISSON(D3676,Berekening!$G$50,TRUE)","v":1},3672,{"$f":"POISSON(F3676,Berekening!$G$52,TRUE)","v":1},3672]
[{"$f":"POISSON(B3677,Berekening!$G$27,TRUE)","v":1},3673,{"$f":"POISSON(D3677,Berekening!$G$50,TRUE)","v":1},3673,{"$f":"POISSON(F3677,Berekening!$G$52,TRUE)","v":1},3673]
[{"$f":"POISSON(B3678,Berekening!$G$27,TRUE)","v":1},3674,{"$f":"POISSON(D3678,Berekening!$G$50,TRUE)","v":1},3674,{"$f":"POISSON(F3678,Berekening!$G$52,TRUE)","v":1},3674]
[{"$f":"POISSON(B3679,Berekening!$G$27,TRUE)","v":1},3675,{"$f":"POISSON(D3679,Berekening!$G$50,TRUE)","v":1},3675,{"$f":"POISSON(F3679,Berekening!$G$52,TRUE)","v":1},3675]
[{"$f":"POISSON(B3680,Berekening!$G$27,TRUE)","v":1},3676,{"$f":"POISSON(D3680,Berekening!$G$50,TRUE)","v":1},3676,{"$f":"POISSON(F3680,Berekening!$G$52,TRUE)","v":1},3676]
[{"$f":"POISSON(B3681,Berekening!$G$27,TRUE)","v":1},3677,{"$f":"POISSON(D3681,Berekening!$G$50,TRUE)","v":1},3677,{"$f":"POISSON(F3681,Berekening!$G$52,TRUE)","v":1},3677]
[{"$f":"POISSON(B3682,Berekening!$G$27,TRUE)","v":1},3678,{"$f":"POISSON(D3682,Berekening!$G$50,TRUE)","v":1},3678,{"$f":"POISSON(F3682,Berekening!$G$52,TRUE)","v":1},3678]
[{"$f":"POISSON(B3683,Berekening!$G$27,TRUE)","v":1},3679,{"$f":"POISSON(D3683,Berekening!$G$50,TRUE)","v":1},3679,{"$f":"POISSON(F3683,Berekening!$G$52,TRUE)","v":1},3679]
[{"$f":"POISSON(B3684,Berekening!$G$27,TRUE)","v":1},3680,{"$f":"POISSON(D3684,Berekening!$G$50,TRUE)","v":1},3680,{"$f":"POISSON(F3684,Berekening!$G$52,TRUE)","v":1},3680]
[{"$f":"POISSON(B3685,Berekening!$G$27,TRUE)","v":1},3681,{"$f":"POISSON(D3685,Berekening!$G$50,TRUE)","v":1},3681,{"$f":"POISSON(F3685,Berekening!$G$52,TRUE)","v":1},3681]
[{"$f":"POISSON(B3686,Berekening!$G$27,TRUE)","v":1},3682,{"$f":"POISSON(D3686,Berekening!$G$50,TRUE)","v":1},3682,{"$f":"POISSON(F3686,Berekening!$G$52,TRUE)","v":1},3682]
[{"$f":"POISSON(B3687,Berekening!$G$27,TRUE)","v":1},3683,{"$f":"POISSON(D3687,Berekening!$G$50,TRUE)","v":1},3683,{"$f":"POISSON(F3687,Berekening!$G$52,TRUE)","v":1},3683]
[{"$f":"POISSON(B3688,Berekening!$G$27,TRUE)","v":1},3684,{"$f":"POISSON(D3688,Berekening!$G$50,TRUE)","v":1},3684,{"$f":"POISSON(F3688,Berekening!$G$52,TRUE)","v":1},3684]
[{"$f":"POISSON(B3689,Berekening!$G$27,TRUE)","v":1},3685,{"$f":"POISSON(D3689,Berekening!$G$50,TRUE)","v":1},3685,{"$f":"POISSON(F3689,Berekening!$G$52,TRUE)","v":1},3685]
[{"$f":"POISSON(B3690,Berekening!$G$27,TRUE)","v":1},3686,{"$f":"POISSON(D3690,Berekening!$G$50,TRUE)","v":1},3686,{"$f":"POISSON(F3690,Berekening!$G$52,TRUE)","v":1},3686]
[{"$f":"POISSON(B3691,Berekening!$G$27,TRUE)","v":1},3687,{"$f":"POISSON(D3691,Berekening!$G$50,TRUE)","v":1},3687,{"$f":"POISSON(F3691,Berekening!$G$52,TRUE)","v":1},3687]
[{"$f":"POISSON(B3692,Berekening!$G$27,TRUE)","v":1},3688,{"$f":"POISSON(D3692,Berekening!$G$50,TRUE)","v":1},3688,{"$f":"POISSON(F3692,Berekening!$G$52,TRUE)","v":1},3688]
[{"$f":"POISSON(B3693,Berekening!$G$27,TRUE)","v":1},3689,{"$f":"POISSON(D3693,Berekening!$G$50,TRUE)","v":1},3689,{"$f":"POISSON(F3693,Berekening!$G$52,TRUE)","v":1},3689]
[{"$f":"POISSON(B3694,Berekening!$G$27,TRUE)","v":1},3690,{"$f":"POISSON(D3694,Berekening!$G$50,TRUE)","v":1},3690,{"$f":"POISSON(F3694,Berekening!$G$52,TRUE)","v":1},3690]
[{"$f":"POISSON(B3695,Berekening!$G$27,TRUE)","v":1},3691,{"$f":"POISSON(D3695,Berekening!$G$50,TRUE)","v":1},3691,{"$f":"POISSON(F3695,Berekening!$G$52,TRUE)","v":1},3691]
[{"$f":"POISSON(B3696,Berekening!$G$27,TRUE)","v":1},3692,{"$f":"POISSON(D3696,Berekening!$G$50,TRUE)","v":1},3692,{"$f":"POISSON(F3696,Berekening!$G$52,TRUE)","v":1},3692]
[{"$f":"POISSON(B3697,Berekening!$G$27,TRUE)","v":1},3693,{"$f":"POISSON(D3697,Berekening!$G$50,TRUE)","v":1},3693,{"$f":"POISSON(F3697,Berekening!$G$52,TRUE)","v":1},3693]
[{"$f":"POISSON(B3698,Berekening!$G$27,TRUE)","v":1},3694,{"$f":"POISSON(D3698,Berekening!$G$50,TRUE)","v":1},3694,{"$f":"POISSON(F3698,Berekening!$G$52,TRUE)","v":1},3694]
[{"$f":"POISSON(B3699,Berekening!$G$27,TRUE)","v":1},3695,{"$f":"POISSON(D3699,Berekening!$G$50,TRUE)","v":1},3695,{"$f":"POISSON(F3699,Berekening!$G$52,TRUE)","v":1},3695]
[{"$f":"POISSON(B3700,Berekening!$G$27,TRUE)","v":1},3696,{"$f":"POISSON(D3700,Berekening!$G$50,TRUE)","v":1},3696,{"$f":"POISSON(F3700,Berekening!$G$52,TRUE)","v":1},3696]
[{"$f":"POISSON(B3701,Berekening!$G$27,TRUE)","v":1},3697,{"$f":"POISSON(D3701,Berekening!$G$50,TRUE)","v":1},3697,{"$f":"POISSON(F3701,Berekening!$G$52,TRUE)","v":1},3697]
[{"$f":"POISSON(B3702,Berekening!$G$27,TRUE)","v":1},3698,{"$f":"POISSON(D3702,Berekening!$G$50,TRUE)","v":1},3698,{"$f":"POISSON(F3702,Berekening!$G$52,TRUE)","v":1},3698]
[{"$f":"POISSON(B3703,Berekening!$G$27,TRUE)","v":1},3699,{"$f":"POISSON(D3703,Berekening!$G$50,TRUE)","v":1},3699,{"$f":"POISSON(F3703,Berekening!$G$52,TRUE)","v":1},3699]
[{"$f":"POISSON(B3704,Berekening!$G$27,TRUE)","v":1},3700,{"$f":"POISSON(D3704,Berekening!$G$50,TRUE)","v":1},3700,{"$f":"POISSON(F3704,Berekening!$G$52,TRUE)","v":1},3700]
[{"$f":"POISSON(B3705,Berekening!$G$27,TRUE)","v":1},3701,{"$f":"POISSON(D3705,Berekening!$G$50,TRUE)","v":1},3701,{"$f":"POISSON(F3705,Berekening!$G$52,TRUE)","v":1},3701]
[{"$f":"POISSON(B3706,Berekening!$G$27,TRUE)","v":1},3702,{"$f":"POISSON(D3706,Berekening!$G$50,TRUE)","v":1},3702,{"$f":"POISSON(F3706,Berekening!$G$52,TRUE)","v":1},3702]
[{"$f":"POISSON(B3707,Berekening!$G$27,TRUE)","v":1},3703,{"$f":"POISSON(D3707,Berekening!$G$50,TRUE)","v":1},3703,{"$f":"POISSON(F3707,Berekening!$G$52,TRUE)","v":1},3703]
[{"$f":"POISSON(B3708,Berekening!$G$27,TRUE)","v":1},3704,{"$f":"POISSON(D3708,Berekening!$G$50,TRUE)","v":1},3704,{"$f":"POISSON(F3708,Berekening!$G$52,TRUE)","v":1},3704]
[{"$f":"POISSON(B3709,Berekening!$G$27,TRUE)","v":1},3705,{"$f":"POISSON(D3709,Berekening!$G$50,TRUE)","v":1},3705,{"$f":"POISSON(F3709,Berekening!$G$52,TRUE)","v":1},3705]
[{"$f":"POISSON(B3710,Berekening!$G$27,TRUE)","v":1},3706,{"$f":"POISSON(D3710,Berekening!$G$50,TRUE)","v":1},3706,{"$f":"POISSON(F3710,Berekening!$G$52,TRUE)","v":1},3706]
[{"$f":"POISSON(B3711,Berekening!$G$27,TRUE)","v":1},3707,{"$f":"POISSON(D3711,Berekening!$G$50,TRUE)","v":1},3707,{"$f":"POISSON(F3711,Berekening!$G$52,TRUE)","v":1},3707]
[{"$f":"POISSON(B3712,Berekening!$G$27,TRUE)","v":1},3708,{"$f":"POISSON(D3712,Berekening!$G$50,TRUE)","v":1},3708,{"$f":"POISSON(F3712,Berekening!$G$52,TRUE)","v":1},3708]
[{"$f":"POISSON(B3713,Berekening!$G$27,TRUE)","v":1},3709,{"$f":"POISSON(D3713,Berekening!$G$50,TRUE)","v":1},3709,{"$f":"POISSON(F3713,Berekening!$G$52,TRUE)","v":1},3709]
[{"$f":"POISSON(B3714,Berekening!$G$27,TRUE)","v":1},3710,{"$f":"POISSON(D3714,Berekening!$G$50,TRUE)","v":1},3710,{"$f":"POISSON(F3714,Berekening!$G$52,TRUE)","v":1},3710]
[{"$f":"POISSON(B3715,Berekening!$G$27,TRUE)","v":1},3711,{"$f":"POISSON(D3715,Berekening!$G$50,TRUE)","v":1},3711,{"$f":"POISSON(F3715,Berekening!$G$52,TRUE)","v":1},3711]
[{"$f":"POISSON(B3716,Berekening!$G$27,TRUE)","v":1},3712,{"$f":"POISSON(D3716,Berekening!$G$50,TRUE)","v":1},3712,{"$f":"POISSON(F3716,Berekening!$G$52,TRUE)","v":1},3712]
[{"$f":"POISSON(B3717,Berekening!$G$27,TRUE)","v":1},3713,{"$f":"POISSON(D3717,Berekening!$G$50,TRUE)","v":1},3713,{"$f":"POISSON(F3717,Berekening!$G$52,TRUE)","v":1},3713]
[{"$f":"POISSON(B3718,Berekening!$G$27,TRUE)","v":1},3714,{"$f":"POISSON(D3718,Berekening!$G$50,TRUE)","v":1},3714,{"$f":"POISSON(F3718,Berekening!$G$52,TRUE)","v":1},3714]
[{"$f":"POISSON(B3719,Berekening!$G$27,TRUE)","v":1},3715,{"$f":"POISSON(D3719,Berekening!$G$50,TRUE)","v":1},3715,{"$f":"POISSON(F3719,Berekening!$G$52,TRUE)","v":1},3715]
[{"$f":"POISSON(B3720,Berekening!$G$27,TRUE)","v":1},3716,{"$f":"POISSON(D3720,Berekening!$G$50,TRUE)","v":1},3716,{"$f":"POISSON(F3720,Berekening!$G$52,TRUE)","v":1},3716]
[{"$f":"POISSON(B3721,Berekening!$G$27,TRUE)","v":1},3717,{"$f":"POISSON(D3721,Berekening!$G$50,TRUE)","v":1},3717,{"$f":"POISSON(F3721,Berekening!$G$52,TRUE)","v":1},3717]
[{"$f":"POISSON(B3722,Berekening!$G$27,TRUE)","v":1},3718,{"$f":"POISSON(D3722,Berekening!$G$50,TRUE)","v":1},3718,{"$f":"POISSON(F3722,Berekening!$G$52,TRUE)","v":1},3718]
[{"$f":"POISSON(B3723,Berekening!$G$27,TRUE)","v":1},3719,{"$f":"POISSON(D3723,Berekening!$G$50,TRUE)","v":1},3719,{"$f":"POISSON(F3723,Berekening!$G$52,TRUE)","v":1},3719]
[{"$f":"POISSON(B3724,Berekening!$G$27,TRUE)","v":1},3720,{"$f":"POISSON(D3724,Berekening!$G$50,TRUE)","v":1},3720,{"$f":"POISSON(F3724,Berekening!$G$52,TRUE)","v":1},3720]
[{"$f":"POISSON(B3725,Berekening!$G$27,TRUE)","v":1},3721,{"$f":"POISSON(D3725,Berekening!$G$50,TRUE)","v":1},3721,{"$f":"POISSON(F3725,Berekening!$G$52,TRUE)","v":1},3721]
[{"$f":"POISSON(B3726,Berekening!$G$27,TRUE)","v":1},3722,{"$f":"POISSON(D3726,Berekening!$G$50,TRUE)","v":1},3722,{"$f":"POISSON(F3726,Berekening!$G$52,TRUE)","v":1},3722]
[{"$f":"POISSON(B3727,Berekening!$G$27,TRUE)","v":1},3723,{"$f":"POISSON(D3727,Berekening!$G$50,TRUE)","v":1},3723,{"$f":"POISSON(F3727,Berekening!$G$52,TRUE)","v":1},3723]
[{"$f":"POISSON(B3728,Berekening!$G$27,TRUE)","v":1},3724,{"$f":"POISSON(D3728,Berekening!$G$50,TRUE)","v":1},3724,{"$f":"POISSON(F3728,Berekening!$G$52,TRUE)","v":1},3724]
[{"$f":"POISSON(B3729,Berekening!$G$27,TRUE)","v":1},3725,{"$f":"POISSON(D3729,Berekening!$G$50,TRUE)","v":1},3725,{"$f":"POISSON(F3729,Berekening!$G$52,TRUE)","v":1},3725]
[{"$f":"POISSON(B3730,Berekening!$G$27,TRUE)","v":1},3726,{"$f":"POISSON(D3730,Berekening!$G$50,TRUE)","v":1},3726,{"$f":"POISSON(F3730,Berekening!$G$52,TRUE)","v":1},3726]
[{"$f":"POISSON(B3731,Berekening!$G$27,TRUE)","v":1},3727,{"$f":"POISSON(D3731,Berekening!$G$50,TRUE)","v":1},3727,{"$f":"POISSON(F3731,Berekening!$G$52,TRUE)","v":1},3727]
[{"$f":"POISSON(B3732,Berekening!$G$27,TRUE)","v":1},3728,{"$f":"POISSON(D3732,Berekening!$G$50,TRUE)","v":1},3728,{"$f":"POISSON(F3732,Berekening!$G$52,TRUE)","v":1},3728]
[{"$f":"POISSON(B3733,Berekening!$G$27,TRUE)","v":1},3729,{"$f":"POISSON(D3733,Berekening!$G$50,TRUE)","v":1},3729,{"$f":"POISSON(F3733,Berekening!$G$52,TRUE)","v":1},3729]
[{"$f":"POISSON(B3734,Berekening!$G$27,TRUE)","v":1},3730,{"$f":"POISSON(D3734,Berekening!$G$50,TRUE)","v":1},3730,{"$f":"POISSON(F3734,Berekening!$G$52,TRUE)","v":1},3730]
[{"$f":"POISSON(B3735,Berekening!$G$27,TRUE)","v":1},3731,{"$f":"POISSON(D3735,Berekening!$G$50,TRUE)","v":1},3731,{"$f":"POISSON(F3735,Berekening!$G$52,TRUE)","v":1},3731]
[{"$f":"POISSON(B3736,Berekening!$G$27,TRUE)","v":1},3732,{"$f":"POISSON(D3736,Berekening!$G$50,TRUE)","v":1},3732,{"$f":"POISSON(F3736,Berekening!$G$52,TRUE)","v":1},3732]
[{"$f":"POISSON(B3737,Berekening!$G$27,TRUE)","v":1},3733,{"$f":"POISSON(D3737,Berekening!$G$50,TRUE)","v":1},3733,{"$f":"POISSON(F3737,Berekening!$G$52,TRUE)","v":1},3733]
[{"$f":"POISSON(B3738,Berekening!$G$27,TRUE)","v":1},3734,{"$f":"POISSON(D3738,Berekening!$G$50,TRUE)","v":1},3734,{"$f":"POISSON(F3738,Berekening!$G$52,TRUE)","v":1},3734]
[{"$f":"POISSON(B3739,Berekening!$G$27,TRUE)","v":1},3735,{"$f":"POISSON(D3739,Berekening!$G$50,TRUE)","v":1},3735,{"$f":"POISSON(F3739,Berekening!$G$52,TRUE)","v":1},3735]
[{"$f":"POISSON(B3740,Berekening!$G$27,TRUE)","v":1},3736,{"$f":"POISSON(D3740,Berekening!$G$50,TRUE)","v":1},3736,{"$f":"POISSON(F3740,Berekening!$G$52,TRUE)","v":1},3736]
[{"$f":"POISSON(B3741,Berekening!$G$27,TRUE)","v":1},3737,{"$f":"POISSON(D3741,Berekening!$G$50,TRUE)","v":1},3737,{"$f":"POISSON(F3741,Berekening!$G$52,TRUE)","v":1},3737]
[{"$f":"POISSON(B3742,Berekening!$G$27,TRUE)","v":1},3738,{"$f":"POISSON(D3742,Berekening!$G$50,TRUE)","v":1},3738,{"$f":"POISSON(F3742,Berekening!$G$52,TRUE)","v":1},3738]
[{"$f":"POISSON(B3743,Berekening!$G$27,TRUE)","v":1},3739,{"$f":"POISSON(D3743,Berekening!$G$50,TRUE)","v":1},3739,{"$f":"POISSON(F3743,Berekening!$G$52,TRUE)","v":1},3739]
[{"$f":"POISSON(B3744,Berekening!$G$27,TRUE)","v":1},3740,{"$f":"POISSON(D3744,Berekening!$G$50,TRUE)","v":1},3740,{"$f":"POISSON(F3744,Berekening!$G$52,TRUE)","v":1},3740]
[{"$f":"POISSON(B3745,Berekening!$G$27,TRUE)","v":1},3741,{"$f":"POISSON(D3745,Berekening!$G$50,TRUE)","v":1},3741,{"$f":"POISSON(F3745,Berekening!$G$52,TRUE)","v":1},3741]
[{"$f":"POISSON(B3746,Berekening!$G$27,TRUE)","v":1},3742,{"$f":"POISSON(D3746,Berekening!$G$50,TRUE)","v":1},3742,{"$f":"POISSON(F3746,Berekening!$G$52,TRUE)","v":1},3742]
[{"$f":"POISSON(B3747,Berekening!$G$27,TRUE)","v":1},3743,{"$f":"POISSON(D3747,Berekening!$G$50,TRUE)","v":1},3743,{"$f":"POISSON(F3747,Berekening!$G$52,TRUE)","v":1},3743]
[{"$f":"POISSON(B3748,Berekening!$G$27,TRUE)","v":1},3744,{"$f":"POISSON(D3748,Berekening!$G$50,TRUE)","v":1},3744,{"$f":"POISSON(F3748,Berekening!$G$52,TRUE)","v":1},3744]
[{"$f":"POISSON(B3749,Berekening!$G$27,TRUE)","v":1},3745,{"$f":"POISSON(D3749,Berekening!$G$50,TRUE)","v":1},3745,{"$f":"POISSON(F3749,Berekening!$G$52,TRUE)","v":1},3745]
[{"$f":"POISSON(B3750,Berekening!$G$27,TRUE)","v":1},3746,{"$f":"POISSON(D3750,Berekening!$G$50,TRUE)","v":1},3746,{"$f":"POISSON(F3750,Berekening!$G$52,TRUE)","v":1},3746]
[{"$f":"POISSON(B3751,Berekening!$G$27,TRUE)","v":1},3747,{"$f":"POISSON(D3751,Berekening!$G$50,TRUE)","v":1},3747,{"$f":"POISSON(F3751,Berekening!$G$52,TRUE)","v":1},3747]
[{"$f":"POISSON(B3752,Berekening!$G$27,TRUE)","v":1},3748,{"$f":"POISSON(D3752,Berekening!$G$50,TRUE)","v":1},3748,{"$f":"POISSON(F3752,Berekening!$G$52,TRUE)","v":1},3748]
[{"$f":"POISSON(B3753,Berekening!$G$27,TRUE)","v":1},3749,{"$f":"POISSON(D3753,Berekening!$G$50,TRUE)","v":1},3749,{"$f":"POISSON(F3753,Berekening!$G$52,TRUE)","v":1},3749]
[{"$f":"POISSON(B3754,Berekening!$G$27,TRUE)","v":1},3750,{"$f":"POISSON(D3754,Berekening!$G$50,TRUE)","v":1},3750,{"$f":"POISSON(F3754,Berekening!$G$52,TRUE)","v":1},3750]
[{"$f":"POISSON(B3755,Berekening!$G$27,TRUE)","v":1},3751,{"$f":"POISSON(D3755,Berekening!$G$50,TRUE)","v":1},3751,{"$f":"POISSON(F3755,Berekening!$G$52,TRUE)","v":1},3751]
[{"$f":"POISSON(B3756,Berekening!$G$27,TRUE)","v":1},3752,{"$f":"POISSON(D3756,Berekening!$G$50,TRUE)","v":1},3752,{"$f":"POISSON(F3756,Berekening!$G$52,TRUE)","v":1},3752]
[{"$f":"POISSON(B3757,Berekening!$G$27,TRUE)","v":1},3753,{"$f":"POISSON(D3757,Berekening!$G$50,TRUE)","v":1},3753,{"$f":"POISSON(F3757,Berekening!$G$52,TRUE)","v":1},3753]
[{"$f":"POISSON(B3758,Berekening!$G$27,TRUE)","v":1},3754,{"$f":"POISSON(D3758,Berekening!$G$50,TRUE)","v":1},3754,{"$f":"POISSON(F3758,Berekening!$G$52,TRUE)","v":1},3754]
[{"$f":"POISSON(B3759,Berekening!$G$27,TRUE)","v":1},3755,{"$f":"POISSON(D3759,Berekening!$G$50,TRUE)","v":1},3755,{"$f":"POISSON(F3759,Berekening!$G$52,TRUE)","v":1},3755]
[{"$f":"POISSON(B3760,Berekening!$G$27,TRUE)","v":1},3756,{"$f":"POISSON(D3760,Berekening!$G$50,TRUE)","v":1},3756,{"$f":"POISSON(F3760,Berekening!$G$52,TRUE)","v":1},3756]
[{"$f":"POISSON(B3761,Berekening!$G$27,TRUE)","v":1},3757,{"$f":"POISSON(D3761,Berekening!$G$50,TRUE)","v":1},3757,{"$f":"POISSON(F3761,Berekening!$G$52,TRUE)","v":1},3757]
[{"$f":"POISSON(B3762,Berekening!$G$27,TRUE)","v":1},3758,{"$f":"POISSON(D3762,Berekening!$G$50,TRUE)","v":1},3758,{"$f":"POISSON(F3762,Berekening!$G$52,TRUE)","v":1},3758]
[{"$f":"POISSON(B3763,Berekening!$G$27,TRUE)","v":1},3759,{"$f":"POISSON(D3763,Berekening!$G$50,TRUE)","v":1},3759,{"$f":"POISSON(F3763,Berekening!$G$52,TRUE)","v":1},3759]
[{"$f":"POISSON(B3764,Berekening!$G$27,TRUE)","v":1},3760,{"$f":"POISSON(D3764,Berekening!$G$50,TRUE)","v":1},3760,{"$f":"POISSON(F3764,Berekening!$G$52,TRUE)","v":1},3760]
[{"$f":"POISSON(B3765,Berekening!$G$27,TRUE)","v":1},3761,{"$f":"POISSON(D3765,Berekening!$G$50,TRUE)","v":1},3761,{"$f":"POISSON(F3765,Berekening!$G$52,TRUE)","v":1},3761]
[{"$f":"POISSON(B3766,Berekening!$G$27,TRUE)","v":1},3762,{"$f":"POISSON(D3766,Berekening!$G$50,TRUE)","v":1},3762,{"$f":"POISSON(F3766,Berekening!$G$52,TRUE)","v":1},3762]
[{"$f":"POISSON(B3767,Berekening!$G$27,TRUE)","v":1},3763,{"$f":"POISSON(D3767,Berekening!$G$50,TRUE)","v":1},3763,{"$f":"POISSON(F3767,Berekening!$G$52,TRUE)","v":1},3763]
[{"$f":"POISSON(B3768,Berekening!$G$27,TRUE)","v":1},3764,{"$f":"POISSON(D3768,Berekening!$G$50,TRUE)","v":1},3764,{"$f":"POISSON(F3768,Berekening!$G$52,TRUE)","v":1},3764]
[{"$f":"POISSON(B3769,Berekening!$G$27,TRUE)","v":1},3765,{"$f":"POISSON(D3769,Berekening!$G$50,TRUE)","v":1},3765,{"$f":"POISSON(F3769,Berekening!$G$52,TRUE)","v":1},3765]
[{"$f":"POISSON(B3770,Berekening!$G$27,TRUE)","v":1},3766,{"$f":"POISSON(D3770,Berekening!$G$50,TRUE)","v":1},3766,{"$f":"POISSON(F3770,Berekening!$G$52,TRUE)","v":1},3766]
[{"$f":"POISSON(B3771,Berekening!$G$27,TRUE)","v":1},3767,{"$f":"POISSON(D3771,Berekening!$G$50,TRUE)","v":1},3767,{"$f":"POISSON(F3771,Berekening!$G$52,TRUE)","v":1},3767]
[{"$f":"POISSON(B3772,Berekening!$G$27,TRUE)","v":1},3768,{"$f":"POISSON(D3772,Berekening!$G$50,TRUE)","v":1},3768,{"$f":"POISSON(F3772,Berekening!$G$52,TRUE)","v":1},3768]
[{"$f":"POISSON(B3773,Berekening!$G$27,TRUE)","v":1},3769,{"$f":"POISSON(D3773,Berekening!$G$50,TRUE)","v":1},3769,{"$f":"POISSON(F3773,Berekening!$G$52,TRUE)","v":1},3769]
[{"$f":"POISSON(B3774,Berekening!$G$27,TRUE)","v":1},3770,{"$f":"POISSON(D3774,Berekening!$G$50,TRUE)","v":1},3770,{"$f":"POISSON(F3774,Berekening!$G$52,TRUE)","v":1},3770]
[{"$f":"POISSON(B3775,Berekening!$G$27,TRUE)","v":1},3771,{"$f":"POISSON(D3775,Berekening!$G$50,TRUE)","v":1},3771,{"$f":"POISSON(F3775,Berekening!$G$52,TRUE)","v":1},3771]
[{"$f":"POISSON(B3776,Berekening!$G$27,TRUE)","v":1},3772,{"$f":"POISSON(D3776,Berekening!$G$50,TRUE)","v":1},3772,{"$f":"POISSON(F3776,Berekening!$G$52,TRUE)","v":1},3772]
[{"$f":"POISSON(B3777,Berekening!$G$27,TRUE)","v":1},3773,{"$f":"POISSON(D3777,Berekening!$G$50,TRUE)","v":1},3773,{"$f":"POISSON(F3777,Berekening!$G$52,TRUE)","v":1},3773]
[{"$f":"POISSON(B3778,Berekening!$G$27,TRUE)","v":1},3774,{"$f":"POISSON(D3778,Berekening!$G$50,TRUE)","v":1},3774,{"$f":"POISSON(F3778,Berekening!$G$52,TRUE)","v":1},3774]
[{"$f":"POISSON(B3779,Berekening!$G$27,TRUE)","v":1},3775,{"$f":"POISSON(D3779,Berekening!$G$50,TRUE)","v":1},3775,{"$f":"POISSON(F3779,Berekening!$G$52,TRUE)","v":1},3775]
[{"$f":"POISSON(B3780,Berekening!$G$27,TRUE)","v":1},3776,{"$f":"POISSON(D3780,Berekening!$G$50,TRUE)","v":1},3776,{"$f":"POISSON(F3780,Berekening!$G$52,TRUE)","v":1},3776]
[{"$f":"POISSON(B3781,Berekening!$G$27,TRUE)","v":1},3777,{"$f":"POISSON(D3781,Berekening!$G$50,TRUE)","v":1},3777,{"$f":"POISSON(F3781,Berekening!$G$52,TRUE)","v":1},3777]
[{"$f":"POISSON(B3782,Berekening!$G$27,TRUE)","v":1},3778,{"$f":"POISSON(D3782,Berekening!$G$50,TRUE)","v":1},3778,{"$f":"POISSON(F3782,Berekening!$G$52,TRUE)","v":1},3778]
[{"$f":"POISSON(B3783,Berekening!$G$27,TRUE)","v":1},3779,{"$f":"POISSON(D3783,Berekening!$G$50,TRUE)","v":1},3779,{"$f":"POISSON(F3783,Berekening!$G$52,TRUE)","v":1},3779]
[{"$f":"POISSON(B3784,Berekening!$G$27,TRUE)","v":1},3780,{"$f":"POISSON(D3784,Berekening!$G$50,TRUE)","v":1},3780,{"$f":"POISSON(F3784,Berekening!$G$52,TRUE)","v":1},3780]
[{"$f":"POISSON(B3785,Berekening!$G$27,TRUE)","v":1},3781,{"$f":"POISSON(D3785,Berekening!$G$50,TRUE)","v":1},3781,{"$f":"POISSON(F3785,Berekening!$G$52,TRUE)","v":1},3781]
[{"$f":"POISSON(B3786,Berekening!$G$27,TRUE)","v":1},3782,{"$f":"POISSON(D3786,Berekening!$G$50,TRUE)","v":1},3782,{"$f":"POISSON(F3786,Berekening!$G$52,TRUE)","v":1},3782]
[{"$f":"POISSON(B3787,Berekening!$G$27,TRUE)","v":1},3783,{"$f":"POISSON(D3787,Berekening!$G$50,TRUE)","v":1},3783,{"$f":"POISSON(F3787,Berekening!$G$52,TRUE)","v":1},3783]
[{"$f":"POISSON(B3788,Berekening!$G$27,TRUE)","v":1},3784,{"$f":"POISSON(D3788,Berekening!$G$50,TRUE)","v":1},3784,{"$f":"POISSON(F3788,Berekening!$G$52,TRUE)","v":1},3784]
[{"$f":"POISSON(B3789,Berekening!$G$27,TRUE)","v":1},3785,{"$f":"POISSON(D3789,Berekening!$G$50,TRUE)","v":1},3785,{"$f":"POISSON(F3789,Berekening!$G$52,TRUE)","v":1},3785]
[{"$f":"POISSON(B3790,Berekening!$G$27,TRUE)","v":1},3786,{"$f":"POISSON(D3790,Berekening!$G$50,TRUE)","v":1},3786,{"$f":"POISSON(F3790,Berekening!$G$52,TRUE)","v":1},3786]
[{"$f":"POISSON(B3791,Berekening!$G$27,TRUE)","v":1},3787,{"$f":"POISSON(D3791,Berekening!$G$50,TRUE)","v":1},3787,{"$f":"POISSON(F3791,Berekening!$G$52,TRUE)","v":1},3787]
[{"$f":"POISSON(B3792,Berekening!$G$27,TRUE)","v":1},3788,{"$f":"POISSON(D3792,Berekening!$G$50,TRUE)","v":1},3788,{"$f":"POISSON(F3792,Berekening!$G$52,TRUE)","v":1},3788]
[{"$f":"POISSON(B3793,Berekening!$G$27,TRUE)","v":1},3789,{"$f":"POISSON(D3793,Berekening!$G$50,TRUE)","v":1},3789,{"$f":"POISSON(F3793,Berekening!$G$52,TRUE)","v":1},3789]
[{"$f":"POISSON(B3794,Berekening!$G$27,TRUE)","v":1},3790,{"$f":"POISSON(D3794,Berekening!$G$50,TRUE)","v":1},3790,{"$f":"POISSON(F3794,Berekening!$G$52,TRUE)","v":1},3790]
[{"$f":"POISSON(B3795,Berekening!$G$27,TRUE)","v":1},3791,{"$f":"POISSON(D3795,Berekening!$G$50,TRUE)","v":1},3791,{"$f":"POISSON(F3795,Berekening!$G$52,TRUE)","v":1},3791]
[{"$f":"POISSON(B3796,Berekening!$G$27,TRUE)","v":1},3792,{"$f":"POISSON(D3796,Berekening!$G$50,TRUE)","v":1},3792,{"$f":"POISSON(F3796,Berekening!$G$52,TRUE)","v":1},3792]
[{"$f":"POISSON(B3797,Berekening!$G$27,TRUE)","v":1},3793,{"$f":"POISSON(D3797,Berekening!$G$50,TRUE)","v":1},3793,{"$f":"POISSON(F3797,Berekening!$G$52,TRUE)","v":1},3793]
[{"$f":"POISSON(B3798,Berekening!$G$27,TRUE)","v":1},3794,{"$f":"POISSON(D3798,Berekening!$G$50,TRUE)","v":1},3794,{"$f":"POISSON(F3798,Berekening!$G$52,TRUE)","v":1},3794]
[{"$f":"POISSON(B3799,Berekening!$G$27,TRUE)","v":1},3795,{"$f":"POISSON(D3799,Berekening!$G$50,TRUE)","v":1},3795,{"$f":"POISSON(F3799,Berekening!$G$52,TRUE)","v":1},3795]
[{"$f":"POISSON(B3800,Berekening!$G$27,TRUE)","v":1},3796,{"$f":"POISSON(D3800,Berekening!$G$50,TRUE)","v":1},3796,{"$f":"POISSON(F3800,Berekening!$G$52,TRUE)","v":1},3796]
[{"$f":"POISSON(B3801,Berekening!$G$27,TRUE)","v":1},3797,{"$f":"POISSON(D3801,Berekening!$G$50,TRUE)","v":1},3797,{"$f":"POISSON(F3801,Berekening!$G$52,TRUE)","v":1},3797]
[{"$f":"POISSON(B3802,Berekening!$G$27,TRUE)","v":1},3798,{"$f":"POISSON(D3802,Berekening!$G$50,TRUE)","v":1},3798,{"$f":"POISSON(F3802,Berekening!$G$52,TRUE)","v":1},3798]
[{"$f":"POISSON(B3803,Berekening!$G$27,TRUE)","v":1},3799,{"$f":"POISSON(D3803,Berekening!$G$50,TRUE)","v":1},3799,{"$f":"POISSON(F3803,Berekening!$G$52,TRUE)","v":1},3799]
[{"$f":"POISSON(B3804,Berekening!$G$27,TRUE)","v":1},3800,{"$f":"POISSON(D3804,Berekening!$G$50,TRUE)","v":1},3800,{"$f":"POISSON(F3804,Berekening!$G$52,TRUE)","v":1},3800]
[{"$f":"POISSON(B3805,Berekening!$G$27,TRUE)","v":1},3801,{"$f":"POISSON(D3805,Berekening!$G$50,TRUE)","v":1},3801,{"$f":"POISSON(F3805,Berekening!$G$52,TRUE)","v":1},3801]
[{"$f":"POISSON(B3806,Berekening!$G$27,TRUE)","v":1},3802,{"$f":"POISSON(D3806,Berekening!$G$50,TRUE)","v":1},3802,{"$f":"POISSON(F3806,Berekening!$G$52,TRUE)","v":1},3802]
[{"$f":"POISSON(B3807,Berekening!$G$27,TRUE)","v":1},3803,{"$f":"POISSON(D3807,Berekening!$G$50,TRUE)","v":1},3803,{"$f":"POISSON(F3807,Berekening!$G$52,TRUE)","v":1},3803]
[{"$f":"POISSON(B3808,Berekening!$G$27,TRUE)","v":1},3804,{"$f":"POISSON(D3808,Berekening!$G$50,TRUE)","v":1},3804,{"$f":"POISSON(F3808,Berekening!$G$52,TRUE)","v":1},3804]
[{"$f":"POISSON(B3809,Berekening!$G$27,TRUE)","v":1},3805,{"$f":"POISSON(D3809,Berekening!$G$50,TRUE)","v":1},3805,{"$f":"POISSON(F3809,Berekening!$G$52,TRUE)","v":1},3805]
[{"$f":"POISSON(B3810,Berekening!$G$27,TRUE)","v":1},3806,{"$f":"POISSON(D3810,Berekening!$G$50,TRUE)","v":1},3806,{"$f":"POISSON(F3810,Berekening!$G$52,TRUE)","v":1},3806]
[{"$f":"POISSON(B3811,Berekening!$G$27,TRUE)","v":1},3807,{"$f":"POISSON(D3811,Berekening!$G$50,TRUE)","v":1},3807,{"$f":"POISSON(F3811,Berekening!$G$52,TRUE)","v":1},3807]
[{"$f":"POISSON(B3812,Berekening!$G$27,TRUE)","v":1},3808,{"$f":"POISSON(D3812,Berekening!$G$50,TRUE)","v":1},3808,{"$f":"POISSON(F3812,Berekening!$G$52,TRUE)","v":1},3808]
[{"$f":"POISSON(B3813,Berekening!$G$27,TRUE)","v":1},3809,{"$f":"POISSON(D3813,Berekening!$G$50,TRUE)","v":1},3809,{"$f":"POISSON(F3813,Berekening!$G$52,TRUE)","v":1},3809]
[{"$f":"POISSON(B3814,Berekening!$G$27,TRUE)","v":1},3810,{"$f":"POISSON(D3814,Berekening!$G$50,TRUE)","v":1},3810,{"$f":"POISSON(F3814,Berekening!$G$52,TRUE)","v":1},3810]
[{"$f":"POISSON(B3815,Berekening!$G$27,TRUE)","v":1},3811,{"$f":"POISSON(D3815,Berekening!$G$50,TRUE)","v":1},3811,{"$f":"POISSON(F3815,Berekening!$G$52,TRUE)","v":1},3811]
[{"$f":"POISSON(B3816,Berekening!$G$27,TRUE)","v":1},3812,{"$f":"POISSON(D3816,Berekening!$G$50,TRUE)","v":1},3812,{"$f":"POISSON(F3816,Berekening!$G$52,TRUE)","v":1},3812]
[{"$f":"POISSON(B3817,Berekening!$G$27,TRUE)","v":1},3813,{"$f":"POISSON(D3817,Berekening!$G$50,TRUE)","v":1},3813,{"$f":"POISSON(F3817,Berekening!$G$52,TRUE)","v":1},3813]
[{"$f":"POISSON(B3818,Berekening!$G$27,TRUE)","v":1},3814,{"$f":"POISSON(D3818,Berekening!$G$50,TRUE)","v":1},3814,{"$f":"POISSON(F3818,Berekening!$G$52,TRUE)","v":1},3814]
[{"$f":"POISSON(B3819,Berekening!$G$27,TRUE)","v":1},3815,{"$f":"POISSON(D3819,Berekening!$G$50,TRUE)","v":1},3815,{"$f":"POISSON(F3819,Berekening!$G$52,TRUE)","v":1},3815]
[{"$f":"POISSON(B3820,Berekening!$G$27,TRUE)","v":1},3816,{"$f":"POISSON(D3820,Berekening!$G$50,TRUE)","v":1},3816,{"$f":"POISSON(F3820,Berekening!$G$52,TRUE)","v":1},3816]
[{"$f":"POISSON(B3821,Berekening!$G$27,TRUE)","v":1},3817,{"$f":"POISSON(D3821,Berekening!$G$50,TRUE)","v":1},3817,{"$f":"POISSON(F3821,Berekening!$G$52,TRUE)","v":1},3817]
[{"$f":"POISSON(B3822,Berekening!$G$27,TRUE)","v":1},3818,{"$f":"POISSON(D3822,Berekening!$G$50,TRUE)","v":1},3818,{"$f":"POISSON(F3822,Berekening!$G$52,TRUE)","v":1},3818]
[{"$f":"POISSON(B3823,Berekening!$G$27,TRUE)","v":1},3819,{"$f":"POISSON(D3823,Berekening!$G$50,TRUE)","v":1},3819,{"$f":"POISSON(F3823,Berekening!$G$52,TRUE)","v":1},3819]
[{"$f":"POISSON(B3824,Berekening!$G$27,TRUE)","v":1},3820,{"$f":"POISSON(D3824,Berekening!$G$50,TRUE)","v":1},3820,{"$f":"POISSON(F3824,Berekening!$G$52,TRUE)","v":1},3820]
[{"$f":"POISSON(B3825,Berekening!$G$27,TRUE)","v":1},3821,{"$f":"POISSON(D3825,Berekening!$G$50,TRUE)","v":1},3821,{"$f":"POISSON(F3825,Berekening!$G$52,TRUE)","v":1},3821]
[{"$f":"POISSON(B3826,Berekening!$G$27,TRUE)","v":1},3822,{"$f":"POISSON(D3826,Berekening!$G$50,TRUE)","v":1},3822,{"$f":"POISSON(F3826,Berekening!$G$52,TRUE)","v":1},3822]
[{"$f":"POISSON(B3827,Berekening!$G$27,TRUE)","v":1},3823,{"$f":"POISSON(D3827,Berekening!$G$50,TRUE)","v":1},3823,{"$f":"POISSON(F3827,Berekening!$G$52,TRUE)","v":1},3823]
[{"$f":"POISSON(B3828,Berekening!$G$27,TRUE)","v":1},3824,{"$f":"POISSON(D3828,Berekening!$G$50,TRUE)","v":1},3824,{"$f":"POISSON(F3828,Berekening!$G$52,TRUE)","v":1},3824]
[{"$f":"POISSON(B3829,Berekening!$G$27,TRUE)","v":1},3825,{"$f":"POISSON(D3829,Berekening!$G$50,TRUE)","v":1},3825,{"$f":"POISSON(F3829,Berekening!$G$52,TRUE)","v":1},3825]
[{"$f":"POISSON(B3830,Berekening!$G$27,TRUE)","v":1},3826,{"$f":"POISSON(D3830,Berekening!$G$50,TRUE)","v":1},3826,{"$f":"POISSON(F3830,Berekening!$G$52,TRUE)","v":1},3826]
[{"$f":"POISSON(B3831,Berekening!$G$27,TRUE)","v":1},3827,{"$f":"POISSON(D3831,Berekening!$G$50,TRUE)","v":1},3827,{"$f":"POISSON(F3831,Berekening!$G$52,TRUE)","v":1},3827]
[{"$f":"POISSON(B3832,Berekening!$G$27,TRUE)","v":1},3828,{"$f":"POISSON(D3832,Berekening!$G$50,TRUE)","v":1},3828,{"$f":"POISSON(F3832,Berekening!$G$52,TRUE)","v":1},3828]
[{"$f":"POISSON(B3833,Berekening!$G$27,TRUE)","v":1},3829,{"$f":"POISSON(D3833,Berekening!$G$50,TRUE)","v":1},3829,{"$f":"POISSON(F3833,Berekening!$G$52,TRUE)","v":1},3829]
[{"$f":"POISSON(B3834,Berekening!$G$27,TRUE)","v":1},3830,{"$f":"POISSON(D3834,Berekening!$G$50,TRUE)","v":1},3830,{"$f":"POISSON(F3834,Berekening!$G$52,TRUE)","v":1},3830]
[{"$f":"POISSON(B3835,Berekening!$G$27,TRUE)","v":1},3831,{"$f":"POISSON(D3835,Berekening!$G$50,TRUE)","v":1},3831,{"$f":"POISSON(F3835,Berekening!$G$52,TRUE)","v":1},3831]
[{"$f":"POISSON(B3836,Berekening!$G$27,TRUE)","v":1},3832,{"$f":"POISSON(D3836,Berekening!$G$50,TRUE)","v":1},3832,{"$f":"POISSON(F3836,Berekening!$G$52,TRUE)","v":1},3832]
[{"$f":"POISSON(B3837,Berekening!$G$27,TRUE)","v":1},3833,{"$f":"POISSON(D3837,Berekening!$G$50,TRUE)","v":1},3833,{"$f":"POISSON(F3837,Berekening!$G$52,TRUE)","v":1},3833]
[{"$f":"POISSON(B3838,Berekening!$G$27,TRUE)","v":1},3834,{"$f":"POISSON(D3838,Berekening!$G$50,TRUE)","v":1},3834,{"$f":"POISSON(F3838,Berekening!$G$52,TRUE)","v":1},3834]
[{"$f":"POISSON(B3839,Berekening!$G$27,TRUE)","v":1},3835,{"$f":"POISSON(D3839,Berekening!$G$50,TRUE)","v":1},3835,{"$f":"POISSON(F3839,Berekening!$G$52,TRUE)","v":1},3835]
[{"$f":"POISSON(B3840,Berekening!$G$27,TRUE)","v":1},3836,{"$f":"POISSON(D3840,Berekening!$G$50,TRUE)","v":1},3836,{"$f":"POISSON(F3840,Berekening!$G$52,TRUE)","v":1},3836]
[{"$f":"POISSON(B3841,Berekening!$G$27,TRUE)","v":1},3837,{"$f":"POISSON(D3841,Berekening!$G$50,TRUE)","v":1},3837,{"$f":"POISSON(F3841,Berekening!$G$52,TRUE)","v":1},3837]
[{"$f":"POISSON(B3842,Berekening!$G$27,TRUE)","v":1},3838,{"$f":"POISSON(D3842,Berekening!$G$50,TRUE)","v":1},3838,{"$f":"POISSON(F3842,Berekening!$G$52,TRUE)","v":1},3838]
[{"$f":"POISSON(B3843,Berekening!$G$27,TRUE)","v":1},3839,{"$f":"POISSON(D3843,Berekening!$G$50,TRUE)","v":1},3839,{"$f":"POISSON(F3843,Berekening!$G$52,TRUE)","v":1},3839]
[{"$f":"POISSON(B3844,Berekening!$G$27,TRUE)","v":1},3840,{"$f":"POISSON(D3844,Berekening!$G$50,TRUE)","v":1},3840,{"$f":"POISSON(F3844,Berekening!$G$52,TRUE)","v":1},3840]
[{"$f":"POISSON(B3845,Berekening!$G$27,TRUE)","v":1},3841,{"$f":"POISSON(D3845,Berekening!$G$50,TRUE)","v":1},3841,{"$f":"POISSON(F3845,Berekening!$G$52,TRUE)","v":1},3841]
[{"$f":"POISSON(B3846,Berekening!$G$27,TRUE)","v":1},3842,{"$f":"POISSON(D3846,Berekening!$G$50,TRUE)","v":1},3842,{"$f":"POISSON(F3846,Berekening!$G$52,TRUE)","v":1},3842]
[{"$f":"POISSON(B3847,Berekening!$G$27,TRUE)","v":1},3843,{"$f":"POISSON(D3847,Berekening!$G$50,TRUE)","v":1},3843,{"$f":"POISSON(F3847,Berekening!$G$52,TRUE)","v":1},3843]
[{"$f":"POISSON(B3848,Berekening!$G$27,TRUE)","v":1},3844,{"$f":"POISSON(D3848,Berekening!$G$50,TRUE)","v":1},3844,{"$f":"POISSON(F3848,Berekening!$G$52,TRUE)","v":1},3844]
[{"$f":"POISSON(B3849,Berekening!$G$27,TRUE)","v":1},3845,{"$f":"POISSON(D3849,Berekening!$G$50,TRUE)","v":1},3845,{"$f":"POISSON(F3849,Berekening!$G$52,TRUE)","v":1},3845]
[{"$f":"POISSON(B3850,Berekening!$G$27,TRUE)","v":1},3846,{"$f":"POISSON(D3850,Berekening!$G$50,TRUE)","v":1},3846,{"$f":"POISSON(F3850,Berekening!$G$52,TRUE)","v":1},3846]
[{"$f":"POISSON(B3851,Berekening!$G$27,TRUE)","v":1},3847,{"$f":"POISSON(D3851,Berekening!$G$50,TRUE)","v":1},3847,{"$f":"POISSON(F3851,Berekening!$G$52,TRUE)","v":1},3847]
[{"$f":"POISSON(B3852,Berekening!$G$27,TRUE)","v":1},3848,{"$f":"POISSON(D3852,Berekening!$G$50,TRUE)","v":1},3848,{"$f":"POISSON(F3852,Berekening!$G$52,TRUE)","v":1},3848]
[{"$f":"POISSON(B3853,Berekening!$G$27,TRUE)","v":1},3849,{"$f":"POISSON(D3853,Berekening!$G$50,TRUE)","v":1},3849,{"$f":"POISSON(F3853,Berekening!$G$52,TRUE)","v":1},3849]
[{"$f":"POISSON(B3854,Berekening!$G$27,TRUE)","v":1},3850,{"$f":"POISSON(D3854,Berekening!$G$50,TRUE)","v":1},3850,{"$f":"POISSON(F3854,Berekening!$G$52,TRUE)","v":1},3850]
[{"$f":"POISSON(B3855,Berekening!$G$27,TRUE)","v":1},3851,{"$f":"POISSON(D3855,Berekening!$G$50,TRUE)","v":1},3851,{"$f":"POISSON(F3855,Berekening!$G$52,TRUE)","v":1},3851]
[{"$f":"POISSON(B3856,Berekening!$G$27,TRUE)","v":1},3852,{"$f":"POISSON(D3856,Berekening!$G$50,TRUE)","v":1},3852,{"$f":"POISSON(F3856,Berekening!$G$52,TRUE)","v":1},3852]
[{"$f":"POISSON(B3857,Berekening!$G$27,TRUE)","v":1},3853,{"$f":"POISSON(D3857,Berekening!$G$50,TRUE)","v":1},3853,{"$f":"POISSON(F3857,Berekening!$G$52,TRUE)","v":1},3853]
[{"$f":"POISSON(B3858,Berekening!$G$27,TRUE)","v":1},3854,{"$f":"POISSON(D3858,Berekening!$G$50,TRUE)","v":1},3854,{"$f":"POISSON(F3858,Berekening!$G$52,TRUE)","v":1},3854]
[{"$f":"POISSON(B3859,Berekening!$G$27,TRUE)","v":1},3855,{"$f":"POISSON(D3859,Berekening!$G$50,TRUE)","v":1},3855,{"$f":"POISSON(F3859,Berekening!$G$52,TRUE)","v":1},3855]
[{"$f":"POISSON(B3860,Berekening!$G$27,TRUE)","v":1},3856,{"$f":"POISSON(D3860,Berekening!$G$50,TRUE)","v":1},3856,{"$f":"POISSON(F3860,Berekening!$G$52,TRUE)","v":1},3856]
[{"$f":"POISSON(B3861,Berekening!$G$27,TRUE)","v":1},3857,{"$f":"POISSON(D3861,Berekening!$G$50,TRUE)","v":1},3857,{"$f":"POISSON(F3861,Berekening!$G$52,TRUE)","v":1},3857]
[{"$f":"POISSON(B3862,Berekening!$G$27,TRUE)","v":1},3858,{"$f":"POISSON(D3862,Berekening!$G$50,TRUE)","v":1},3858,{"$f":"POISSON(F3862,Berekening!$G$52,TRUE)","v":1},3858]
[{"$f":"POISSON(B3863,Berekening!$G$27,TRUE)","v":1},3859,{"$f":"POISSON(D3863,Berekening!$G$50,TRUE)","v":1},3859,{"$f":"POISSON(F3863,Berekening!$G$52,TRUE)","v":1},3859]
[{"$f":"POISSON(B3864,Berekening!$G$27,TRUE)","v":1},3860,{"$f":"POISSON(D3864,Berekening!$G$50,TRUE)","v":1},3860,{"$f":"POISSON(F3864,Berekening!$G$52,TRUE)","v":1},3860]
[{"$f":"POISSON(B3865,Berekening!$G$27,TRUE)","v":1},3861,{"$f":"POISSON(D3865,Berekening!$G$50,TRUE)","v":1},3861,{"$f":"POISSON(F3865,Berekening!$G$52,TRUE)","v":1},3861]
[{"$f":"POISSON(B3866,Berekening!$G$27,TRUE)","v":1},3862,{"$f":"POISSON(D3866,Berekening!$G$50,TRUE)","v":1},3862,{"$f":"POISSON(F3866,Berekening!$G$52,TRUE)","v":1},3862]
[{"$f":"POISSON(B3867,Berekening!$G$27,TRUE)","v":1},3863,{"$f":"POISSON(D3867,Berekening!$G$50,TRUE)","v":1},3863,{"$f":"POISSON(F3867,Berekening!$G$52,TRUE)","v":1},3863]
[{"$f":"POISSON(B3868,Berekening!$G$27,TRUE)","v":1},3864,{"$f":"POISSON(D3868,Berekening!$G$50,TRUE)","v":1},3864,{"$f":"POISSON(F3868,Berekening!$G$52,TRUE)","v":1},3864]
[{"$f":"POISSON(B3869,Berekening!$G$27,TRUE)","v":1},3865,{"$f":"POISSON(D3869,Berekening!$G$50,TRUE)","v":1},3865,{"$f":"POISSON(F3869,Berekening!$G$52,TRUE)","v":1},3865]
[{"$f":"POISSON(B3870,Berekening!$G$27,TRUE)","v":1},3866,{"$f":"POISSON(D3870,Berekening!$G$50,TRUE)","v":1},3866,{"$f":"POISSON(F3870,Berekening!$G$52,TRUE)","v":1},3866]
[{"$f":"POISSON(B3871,Berekening!$G$27,TRUE)","v":1},3867,{"$f":"POISSON(D3871,Berekening!$G$50,TRUE)","v":1},3867,{"$f":"POISSON(F3871,Berekening!$G$52,TRUE)","v":1},3867]
[{"$f":"POISSON(B3872,Berekening!$G$27,TRUE)","v":1},3868,{"$f":"POISSON(D3872,Berekening!$G$50,TRUE)","v":1},3868,{"$f":"POISSON(F3872,Berekening!$G$52,TRUE)","v":1},3868]
[{"$f":"POISSON(B3873,Berekening!$G$27,TRUE)","v":1},3869,{"$f":"POISSON(D3873,Berekening!$G$50,TRUE)","v":1},3869,{"$f":"POISSON(F3873,Berekening!$G$52,TRUE)","v":1},3869]
[{"$f":"POISSON(B3874,Berekening!$G$27,TRUE)","v":1},3870,{"$f":"POISSON(D3874,Berekening!$G$50,TRUE)","v":1},3870,{"$f":"POISSON(F3874,Berekening!$G$52,TRUE)","v":1},3870]
[{"$f":"POISSON(B3875,Berekening!$G$27,TRUE)","v":1},3871,{"$f":"POISSON(D3875,Berekening!$G$50,TRUE)","v":1},3871,{"$f":"POISSON(F3875,Berekening!$G$52,TRUE)","v":1},3871]
[{"$f":"POISSON(B3876,Berekening!$G$27,TRUE)","v":1},3872,{"$f":"POISSON(D3876,Berekening!$G$50,TRUE)","v":1},3872,{"$f":"POISSON(F3876,Berekening!$G$52,TRUE)","v":1},3872]
[{"$f":"POISSON(B3877,Berekening!$G$27,TRUE)","v":1},3873,{"$f":"POISSON(D3877,Berekening!$G$50,TRUE)","v":1},3873,{"$f":"POISSON(F3877,Berekening!$G$52,TRUE)","v":1},3873]
[{"$f":"POISSON(B3878,Berekening!$G$27,TRUE)","v":1},3874,{"$f":"POISSON(D3878,Berekening!$G$50,TRUE)","v":1},3874,{"$f":"POISSON(F3878,Berekening!$G$52,TRUE)","v":1},3874]
[{"$f":"POISSON(B3879,Berekening!$G$27,TRUE)","v":1},3875,{"$f":"POISSON(D3879,Berekening!$G$50,TRUE)","v":1},3875,{"$f":"POISSON(F3879,Berekening!$G$52,TRUE)","v":1},3875]
[{"$f":"POISSON(B3880,Berekening!$G$27,TRUE)","v":1},3876,{"$f":"POISSON(D3880,Berekening!$G$50,TRUE)","v":1},3876,{"$f":"POISSON(F3880,Berekening!$G$52,TRUE)","v":1},3876]
[{"$f":"POISSON(B3881,Berekening!$G$27,TRUE)","v":1},3877,{"$f":"POISSON(D3881,Berekening!$G$50,TRUE)","v":1},3877,{"$f":"POISSON(F3881,Berekening!$G$52,TRUE)","v":1},3877]
[{"$f":"POISSON(B3882,Berekening!$G$27,TRUE)","v":1},3878,{"$f":"POISSON(D3882,Berekening!$G$50,TRUE)","v":1},3878,{"$f":"POISSON(F3882,Berekening!$G$52,TRUE)","v":1},3878]
[{"$f":"POISSON(B3883,Berekening!$G$27,TRUE)","v":1},3879,{"$f":"POISSON(D3883,Berekening!$G$50,TRUE)","v":1},3879,{"$f":"POISSON(F3883,Berekening!$G$52,TRUE)","v":1},3879]
[{"$f":"POISSON(B3884,Berekening!$G$27,TRUE)","v":1},3880,{"$f":"POISSON(D3884,Berekening!$G$50,TRUE)","v":1},3880,{"$f":"POISSON(F3884,Berekening!$G$52,TRUE)","v":1},3880]
[{"$f":"POISSON(B3885,Berekening!$G$27,TRUE)","v":1},3881,{"$f":"POISSON(D3885,Berekening!$G$50,TRUE)","v":1},3881,{"$f":"POISSON(F3885,Berekening!$G$52,TRUE)","v":1},3881]
[{"$f":"POISSON(B3886,Berekening!$G$27,TRUE)","v":1},3882,{"$f":"POISSON(D3886,Berekening!$G$50,TRUE)","v":1},3882,{"$f":"POISSON(F3886,Berekening!$G$52,TRUE)","v":1},3882]
[{"$f":"POISSON(B3887,Berekening!$G$27,TRUE)","v":1},3883,{"$f":"POISSON(D3887,Berekening!$G$50,TRUE)","v":1},3883,{"$f":"POISSON(F3887,Berekening!$G$52,TRUE)","v":1},3883]
[{"$f":"POISSON(B3888,Berekening!$G$27,TRUE)","v":1},3884,{"$f":"POISSON(D3888,Berekening!$G$50,TRUE)","v":1},3884,{"$f":"POISSON(F3888,Berekening!$G$52,TRUE)","v":1},3884]
[{"$f":"POISSON(B3889,Berekening!$G$27,TRUE)","v":1},3885,{"$f":"POISSON(D3889,Berekening!$G$50,TRUE)","v":1},3885,{"$f":"POISSON(F3889,Berekening!$G$52,TRUE)","v":1},3885]
[{"$f":"POISSON(B3890,Berekening!$G$27,TRUE)","v":1},3886,{"$f":"POISSON(D3890,Berekening!$G$50,TRUE)","v":1},3886,{"$f":"POISSON(F3890,Berekening!$G$52,TRUE)","v":1},3886]
[{"$f":"POISSON(B3891,Berekening!$G$27,TRUE)","v":1},3887,{"$f":"POISSON(D3891,Berekening!$G$50,TRUE)","v":1},3887,{"$f":"POISSON(F3891,Berekening!$G$52,TRUE)","v":1},3887]
[{"$f":"POISSON(B3892,Berekening!$G$27,TRUE)","v":1},3888,{"$f":"POISSON(D3892,Berekening!$G$50,TRUE)","v":1},3888,{"$f":"POISSON(F3892,Berekening!$G$52,TRUE)","v":1},3888]
[{"$f":"POISSON(B3893,Berekening!$G$27,TRUE)","v":1},3889,{"$f":"POISSON(D3893,Berekening!$G$50,TRUE)","v":1},3889,{"$f":"POISSON(F3893,Berekening!$G$52,TRUE)","v":1},3889]
[{"$f":"POISSON(B3894,Berekening!$G$27,TRUE)","v":1},3890,{"$f":"POISSON(D3894,Berekening!$G$50,TRUE)","v":1},3890,{"$f":"POISSON(F3894,Berekening!$G$52,TRUE)","v":1},3890]
[{"$f":"POISSON(B3895,Berekening!$G$27,TRUE)","v":1},3891,{"$f":"POISSON(D3895,Berekening!$G$50,TRUE)","v":1},3891,{"$f":"POISSON(F3895,Berekening!$G$52,TRUE)","v":1},3891]
[{"$f":"POISSON(B3896,Berekening!$G$27,TRUE)","v":1},3892,{"$f":"POISSON(D3896,Berekening!$G$50,TRUE)","v":1},3892,{"$f":"POISSON(F3896,Berekening!$G$52,TRUE)","v":1},3892]
[{"$f":"POISSON(B3897,Berekening!$G$27,TRUE)","v":1},3893,{"$f":"POISSON(D3897,Berekening!$G$50,TRUE)","v":1},3893,{"$f":"POISSON(F3897,Berekening!$G$52,TRUE)","v":1},3893]
[{"$f":"POISSON(B3898,Berekening!$G$27,TRUE)","v":1},3894,{"$f":"POISSON(D3898,Berekening!$G$50,TRUE)","v":1},3894,{"$f":"POISSON(F3898,Berekening!$G$52,TRUE)","v":1},3894]
[{"$f":"POISSON(B3899,Berekening!$G$27,TRUE)","v":1},3895,{"$f":"POISSON(D3899,Berekening!$G$50,TRUE)","v":1},3895,{"$f":"POISSON(F3899,Berekening!$G$52,TRUE)","v":1},3895]
[{"$f":"POISSON(B3900,Berekening!$G$27,TRUE)","v":1},3896,{"$f":"POISSON(D3900,Berekening!$G$50,TRUE)","v":1},3896,{"$f":"POISSON(F3900,Berekening!$G$52,TRUE)","v":1},3896]
[{"$f":"POISSON(B3901,Berekening!$G$27,TRUE)","v":1},3897,{"$f":"POISSON(D3901,Berekening!$G$50,TRUE)","v":1},3897,{"$f":"POISSON(F3901,Berekening!$G$52,TRUE)","v":1},3897]
[{"$f":"POISSON(B3902,Berekening!$G$27,TRUE)","v":1},3898,{"$f":"POISSON(D3902,Berekening!$G$50,TRUE)","v":1},3898,{"$f":"POISSON(F3902,Berekening!$G$52,TRUE)","v":1},3898]
[{"$f":"POISSON(B3903,Berekening!$G$27,TRUE)","v":1},3899,{"$f":"POISSON(D3903,Berekening!$G$50,TRUE)","v":1},3899,{"$f":"POISSON(F3903,Berekening!$G$52,TRUE)","v":1},3899]
[{"$f":"POISSON(B3904,Berekening!$G$27,TRUE)","v":1},3900,{"$f":"POISSON(D3904,Berekening!$G$50,TRUE)","v":1},3900,{"$f":"POISSON(F3904,Berekening!$G$52,TRUE)","v":1},3900]
[{"$f":"POISSON(B3905,Berekening!$G$27,TRUE)","v":1},3901,{"$f":"POISSON(D3905,Berekening!$G$50,TRUE)","v":1},3901,{"$f":"POISSON(F3905,Berekening!$G$52,TRUE)","v":1},3901]
[{"$f":"POISSON(B3906,Berekening!$G$27,TRUE)","v":1},3902,{"$f":"POISSON(D3906,Berekening!$G$50,TRUE)","v":1},3902,{"$f":"POISSON(F3906,Berekening!$G$52,TRUE)","v":1},3902]
[{"$f":"POISSON(B3907,Berekening!$G$27,TRUE)","v":1},3903,{"$f":"POISSON(D3907,Berekening!$G$50,TRUE)","v":1},3903,{"$f":"POISSON(F3907,Berekening!$G$52,TRUE)","v":1},3903]
[{"$f":"POISSON(B3908,Berekening!$G$27,TRUE)","v":1},3904,{"$f":"POISSON(D3908,Berekening!$G$50,TRUE)","v":1},3904,{"$f":"POISSON(F3908,Berekening!$G$52,TRUE)","v":1},3904]
[{"$f":"POISSON(B3909,Berekening!$G$27,TRUE)","v":1},3905,{"$f":"POISSON(D3909,Berekening!$G$50,TRUE)","v":1},3905,{"$f":"POISSON(F3909,Berekening!$G$52,TRUE)","v":1},3905]
[{"$f":"POISSON(B3910,Berekening!$G$27,TRUE)","v":1},3906,{"$f":"POISSON(D3910,Berekening!$G$50,TRUE)","v":1},3906,{"$f":"POISSON(F3910,Berekening!$G$52,TRUE)","v":1},3906]
[{"$f":"POISSON(B3911,Berekening!$G$27,TRUE)","v":1},3907,{"$f":"POISSON(D3911,Berekening!$G$50,TRUE)","v":1},3907,{"$f":"POISSON(F3911,Berekening!$G$52,TRUE)","v":1},3907]
[{"$f":"POISSON(B3912,Berekening!$G$27,TRUE)","v":1},3908,{"$f":"POISSON(D3912,Berekening!$G$50,TRUE)","v":1},3908,{"$f":"POISSON(F3912,Berekening!$G$52,TRUE)","v":1},3908]
[{"$f":"POISSON(B3913,Berekening!$G$27,TRUE)","v":1},3909,{"$f":"POISSON(D3913,Berekening!$G$50,TRUE)","v":1},3909,{"$f":"POISSON(F3913,Berekening!$G$52,TRUE)","v":1},3909]
[{"$f":"POISSON(B3914,Berekening!$G$27,TRUE)","v":1},3910,{"$f":"POISSON(D3914,Berekening!$G$50,TRUE)","v":1},3910,{"$f":"POISSON(F3914,Berekening!$G$52,TRUE)","v":1},3910]
[{"$f":"POISSON(B3915,Berekening!$G$27,TRUE)","v":1},3911,{"$f":"POISSON(D3915,Berekening!$G$50,TRUE)","v":1},3911,{"$f":"POISSON(F3915,Berekening!$G$52,TRUE)","v":1},3911]
[{"$f":"POISSON(B3916,Berekening!$G$27,TRUE)","v":1},3912,{"$f":"POISSON(D3916,Berekening!$G$50,TRUE)","v":1},3912,{"$f":"POISSON(F3916,Berekening!$G$52,TRUE)","v":1},3912]
[{"$f":"POISSON(B3917,Berekening!$G$27,TRUE)","v":1},3913,{"$f":"POISSON(D3917,Berekening!$G$50,TRUE)","v":1},3913,{"$f":"POISSON(F3917,Berekening!$G$52,TRUE)","v":1},3913]
[{"$f":"POISSON(B3918,Berekening!$G$27,TRUE)","v":1},3914,{"$f":"POISSON(D3918,Berekening!$G$50,TRUE)","v":1},3914,{"$f":"POISSON(F3918,Berekening!$G$52,TRUE)","v":1},3914]
[{"$f":"POISSON(B3919,Berekening!$G$27,TRUE)","v":1},3915,{"$f":"POISSON(D3919,Berekening!$G$50,TRUE)","v":1},3915,{"$f":"POISSON(F3919,Berekening!$G$52,TRUE)","v":1},3915]
[{"$f":"POISSON(B3920,Berekening!$G$27,TRUE)","v":1},3916,{"$f":"POISSON(D3920,Berekening!$G$50,TRUE)","v":1},3916,{"$f":"POISSON(F3920,Berekening!$G$52,TRUE)","v":1},3916]
[{"$f":"POISSON(B3921,Berekening!$G$27,TRUE)","v":1},3917,{"$f":"POISSON(D3921,Berekening!$G$50,TRUE)","v":1},3917,{"$f":"POISSON(F3921,Berekening!$G$52,TRUE)","v":1},3917]
[{"$f":"POISSON(B3922,Berekening!$G$27,TRUE)","v":1},3918,{"$f":"POISSON(D3922,Berekening!$G$50,TRUE)","v":1},3918,{"$f":"POISSON(F3922,Berekening!$G$52,TRUE)","v":1},3918]
[{"$f":"POISSON(B3923,Berekening!$G$27,TRUE)","v":1},3919,{"$f":"POISSON(D3923,Berekening!$G$50,TRUE)","v":1},3919,{"$f":"POISSON(F3923,Berekening!$G$52,TRUE)","v":1},3919]
[{"$f":"POISSON(B3924,Berekening!$G$27,TRUE)","v":1},3920,{"$f":"POISSON(D3924,Berekening!$G$50,TRUE)","v":1},3920,{"$f":"POISSON(F3924,Berekening!$G$52,TRUE)","v":1},3920]
[{"$f":"POISSON(B3925,Berekening!$G$27,TRUE)","v":1},3921,{"$f":"POISSON(D3925,Berekening!$G$50,TRUE)","v":1},3921,{"$f":"POISSON(F3925,Berekening!$G$52,TRUE)","v":1},3921]
[{"$f":"POISSON(B3926,Berekening!$G$27,TRUE)","v":1},3922,{"$f":"POISSON(D3926,Berekening!$G$50,TRUE)","v":1},3922,{"$f":"POISSON(F3926,Berekening!$G$52,TRUE)","v":1},3922]
[{"$f":"POISSON(B3927,Berekening!$G$27,TRUE)","v":1},3923,{"$f":"POISSON(D3927,Berekening!$G$50,TRUE)","v":1},3923,{"$f":"POISSON(F3927,Berekening!$G$52,TRUE)","v":1},3923]
[{"$f":"POISSON(B3928,Berekening!$G$27,TRUE)","v":1},3924,{"$f":"POISSON(D3928,Berekening!$G$50,TRUE)","v":1},3924,{"$f":"POISSON(F3928,Berekening!$G$52,TRUE)","v":1},3924]
[{"$f":"POISSON(B3929,Berekening!$G$27,TRUE)","v":1},3925,{"$f":"POISSON(D3929,Berekening!$G$50,TRUE)","v":1},3925,{"$f":"POISSON(F3929,Berekening!$G$52,TRUE)","v":1},3925]
[{"$f":"POISSON(B3930,Berekening!$G$27,TRUE)","v":1},3926,{"$f":"POISSON(D3930,Berekening!$G$50,TRUE)","v":1},3926,{"$f":"POISSON(F3930,Berekening!$G$52,TRUE)","v":1},3926]
[{"$f":"POISSON(B3931,Berekening!$G$27,TRUE)","v":1},3927,{"$f":"POISSON(D3931,Berekening!$G$50,TRUE)","v":1},3927,{"$f":"POISSON(F3931,Berekening!$G$52,TRUE)","v":1},3927]
[{"$f":"POISSON(B3932,Berekening!$G$27,TRUE)","v":1},3928,{"$f":"POISSON(D3932,Berekening!$G$50,TRUE)","v":1},3928,{"$f":"POISSON(F3932,Berekening!$G$52,TRUE)","v":1},3928]
[{"$f":"POISSON(B3933,Berekening!$G$27,TRUE)","v":1},3929,{"$f":"POISSON(D3933,Berekening!$G$50,TRUE)","v":1},3929,{"$f":"POISSON(F3933,Berekening!$G$52,TRUE)","v":1},3929]
[{"$f":"POISSON(B3934,Berekening!$G$27,TRUE)","v":1},3930,{"$f":"POISSON(D3934,Berekening!$G$50,TRUE)","v":1},3930,{"$f":"POISSON(F3934,Berekening!$G$52,TRUE)","v":1},3930]
[{"$f":"POISSON(B3935,Berekening!$G$27,TRUE)","v":1},3931,{"$f":"POISSON(D3935,Berekening!$G$50,TRUE)","v":1},3931,{"$f":"POISSON(F3935,Berekening!$G$52,TRUE)","v":1},3931]
[{"$f":"POISSON(B3936,Berekening!$G$27,TRUE)","v":1},3932,{"$f":"POISSON(D3936,Berekening!$G$50,TRUE)","v":1},3932,{"$f":"POISSON(F3936,Berekening!$G$52,TRUE)","v":1},3932]
[{"$f":"POISSON(B3937,Berekening!$G$27,TRUE)","v":1},3933,{"$f":"POISSON(D3937,Berekening!$G$50,TRUE)","v":1},3933,{"$f":"POISSON(F3937,Berekening!$G$52,TRUE)","v":1},3933]
[{"$f":"POISSON(B3938,Berekening!$G$27,TRUE)","v":1},3934,{"$f":"POISSON(D3938,Berekening!$G$50,TRUE)","v":1},3934,{"$f":"POISSON(F3938,Berekening!$G$52,TRUE)","v":1},3934]
[{"$f":"POISSON(B3939,Berekening!$G$27,TRUE)","v":1},3935,{"$f":"POISSON(D3939,Berekening!$G$50,TRUE)","v":1},3935,{"$f":"POISSON(F3939,Berekening!$G$52,TRUE)","v":1},3935]
[{"$f":"POISSON(B3940,Berekening!$G$27,TRUE)","v":1},3936,{"$f":"POISSON(D3940,Berekening!$G$50,TRUE)","v":1},3936,{"$f":"POISSON(F3940,Berekening!$G$52,TRUE)","v":1},3936]
[{"$f":"POISSON(B3941,Berekening!$G$27,TRUE)","v":1},3937,{"$f":"POISSON(D3941,Berekening!$G$50,TRUE)","v":1},3937,{"$f":"POISSON(F3941,Berekening!$G$52,TRUE)","v":1},3937]
[{"$f":"POISSON(B3942,Berekening!$G$27,TRUE)","v":1},3938,{"$f":"POISSON(D3942,Berekening!$G$50,TRUE)","v":1},3938,{"$f":"POISSON(F3942,Berekening!$G$52,TRUE)","v":1},3938]
[{"$f":"POISSON(B3943,Berekening!$G$27,TRUE)","v":1},3939,{"$f":"POISSON(D3943,Berekening!$G$50,TRUE)","v":1},3939,{"$f":"POISSON(F3943,Berekening!$G$52,TRUE)","v":1},3939]
[{"$f":"POISSON(B3944,Berekening!$G$27,TRUE)","v":1},3940,{"$f":"POISSON(D3944,Berekening!$G$50,TRUE)","v":1},3940,{"$f":"POISSON(F3944,Berekening!$G$52,TRUE)","v":1},3940]
[{"$f":"POISSON(B3945,Berekening!$G$27,TRUE)","v":1},3941,{"$f":"POISSON(D3945,Berekening!$G$50,TRUE)","v":1},3941,{"$f":"POISSON(F3945,Berekening!$G$52,TRUE)","v":1},3941]
[{"$f":"POISSON(B3946,Berekening!$G$27,TRUE)","v":1},3942,{"$f":"POISSON(D3946,Berekening!$G$50,TRUE)","v":1},3942,{"$f":"POISSON(F3946,Berekening!$G$52,TRUE)","v":1},3942]
[{"$f":"POISSON(B3947,Berekening!$G$27,TRUE)","v":1},3943,{"$f":"POISSON(D3947,Berekening!$G$50,TRUE)","v":1},3943,{"$f":"POISSON(F3947,Berekening!$G$52,TRUE)","v":1},3943]
[{"$f":"POISSON(B3948,Berekening!$G$27,TRUE)","v":1},3944,{"$f":"POISSON(D3948,Berekening!$G$50,TRUE)","v":1},3944,{"$f":"POISSON(F3948,Berekening!$G$52,TRUE)","v":1},3944]
[{"$f":"POISSON(B3949,Berekening!$G$27,TRUE)","v":1},3945,{"$f":"POISSON(D3949,Berekening!$G$50,TRUE)","v":1},3945,{"$f":"POISSON(F3949,Berekening!$G$52,TRUE)","v":1},3945]
[{"$f":"POISSON(B3950,Berekening!$G$27,TRUE)","v":1},3946,{"$f":"POISSON(D3950,Berekening!$G$50,TRUE)","v":1},3946,{"$f":"POISSON(F3950,Berekening!$G$52,TRUE)","v":1},3946]
[{"$f":"POISSON(B3951,Berekening!$G$27,TRUE)","v":1},3947,{"$f":"POISSON(D3951,Berekening!$G$50,TRUE)","v":1},3947,{"$f":"POISSON(F3951,Berekening!$G$52,TRUE)","v":1},3947]
[{"$f":"POISSON(B3952,Berekening!$G$27,TRUE)","v":1},3948,{"$f":"POISSON(D3952,Berekening!$G$50,TRUE)","v":1},3948,{"$f":"POISSON(F3952,Berekening!$G$52,TRUE)","v":1},3948]
[{"$f":"POISSON(B3953,Berekening!$G$27,TRUE)","v":1},3949,{"$f":"POISSON(D3953,Berekening!$G$50,TRUE)","v":1},3949,{"$f":"POISSON(F3953,Berekening!$G$52,TRUE)","v":1},3949]
[{"$f":"POISSON(B3954,Berekening!$G$27,TRUE)","v":1},3950,{"$f":"POISSON(D3954,Berekening!$G$50,TRUE)","v":1},3950,{"$f":"POISSON(F3954,Berekening!$G$52,TRUE)","v":1},3950]
[{"$f":"POISSON(B3955,Berekening!$G$27,TRUE)","v":1},3951,{"$f":"POISSON(D3955,Berekening!$G$50,TRUE)","v":1},3951,{"$f":"POISSON(F3955,Berekening!$G$52,TRUE)","v":1},3951]
[{"$f":"POISSON(B3956,Berekening!$G$27,TRUE)","v":1},3952,{"$f":"POISSON(D3956,Berekening!$G$50,TRUE)","v":1},3952,{"$f":"POISSON(F3956,Berekening!$G$52,TRUE)","v":1},3952]
[{"$f":"POISSON(B3957,Berekening!$G$27,TRUE)","v":1},3953,{"$f":"POISSON(D3957,Berekening!$G$50,TRUE)","v":1},3953,{"$f":"POISSON(F3957,Berekening!$G$52,TRUE)","v":1},3953]
[{"$f":"POISSON(B3958,Berekening!$G$27,TRUE)","v":1},3954,{"$f":"POISSON(D3958,Berekening!$G$50,TRUE)","v":1},3954,{"$f":"POISSON(F3958,Berekening!$G$52,TRUE)","v":1},3954]
[{"$f":"POISSON(B3959,Berekening!$G$27,TRUE)","v":1},3955,{"$f":"POISSON(D3959,Berekening!$G$50,TRUE)","v":1},3955,{"$f":"POISSON(F3959,Berekening!$G$52,TRUE)","v":1},3955]
[{"$f":"POISSON(B3960,Berekening!$G$27,TRUE)","v":1},3956,{"$f":"POISSON(D3960,Berekening!$G$50,TRUE)","v":1},3956,{"$f":"POISSON(F3960,Berekening!$G$52,TRUE)","v":1},3956]
[{"$f":"POISSON(B3961,Berekening!$G$27,TRUE)","v":1},3957,{"$f":"POISSON(D3961,Berekening!$G$50,TRUE)","v":1},3957,{"$f":"POISSON(F3961,Berekening!$G$52,TRUE)","v":1},3957]
[{"$f":"POISSON(B3962,Berekening!$G$27,TRUE)","v":1},3958,{"$f":"POISSON(D3962,Berekening!$G$50,TRUE)","v":1},3958,{"$f":"POISSON(F3962,Berekening!$G$52,TRUE)","v":1},3958]
[{"$f":"POISSON(B3963,Berekening!$G$27,TRUE)","v":1},3959,{"$f":"POISSON(D3963,Berekening!$G$50,TRUE)","v":1},3959,{"$f":"POISSON(F3963,Berekening!$G$52,TRUE)","v":1},3959]
[{"$f":"POISSON(B3964,Berekening!$G$27,TRUE)","v":1},3960,{"$f":"POISSON(D3964,Berekening!$G$50,TRUE)","v":1},3960,{"$f":"POISSON(F3964,Berekening!$G$52,TRUE)","v":1},3960]
[{"$f":"POISSON(B3965,Berekening!$G$27,TRUE)","v":1},3961,{"$f":"POISSON(D3965,Berekening!$G$50,TRUE)","v":1},3961,{"$f":"POISSON(F3965,Berekening!$G$52,TRUE)","v":1},3961]
[{"$f":"POISSON(B3966,Berekening!$G$27,TRUE)","v":1},3962,{"$f":"POISSON(D3966,Berekening!$G$50,TRUE)","v":1},3962,{"$f":"POISSON(F3966,Berekening!$G$52,TRUE)","v":1},3962]
[{"$f":"POISSON(B3967,Berekening!$G$27,TRUE)","v":1},3963,{"$f":"POISSON(D3967,Berekening!$G$50,TRUE)","v":1},3963,{"$f":"POISSON(F3967,Berekening!$G$52,TRUE)","v":1},3963]
[{"$f":"POISSON(B3968,Berekening!$G$27,TRUE)","v":1},3964,{"$f":"POISSON(D3968,Berekening!$G$50,TRUE)","v":1},3964,{"$f":"POISSON(F3968,Berekening!$G$52,TRUE)","v":1},3964]
[{"$f":"POISSON(B3969,Berekening!$G$27,TRUE)","v":1},3965,{"$f":"POISSON(D3969,Berekening!$G$50,TRUE)","v":1},3965,{"$f":"POISSON(F3969,Berekening!$G$52,TRUE)","v":1},3965]
[{"$f":"POISSON(B3970,Berekening!$G$27,TRUE)","v":1},3966,{"$f":"POISSON(D3970,Berekening!$G$50,TRUE)","v":1},3966,{"$f":"POISSON(F3970,Berekening!$G$52,TRUE)","v":1},3966]
[{"$f":"POISSON(B3971,Berekening!$G$27,TRUE)","v":1},3967,{"$f":"POISSON(D3971,Berekening!$G$50,TRUE)","v":1},3967,{"$f":"POISSON(F3971,Berekening!$G$52,TRUE)","v":1},3967]
[{"$f":"POISSON(B3972,Berekening!$G$27,TRUE)","v":1},3968,{"$f":"POISSON(D3972,Berekening!$G$50,TRUE)","v":1},3968,{"$f":"POISSON(F3972,Berekening!$G$52,TRUE)","v":1},3968]
[{"$f":"POISSON(B3973,Berekening!$G$27,TRUE)","v":1},3969,{"$f":"POISSON(D3973,Berekening!$G$50,TRUE)","v":1},3969,{"$f":"POISSON(F3973,Berekening!$G$52,TRUE)","v":1},3969]
[{"$f":"POISSON(B3974,Berekening!$G$27,TRUE)","v":1},3970,{"$f":"POISSON(D3974,Berekening!$G$50,TRUE)","v":1},3970,{"$f":"POISSON(F3974,Berekening!$G$52,TRUE)","v":1},3970]
[{"$f":"POISSON(B3975,Berekening!$G$27,TRUE)","v":1},3971,{"$f":"POISSON(D3975,Berekening!$G$50,TRUE)","v":1},3971,{"$f":"POISSON(F3975,Berekening!$G$52,TRUE)","v":1},3971]
[{"$f":"POISSON(B3976,Berekening!$G$27,TRUE)","v":1},3972,{"$f":"POISSON(D3976,Berekening!$G$50,TRUE)","v":1},3972,{"$f":"POISSON(F3976,Berekening!$G$52,TRUE)","v":1},3972]
[{"$f":"POISSON(B3977,Berekening!$G$27,TRUE)","v":1},3973,{"$f":"POISSON(D3977,Berekening!$G$50,TRUE)","v":1},3973,{"$f":"POISSON(F3977,Berekening!$G$52,TRUE)","v":1},3973]
[{"$f":"POISSON(B3978,Berekening!$G$27,TRUE)","v":1},3974,{"$f":"POISSON(D3978,Berekening!$G$50,TRUE)","v":1},3974,{"$f":"POISSON(F3978,Berekening!$G$52,TRUE)","v":1},3974]
[{"$f":"POISSON(B3979,Berekening!$G$27,TRUE)","v":1},3975,{"$f":"POISSON(D3979,Berekening!$G$50,TRUE)","v":1},3975,{"$f":"POISSON(F3979,Berekening!$G$52,TRUE)","v":1},3975]
[{"$f":"POISSON(B3980,Berekening!$G$27,TRUE)","v":1},3976,{"$f":"POISSON(D3980,Berekening!$G$50,TRUE)","v":1},3976,{"$f":"POISSON(F3980,Berekening!$G$52,TRUE)","v":1},3976]
[{"$f":"POISSON(B3981,Berekening!$G$27,TRUE)","v":1},3977,{"$f":"POISSON(D3981,Berekening!$G$50,TRUE)","v":1},3977,{"$f":"POISSON(F3981,Berekening!$G$52,TRUE)","v":1},3977]
[{"$f":"POISSON(B3982,Berekening!$G$27,TRUE)","v":1},3978,{"$f":"POISSON(D3982,Berekening!$G$50,TRUE)","v":1},3978,{"$f":"POISSON(F3982,Berekening!$G$52,TRUE)","v":1},3978]
[{"$f":"POISSON(B3983,Berekening!$G$27,TRUE)","v":1},3979,{"$f":"POISSON(D3983,Berekening!$G$50,TRUE)","v":1},3979,{"$f":"POISSON(F3983,Berekening!$G$52,TRUE)","v":1},3979]
[{"$f":"POISSON(B3984,Berekening!$G$27,TRUE)","v":1},3980,{"$f":"POISSON(D3984,Berekening!$G$50,TRUE)","v":1},3980,{"$f":"POISSON(F3984,Berekening!$G$52,TRUE)","v":1},3980]
[{"$f":"POISSON(B3985,Berekening!$G$27,TRUE)","v":1},3981,{"$f":"POISSON(D3985,Berekening!$G$50,TRUE)","v":1},3981,{"$f":"POISSON(F3985,Berekening!$G$52,TRUE)","v":1},3981]
[{"$f":"POISSON(B3986,Berekening!$G$27,TRUE)","v":1},3982,{"$f":"POISSON(D3986,Berekening!$G$50,TRUE)","v":1},3982,{"$f":"POISSON(F3986,Berekening!$G$52,TRUE)","v":1},3982]
[{"$f":"POISSON(B3987,Berekening!$G$27,TRUE)","v":1},3983,{"$f":"POISSON(D3987,Berekening!$G$50,TRUE)","v":1},3983,{"$f":"POISSON(F3987,Berekening!$G$52,TRUE)","v":1},3983]
[{"$f":"POISSON(B3988,Berekening!$G$27,TRUE)","v":1},3984,{"$f":"POISSON(D3988,Berekening!$G$50,TRUE)","v":1},3984,{"$f":"POISSON(F3988,Berekening!$G$52,TRUE)","v":1},3984]
[{"$f":"POISSON(B3989,Berekening!$G$27,TRUE)","v":1},3985,{"$f":"POISSON(D3989,Berekening!$G$50,TRUE)","v":1},3985,{"$f":"POISSON(F3989,Berekening!$G$52,TRUE)","v":1},3985]
[{"$f":"POISSON(B3990,Berekening!$G$27,TRUE)","v":1},3986,{"$f":"POISSON(D3990,Berekening!$G$50,TRUE)","v":1},3986,{"$f":"POISSON(F3990,Berekening!$G$52,TRUE)","v":1},3986]
[{"$f":"POISSON(B3991,Berekening!$G$27,TRUE)","v":1},3987,{"$f":"POISSON(D3991,Berekening!$G$50,TRUE)","v":1},3987,{"$f":"POISSON(F3991,Berekening!$G$52,TRUE)","v":1},3987]
[{"$f":"POISSON(B3992,Berekening!$G$27,TRUE)","v":1},3988,{"$f":"POISSON(D3992,Berekening!$G$50,TRUE)","v":1},3988,{"$f":"POISSON(F3992,Berekening!$G$52,TRUE)","v":1},3988]
[{"$f":"POISSON(B3993,Berekening!$G$27,TRUE)","v":1},3989,{"$f":"POISSON(D3993,Berekening!$G$50,TRUE)","v":1},3989,{"$f":"POISSON(F3993,Berekening!$G$52,TRUE)","v":1},3989]
[{"$f":"POISSON(B3994,Berekening!$G$27,TRUE)","v":1},3990,{"$f":"POISSON(D3994,Berekening!$G$50,TRUE)","v":1},3990,{"$f":"POISSON(F3994,Berekening!$G$52,TRUE)","v":1},3990]
[{"$f":"POISSON(B3995,Berekening!$G$27,TRUE)","v":1},3991,{"$f":"POISSON(D3995,Berekening!$G$50,TRUE)","v":1},3991,{"$f":"POISSON(F3995,Berekening!$G$52,TRUE)","v":1},3991]
[{"$f":"POISSON(B3996,Berekening!$G$27,TRUE)","v":1},3992,{"$f":"POISSON(D3996,Berekening!$G$50,TRUE)","v":1},3992,{"$f":"POISSON(F3996,Berekening!$G$52,TRUE)","v":1},3992]
[{"$f":"POISSON(B3997,Berekening!$G$27,TRUE)","v":1},3993,{"$f":"POISSON(D3997,Berekening!$G$50,TRUE)","v":1},3993,{"$f":"POISSON(F3997,Berekening!$G$52,TRUE)","v":1},3993]
[{"$f":"POISSON(B3998,Berekening!$G$27,TRUE)","v":1},3994,{"$f":"POISSON(D3998,Berekening!$G$50,TRUE)","v":1},3994,{"$f":"POISSON(F3998,Berekening!$G$52,TRUE)","v":1},3994]
[{"$f":"POISSON(B3999,Berekening!$G$27,TRUE)","v":1},3995,{"$f":"POISSON(D3999,Berekening!$G$50,TRUE)","v":1},3995,{"$f":"POISSON(F3999,Berekening!$G$52,TRUE)","v":1},3995]
[{"$f":"POISSON(B4000,Berekening!$G$27,TRUE)","v":1},3996,{"$f":"POISSON(D4000,Berekening!$G$50,TRUE)","v":1},3996,{"$f":"POISSON(F4000,Berekening!$G$52,TRUE)","v":1},3996]
[{"$f":"POISSON(B4001,Berekening!$G$27,TRUE)","v":1},3997,{"$f":"POISSON(D4001,Berekening!$G$50,TRUE)","v":1},3997,{"$f":"POISSON(F4001,Berekening!$G$52,TRUE)","v":1},3997]
[{"$f":"POISSON(B4002,Berekening!$G$27,TRUE)","v":1},3998,{"$f":"POISSON(D4002,Berekening!$G$50,TRUE)","v":1},3998,{"$f":"POISSON(F4002,Berekening!$G$52,TRUE)","v":1},3998]
[{"$f":"POISSON(B4003,Berekening!$G$27,TRUE)","v":1},3999,{"$f":"POISSON(D4003,Berekening!$G$50,TRUE)","v":1},3999,{"$f":"POISSON(F4003,Berekening!$G$52,TRUE)","v":1},3999]
[{"$f":"POISSON(B4004,Berekening!$G$27,TRUE)","v":1},4000,{"$f":"POISSON(D4004,Berekening!$G$50,TRUE)","v":1},4000,{"$f":"POISSON(F4004,Berekening!$G$52,TRUE)","v":1},4000]
[{"$f":"POISSON(B4005,Berekening!$G$27,TRUE)","v":1},4001,{"$f":"POISSON(D4005,Berekening!$G$50,TRUE)","v":1},4001,{"$f":"POISSON(F4005,Berekening!$G$52,TRUE)","v":1},4001]
[{"$f":"POISSON(B4006,Berekening!$G$27,TRUE)","v":1},4002,{"$f":"POISSON(D4006,Berekening!$G$50,TRUE)","v":1},4002,{"$f":"POISSON(F4006,Berekening!$G$52,TRUE)","v":1},4002]
[{"$f":"POISSON(B4007,Berekening!$G$27,TRUE)","v":1},4003,{"$f":"POISSON(D4007,Berekening!$G$50,TRUE)","v":1},4003,{"$f":"POISSON(F4007,Berekening!$G$52,TRUE)","v":1},4003]
[{"$f":"POISSON(B4008,Berekening!$G$27,TRUE)","v":1},4004,{"$f":"POISSON(D4008,Berekening!$G$50,TRUE)","v":1},4004,{"$f":"POISSON(F4008,Berekening!$G$52,TRUE)","v":1},4004]
[{"$f":"POISSON(B4009,Berekening!$G$27,TRUE)","v":1},4005,{"$f":"POISSON(D4009,Berekening!$G$50,TRUE)","v":1},4005,{"$f":"POISSON(F4009,Berekening!$G$52,TRUE)","v":1},4005]
[{"$f":"POISSON(B4010,Berekening!$G$27,TRUE)","v":1},4006,{"$f":"POISSON(D4010,Berekening!$G$50,TRUE)","v":1},4006,{"$f":"POISSON(F4010,Berekening!$G$52,TRUE)","v":1},4006]
[{"$f":"POISSON(B4011,Berekening!$G$27,TRUE)","v":1},4007,{"$f":"POISSON(D4011,Berekening!$G$50,TRUE)","v":1},4007,{"$f":"POISSON(F4011,Berekening!$G$52,TRUE)","v":1},4007]
[{"$f":"POISSON(B4012,Berekening!$G$27,TRUE)","v":1},4008,{"$f":"POISSON(D4012,Berekening!$G$50,TRUE)","v":1},4008,{"$f":"POISSON(F4012,Berekening!$G$52,TRUE)","v":1},4008]
[{"$f":"POISSON(B4013,Berekening!$G$27,TRUE)","v":1},4009,{"$f":"POISSON(D4013,Berekening!$G$50,TRUE)","v":1},4009,{"$f":"POISSON(F4013,Berekening!$G$52,TRUE)","v":1},4009]
[{"$f":"POISSON(B4014,Berekening!$G$27,TRUE)","v":1},4010,{"$f":"POISSON(D4014,Berekening!$G$50,TRUE)","v":1},4010,{"$f":"POISSON(F4014,Berekening!$G$52,TRUE)","v":1},4010]
[{"$f":"POISSON(B4015,Berekening!$G$27,TRUE)","v":1},4011,{"$f":"POISSON(D4015,Berekening!$G$50,TRUE)","v":1},4011,{"$f":"POISSON(F4015,Berekening!$G$52,TRUE)","v":1},4011]
[{"$f":"POISSON(B4016,Berekening!$G$27,TRUE)","v":1},4012,{"$f":"POISSON(D4016,Berekening!$G$50,TRUE)","v":1},4012,{"$f":"POISSON(F4016,Berekening!$G$52,TRUE)","v":1},4012]
[{"$f":"POISSON(B4017,Berekening!$G$27,TRUE)","v":1},4013,{"$f":"POISSON(D4017,Berekening!$G$50,TRUE)","v":1},4013,{"$f":"POISSON(F4017,Berekening!$G$52,TRUE)","v":1},4013]
[{"$f":"POISSON(B4018,Berekening!$G$27,TRUE)","v":1},4014,{"$f":"POISSON(D4018,Berekening!$G$50,TRUE)","v":1},4014,{"$f":"POISSON(F4018,Berekening!$G$52,TRUE)","v":1},4014]
[{"$f":"POISSON(B4019,Berekening!$G$27,TRUE)","v":1},4015,{"$f":"POISSON(D4019,Berekening!$G$50,TRUE)","v":1},4015,{"$f":"POISSON(F4019,Berekening!$G$52,TRUE)","v":1},4015]
[{"$f":"POISSON(B4020,Berekening!$G$27,TRUE)","v":1},4016,{"$f":"POISSON(D4020,Berekening!$G$50,TRUE)","v":1},4016,{"$f":"POISSON(F4020,Berekening!$G$52,TRUE)","v":1},4016]
[{"$f":"POISSON(B4021,Berekening!$G$27,TRUE)","v":1},4017,{"$f":"POISSON(D4021,Berekening!$G$50,TRUE)","v":1},4017,{"$f":"POISSON(F4021,Berekening!$G$52,TRUE)","v":1},4017]
[{"$f":"POISSON(B4022,Berekening!$G$27,TRUE)","v":1},4018,{"$f":"POISSON(D4022,Berekening!$G$50,TRUE)","v":1},4018,{"$f":"POISSON(F4022,Berekening!$G$52,TRUE)","v":1},4018]
[{"$f":"POISSON(B4023,Berekening!$G$27,TRUE)","v":1},4019,{"$f":"POISSON(D4023,Berekening!$G$50,TRUE)","v":1},4019,{"$f":"POISSON(F4023,Berekening!$G$52,TRUE)","v":1},4019]
[{"$f":"POISSON(B4024,Berekening!$G$27,TRUE)","v":1},4020,{"$f":"POISSON(D4024,Berekening!$G$50,TRUE)","v":1},4020,{"$f":"POISSON(F4024,Berekening!$G$52,TRUE)","v":1},4020]
[{"$f":"POISSON(B4025,Berekening!$G$27,TRUE)","v":1},4021,{"$f":"POISSON(D4025,Berekening!$G$50,TRUE)","v":1},4021,{"$f":"POISSON(F4025,Berekening!$G$52,TRUE)","v":1},4021]
[{"$f":"POISSON(B4026,Berekening!$G$27,TRUE)","v":1},4022,{"$f":"POISSON(D4026,Berekening!$G$50,TRUE)","v":1},4022,{"$f":"POISSON(F4026,Berekening!$G$52,TRUE)","v":1},4022]
[{"$f":"POISSON(B4027,Berekening!$G$27,TRUE)","v":1},4023,{"$f":"POISSON(D4027,Berekening!$G$50,TRUE)","v":1},4023,{"$f":"POISSON(F4027,Berekening!$G$52,TRUE)","v":1},4023]
[{"$f":"POISSON(B4028,Berekening!$G$27,TRUE)","v":1},4024,{"$f":"POISSON(D4028,Berekening!$G$50,TRUE)","v":1},4024,{"$f":"POISSON(F4028,Berekening!$G$52,TRUE)","v":1},4024]
[{"$f":"POISSON(B4029,Berekening!$G$27,TRUE)","v":1},4025,{"$f":"POISSON(D4029,Berekening!$G$50,TRUE)","v":1},4025,{"$f":"POISSON(F4029,Berekening!$G$52,TRUE)","v":1},4025]
[{"$f":"POISSON(B4030,Berekening!$G$27,TRUE)","v":1},4026,{"$f":"POISSON(D4030,Berekening!$G$50,TRUE)","v":1},4026,{"$f":"POISSON(F4030,Berekening!$G$52,TRUE)","v":1},4026]
[{"$f":"POISSON(B4031,Berekening!$G$27,TRUE)","v":1},4027,{"$f":"POISSON(D4031,Berekening!$G$50,TRUE)","v":1},4027,{"$f":"POISSON(F4031,Berekening!$G$52,TRUE)","v":1},4027]
[{"$f":"POISSON(B4032,Berekening!$G$27,TRUE)","v":1},4028,{"$f":"POISSON(D4032,Berekening!$G$50,TRUE)","v":1},4028,{"$f":"POISSON(F4032,Berekening!$G$52,TRUE)","v":1},4028]
[{"$f":"POISSON(B4033,Berekening!$G$27,TRUE)","v":1},4029,{"$f":"POISSON(D4033,Berekening!$G$50,TRUE)","v":1},4029,{"$f":"POISSON(F4033,Berekening!$G$52,TRUE)","v":1},4029]
[{"$f":"POISSON(B4034,Berekening!$G$27,TRUE)","v":1},4030,{"$f":"POISSON(D4034,Berekening!$G$50,TRUE)","v":1},4030,{"$f":"POISSON(F4034,Berekening!$G$52,TRUE)","v":1},4030]
[{"$f":"POISSON(B4035,Berekening!$G$27,TRUE)","v":1},4031,{"$f":"POISSON(D4035,Berekening!$G$50,TRUE)","v":1},4031,{"$f":"POISSON(F4035,Berekening!$G$52,TRUE)","v":1},4031]
[{"$f":"POISSON(B4036,Berekening!$G$27,TRUE)","v":1},4032,{"$f":"POISSON(D4036,Berekening!$G$50,TRUE)","v":1},4032,{"$f":"POISSON(F4036,Berekening!$G$52,TRUE)","v":1},4032]
[{"$f":"POISSON(B4037,Berekening!$G$27,TRUE)","v":1},4033,{"$f":"POISSON(D4037,Berekening!$G$50,TRUE)","v":1},4033,{"$f":"POISSON(F4037,Berekening!$G$52,TRUE)","v":1},4033]
[{"$f":"POISSON(B4038,Berekening!$G$27,TRUE)","v":1},4034,{"$f":"POISSON(D4038,Berekening!$G$50,TRUE)","v":1},4034,{"$f":"POISSON(F4038,Berekening!$G$52,TRUE)","v":1},4034]
[{"$f":"POISSON(B4039,Berekening!$G$27,TRUE)","v":1},4035,{"$f":"POISSON(D4039,Berekening!$G$50,TRUE)","v":1},4035,{"$f":"POISSON(F4039,Berekening!$G$52,TRUE)","v":1},4035]
[{"$f":"POISSON(B4040,Berekening!$G$27,TRUE)","v":1},4036,{"$f":"POISSON(D4040,Berekening!$G$50,TRUE)","v":1},4036,{"$f":"POISSON(F4040,Berekening!$G$52,TRUE)","v":1},4036]
[{"$f":"POISSON(B4041,Berekening!$G$27,TRUE)","v":1},4037,{"$f":"POISSON(D4041,Berekening!$G$50,TRUE)","v":1},4037,{"$f":"POISSON(F4041,Berekening!$G$52,TRUE)","v":1},4037]
[{"$f":"POISSON(B4042,Berekening!$G$27,TRUE)","v":1},4038,{"$f":"POISSON(D4042,Berekening!$G$50,TRUE)","v":1},4038,{"$f":"POISSON(F4042,Berekening!$G$52,TRUE)","v":1},4038]
[{"$f":"POISSON(B4043,Berekening!$G$27,TRUE)","v":1},4039,{"$f":"POISSON(D4043,Berekening!$G$50,TRUE)","v":1},4039,{"$f":"POISSON(F4043,Berekening!$G$52,TRUE)","v":1},4039]
[{"$f":"POISSON(B4044,Berekening!$G$27,TRUE)","v":1},4040,{"$f":"POISSON(D4044,Berekening!$G$50,TRUE)","v":1},4040,{"$f":"POISSON(F4044,Berekening!$G$52,TRUE)","v":1},4040]
[{"$f":"POISSON(B4045,Berekening!$G$27,TRUE)","v":1},4041,{"$f":"POISSON(D4045,Berekening!$G$50,TRUE)","v":1},4041,{"$f":"POISSON(F4045,Berekening!$G$52,TRUE)","v":1},4041]
[{"$f":"POISSON(B4046,Berekening!$G$27,TRUE)","v":1},4042,{"$f":"POISSON(D4046,Berekening!$G$50,TRUE)","v":1},4042,{"$f":"POISSON(F4046,Berekening!$G$52,TRUE)","v":1},4042]
[{"$f":"POISSON(B4047,Berekening!$G$27,TRUE)","v":1},4043,{"$f":"POISSON(D4047,Berekening!$G$50,TRUE)","v":1},4043,{"$f":"POISSON(F4047,Berekening!$G$52,TRUE)","v":1},4043]
[{"$f":"POISSON(B4048,Berekening!$G$27,TRUE)","v":1},4044,{"$f":"POISSON(D4048,Berekening!$G$50,TRUE)","v":1},4044,{"$f":"POISSON(F4048,Berekening!$G$52,TRUE)","v":1},4044]
[{"$f":"POISSON(B4049,Berekening!$G$27,TRUE)","v":1},4045,{"$f":"POISSON(D4049,Berekening!$G$50,TRUE)","v":1},4045,{"$f":"POISSON(F4049,Berekening!$G$52,TRUE)","v":1},4045]
[{"$f":"POISSON(B4050,Berekening!$G$27,TRUE)","v":1},4046,{"$f":"POISSON(D4050,Berekening!$G$50,TRUE)","v":1},4046,{"$f":"POISSON(F4050,Berekening!$G$52,TRUE)","v":1},4046]
[{"$f":"POISSON(B4051,Berekening!$G$27,TRUE)","v":1},4047,{"$f":"POISSON(D4051,Berekening!$G$50,TRUE)","v":1},4047,{"$f":"POISSON(F4051,Berekening!$G$52,TRUE)","v":1},4047]
[{"$f":"POISSON(B4052,Berekening!$G$27,TRUE)","v":1},4048,{"$f":"POISSON(D4052,Berekening!$G$50,TRUE)","v":1},4048,{"$f":"POISSON(F4052,Berekening!$G$52,TRUE)","v":1},4048]
[{"$f":"POISSON(B4053,Berekening!$G$27,TRUE)","v":1},4049,{"$f":"POISSON(D4053,Berekening!$G$50,TRUE)","v":1},4049,{"$f":"POISSON(F4053,Berekening!$G$52,TRUE)","v":1},4049]
[{"$f":"POISSON(B4054,Berekening!$G$27,TRUE)","v":1},4050,{"$f":"POISSON(D4054,Berekening!$G$50,TRUE)","v":1},4050,{"$f":"POISSON(F4054,Berekening!$G$52,TRUE)","v":1},4050]
[{"$f":"POISSON(B4055,Berekening!$G$27,TRUE)","v":1},4051,{"$f":"POISSON(D4055,Berekening!$G$50,TRUE)","v":1},4051,{"$f":"POISSON(F4055,Berekening!$G$52,TRUE)","v":1},4051]
[{"$f":"POISSON(B4056,Berekening!$G$27,TRUE)","v":1},4052,{"$f":"POISSON(D4056,Berekening!$G$50,TRUE)","v":1},4052,{"$f":"POISSON(F4056,Berekening!$G$52,TRUE)","v":1},4052]
[{"$f":"POISSON(B4057,Berekening!$G$27,TRUE)","v":1},4053,{"$f":"POISSON(D4057,Berekening!$G$50,TRUE)","v":1},4053,{"$f":"POISSON(F4057,Berekening!$G$52,TRUE)","v":1},4053]
[{"$f":"POISSON(B4058,Berekening!$G$27,TRUE)","v":1},4054,{"$f":"POISSON(D4058,Berekening!$G$50,TRUE)","v":1},4054,{"$f":"POISSON(F4058,Berekening!$G$52,TRUE)","v":1},4054]
[{"$f":"POISSON(B4059,Berekening!$G$27,TRUE)","v":1},4055,{"$f":"POISSON(D4059,Berekening!$G$50,TRUE)","v":1},4055,{"$f":"POISSON(F4059,Berekening!$G$52,TRUE)","v":1},4055]
[{"$f":"POISSON(B4060,Berekening!$G$27,TRUE)","v":1},4056,{"$f":"POISSON(D4060,Berekening!$G$50,TRUE)","v":1},4056,{"$f":"POISSON(F4060,Berekening!$G$52,TRUE)","v":1},4056]
[{"$f":"POISSON(B4061,Berekening!$G$27,TRUE)","v":1},4057,{"$f":"POISSON(D4061,Berekening!$G$50,TRUE)","v":1},4057,{"$f":"POISSON(F4061,Berekening!$G$52,TRUE)","v":1},4057]
[{"$f":"POISSON(B4062,Berekening!$G$27,TRUE)","v":1},4058,{"$f":"POISSON(D4062,Berekening!$G$50,TRUE)","v":1},4058,{"$f":"POISSON(F4062,Berekening!$G$52,TRUE)","v":1},4058]
[{"$f":"POISSON(B4063,Berekening!$G$27,TRUE)","v":1},4059,{"$f":"POISSON(D4063,Berekening!$G$50,TRUE)","v":1},4059,{"$f":"POISSON(F4063,Berekening!$G$52,TRUE)","v":1},4059]
[{"$f":"POISSON(B4064,Berekening!$G$27,TRUE)","v":1},4060,{"$f":"POISSON(D4064,Berekening!$G$50,TRUE)","v":1},4060,{"$f":"POISSON(F4064,Berekening!$G$52,TRUE)","v":1},4060]
[{"$f":"POISSON(B4065,Berekening!$G$27,TRUE)","v":1},4061,{"$f":"POISSON(D4065,Berekening!$G$50,TRUE)","v":1},4061,{"$f":"POISSON(F4065,Berekening!$G$52,TRUE)","v":1},4061]
[{"$f":"POISSON(B4066,Berekening!$G$27,TRUE)","v":1},4062,{"$f":"POISSON(D4066,Berekening!$G$50,TRUE)","v":1},4062,{"$f":"POISSON(F4066,Berekening!$G$52,TRUE)","v":1},4062]
[{"$f":"POISSON(B4067,Berekening!$G$27,TRUE)","v":1},4063,{"$f":"POISSON(D4067,Berekening!$G$50,TRUE)","v":1},4063,{"$f":"POISSON(F4067,Berekening!$G$52,TRUE)","v":1},4063]
[{"$f":"POISSON(B4068,Berekening!$G$27,TRUE)","v":1},4064,{"$f":"POISSON(D4068,Berekening!$G$50,TRUE)","v":1},4064,{"$f":"POISSON(F4068,Berekening!$G$52,TRUE)","v":1},4064]
[{"$f":"POISSON(B4069,Berekening!$G$27,TRUE)","v":1},4065,{"$f":"POISSON(D4069,Berekening!$G$50,TRUE)","v":1},4065,{"$f":"POISSON(F4069,Berekening!$G$52,TRUE)","v":1},4065]
[{"$f":"POISSON(B4070,Berekening!$G$27,TRUE)","v":1},4066,{"$f":"POISSON(D4070,Berekening!$G$50,TRUE)","v":1},4066,{"$f":"POISSON(F4070,Berekening!$G$52,TRUE)","v":1},4066]
[{"$f":"POISSON(B4071,Berekening!$G$27,TRUE)","v":1},4067,{"$f":"POISSON(D4071,Berekening!$G$50,TRUE)","v":1},4067,{"$f":"POISSON(F4071,Berekening!$G$52,TRUE)","v":1},4067]
[{"$f":"POISSON(B4072,Berekening!$G$27,TRUE)","v":1},4068,{"$f":"POISSON(D4072,Berekening!$G$50,TRUE)","v":1},4068,{"$f":"POISSON(F4072,Berekening!$G$52,TRUE)","v":1},4068]
[{"$f":"POISSON(B4073,Berekening!$G$27,TRUE)","v":1},4069,{"$f":"POISSON(D4073,Berekening!$G$50,TRUE)","v":1},4069,{"$f":"POISSON(F4073,Berekening!$G$52,TRUE)","v":1},4069]
[{"$f":"POISSON(B4074,Berekening!$G$27,TRUE)","v":1},4070,{"$f":"POISSON(D4074,Berekening!$G$50,TRUE)","v":1},4070,{"$f":"POISSON(F4074,Berekening!$G$52,TRUE)","v":1},4070]
[{"$f":"POISSON(B4075,Berekening!$G$27,TRUE)","v":1},4071,{"$f":"POISSON(D4075,Berekening!$G$50,TRUE)","v":1},4071,{"$f":"POISSON(F4075,Berekening!$G$52,TRUE)","v":1},4071]
[{"$f":"POISSON(B4076,Berekening!$G$27,TRUE)","v":1},4072,{"$f":"POISSON(D4076,Berekening!$G$50,TRUE)","v":1},4072,{"$f":"POISSON(F4076,Berekening!$G$52,TRUE)","v":1},4072]
[{"$f":"POISSON(B4077,Berekening!$G$27,TRUE)","v":1},4073,{"$f":"POISSON(D4077,Berekening!$G$50,TRUE)","v":1},4073,{"$f":"POISSON(F4077,Berekening!$G$52,TRUE)","v":1},4073]
[{"$f":"POISSON(B4078,Berekening!$G$27,TRUE)","v":1},4074,{"$f":"POISSON(D4078,Berekening!$G$50,TRUE)","v":1},4074,{"$f":"POISSON(F4078,Berekening!$G$52,TRUE)","v":1},4074]
[{"$f":"POISSON(B4079,Berekening!$G$27,TRUE)","v":1},4075,{"$f":"POISSON(D4079,Berekening!$G$50,TRUE)","v":1},4075,{"$f":"POISSON(F4079,Berekening!$G$52,TRUE)","v":1},4075]
[{"$f":"POISSON(B4080,Berekening!$G$27,TRUE)","v":1},4076,{"$f":"POISSON(D4080,Berekening!$G$50,TRUE)","v":1},4076,{"$f":"POISSON(F4080,Berekening!$G$52,TRUE)","v":1},4076]
[{"$f":"POISSON(B4081,Berekening!$G$27,TRUE)","v":1},4077,{"$f":"POISSON(D4081,Berekening!$G$50,TRUE)","v":1},4077,{"$f":"POISSON(F4081,Berekening!$G$52,TRUE)","v":1},4077]
[{"$f":"POISSON(B4082,Berekening!$G$27,TRUE)","v":1},4078,{"$f":"POISSON(D4082,Berekening!$G$50,TRUE)","v":1},4078,{"$f":"POISSON(F4082,Berekening!$G$52,TRUE)","v":1},4078]
[{"$f":"POISSON(B4083,Berekening!$G$27,TRUE)","v":1},4079,{"$f":"POISSON(D4083,Berekening!$G$50,TRUE)","v":1},4079,{"$f":"POISSON(F4083,Berekening!$G$52,TRUE)","v":1},4079]
[{"$f":"POISSON(B4084,Berekening!$G$27,TRUE)","v":1},4080,{"$f":"POISSON(D4084,Berekening!$G$50,TRUE)","v":1},4080,{"$f":"POISSON(F4084,Berekening!$G$52,TRUE)","v":1},4080]
[{"$f":"POISSON(B4085,Berekening!$G$27,TRUE)","v":1},4081,{"$f":"POISSON(D4085,Berekening!$G$50,TRUE)","v":1},4081,{"$f":"POISSON(F4085,Berekening!$G$52,TRUE)","v":1},4081]
[{"$f":"POISSON(B4086,Berekening!$G$27,TRUE)","v":1},4082,{"$f":"POISSON(D4086,Berekening!$G$50,TRUE)","v":1},4082,{"$f":"POISSON(F4086,Berekening!$G$52,TRUE)","v":1},4082]
[{"$f":"POISSON(B4087,Berekening!$G$27,TRUE)","v":1},4083,{"$f":"POISSON(D4087,Berekening!$G$50,TRUE)","v":1},4083,{"$f":"POISSON(F4087,Berekening!$G$52,TRUE)","v":1},4083]
[{"$f":"POISSON(B4088,Berekening!$G$27,TRUE)","v":1},4084,{"$f":"POISSON(D4088,Berekening!$G$50,TRUE)","v":1},4084,{"$f":"POISSON(F4088,Berekening!$G$52,TRUE)","v":1},4084]
[{"$f":"POISSON(B4089,Berekening!$G$27,TRUE)","v":1},4085,{"$f":"POISSON(D4089,Berekening!$G$50,TRUE)","v":1},4085,{"$f":"POISSON(F4089,Berekening!$G$52,TRUE)","v":1},4085]
[{"$f":"POISSON(B4090,Berekening!$G$27,TRUE)","v":1},4086,{"$f":"POISSON(D4090,Berekening!$G$50,TRUE)","v":1},4086,{"$f":"POISSON(F4090,Berekening!$G$52,TRUE)","v":1},4086]
[{"$f":"POISSON(B4091,Berekening!$G$27,TRUE)","v":1},4087,{"$f":"POISSON(D4091,Berekening!$G$50,TRUE)","v":1},4087,{"$f":"POISSON(F4091,Berekening!$G$52,TRUE)","v":1},4087]
[{"$f":"POISSON(B4092,Berekening!$G$27,TRUE)","v":1},4088,{"$f":"POISSON(D4092,Berekening!$G$50,TRUE)","v":1},4088,{"$f":"POISSON(F4092,Berekening!$G$52,TRUE)","v":1},4088]
[{"$f":"POISSON(B4093,Berekening!$G$27,TRUE)","v":1},4089,{"$f":"POISSON(D4093,Berekening!$G$50,TRUE)","v":1},4089,{"$f":"POISSON(F4093,Berekening!$G$52,TRUE)","v":1},4089]
[{"$f":"POISSON(B4094,Berekening!$G$27,TRUE)","v":1},4090,{"$f":"POISSON(D4094,Berekening!$G$50,TRUE)","v":1},4090,{"$f":"POISSON(F4094,Berekening!$G$52,TRUE)","v":1},4090]
[{"$f":"POISSON(B4095,Berekening!$G$27,TRUE)","v":1},4091,{"$f":"POISSON(D4095,Berekening!$G$50,TRUE)","v":1},4091,{"$f":"POISSON(F4095,Berekening!$G$52,TRUE)","v":1},4091]
[{"$f":"POISSON(B4096,Berekening!$G$27,TRUE)","v":1},4092,{"$f":"POISSON(D4096,Berekening!$G$50,TRUE)","v":1},4092,{"$f":"POISSON(F4096,Berekening!$G$52,TRUE)","v":1},4092]
[{"$f":"POISSON(B4097,Berekening!$G$27,TRUE)","v":1},4093,{"$f":"POISSON(D4097,Berekening!$G$50,TRUE)","v":1},4093,{"$f":"POISSON(F4097,Berekening!$G$52,TRUE)","v":1},4093]
[{"$f":"POISSON(B4098,Berekening!$G$27,TRUE)","v":1},4094,{"$f":"POISSON(D4098,Berekening!$G$50,TRUE)","v":1},4094,{"$f":"POISSON(F4098,Berekening!$G$52,TRUE)","v":1},4094]
[{"$f":"POISSON(B4099,Berekening!$G$27,TRUE)","v":1},4095,{"$f":"POISSON(D4099,Berekening!$G$50,TRUE)","v":1},4095,{"$f":"POISSON(F4099,Berekening!$G$52,TRUE)","v":1},4095]
[{"$f":"POISSON(B4100,Berekening!$G$27,TRUE)","v":1},4096,{"$f":"POISSON(D4100,Berekening!$G$50,TRUE)","v":1},4096,{"$f":"POISSON(F4100,Berekening!$G$52,TRUE)","v":1},4096]
[{"$f":"POISSON(B4101,Berekening!$G$27,TRUE)","v":1},4097,{"$f":"POISSON(D4101,Berekening!$G$50,TRUE)","v":1},4097,{"$f":"POISSON(F4101,Berekening!$G$52,TRUE)","v":1},4097]
[{"$f":"POISSON(B4102,Berekening!$G$27,TRUE)","v":1},4098,{"$f":"POISSON(D4102,Berekening!$G$50,TRUE)","v":1},4098,{"$f":"POISSON(F4102,Berekening!$G$52,TRUE)","v":1},4098]
[{"$f":"POISSON(B4103,Berekening!$G$27,TRUE)","v":1},4099,{"$f":"POISSON(D4103,Berekening!$G$50,TRUE)","v":1},4099,{"$f":"POISSON(F4103,Berekening!$G$52,TRUE)","v":1},4099]
[{"$f":"POISSON(B4104,Berekening!$G$27,TRUE)","v":1},4100,{"$f":"POISSON(D4104,Berekening!$G$50,TRUE)","v":1},4100,{"$f":"POISSON(F4104,Berekening!$G$52,TRUE)","v":1},4100]
[{"$f":"POISSON(B4105,Berekening!$G$27,TRUE)","v":1},4101,{"$f":"POISSON(D4105,Berekening!$G$50,TRUE)","v":1},4101,{"$f":"POISSON(F4105,Berekening!$G$52,TRUE)","v":1},4101]
[{"$f":"POISSON(B4106,Berekening!$G$27,TRUE)","v":1},4102,{"$f":"POISSON(D4106,Berekening!$G$50,TRUE)","v":1},4102,{"$f":"POISSON(F4106,Berekening!$G$52,TRUE)","v":1},4102]
[{"$f":"POISSON(B4107,Berekening!$G$27,TRUE)","v":1},4103,{"$f":"POISSON(D4107,Berekening!$G$50,TRUE)","v":1},4103,{"$f":"POISSON(F4107,Berekening!$G$52,TRUE)","v":1},4103]
[{"$f":"POISSON(B4108,Berekening!$G$27,TRUE)","v":1},4104,{"$f":"POISSON(D4108,Berekening!$G$50,TRUE)","v":1},4104,{"$f":"POISSON(F4108,Berekening!$G$52,TRUE)","v":1},4104]
[{"$f":"POISSON(B4109,Berekening!$G$27,TRUE)","v":1},4105,{"$f":"POISSON(D4109,Berekening!$G$50,TRUE)","v":1},4105,{"$f":"POISSON(F4109,Berekening!$G$52,TRUE)","v":1},4105]
[{"$f":"POISSON(B4110,Berekening!$G$27,TRUE)","v":1},4106,{"$f":"POISSON(D4110,Berekening!$G$50,TRUE)","v":1},4106,{"$f":"POISSON(F4110,Berekening!$G$52,TRUE)","v":1},4106]
[{"$f":"POISSON(B4111,Berekening!$G$27,TRUE)","v":1},4107,{"$f":"POISSON(D4111,Berekening!$G$50,TRUE)","v":1},4107,{"$f":"POISSON(F4111,Berekening!$G$52,TRUE)","v":1},4107]
[{"$f":"POISSON(B4112,Berekening!$G$27,TRUE)","v":1},4108,{"$f":"POISSON(D4112,Berekening!$G$50,TRUE)","v":1},4108,{"$f":"POISSON(F4112,Berekening!$G$52,TRUE)","v":1},4108]
[{"$f":"POISSON(B4113,Berekening!$G$27,TRUE)","v":1},4109,{"$f":"POISSON(D4113,Berekening!$G$50,TRUE)","v":1},4109,{"$f":"POISSON(F4113,Berekening!$G$52,TRUE)","v":1},4109]
[{"$f":"POISSON(B4114,Berekening!$G$27,TRUE)","v":1},4110,{"$f":"POISSON(D4114,Berekening!$G$50,TRUE)","v":1},4110,{"$f":"POISSON(F4114,Berekening!$G$52,TRUE)","v":1},4110]
[{"$f":"POISSON(B4115,Berekening!$G$27,TRUE)","v":1},4111,{"$f":"POISSON(D4115,Berekening!$G$50,TRUE)","v":1},4111,{"$f":"POISSON(F4115,Berekening!$G$52,TRUE)","v":1},4111]
[{"$f":"POISSON(B4116,Berekening!$G$27,TRUE)","v":1},4112,{"$f":"POISSON(D4116,Berekening!$G$50,TRUE)","v":1},4112,{"$f":"POISSON(F4116,Berekening!$G$52,TRUE)","v":1},4112]
[{"$f":"POISSON(B4117,Berekening!$G$27,TRUE)","v":1},4113,{"$f":"POISSON(D4117,Berekening!$G$50,TRUE)","v":1},4113,{"$f":"POISSON(F4117,Berekening!$G$52,TRUE)","v":1},4113]
[{"$f":"POISSON(B4118,Berekening!$G$27,TRUE)","v":1},4114,{"$f":"POISSON(D4118,Berekening!$G$50,TRUE)","v":1},4114,{"$f":"POISSON(F4118,Berekening!$G$52,TRUE)","v":1},4114]
[{"$f":"POISSON(B4119,Berekening!$G$27,TRUE)","v":1},4115,{"$f":"POISSON(D4119,Berekening!$G$50,TRUE)","v":1},4115,{"$f":"POISSON(F4119,Berekening!$G$52,TRUE)","v":1},4115]
[{"$f":"POISSON(B4120,Berekening!$G$27,TRUE)","v":1},4116,{"$f":"POISSON(D4120,Berekening!$G$50,TRUE)","v":1},4116,{"$f":"POISSON(F4120,Berekening!$G$52,TRUE)","v":1},4116]
[{"$f":"POISSON(B4121,Berekening!$G$27,TRUE)","v":1},4117,{"$f":"POISSON(D4121,Berekening!$G$50,TRUE)","v":1},4117,{"$f":"POISSON(F4121,Berekening!$G$52,TRUE)","v":1},4117]
[{"$f":"POISSON(B4122,Berekening!$G$27,TRUE)","v":1},4118,{"$f":"POISSON(D4122,Berekening!$G$50,TRUE)","v":1},4118,{"$f":"POISSON(F4122,Berekening!$G$52,TRUE)","v":1},4118]
[{"$f":"POISSON(B4123,Berekening!$G$27,TRUE)","v":1},4119,{"$f":"POISSON(D4123,Berekening!$G$50,TRUE)","v":1},4119,{"$f":"POISSON(F4123,Berekening!$G$52,TRUE)","v":1},4119]
[{"$f":"POISSON(B4124,Berekening!$G$27,TRUE)","v":1},4120,{"$f":"POISSON(D4124,Berekening!$G$50,TRUE)","v":1},4120,{"$f":"POISSON(F4124,Berekening!$G$52,TRUE)","v":1},4120]
[{"$f":"POISSON(B4125,Berekening!$G$27,TRUE)","v":1},4121,{"$f":"POISSON(D4125,Berekening!$G$50,TRUE)","v":1},4121,{"$f":"POISSON(F4125,Berekening!$G$52,TRUE)","v":1},4121]
[{"$f":"POISSON(B4126,Berekening!$G$27,TRUE)","v":1},4122,{"$f":"POISSON(D4126,Berekening!$G$50,TRUE)","v":1},4122,{"$f":"POISSON(F4126,Berekening!$G$52,TRUE)","v":1},4122]
[{"$f":"POISSON(B4127,Berekening!$G$27,TRUE)","v":1},4123,{"$f":"POISSON(D4127,Berekening!$G$50,TRUE)","v":1},4123,{"$f":"POISSON(F4127,Berekening!$G$52,TRUE)","v":1},4123]
[{"$f":"POISSON(B4128,Berekening!$G$27,TRUE)","v":1},4124,{"$f":"POISSON(D4128,Berekening!$G$50,TRUE)","v":1},4124,{"$f":"POISSON(F4128,Berekening!$G$52,TRUE)","v":1},4124]
[{"$f":"POISSON(B4129,Berekening!$G$27,TRUE)","v":1},4125,{"$f":"POISSON(D4129,Berekening!$G$50,TRUE)","v":1},4125,{"$f":"POISSON(F4129,Berekening!$G$52,TRUE)","v":1},4125]
[{"$f":"POISSON(B4130,Berekening!$G$27,TRUE)","v":1},4126,{"$f":"POISSON(D4130,Berekening!$G$50,TRUE)","v":1},4126,{"$f":"POISSON(F4130,Berekening!$G$52,TRUE)","v":1},4126]
[{"$f":"POISSON(B4131,Berekening!$G$27,TRUE)","v":1},4127,{"$f":"POISSON(D4131,Berekening!$G$50,TRUE)","v":1},4127,{"$f":"POISSON(F4131,Berekening!$G$52,TRUE)","v":1},4127]
[{"$f":"POISSON(B4132,Berekening!$G$27,TRUE)","v":1},4128,{"$f":"POISSON(D4132,Berekening!$G$50,TRUE)","v":1},4128,{"$f":"POISSON(F4132,Berekening!$G$52,TRUE)","v":1},4128]
[{"$f":"POISSON(B4133,Berekening!$G$27,TRUE)","v":1},4129,{"$f":"POISSON(D4133,Berekening!$G$50,TRUE)","v":1},4129,{"$f":"POISSON(F4133,Berekening!$G$52,TRUE)","v":1},4129]
[{"$f":"POISSON(B4134,Berekening!$G$27,TRUE)","v":1},4130,{"$f":"POISSON(D4134,Berekening!$G$50,TRUE)","v":1},4130,{"$f":"POISSON(F4134,Berekening!$G$52,TRUE)","v":1},4130]
[{"$f":"POISSON(B4135,Berekening!$G$27,TRUE)","v":1},4131,{"$f":"POISSON(D4135,Berekening!$G$50,TRUE)","v":1},4131,{"$f":"POISSON(F4135,Berekening!$G$52,TRUE)","v":1},4131]
[{"$f":"POISSON(B4136,Berekening!$G$27,TRUE)","v":1},4132,{"$f":"POISSON(D4136,Berekening!$G$50,TRUE)","v":1},4132,{"$f":"POISSON(F4136,Berekening!$G$52,TRUE)","v":1},4132]
[{"$f":"POISSON(B4137,Berekening!$G$27,TRUE)","v":1},4133,{"$f":"POISSON(D4137,Berekening!$G$50,TRUE)","v":1},4133,{"$f":"POISSON(F4137,Berekening!$G$52,TRUE)","v":1},4133]
[{"$f":"POISSON(B4138,Berekening!$G$27,TRUE)","v":1},4134,{"$f":"POISSON(D4138,Berekening!$G$50,TRUE)","v":1},4134,{"$f":"POISSON(F4138,Berekening!$G$52,TRUE)","v":1},4134]
[{"$f":"POISSON(B4139,Berekening!$G$27,TRUE)","v":1},4135,{"$f":"POISSON(D4139,Berekening!$G$50,TRUE)","v":1},4135,{"$f":"POISSON(F4139,Berekening!$G$52,TRUE)","v":1},4135]
[{"$f":"POISSON(B4140,Berekening!$G$27,TRUE)","v":1},4136,{"$f":"POISSON(D4140,Berekening!$G$50,TRUE)","v":1},4136,{"$f":"POISSON(F4140,Berekening!$G$52,TRUE)","v":1},4136]
[{"$f":"POISSON(B4141,Berekening!$G$27,TRUE)","v":1},4137,{"$f":"POISSON(D4141,Berekening!$G$50,TRUE)","v":1},4137,{"$f":"POISSON(F4141,Berekening!$G$52,TRUE)","v":1},4137]
[{"$f":"POISSON(B4142,Berekening!$G$27,TRUE)","v":1},4138,{"$f":"POISSON(D4142,Berekening!$G$50,TRUE)","v":1},4138,{"$f":"POISSON(F4142,Berekening!$G$52,TRUE)","v":1},4138]
[{"$f":"POISSON(B4143,Berekening!$G$27,TRUE)","v":1},4139,{"$f":"POISSON(D4143,Berekening!$G$50,TRUE)","v":1},4139,{"$f":"POISSON(F4143,Berekening!$G$52,TRUE)","v":1},4139]
[{"$f":"POISSON(B4144,Berekening!$G$27,TRUE)","v":1},4140,{"$f":"POISSON(D4144,Berekening!$G$50,TRUE)","v":1},4140,{"$f":"POISSON(F4144,Berekening!$G$52,TRUE)","v":1},4140]
[{"$f":"POISSON(B4145,Berekening!$G$27,TRUE)","v":1},4141,{"$f":"POISSON(D4145,Berekening!$G$50,TRUE)","v":1},4141,{"$f":"POISSON(F4145,Berekening!$G$52,TRUE)","v":1},4141]
[{"$f":"POISSON(B4146,Berekening!$G$27,TRUE)","v":1},4142,{"$f":"POISSON(D4146,Berekening!$G$50,TRUE)","v":1},4142,{"$f":"POISSON(F4146,Berekening!$G$52,TRUE)","v":1},4142]
[{"$f":"POISSON(B4147,Berekening!$G$27,TRUE)","v":1},4143,{"$f":"POISSON(D4147,Berekening!$G$50,TRUE)","v":1},4143,{"$f":"POISSON(F4147,Berekening!$G$52,TRUE)","v":1},4143]
[{"$f":"POISSON(B4148,Berekening!$G$27,TRUE)","v":1},4144,{"$f":"POISSON(D4148,Berekening!$G$50,TRUE)","v":1},4144,{"$f":"POISSON(F4148,Berekening!$G$52,TRUE)","v":1},4144]
[{"$f":"POISSON(B4149,Berekening!$G$27,TRUE)","v":1},4145,{"$f":"POISSON(D4149,Berekening!$G$50,TRUE)","v":1},4145,{"$f":"POISSON(F4149,Berekening!$G$52,TRUE)","v":1},4145]
[{"$f":"POISSON(B4150,Berekening!$G$27,TRUE)","v":1},4146,{"$f":"POISSON(D4150,Berekening!$G$50,TRUE)","v":1},4146,{"$f":"POISSON(F4150,Berekening!$G$52,TRUE)","v":1},4146]
[{"$f":"POISSON(B4151,Berekening!$G$27,TRUE)","v":1},4147,{"$f":"POISSON(D4151,Berekening!$G$50,TRUE)","v":1},4147,{"$f":"POISSON(F4151,Berekening!$G$52,TRUE)","v":1},4147]
[{"$f":"POISSON(B4152,Berekening!$G$27,TRUE)","v":1},4148,{"$f":"POISSON(D4152,Berekening!$G$50,TRUE)","v":1},4148,{"$f":"POISSON(F4152,Berekening!$G$52,TRUE)","v":1},4148]
[{"$f":"POISSON(B4153,Berekening!$G$27,TRUE)","v":1},4149,{"$f":"POISSON(D4153,Berekening!$G$50,TRUE)","v":1},4149,{"$f":"POISSON(F4153,Berekening!$G$52,TRUE)","v":1},4149]
[{"$f":"POISSON(B4154,Berekening!$G$27,TRUE)","v":1},4150,{"$f":"POISSON(D4154,Berekening!$G$50,TRUE)","v":1},4150,{"$f":"POISSON(F4154,Berekening!$G$52,TRUE)","v":1},4150]
[{"$f":"POISSON(B4155,Berekening!$G$27,TRUE)","v":1},4151,{"$f":"POISSON(D4155,Berekening!$G$50,TRUE)","v":1},4151,{"$f":"POISSON(F4155,Berekening!$G$52,TRUE)","v":1},4151]
[{"$f":"POISSON(B4156,Berekening!$G$27,TRUE)","v":1},4152,{"$f":"POISSON(D4156,Berekening!$G$50,TRUE)","v":1},4152,{"$f":"POISSON(F4156,Berekening!$G$52,TRUE)","v":1},4152]
[{"$f":"POISSON(B4157,Berekening!$G$27,TRUE)","v":1},4153,{"$f":"POISSON(D4157,Berekening!$G$50,TRUE)","v":1},4153,{"$f":"POISSON(F4157,Berekening!$G$52,TRUE)","v":1},4153]
[{"$f":"POISSON(B4158,Berekening!$G$27,TRUE)","v":1},4154,{"$f":"POISSON(D4158,Berekening!$G$50,TRUE)","v":1},4154,{"$f":"POISSON(F4158,Berekening!$G$52,TRUE)","v":1},4154]
[{"$f":"POISSON(B4159,Berekening!$G$27,TRUE)","v":1},4155,{"$f":"POISSON(D4159,Berekening!$G$50,TRUE)","v":1},4155,{"$f":"POISSON(F4159,Berekening!$G$52,TRUE)","v":1},4155]
[{"$f":"POISSON(B4160,Berekening!$G$27,TRUE)","v":1},4156,{"$f":"POISSON(D4160,Berekening!$G$50,TRUE)","v":1},4156,{"$f":"POISSON(F4160,Berekening!$G$52,TRUE)","v":1},4156]
[{"$f":"POISSON(B4161,Berekening!$G$27,TRUE)","v":1},4157,{"$f":"POISSON(D4161,Berekening!$G$50,TRUE)","v":1},4157,{"$f":"POISSON(F4161,Berekening!$G$52,TRUE)","v":1},4157]
[{"$f":"POISSON(B4162,Berekening!$G$27,TRUE)","v":1},4158,{"$f":"POISSON(D4162,Berekening!$G$50,TRUE)","v":1},4158,{"$f":"POISSON(F4162,Berekening!$G$52,TRUE)","v":1},4158]
[{"$f":"POISSON(B4163,Berekening!$G$27,TRUE)","v":1},4159,{"$f":"POISSON(D4163,Berekening!$G$50,TRUE)","v":1},4159,{"$f":"POISSON(F4163,Berekening!$G$52,TRUE)","v":1},4159]
[{"$f":"POISSON(B4164,Berekening!$G$27,TRUE)","v":1},4160,{"$f":"POISSON(D4164,Berekening!$G$50,TRUE)","v":1},4160,{"$f":"POISSON(F4164,Berekening!$G$52,TRUE)","v":1},4160]
[{"$f":"POISSON(B4165,Berekening!$G$27,TRUE)","v":1},4161,{"$f":"POISSON(D4165,Berekening!$G$50,TRUE)","v":1},4161,{"$f":"POISSON(F4165,Berekening!$G$52,TRUE)","v":1},4161]
[{"$f":"POISSON(B4166,Berekening!$G$27,TRUE)","v":1},4162,{"$f":"POISSON(D4166,Berekening!$G$50,TRUE)","v":1},4162,{"$f":"POISSON(F4166,Berekening!$G$52,TRUE)","v":1},4162]
[{"$f":"POISSON(B4167,Berekening!$G$27,TRUE)","v":1},4163,{"$f":"POISSON(D4167,Berekening!$G$50,TRUE)","v":1},4163,{"$f":"POISSON(F4167,Berekening!$G$52,TRUE)","v":1},4163]
[{"$f":"POISSON(B4168,Berekening!$G$27,TRUE)","v":1},4164,{"$f":"POISSON(D4168,Berekening!$G$50,TRUE)","v":1},4164,{"$f":"POISSON(F4168,Berekening!$G$52,TRUE)","v":1},4164]
[{"$f":"POISSON(B4169,Berekening!$G$27,TRUE)","v":1},4165,{"$f":"POISSON(D4169,Berekening!$G$50,TRUE)","v":1},4165,{"$f":"POISSON(F4169,Berekening!$G$52,TRUE)","v":1},4165]
[{"$f":"POISSON(B4170,Berekening!$G$27,TRUE)","v":1},4166,{"$f":"POISSON(D4170,Berekening!$G$50,TRUE)","v":1},4166,{"$f":"POISSON(F4170,Berekening!$G$52,TRUE)","v":1},4166]
[{"$f":"POISSON(B4171,Berekening!$G$27,TRUE)","v":1},4167,{"$f":"POISSON(D4171,Berekening!$G$50,TRUE)","v":1},4167,{"$f":"POISSON(F4171,Berekening!$G$52,TRUE)","v":1},4167]
[{"$f":"POISSON(B4172,Berekening!$G$27,TRUE)","v":1},4168,{"$f":"POISSON(D4172,Berekening!$G$50,TRUE)","v":1},4168,{"$f":"POISSON(F4172,Berekening!$G$52,TRUE)","v":1},4168]
[{"$f":"POISSON(B4173,Berekening!$G$27,TRUE)","v":1},4169,{"$f":"POISSON(D4173,Berekening!$G$50,TRUE)","v":1},4169,{"$f":"POISSON(F4173,Berekening!$G$52,TRUE)","v":1},4169]
[{"$f":"POISSON(B4174,Berekening!$G$27,TRUE)","v":1},4170,{"$f":"POISSON(D4174,Berekening!$G$50,TRUE)","v":1},4170,{"$f":"POISSON(F4174,Berekening!$G$52,TRUE)","v":1},4170]
[{"$f":"POISSON(B4175,Berekening!$G$27,TRUE)","v":1},4171,{"$f":"POISSON(D4175,Berekening!$G$50,TRUE)","v":1},4171,{"$f":"POISSON(F4175,Berekening!$G$52,TRUE)","v":1},4171]
[{"$f":"POISSON(B4176,Berekening!$G$27,TRUE)","v":1},4172,{"$f":"POISSON(D4176,Berekening!$G$50,TRUE)","v":1},4172,{"$f":"POISSON(F4176,Berekening!$G$52,TRUE)","v":1},4172]
[{"$f":"POISSON(B4177,Berekening!$G$27,TRUE)","v":1},4173,{"$f":"POISSON(D4177,Berekening!$G$50,TRUE)","v":1},4173,{"$f":"POISSON(F4177,Berekening!$G$52,TRUE)","v":1},4173]
[{"$f":"POISSON(B4178,Berekening!$G$27,TRUE)","v":1},4174,{"$f":"POISSON(D4178,Berekening!$G$50,TRUE)","v":1},4174,{"$f":"POISSON(F4178,Berekening!$G$52,TRUE)","v":1},4174]
[{"$f":"POISSON(B4179,Berekening!$G$27,TRUE)","v":1},4175,{"$f":"POISSON(D4179,Berekening!$G$50,TRUE)","v":1},4175,{"$f":"POISSON(F4179,Berekening!$G$52,TRUE)","v":1},4175]
[{"$f":"POISSON(B4180,Berekening!$G$27,TRUE)","v":1},4176,{"$f":"POISSON(D4180,Berekening!$G$50,TRUE)","v":1},4176,{"$f":"POISSON(F4180,Berekening!$G$52,TRUE)","v":1},4176]
[{"$f":"POISSON(B4181,Berekening!$G$27,TRUE)","v":1},4177,{"$f":"POISSON(D4181,Berekening!$G$50,TRUE)","v":1},4177,{"$f":"POISSON(F4181,Berekening!$G$52,TRUE)","v":1},4177]
[{"$f":"POISSON(B4182,Berekening!$G$27,TRUE)","v":1},4178,{"$f":"POISSON(D4182,Berekening!$G$50,TRUE)","v":1},4178,{"$f":"POISSON(F4182,Berekening!$G$52,TRUE)","v":1},4178]
[{"$f":"POISSON(B4183,Berekening!$G$27,TRUE)","v":1},4179,{"$f":"POISSON(D4183,Berekening!$G$50,TRUE)","v":1},4179,{"$f":"POISSON(F4183,Berekening!$G$52,TRUE)","v":1},4179]
[{"$f":"POISSON(B4184,Berekening!$G$27,TRUE)","v":1},4180,{"$f":"POISSON(D4184,Berekening!$G$50,TRUE)","v":1},4180,{"$f":"POISSON(F4184,Berekening!$G$52,TRUE)","v":1},4180]
[{"$f":"POISSON(B4185,Berekening!$G$27,TRUE)","v":1},4181,{"$f":"POISSON(D4185,Berekening!$G$50,TRUE)","v":1},4181,{"$f":"POISSON(F4185,Berekening!$G$52,TRUE)","v":1},4181]
[{"$f":"POISSON(B4186,Berekening!$G$27,TRUE)","v":1},4182,{"$f":"POISSON(D4186,Berekening!$G$50,TRUE)","v":1},4182,{"$f":"POISSON(F4186,Berekening!$G$52,TRUE)","v":1},4182]
[{"$f":"POISSON(B4187,Berekening!$G$27,TRUE)","v":1},4183,{"$f":"POISSON(D4187,Berekening!$G$50,TRUE)","v":1},4183,{"$f":"POISSON(F4187,Berekening!$G$52,TRUE)","v":1},4183]
[{"$f":"POISSON(B4188,Berekening!$G$27,TRUE)","v":1},4184,{"$f":"POISSON(D4188,Berekening!$G$50,TRUE)","v":1},4184,{"$f":"POISSON(F4188,Berekening!$G$52,TRUE)","v":1},4184]
[{"$f":"POISSON(B4189,Berekening!$G$27,TRUE)","v":1},4185,{"$f":"POISSON(D4189,Berekening!$G$50,TRUE)","v":1},4185,{"$f":"POISSON(F4189,Berekening!$G$52,TRUE)","v":1},4185]
[{"$f":"POISSON(B4190,Berekening!$G$27,TRUE)","v":1},4186,{"$f":"POISSON(D4190,Berekening!$G$50,TRUE)","v":1},4186,{"$f":"POISSON(F4190,Berekening!$G$52,TRUE)","v":1},4186]
[{"$f":"POISSON(B4191,Berekening!$G$27,TRUE)","v":1},4187,{"$f":"POISSON(D4191,Berekening!$G$50,TRUE)","v":1},4187,{"$f":"POISSON(F4191,Berekening!$G$52,TRUE)","v":1},4187]
[{"$f":"POISSON(B4192,Berekening!$G$27,TRUE)","v":1},4188,{"$f":"POISSON(D4192,Berekening!$G$50,TRUE)","v":1},4188,{"$f":"POISSON(F4192,Berekening!$G$52,TRUE)","v":1},4188]
[{"$f":"POISSON(B4193,Berekening!$G$27,TRUE)","v":1},4189,{"$f":"POISSON(D4193,Berekening!$G$50,TRUE)","v":1},4189,{"$f":"POISSON(F4193,Berekening!$G$52,TRUE)","v":1},4189]
[{"$f":"POISSON(B4194,Berekening!$G$27,TRUE)","v":1},4190,{"$f":"POISSON(D4194,Berekening!$G$50,TRUE)","v":1},4190,{"$f":"POISSON(F4194,Berekening!$G$52,TRUE)","v":1},4190]
[{"$f":"POISSON(B4195,Berekening!$G$27,TRUE)","v":1},4191,{"$f":"POISSON(D4195,Berekening!$G$50,TRUE)","v":1},4191,{"$f":"POISSON(F4195,Berekening!$G$52,TRUE)","v":1},4191]
[{"$f":"POISSON(B4196,Berekening!$G$27,TRUE)","v":1},4192,{"$f":"POISSON(D4196,Berekening!$G$50,TRUE)","v":1},4192,{"$f":"POISSON(F4196,Berekening!$G$52,TRUE)","v":1},4192]
[{"$f":"POISSON(B4197,Berekening!$G$27,TRUE)","v":1},4193,{"$f":"POISSON(D4197,Berekening!$G$50,TRUE)","v":1},4193,{"$f":"POISSON(F4197,Berekening!$G$52,TRUE)","v":1},4193]
[{"$f":"POISSON(B4198,Berekening!$G$27,TRUE)","v":1},4194,{"$f":"POISSON(D4198,Berekening!$G$50,TRUE)","v":1},4194,{"$f":"POISSON(F4198,Berekening!$G$52,TRUE)","v":1},4194]
[{"$f":"POISSON(B4199,Berekening!$G$27,TRUE)","v":1},4195,{"$f":"POISSON(D4199,Berekening!$G$50,TRUE)","v":1},4195,{"$f":"POISSON(F4199,Berekening!$G$52,TRUE)","v":1},4195]
[{"$f":"POISSON(B4200,Berekening!$G$27,TRUE)","v":1},4196,{"$f":"POISSON(D4200,Berekening!$G$50,TRUE)","v":1},4196,{"$f":"POISSON(F4200,Berekening!$G$52,TRUE)","v":1},4196]
[{"$f":"POISSON(B4201,Berekening!$G$27,TRUE)","v":1},4197,{"$f":"POISSON(D4201,Berekening!$G$50,TRUE)","v":1},4197,{"$f":"POISSON(F4201,Berekening!$G$52,TRUE)","v":1},4197]
[{"$f":"POISSON(B4202,Berekening!$G$27,TRUE)","v":1},4198,{"$f":"POISSON(D4202,Berekening!$G$50,TRUE)","v":1},4198,{"$f":"POISSON(F4202,Berekening!$G$52,TRUE)","v":1},4198]
[{"$f":"POISSON(B4203,Berekening!$G$27,TRUE)","v":1},4199,{"$f":"POISSON(D4203,Berekening!$G$50,TRUE)","v":1},4199,{"$f":"POISSON(F4203,Berekening!$G$52,TRUE)","v":1},4199]
[{"$f":"POISSON(B4204,Berekening!$G$27,TRUE)","v":1},4200,{"$f":"POISSON(D4204,Berekening!$G$50,TRUE)","v":1},4200,{"$f":"POISSON(F4204,Berekening!$G$52,TRUE)","v":1},4200]
[{"$f":"POISSON(B4205,Berekening!$G$27,TRUE)","v":1},4201,{"$f":"POISSON(D4205,Berekening!$G$50,TRUE)","v":1},4201,{"$f":"POISSON(F4205,Berekening!$G$52,TRUE)","v":1},4201]
[{"$f":"POISSON(B4206,Berekening!$G$27,TRUE)","v":1},4202,{"$f":"POISSON(D4206,Berekening!$G$50,TRUE)","v":1},4202,{"$f":"POISSON(F4206,Berekening!$G$52,TRUE)","v":1},4202]
[{"$f":"POISSON(B4207,Berekening!$G$27,TRUE)","v":1},4203,{"$f":"POISSON(D4207,Berekening!$G$50,TRUE)","v":1},4203,{"$f":"POISSON(F4207,Berekening!$G$52,TRUE)","v":1},4203]
[{"$f":"POISSON(B4208,Berekening!$G$27,TRUE)","v":1},4204,{"$f":"POISSON(D4208,Berekening!$G$50,TRUE)","v":1},4204,{"$f":"POISSON(F4208,Berekening!$G$52,TRUE)","v":1},4204]
[{"$f":"POISSON(B4209,Berekening!$G$27,TRUE)","v":1},4205,{"$f":"POISSON(D4209,Berekening!$G$50,TRUE)","v":1},4205,{"$f":"POISSON(F4209,Berekening!$G$52,TRUE)","v":1},4205]
[{"$f":"POISSON(B4210,Berekening!$G$27,TRUE)","v":1},4206,{"$f":"POISSON(D4210,Berekening!$G$50,TRUE)","v":1},4206,{"$f":"POISSON(F4210,Berekening!$G$52,TRUE)","v":1},4206]
[{"$f":"POISSON(B4211,Berekening!$G$27,TRUE)","v":1},4207,{"$f":"POISSON(D4211,Berekening!$G$50,TRUE)","v":1},4207,{"$f":"POISSON(F4211,Berekening!$G$52,TRUE)","v":1},4207]
[{"$f":"POISSON(B4212,Berekening!$G$27,TRUE)","v":1},4208,{"$f":"POISSON(D4212,Berekening!$G$50,TRUE)","v":1},4208,{"$f":"POISSON(F4212,Berekening!$G$52,TRUE)","v":1},4208]
[{"$f":"POISSON(B4213,Berekening!$G$27,TRUE)","v":1},4209,{"$f":"POISSON(D4213,Berekening!$G$50,TRUE)","v":1},4209,{"$f":"POISSON(F4213,Berekening!$G$52,TRUE)","v":1},4209]
[{"$f":"POISSON(B4214,Berekening!$G$27,TRUE)","v":1},4210,{"$f":"POISSON(D4214,Berekening!$G$50,TRUE)","v":1},4210,{"$f":"POISSON(F4214,Berekening!$G$52,TRUE)","v":1},4210]
[{"$f":"POISSON(B4215,Berekening!$G$27,TRUE)","v":1},4211,{"$f":"POISSON(D4215,Berekening!$G$50,TRUE)","v":1},4211,{"$f":"POISSON(F4215,Berekening!$G$52,TRUE)","v":1},4211]
[{"$f":"POISSON(B4216,Berekening!$G$27,TRUE)","v":1},4212,{"$f":"POISSON(D4216,Berekening!$G$50,TRUE)","v":1},4212,{"$f":"POISSON(F4216,Berekening!$G$52,TRUE)","v":1},4212]
[{"$f":"POISSON(B4217,Berekening!$G$27,TRUE)","v":1},4213,{"$f":"POISSON(D4217,Berekening!$G$50,TRUE)","v":1},4213,{"$f":"POISSON(F4217,Berekening!$G$52,TRUE)","v":1},4213]
[{"$f":"POISSON(B4218,Berekening!$G$27,TRUE)","v":1},4214,{"$f":"POISSON(D4218,Berekening!$G$50,TRUE)","v":1},4214,{"$f":"POISSON(F4218,Berekening!$G$52,TRUE)","v":1},4214]
[{"$f":"POISSON(B4219,Berekening!$G$27,TRUE)","v":1},4215,{"$f":"POISSON(D4219,Berekening!$G$50,TRUE)","v":1},4215,{"$f":"POISSON(F4219,Berekening!$G$52,TRUE)","v":1},4215]
[{"$f":"POISSON(B4220,Berekening!$G$27,TRUE)","v":1},4216,{"$f":"POISSON(D4220,Berekening!$G$50,TRUE)","v":1},4216,{"$f":"POISSON(F4220,Berekening!$G$52,TRUE)","v":1},4216]
[{"$f":"POISSON(B4221,Berekening!$G$27,TRUE)","v":1},4217,{"$f":"POISSON(D4221,Berekening!$G$50,TRUE)","v":1},4217,{"$f":"POISSON(F4221,Berekening!$G$52,TRUE)","v":1},4217]
[{"$f":"POISSON(B4222,Berekening!$G$27,TRUE)","v":1},4218,{"$f":"POISSON(D4222,Berekening!$G$50,TRUE)","v":1},4218,{"$f":"POISSON(F4222,Berekening!$G$52,TRUE)","v":1},4218]
[{"$f":"POISSON(B4223,Berekening!$G$27,TRUE)","v":1},4219,{"$f":"POISSON(D4223,Berekening!$G$50,TRUE)","v":1},4219,{"$f":"POISSON(F4223,Berekening!$G$52,TRUE)","v":1},4219]
[{"$f":"POISSON(B4224,Berekening!$G$27,TRUE)","v":1},4220,{"$f":"POISSON(D4224,Berekening!$G$50,TRUE)","v":1},4220,{"$f":"POISSON(F4224,Berekening!$G$52,TRUE)","v":1},4220]
[{"$f":"POISSON(B4225,Berekening!$G$27,TRUE)","v":1},4221,{"$f":"POISSON(D4225,Berekening!$G$50,TRUE)","v":1},4221,{"$f":"POISSON(F4225,Berekening!$G$52,TRUE)","v":1},4221]
[{"$f":"POISSON(B4226,Berekening!$G$27,TRUE)","v":1},4222,{"$f":"POISSON(D4226,Berekening!$G$50,TRUE)","v":1},4222,{"$f":"POISSON(F4226,Berekening!$G$52,TRUE)","v":1},4222]
[{"$f":"POISSON(B4227,Berekening!$G$27,TRUE)","v":1},4223,{"$f":"POISSON(D4227,Berekening!$G$50,TRUE)","v":1},4223,{"$f":"POISSON(F4227,Berekening!$G$52,TRUE)","v":1},4223]
[{"$f":"POISSON(B4228,Berekening!$G$27,TRUE)","v":1},4224,{"$f":"POISSON(D4228,Berekening!$G$50,TRUE)","v":1},4224,{"$f":"POISSON(F4228,Berekening!$G$52,TRUE)","v":1},4224]
[{"$f":"POISSON(B4229,Berekening!$G$27,TRUE)","v":1},4225,{"$f":"POISSON(D4229,Berekening!$G$50,TRUE)","v":1},4225,{"$f":"POISSON(F4229,Berekening!$G$52,TRUE)","v":1},4225]
[{"$f":"POISSON(B4230,Berekening!$G$27,TRUE)","v":1},4226,{"$f":"POISSON(D4230,Berekening!$G$50,TRUE)","v":1},4226,{"$f":"POISSON(F4230,Berekening!$G$52,TRUE)","v":1},4226]
[{"$f":"POISSON(B4231,Berekening!$G$27,TRUE)","v":1},4227,{"$f":"POISSON(D4231,Berekening!$G$50,TRUE)","v":1},4227,{"$f":"POISSON(F4231,Berekening!$G$52,TRUE)","v":1},4227]
[{"$f":"POISSON(B4232,Berekening!$G$27,TRUE)","v":1},4228,{"$f":"POISSON(D4232,Berekening!$G$50,TRUE)","v":1},4228,{"$f":"POISSON(F4232,Berekening!$G$52,TRUE)","v":1},4228]
[{"$f":"POISSON(B4233,Berekening!$G$27,TRUE)","v":1},4229,{"$f":"POISSON(D4233,Berekening!$G$50,TRUE)","v":1},4229,{"$f":"POISSON(F4233,Berekening!$G$52,TRUE)","v":1},4229]
[{"$f":"POISSON(B4234,Berekening!$G$27,TRUE)","v":1},4230,{"$f":"POISSON(D4234,Berekening!$G$50,TRUE)","v":1},4230,{"$f":"POISSON(F4234,Berekening!$G$52,TRUE)","v":1},4230]
[{"$f":"POISSON(B4235,Berekening!$G$27,TRUE)","v":1},4231,{"$f":"POISSON(D4235,Berekening!$G$50,TRUE)","v":1},4231,{"$f":"POISSON(F4235,Berekening!$G$52,TRUE)","v":1},4231]
[{"$f":"POISSON(B4236,Berekening!$G$27,TRUE)","v":1},4232,{"$f":"POISSON(D4236,Berekening!$G$50,TRUE)","v":1},4232,{"$f":"POISSON(F4236,Berekening!$G$52,TRUE)","v":1},4232]
[{"$f":"POISSON(B4237,Berekening!$G$27,TRUE)","v":1},4233,{"$f":"POISSON(D4237,Berekening!$G$50,TRUE)","v":1},4233,{"$f":"POISSON(F4237,Berekening!$G$52,TRUE)","v":1},4233]
[{"$f":"POISSON(B4238,Berekening!$G$27,TRUE)","v":1},4234,{"$f":"POISSON(D4238,Berekening!$G$50,TRUE)","v":1},4234,{"$f":"POISSON(F4238,Berekening!$G$52,TRUE)","v":1},4234]
[{"$f":"POISSON(B4239,Berekening!$G$27,TRUE)","v":1},4235,{"$f":"POISSON(D4239,Berekening!$G$50,TRUE)","v":1},4235,{"$f":"POISSON(F4239,Berekening!$G$52,TRUE)","v":1},4235]
[{"$f":"POISSON(B4240,Berekening!$G$27,TRUE)","v":1},4236,{"$f":"POISSON(D4240,Berekening!$G$50,TRUE)","v":1},4236,{"$f":"POISSON(F4240,Berekening!$G$52,TRUE)","v":1},4236]
[{"$f":"POISSON(B4241,Berekening!$G$27,TRUE)","v":1},4237,{"$f":"POISSON(D4241,Berekening!$G$50,TRUE)","v":1},4237,{"$f":"POISSON(F4241,Berekening!$G$52,TRUE)","v":1},4237]
[{"$f":"POISSON(B4242,Berekening!$G$27,TRUE)","v":1},4238,{"$f":"POISSON(D4242,Berekening!$G$50,TRUE)","v":1},4238,{"$f":"POISSON(F4242,Berekening!$G$52,TRUE)","v":1},4238]
[{"$f":"POISSON(B4243,Berekening!$G$27,TRUE)","v":1},4239,{"$f":"POISSON(D4243,Berekening!$G$50,TRUE)","v":1},4239,{"$f":"POISSON(F4243,Berekening!$G$52,TRUE)","v":1},4239]
[{"$f":"POISSON(B4244,Berekening!$G$27,TRUE)","v":1},4240,{"$f":"POISSON(D4244,Berekening!$G$50,TRUE)","v":1},4240,{"$f":"POISSON(F4244,Berekening!$G$52,TRUE)","v":1},4240]
[{"$f":"POISSON(B4245,Berekening!$G$27,TRUE)","v":1},4241,{"$f":"POISSON(D4245,Berekening!$G$50,TRUE)","v":1},4241,{"$f":"POISSON(F4245,Berekening!$G$52,TRUE)","v":1},4241]
[{"$f":"POISSON(B4246,Berekening!$G$27,TRUE)","v":1},4242,{"$f":"POISSON(D4246,Berekening!$G$50,TRUE)","v":1},4242,{"$f":"POISSON(F4246,Berekening!$G$52,TRUE)","v":1},4242]
[{"$f":"POISSON(B4247,Berekening!$G$27,TRUE)","v":1},4243,{"$f":"POISSON(D4247,Berekening!$G$50,TRUE)","v":1},4243,{"$f":"POISSON(F4247,Berekening!$G$52,TRUE)","v":1},4243]
[{"$f":"POISSON(B4248,Berekening!$G$27,TRUE)","v":1},4244,{"$f":"POISSON(D4248,Berekening!$G$50,TRUE)","v":1},4244,{"$f":"POISSON(F4248,Berekening!$G$52,TRUE)","v":1},4244]
[{"$f":"POISSON(B4249,Berekening!$G$27,TRUE)","v":1},4245,{"$f":"POISSON(D4249,Berekening!$G$50,TRUE)","v":1},4245,{"$f":"POISSON(F4249,Berekening!$G$52,TRUE)","v":1},4245]
[{"$f":"POISSON(B4250,Berekening!$G$27,TRUE)","v":1},4246,{"$f":"POISSON(D4250,Berekening!$G$50,TRUE)","v":1},4246,{"$f":"POISSON(F4250,Berekening!$G$52,TRUE)","v":1},4246]
[{"$f":"POISSON(B4251,Berekening!$G$27,TRUE)","v":1},4247,{"$f":"POISSON(D4251,Berekening!$G$50,TRUE)","v":1},4247,{"$f":"POISSON(F4251,Berekening!$G$52,TRUE)","v":1},4247]
[{"$f":"POISSON(B4252,Berekening!$G$27,TRUE)","v":1},4248,{"$f":"POISSON(D4252,Berekening!$G$50,TRUE)","v":1},4248,{"$f":"POISSON(F4252,Berekening!$G$52,TRUE)","v":1},4248]
[{"$f":"POISSON(B4253,Berekening!$G$27,TRUE)","v":1},4249,{"$f":"POISSON(D4253,Berekening!$G$50,TRUE)","v":1},4249,{"$f":"POISSON(F4253,Berekening!$G$52,TRUE)","v":1},4249]
[{"$f":"POISSON(B4254,Berekening!$G$27,TRUE)","v":1},4250,{"$f":"POISSON(D4254,Berekening!$G$50,TRUE)","v":1},4250,{"$f":"POISSON(F4254,Berekening!$G$52,TRUE)","v":1},4250]
[{"$f":"POISSON(B4255,Berekening!$G$27,TRUE)","v":1},4251,{"$f":"POISSON(D4255,Berekening!$G$50,TRUE)","v":1},4251,{"$f":"POISSON(F4255,Berekening!$G$52,TRUE)","v":1},4251]
[{"$f":"POISSON(B4256,Berekening!$G$27,TRUE)","v":1},4252,{"$f":"POISSON(D4256,Berekening!$G$50,TRUE)","v":1},4252,{"$f":"POISSON(F4256,Berekening!$G$52,TRUE)","v":1},4252]
[{"$f":"POISSON(B4257,Berekening!$G$27,TRUE)","v":1},4253,{"$f":"POISSON(D4257,Berekening!$G$50,TRUE)","v":1},4253,{"$f":"POISSON(F4257,Berekening!$G$52,TRUE)","v":1},4253]
[{"$f":"POISSON(B4258,Berekening!$G$27,TRUE)","v":1},4254,{"$f":"POISSON(D4258,Berekening!$G$50,TRUE)","v":1},4254,{"$f":"POISSON(F4258,Berekening!$G$52,TRUE)","v":1},4254]
[{"$f":"POISSON(B4259,Berekening!$G$27,TRUE)","v":1},4255,{"$f":"POISSON(D4259,Berekening!$G$50,TRUE)","v":1},4255,{"$f":"POISSON(F4259,Berekening!$G$52,TRUE)","v":1},4255]
[{"$f":"POISSON(B4260,Berekening!$G$27,TRUE)","v":1},4256,{"$f":"POISSON(D4260,Berekening!$G$50,TRUE)","v":1},4256,{"$f":"POISSON(F4260,Berekening!$G$52,TRUE)","v":1},4256]
[{"$f":"POISSON(B4261,Berekening!$G$27,TRUE)","v":1},4257,{"$f":"POISSON(D4261,Berekening!$G$50,TRUE)","v":1},4257,{"$f":"POISSON(F4261,Berekening!$G$52,TRUE)","v":1},4257]
[{"$f":"POISSON(B4262,Berekening!$G$27,TRUE)","v":1},4258,{"$f":"POISSON(D4262,Berekening!$G$50,TRUE)","v":1},4258,{"$f":"POISSON(F4262,Berekening!$G$52,TRUE)","v":1},4258]
[{"$f":"POISSON(B4263,Berekening!$G$27,TRUE)","v":1},4259,{"$f":"POISSON(D4263,Berekening!$G$50,TRUE)","v":1},4259,{"$f":"POISSON(F4263,Berekening!$G$52,TRUE)","v":1},4259]
[{"$f":"POISSON(B4264,Berekening!$G$27,TRUE)","v":1},4260,{"$f":"POISSON(D4264,Berekening!$G$50,TRUE)","v":1},4260,{"$f":"POISSON(F4264,Berekening!$G$52,TRUE)","v":1},4260]
[{"$f":"POISSON(B4265,Berekening!$G$27,TRUE)","v":1},4261,{"$f":"POISSON(D4265,Berekening!$G$50,TRUE)","v":1},4261,{"$f":"POISSON(F4265,Berekening!$G$52,TRUE)","v":1},4261]
[{"$f":"POISSON(B4266,Berekening!$G$27,TRUE)","v":1},4262,{"$f":"POISSON(D4266,Berekening!$G$50,TRUE)","v":1},4262,{"$f":"POISSON(F4266,Berekening!$G$52,TRUE)","v":1},4262]
[{"$f":"POISSON(B4267,Berekening!$G$27,TRUE)","v":1},4263,{"$f":"POISSON(D4267,Berekening!$G$50,TRUE)","v":1},4263,{"$f":"POISSON(F4267,Berekening!$G$52,TRUE)","v":1},4263]
[{"$f":"POISSON(B4268,Berekening!$G$27,TRUE)","v":1},4264,{"$f":"POISSON(D4268,Berekening!$G$50,TRUE)","v":1},4264,{"$f":"POISSON(F4268,Berekening!$G$52,TRUE)","v":1},4264]
[{"$f":"POISSON(B4269,Berekening!$G$27,TRUE)","v":1},4265,{"$f":"POISSON(D4269,Berekening!$G$50,TRUE)","v":1},4265,{"$f":"POISSON(F4269,Berekening!$G$52,TRUE)","v":1},4265]
[{"$f":"POISSON(B4270,Berekening!$G$27,TRUE)","v":1},4266,{"$f":"POISSON(D4270,Berekening!$G$50,TRUE)","v":1},4266,{"$f":"POISSON(F4270,Berekening!$G$52,TRUE)","v":1},4266]
[{"$f":"POISSON(B4271,Berekening!$G$27,TRUE)","v":1},4267,{"$f":"POISSON(D4271,Berekening!$G$50,TRUE)","v":1},4267,{"$f":"POISSON(F4271,Berekening!$G$52,TRUE)","v":1},4267]
[{"$f":"POISSON(B4272,Berekening!$G$27,TRUE)","v":1},4268,{"$f":"POISSON(D4272,Berekening!$G$50,TRUE)","v":1},4268,{"$f":"POISSON(F4272,Berekening!$G$52,TRUE)","v":1},4268]
[{"$f":"POISSON(B4273,Berekening!$G$27,TRUE)","v":1},4269,{"$f":"POISSON(D4273,Berekening!$G$50,TRUE)","v":1},4269,{"$f":"POISSON(F4273,Berekening!$G$52,TRUE)","v":1},4269]
[{"$f":"POISSON(B4274,Berekening!$G$27,TRUE)","v":1},4270,{"$f":"POISSON(D4274,Berekening!$G$50,TRUE)","v":1},4270,{"$f":"POISSON(F4274,Berekening!$G$52,TRUE)","v":1},4270]
[{"$f":"POISSON(B4275,Berekening!$G$27,TRUE)","v":1},4271,{"$f":"POISSON(D4275,Berekening!$G$50,TRUE)","v":1},4271,{"$f":"POISSON(F4275,Berekening!$G$52,TRUE)","v":1},4271]
[{"$f":"POISSON(B4276,Berekening!$G$27,TRUE)","v":1},4272,{"$f":"POISSON(D4276,Berekening!$G$50,TRUE)","v":1},4272,{"$f":"POISSON(F4276,Berekening!$G$52,TRUE)","v":1},4272]
[{"$f":"POISSON(B4277,Berekening!$G$27,TRUE)","v":1},4273,{"$f":"POISSON(D4277,Berekening!$G$50,TRUE)","v":1},4273,{"$f":"POISSON(F4277,Berekening!$G$52,TRUE)","v":1},4273]
[{"$f":"POISSON(B4278,Berekening!$G$27,TRUE)","v":1},4274,{"$f":"POISSON(D4278,Berekening!$G$50,TRUE)","v":1},4274,{"$f":"POISSON(F4278,Berekening!$G$52,TRUE)","v":1},4274]
[{"$f":"POISSON(B4279,Berekening!$G$27,TRUE)","v":1},4275,{"$f":"POISSON(D4279,Berekening!$G$50,TRUE)","v":1},4275,{"$f":"POISSON(F4279,Berekening!$G$52,TRUE)","v":1},4275]
[{"$f":"POISSON(B4280,Berekening!$G$27,TRUE)","v":1},4276,{"$f":"POISSON(D4280,Berekening!$G$50,TRUE)","v":1},4276,{"$f":"POISSON(F4280,Berekening!$G$52,TRUE)","v":1},4276]
[{"$f":"POISSON(B4281,Berekening!$G$27,TRUE)","v":1},4277,{"$f":"POISSON(D4281,Berekening!$G$50,TRUE)","v":1},4277,{"$f":"POISSON(F4281,Berekening!$G$52,TRUE)","v":1},4277]
[{"$f":"POISSON(B4282,Berekening!$G$27,TRUE)","v":1},4278,{"$f":"POISSON(D4282,Berekening!$G$50,TRUE)","v":1},4278,{"$f":"POISSON(F4282,Berekening!$G$52,TRUE)","v":1},4278]
[{"$f":"POISSON(B4283,Berekening!$G$27,TRUE)","v":1},4279,{"$f":"POISSON(D4283,Berekening!$G$50,TRUE)","v":1},4279,{"$f":"POISSON(F4283,Berekening!$G$52,TRUE)","v":1},4279]
[{"$f":"POISSON(B4284,Berekening!$G$27,TRUE)","v":1},4280,{"$f":"POISSON(D4284,Berekening!$G$50,TRUE)","v":1},4280,{"$f":"POISSON(F4284,Berekening!$G$52,TRUE)","v":1},4280]
[{"$f":"POISSON(B4285,Berekening!$G$27,TRUE)","v":1},4281,{"$f":"POISSON(D4285,Berekening!$G$50,TRUE)","v":1},4281,{"$f":"POISSON(F4285,Berekening!$G$52,TRUE)","v":1},4281]
[{"$f":"POISSON(B4286,Berekening!$G$27,TRUE)","v":1},4282,{"$f":"POISSON(D4286,Berekening!$G$50,TRUE)","v":1},4282,{"$f":"POISSON(F4286,Berekening!$G$52,TRUE)","v":1},4282]
[{"$f":"POISSON(B4287,Berekening!$G$27,TRUE)","v":1},4283,{"$f":"POISSON(D4287,Berekening!$G$50,TRUE)","v":1},4283,{"$f":"POISSON(F4287,Berekening!$G$52,TRUE)","v":1},4283]
[{"$f":"POISSON(B4288,Berekening!$G$27,TRUE)","v":1},4284,{"$f":"POISSON(D4288,Berekening!$G$50,TRUE)","v":1},4284,{"$f":"POISSON(F4288,Berekening!$G$52,TRUE)","v":1},4284]
[{"$f":"POISSON(B4289,Berekening!$G$27,TRUE)","v":1},4285,{"$f":"POISSON(D4289,Berekening!$G$50,TRUE)","v":1},4285,{"$f":"POISSON(F4289,Berekening!$G$52,TRUE)","v":1},4285]
[{"$f":"POISSON(B4290,Berekening!$G$27,TRUE)","v":1},4286,{"$f":"POISSON(D4290,Berekening!$G$50,TRUE)","v":1},4286,{"$f":"POISSON(F4290,Berekening!$G$52,TRUE)","v":1},4286]
[{"$f":"POISSON(B4291,Berekening!$G$27,TRUE)","v":1},4287,{"$f":"POISSON(D4291,Berekening!$G$50,TRUE)","v":1},4287,{"$f":"POISSON(F4291,Berekening!$G$52,TRUE)","v":1},4287]
[{"$f":"POISSON(B4292,Berekening!$G$27,TRUE)","v":1},4288,{"$f":"POISSON(D4292,Berekening!$G$50,TRUE)","v":1},4288,{"$f":"POISSON(F4292,Berekening!$G$52,TRUE)","v":1},4288]
[{"$f":"POISSON(B4293,Berekening!$G$27,TRUE)","v":1},4289,{"$f":"POISSON(D4293,Berekening!$G$50,TRUE)","v":1},4289,{"$f":"POISSON(F4293,Berekening!$G$52,TRUE)","v":1},4289]
[{"$f":"POISSON(B4294,Berekening!$G$27,TRUE)","v":1},4290,{"$f":"POISSON(D4294,Berekening!$G$50,TRUE)","v":1},4290,{"$f":"POISSON(F4294,Berekening!$G$52,TRUE)","v":1},4290]
[{"$f":"POISSON(B4295,Berekening!$G$27,TRUE)","v":1},4291,{"$f":"POISSON(D4295,Berekening!$G$50,TRUE)","v":1},4291,{"$f":"POISSON(F4295,Berekening!$G$52,TRUE)","v":1},4291]
[{"$f":"POISSON(B4296,Berekening!$G$27,TRUE)","v":1},4292,{"$f":"POISSON(D4296,Berekening!$G$50,TRUE)","v":1},4292,{"$f":"POISSON(F4296,Berekening!$G$52,TRUE)","v":1},4292]
[{"$f":"POISSON(B4297,Berekening!$G$27,TRUE)","v":1},4293,{"$f":"POISSON(D4297,Berekening!$G$50,TRUE)","v":1},4293,{"$f":"POISSON(F4297,Berekening!$G$52,TRUE)","v":1},4293]
[{"$f":"POISSON(B4298,Berekening!$G$27,TRUE)","v":1},4294,{"$f":"POISSON(D4298,Berekening!$G$50,TRUE)","v":1},4294,{"$f":"POISSON(F4298,Berekening!$G$52,TRUE)","v":1},4294]
[{"$f":"POISSON(B4299,Berekening!$G$27,TRUE)","v":1},4295,{"$f":"POISSON(D4299,Berekening!$G$50,TRUE)","v":1},4295,{"$f":"POISSON(F4299,Berekening!$G$52,TRUE)","v":1},4295]
[{"$f":"POISSON(B4300,Berekening!$G$27,TRUE)","v":1},4296,{"$f":"POISSON(D4300,Berekening!$G$50,TRUE)","v":1},4296,{"$f":"POISSON(F4300,Berekening!$G$52,TRUE)","v":1},4296]
[{"$f":"POISSON(B4301,Berekening!$G$27,TRUE)","v":1},4297,{"$f":"POISSON(D4301,Berekening!$G$50,TRUE)","v":1},4297,{"$f":"POISSON(F4301,Berekening!$G$52,TRUE)","v":1},4297]
[{"$f":"POISSON(B4302,Berekening!$G$27,TRUE)","v":1},4298,{"$f":"POISSON(D4302,Berekening!$G$50,TRUE)","v":1},4298,{"$f":"POISSON(F4302,Berekening!$G$52,TRUE)","v":1},4298]
[{"$f":"POISSON(B4303,Berekening!$G$27,TRUE)","v":1},4299,{"$f":"POISSON(D4303,Berekening!$G$50,TRUE)","v":1},4299,{"$f":"POISSON(F4303,Berekening!$G$52,TRUE)","v":1},4299]
[{"$f":"POISSON(B4304,Berekening!$G$27,TRUE)","v":1},4300,{"$f":"POISSON(D4304,Berekening!$G$50,TRUE)","v":1},4300,{"$f":"POISSON(F4304,Berekening!$G$52,TRUE)","v":1},4300]
[{"$f":"POISSON(B4305,Berekening!$G$27,TRUE)","v":1},4301,{"$f":"POISSON(D4305,Berekening!$G$50,TRUE)","v":1},4301,{"$f":"POISSON(F4305,Berekening!$G$52,TRUE)","v":1},4301]
[{"$f":"POISSON(B4306,Berekening!$G$27,TRUE)","v":1},4302,{"$f":"POISSON(D4306,Berekening!$G$50,TRUE)","v":1},4302,{"$f":"POISSON(F4306,Berekening!$G$52,TRUE)","v":1},4302]
[{"$f":"POISSON(B4307,Berekening!$G$27,TRUE)","v":1},4303,{"$f":"POISSON(D4307,Berekening!$G$50,TRUE)","v":1},4303,{"$f":"POISSON(F4307,Berekening!$G$52,TRUE)","v":1},4303]
[{"$f":"POISSON(B4308,Berekening!$G$27,TRUE)","v":1},4304,{"$f":"POISSON(D4308,Berekening!$G$50,TRUE)","v":1},4304,{"$f":"POISSON(F4308,Berekening!$G$52,TRUE)","v":1},4304]
[{"$f":"POISSON(B4309,Berekening!$G$27,TRUE)","v":1},4305,{"$f":"POISSON(D4309,Berekening!$G$50,TRUE)","v":1},4305,{"$f":"POISSON(F4309,Berekening!$G$52,TRUE)","v":1},4305]
[{"$f":"POISSON(B4310,Berekening!$G$27,TRUE)","v":1},4306,{"$f":"POISSON(D4310,Berekening!$G$50,TRUE)","v":1},4306,{"$f":"POISSON(F4310,Berekening!$G$52,TRUE)","v":1},4306]
[{"$f":"POISSON(B4311,Berekening!$G$27,TRUE)","v":1},4307,{"$f":"POISSON(D4311,Berekening!$G$50,TRUE)","v":1},4307,{"$f":"POISSON(F4311,Berekening!$G$52,TRUE)","v":1},4307]
[{"$f":"POISSON(B4312,Berekening!$G$27,TRUE)","v":1},4308,{"$f":"POISSON(D4312,Berekening!$G$50,TRUE)","v":1},4308,{"$f":"POISSON(F4312,Berekening!$G$52,TRUE)","v":1},4308]
[{"$f":"POISSON(B4313,Berekening!$G$27,TRUE)","v":1},4309,{"$f":"POISSON(D4313,Berekening!$G$50,TRUE)","v":1},4309,{"$f":"POISSON(F4313,Berekening!$G$52,TRUE)","v":1},4309]
[{"$f":"POISSON(B4314,Berekening!$G$27,TRUE)","v":1},4310,{"$f":"POISSON(D4314,Berekening!$G$50,TRUE)","v":1},4310,{"$f":"POISSON(F4314,Berekening!$G$52,TRUE)","v":1},4310]
[{"$f":"POISSON(B4315,Berekening!$G$27,TRUE)","v":1},4311,{"$f":"POISSON(D4315,Berekening!$G$50,TRUE)","v":1},4311,{"$f":"POISSON(F4315,Berekening!$G$52,TRUE)","v":1},4311]
[{"$f":"POISSON(B4316,Berekening!$G$27,TRUE)","v":1},4312,{"$f":"POISSON(D4316,Berekening!$G$50,TRUE)","v":1},4312,{"$f":"POISSON(F4316,Berekening!$G$52,TRUE)","v":1},4312]
[{"$f":"POISSON(B4317,Berekening!$G$27,TRUE)","v":1},4313,{"$f":"POISSON(D4317,Berekening!$G$50,TRUE)","v":1},4313,{"$f":"POISSON(F4317,Berekening!$G$52,TRUE)","v":1},4313]
[{"$f":"POISSON(B4318,Berekening!$G$27,TRUE)","v":1},4314,{"$f":"POISSON(D4318,Berekening!$G$50,TRUE)","v":1},4314,{"$f":"POISSON(F4318,Berekening!$G$52,TRUE)","v":1},4314]
[{"$f":"POISSON(B4319,Berekening!$G$27,TRUE)","v":1},4315,{"$f":"POISSON(D4319,Berekening!$G$50,TRUE)","v":1},4315,{"$f":"POISSON(F4319,Berekening!$G$52,TRUE)","v":1},4315]
[{"$f":"POISSON(B4320,Berekening!$G$27,TRUE)","v":1},4316,{"$f":"POISSON(D4320,Berekening!$G$50,TRUE)","v":1},4316,{"$f":"POISSON(F4320,Berekening!$G$52,TRUE)","v":1},4316]
[{"$f":"POISSON(B4321,Berekening!$G$27,TRUE)","v":1},4317,{"$f":"POISSON(D4321,Berekening!$G$50,TRUE)","v":1},4317,{"$f":"POISSON(F4321,Berekening!$G$52,TRUE)","v":1},4317]
[{"$f":"POISSON(B4322,Berekening!$G$27,TRUE)","v":1},4318,{"$f":"POISSON(D4322,Berekening!$G$50,TRUE)","v":1},4318,{"$f":"POISSON(F4322,Berekening!$G$52,TRUE)","v":1},4318]
[{"$f":"POISSON(B4323,Berekening!$G$27,TRUE)","v":1},4319,{"$f":"POISSON(D4323,Berekening!$G$50,TRUE)","v":1},4319,{"$f":"POISSON(F4323,Berekening!$G$52,TRUE)","v":1},4319]
[{"$f":"POISSON(B4324,Berekening!$G$27,TRUE)","v":1},4320,{"$f":"POISSON(D4324,Berekening!$G$50,TRUE)","v":1},4320,{"$f":"POISSON(F4324,Berekening!$G$52,TRUE)","v":1},4320]
[{"$f":"POISSON(B4325,Berekening!$G$27,TRUE)","v":1},4321,{"$f":"POISSON(D4325,Berekening!$G$50,TRUE)","v":1},4321,{"$f":"POISSON(F4325,Berekening!$G$52,TRUE)","v":1},4321]
[{"$f":"POISSON(B4326,Berekening!$G$27,TRUE)","v":1},4322,{"$f":"POISSON(D4326,Berekening!$G$50,TRUE)","v":1},4322,{"$f":"POISSON(F4326,Berekening!$G$52,TRUE)","v":1},4322]
[{"$f":"POISSON(B4327,Berekening!$G$27,TRUE)","v":1},4323,{"$f":"POISSON(D4327,Berekening!$G$50,TRUE)","v":1},4323,{"$f":"POISSON(F4327,Berekening!$G$52,TRUE)","v":1},4323]
[{"$f":"POISSON(B4328,Berekening!$G$27,TRUE)","v":1},4324,{"$f":"POISSON(D4328,Berekening!$G$50,TRUE)","v":1},4324,{"$f":"POISSON(F4328,Berekening!$G$52,TRUE)","v":1},4324]
[{"$f":"POISSON(B4329,Berekening!$G$27,TRUE)","v":1},4325,{"$f":"POISSON(D4329,Berekening!$G$50,TRUE)","v":1},4325,{"$f":"POISSON(F4329,Berekening!$G$52,TRUE)","v":1},4325]
[{"$f":"POISSON(B4330,Berekening!$G$27,TRUE)","v":1},4326,{"$f":"POISSON(D4330,Berekening!$G$50,TRUE)","v":1},4326,{"$f":"POISSON(F4330,Berekening!$G$52,TRUE)","v":1},4326]
[{"$f":"POISSON(B4331,Berekening!$G$27,TRUE)","v":1},4327,{"$f":"POISSON(D4331,Berekening!$G$50,TRUE)","v":1},4327,{"$f":"POISSON(F4331,Berekening!$G$52,TRUE)","v":1},4327]
[{"$f":"POISSON(B4332,Berekening!$G$27,TRUE)","v":1},4328,{"$f":"POISSON(D4332,Berekening!$G$50,TRUE)","v":1},4328,{"$f":"POISSON(F4332,Berekening!$G$52,TRUE)","v":1},4328]
[{"$f":"POISSON(B4333,Berekening!$G$27,TRUE)","v":1},4329,{"$f":"POISSON(D4333,Berekening!$G$50,TRUE)","v":1},4329,{"$f":"POISSON(F4333,Berekening!$G$52,TRUE)","v":1},4329]
[{"$f":"POISSON(B4334,Berekening!$G$27,TRUE)","v":1},4330,{"$f":"POISSON(D4334,Berekening!$G$50,TRUE)","v":1},4330,{"$f":"POISSON(F4334,Berekening!$G$52,TRUE)","v":1},4330]
[{"$f":"POISSON(B4335,Berekening!$G$27,TRUE)","v":1},4331,{"$f":"POISSON(D4335,Berekening!$G$50,TRUE)","v":1},4331,{"$f":"POISSON(F4335,Berekening!$G$52,TRUE)","v":1},4331]
[{"$f":"POISSON(B4336,Berekening!$G$27,TRUE)","v":1},4332,{"$f":"POISSON(D4336,Berekening!$G$50,TRUE)","v":1},4332,{"$f":"POISSON(F4336,Berekening!$G$52,TRUE)","v":1},4332]
[{"$f":"POISSON(B4337,Berekening!$G$27,TRUE)","v":1},4333,{"$f":"POISSON(D4337,Berekening!$G$50,TRUE)","v":1},4333,{"$f":"POISSON(F4337,Berekening!$G$52,TRUE)","v":1},4333]
[{"$f":"POISSON(B4338,Berekening!$G$27,TRUE)","v":1},4334,{"$f":"POISSON(D4338,Berekening!$G$50,TRUE)","v":1},4334,{"$f":"POISSON(F4338,Berekening!$G$52,TRUE)","v":1},4334]
[{"$f":"POISSON(B4339,Berekening!$G$27,TRUE)","v":1},4335,{"$f":"POISSON(D4339,Berekening!$G$50,TRUE)","v":1},4335,{"$f":"POISSON(F4339,Berekening!$G$52,TRUE)","v":1},4335]
[{"$f":"POISSON(B4340,Berekening!$G$27,TRUE)","v":1},4336,{"$f":"POISSON(D4340,Berekening!$G$50,TRUE)","v":1},4336,{"$f":"POISSON(F4340,Berekening!$G$52,TRUE)","v":1},4336]
[{"$f":"POISSON(B4341,Berekening!$G$27,TRUE)","v":1},4337,{"$f":"POISSON(D4341,Berekening!$G$50,TRUE)","v":1},4337,{"$f":"POISSON(F4341,Berekening!$G$52,TRUE)","v":1},4337]
[{"$f":"POISSON(B4342,Berekening!$G$27,TRUE)","v":1},4338,{"$f":"POISSON(D4342,Berekening!$G$50,TRUE)","v":1},4338,{"$f":"POISSON(F4342,Berekening!$G$52,TRUE)","v":1},4338]
[{"$f":"POISSON(B4343,Berekening!$G$27,TRUE)","v":1},4339,{"$f":"POISSON(D4343,Berekening!$G$50,TRUE)","v":1},4339,{"$f":"POISSON(F4343,Berekening!$G$52,TRUE)","v":1},4339]
[{"$f":"POISSON(B4344,Berekening!$G$27,TRUE)","v":1},4340,{"$f":"POISSON(D4344,Berekening!$G$50,TRUE)","v":1},4340,{"$f":"POISSON(F4344,Berekening!$G$52,TRUE)","v":1},4340]
[{"$f":"POISSON(B4345,Berekening!$G$27,TRUE)","v":1},4341,{"$f":"POISSON(D4345,Berekening!$G$50,TRUE)","v":1},4341,{"$f":"POISSON(F4345,Berekening!$G$52,TRUE)","v":1},4341]
[{"$f":"POISSON(B4346,Berekening!$G$27,TRUE)","v":1},4342,{"$f":"POISSON(D4346,Berekening!$G$50,TRUE)","v":1},4342,{"$f":"POISSON(F4346,Berekening!$G$52,TRUE)","v":1},4342]
[{"$f":"POISSON(B4347,Berekening!$G$27,TRUE)","v":1},4343,{"$f":"POISSON(D4347,Berekening!$G$50,TRUE)","v":1},4343,{"$f":"POISSON(F4347,Berekening!$G$52,TRUE)","v":1},4343]
[{"$f":"POISSON(B4348,Berekening!$G$27,TRUE)","v":1},4344,{"$f":"POISSON(D4348,Berekening!$G$50,TRUE)","v":1},4344,{"$f":"POISSON(F4348,Berekening!$G$52,TRUE)","v":1},4344]
[{"$f":"POISSON(B4349,Berekening!$G$27,TRUE)","v":1},4345,{"$f":"POISSON(D4349,Berekening!$G$50,TRUE)","v":1},4345,{"$f":"POISSON(F4349,Berekening!$G$52,TRUE)","v":1},4345]
[{"$f":"POISSON(B4350,Berekening!$G$27,TRUE)","v":1},4346,{"$f":"POISSON(D4350,Berekening!$G$50,TRUE)","v":1},4346,{"$f":"POISSON(F4350,Berekening!$G$52,TRUE)","v":1},4346]
[{"$f":"POISSON(B4351,Berekening!$G$27,TRUE)","v":1},4347,{"$f":"POISSON(D4351,Berekening!$G$50,TRUE)","v":1},4347,{"$f":"POISSON(F4351,Berekening!$G$52,TRUE)","v":1},4347]
[{"$f":"POISSON(B4352,Berekening!$G$27,TRUE)","v":1},4348,{"$f":"POISSON(D4352,Berekening!$G$50,TRUE)","v":1},4348,{"$f":"POISSON(F4352,Berekening!$G$52,TRUE)","v":1},4348]
[{"$f":"POISSON(B4353,Berekening!$G$27,TRUE)","v":1},4349,{"$f":"POISSON(D4353,Berekening!$G$50,TRUE)","v":1},4349,{"$f":"POISSON(F4353,Berekening!$G$52,TRUE)","v":1},4349]
[{"$f":"POISSON(B4354,Berekening!$G$27,TRUE)","v":1},4350,{"$f":"POISSON(D4354,Berekening!$G$50,TRUE)","v":1},4350,{"$f":"POISSON(F4354,Berekening!$G$52,TRUE)","v":1},4350]
[{"$f":"POISSON(B4355,Berekening!$G$27,TRUE)","v":1},4351,{"$f":"POISSON(D4355,Berekening!$G$50,TRUE)","v":1},4351,{"$f":"POISSON(F4355,Berekening!$G$52,TRUE)","v":1},4351]
[{"$f":"POISSON(B4356,Berekening!$G$27,TRUE)","v":1},4352,{"$f":"POISSON(D4356,Berekening!$G$50,TRUE)","v":1},4352,{"$f":"POISSON(F4356,Berekening!$G$52,TRUE)","v":1},4352]
[{"$f":"POISSON(B4357,Berekening!$G$27,TRUE)","v":1},4353,{"$f":"POISSON(D4357,Berekening!$G$50,TRUE)","v":1},4353,{"$f":"POISSON(F4357,Berekening!$G$52,TRUE)","v":1},4353]
[{"$f":"POISSON(B4358,Berekening!$G$27,TRUE)","v":1},4354,{"$f":"POISSON(D4358,Berekening!$G$50,TRUE)","v":1},4354,{"$f":"POISSON(F4358,Berekening!$G$52,TRUE)","v":1},4354]
[{"$f":"POISSON(B4359,Berekening!$G$27,TRUE)","v":1},4355,{"$f":"POISSON(D4359,Berekening!$G$50,TRUE)","v":1},4355,{"$f":"POISSON(F4359,Berekening!$G$52,TRUE)","v":1},4355]
[{"$f":"POISSON(B4360,Berekening!$G$27,TRUE)","v":1},4356,{"$f":"POISSON(D4360,Berekening!$G$50,TRUE)","v":1},4356,{"$f":"POISSON(F4360,Berekening!$G$52,TRUE)","v":1},4356]
[{"$f":"POISSON(B4361,Berekening!$G$27,TRUE)","v":1},4357,{"$f":"POISSON(D4361,Berekening!$G$50,TRUE)","v":1},4357,{"$f":"POISSON(F4361,Berekening!$G$52,TRUE)","v":1},4357]
[{"$f":"POISSON(B4362,Berekening!$G$27,TRUE)","v":1},4358,{"$f":"POISSON(D4362,Berekening!$G$50,TRUE)","v":1},4358,{"$f":"POISSON(F4362,Berekening!$G$52,TRUE)","v":1},4358]
[{"$f":"POISSON(B4363,Berekening!$G$27,TRUE)","v":1},4359,{"$f":"POISSON(D4363,Berekening!$G$50,TRUE)","v":1},4359,{"$f":"POISSON(F4363,Berekening!$G$52,TRUE)","v":1},4359]
[{"$f":"POISSON(B4364,Berekening!$G$27,TRUE)","v":1},4360,{"$f":"POISSON(D4364,Berekening!$G$50,TRUE)","v":1},4360,{"$f":"POISSON(F4364,Berekening!$G$52,TRUE)","v":1},4360]
[{"$f":"POISSON(B4365,Berekening!$G$27,TRUE)","v":1},4361,{"$f":"POISSON(D4365,Berekening!$G$50,TRUE)","v":1},4361,{"$f":"POISSON(F4365,Berekening!$G$52,TRUE)","v":1},4361]
[{"$f":"POISSON(B4366,Berekening!$G$27,TRUE)","v":1},4362,{"$f":"POISSON(D4366,Berekening!$G$50,TRUE)","v":1},4362,{"$f":"POISSON(F4366,Berekening!$G$52,TRUE)","v":1},4362]
[{"$f":"POISSON(B4367,Berekening!$G$27,TRUE)","v":1},4363,{"$f":"POISSON(D4367,Berekening!$G$50,TRUE)","v":1},4363,{"$f":"POISSON(F4367,Berekening!$G$52,TRUE)","v":1},4363]
[{"$f":"POISSON(B4368,Berekening!$G$27,TRUE)","v":1},4364,{"$f":"POISSON(D4368,Berekening!$G$50,TRUE)","v":1},4364,{"$f":"POISSON(F4368,Berekening!$G$52,TRUE)","v":1},4364]
[{"$f":"POISSON(B4369,Berekening!$G$27,TRUE)","v":1},4365,{"$f":"POISSON(D4369,Berekening!$G$50,TRUE)","v":1},4365,{"$f":"POISSON(F4369,Berekening!$G$52,TRUE)","v":1},4365]
[{"$f":"POISSON(B4370,Berekening!$G$27,TRUE)","v":1},4366,{"$f":"POISSON(D4370,Berekening!$G$50,TRUE)","v":1},4366,{"$f":"POISSON(F4370,Berekening!$G$52,TRUE)","v":1},4366]
[{"$f":"POISSON(B4371,Berekening!$G$27,TRUE)","v":1},4367,{"$f":"POISSON(D4371,Berekening!$G$50,TRUE)","v":1},4367,{"$f":"POISSON(F4371,Berekening!$G$52,TRUE)","v":1},4367]
[{"$f":"POISSON(B4372,Berekening!$G$27,TRUE)","v":1},4368,{"$f":"POISSON(D4372,Berekening!$G$50,TRUE)","v":1},4368,{"$f":"POISSON(F4372,Berekening!$G$52,TRUE)","v":1},4368]
[{"$f":"POISSON(B4373,Berekening!$G$27,TRUE)","v":1},4369,{"$f":"POISSON(D4373,Berekening!$G$50,TRUE)","v":1},4369,{"$f":"POISSON(F4373,Berekening!$G$52,TRUE)","v":1},4369]
[{"$f":"POISSON(B4374,Berekening!$G$27,TRUE)","v":1},4370,{"$f":"POISSON(D4374,Berekening!$G$50,TRUE)","v":1},4370,{"$f":"POISSON(F4374,Berekening!$G$52,TRUE)","v":1},4370]
[{"$f":"POISSON(B4375,Berekening!$G$27,TRUE)","v":1},4371,{"$f":"POISSON(D4375,Berekening!$G$50,TRUE)","v":1},4371,{"$f":"POISSON(F4375,Berekening!$G$52,TRUE)","v":1},4371]
[{"$f":"POISSON(B4376,Berekening!$G$27,TRUE)","v":1},4372,{"$f":"POISSON(D4376,Berekening!$G$50,TRUE)","v":1},4372,{"$f":"POISSON(F4376,Berekening!$G$52,TRUE)","v":1},4372]
[{"$f":"POISSON(B4377,Berekening!$G$27,TRUE)","v":1},4373,{"$f":"POISSON(D4377,Berekening!$G$50,TRUE)","v":1},4373,{"$f":"POISSON(F4377,Berekening!$G$52,TRUE)","v":1},4373]
[{"$f":"POISSON(B4378,Berekening!$G$27,TRUE)","v":1},4374,{"$f":"POISSON(D4378,Berekening!$G$50,TRUE)","v":1},4374,{"$f":"POISSON(F4378,Berekening!$G$52,TRUE)","v":1},4374]
[{"$f":"POISSON(B4379,Berekening!$G$27,TRUE)","v":1},4375,{"$f":"POISSON(D4379,Berekening!$G$50,TRUE)","v":1},4375,{"$f":"POISSON(F4379,Berekening!$G$52,TRUE)","v":1},4375]
[{"$f":"POISSON(B4380,Berekening!$G$27,TRUE)","v":1},4376,{"$f":"POISSON(D4380,Berekening!$G$50,TRUE)","v":1},4376,{"$f":"POISSON(F4380,Berekening!$G$52,TRUE)","v":1},4376]
[{"$f":"POISSON(B4381,Berekening!$G$27,TRUE)","v":1},4377,{"$f":"POISSON(D4381,Berekening!$G$50,TRUE)","v":1},4377,{"$f":"POISSON(F4381,Berekening!$G$52,TRUE)","v":1},4377]
[{"$f":"POISSON(B4382,Berekening!$G$27,TRUE)","v":1},4378,{"$f":"POISSON(D4382,Berekening!$G$50,TRUE)","v":1},4378,{"$f":"POISSON(F4382,Berekening!$G$52,TRUE)","v":1},4378]
[{"$f":"POISSON(B4383,Berekening!$G$27,TRUE)","v":1},4379,{"$f":"POISSON(D4383,Berekening!$G$50,TRUE)","v":1},4379,{"$f":"POISSON(F4383,Berekening!$G$52,TRUE)","v":1},4379]
[{"$f":"POISSON(B4384,Berekening!$G$27,TRUE)","v":1},4380,{"$f":"POISSON(D4384,Berekening!$G$50,TRUE)","v":1},4380,{"$f":"POISSON(F4384,Berekening!$G$52,TRUE)","v":1},4380]
[{"$f":"POISSON(B4385,Berekening!$G$27,TRUE)","v":1},4381,{"$f":"POISSON(D4385,Berekening!$G$50,TRUE)","v":1},4381,{"$f":"POISSON(F4385,Berekening!$G$52,TRUE)","v":1},4381]
[{"$f":"POISSON(B4386,Berekening!$G$27,TRUE)","v":1},4382,{"$f":"POISSON(D4386,Berekening!$G$50,TRUE)","v":1},4382,{"$f":"POISSON(F4386,Berekening!$G$52,TRUE)","v":1},4382]
[{"$f":"POISSON(B4387,Berekening!$G$27,TRUE)","v":1},4383,{"$f":"POISSON(D4387,Berekening!$G$50,TRUE)","v":1},4383,{"$f":"POISSON(F4387,Berekening!$G$52,TRUE)","v":1},4383]
[{"$f":"POISSON(B4388,Berekening!$G$27,TRUE)","v":1},4384,{"$f":"POISSON(D4388,Berekening!$G$50,TRUE)","v":1},4384,{"$f":"POISSON(F4388,Berekening!$G$52,TRUE)","v":1},4384]
[{"$f":"POISSON(B4389,Berekening!$G$27,TRUE)","v":1},4385,{"$f":"POISSON(D4389,Berekening!$G$50,TRUE)","v":1},4385,{"$f":"POISSON(F4389,Berekening!$G$52,TRUE)","v":1},4385]
[{"$f":"POISSON(B4390,Berekening!$G$27,TRUE)","v":1},4386,{"$f":"POISSON(D4390,Berekening!$G$50,TRUE)","v":1},4386,{"$f":"POISSON(F4390,Berekening!$G$52,TRUE)","v":1},4386]
[{"$f":"POISSON(B4391,Berekening!$G$27,TRUE)","v":1},4387,{"$f":"POISSON(D4391,Berekening!$G$50,TRUE)","v":1},4387,{"$f":"POISSON(F4391,Berekening!$G$52,TRUE)","v":1},4387]
[{"$f":"POISSON(B4392,Berekening!$G$27,TRUE)","v":1},4388,{"$f":"POISSON(D4392,Berekening!$G$50,TRUE)","v":1},4388,{"$f":"POISSON(F4392,Berekening!$G$52,TRUE)","v":1},4388]
[{"$f":"POISSON(B4393,Berekening!$G$27,TRUE)","v":1},4389,{"$f":"POISSON(D4393,Berekening!$G$50,TRUE)","v":1},4389,{"$f":"POISSON(F4393,Berekening!$G$52,TRUE)","v":1},4389]
[{"$f":"POISSON(B4394,Berekening!$G$27,TRUE)","v":1},4390,{"$f":"POISSON(D4394,Berekening!$G$50,TRUE)","v":1},4390,{"$f":"POISSON(F4394,Berekening!$G$52,TRUE)","v":1},4390]
[{"$f":"POISSON(B4395,Berekening!$G$27,TRUE)","v":1},4391,{"$f":"POISSON(D4395,Berekening!$G$50,TRUE)","v":1},4391,{"$f":"POISSON(F4395,Berekening!$G$52,TRUE)","v":1},4391]
[{"$f":"POISSON(B4396,Berekening!$G$27,TRUE)","v":1},4392,{"$f":"POISSON(D4396,Berekening!$G$50,TRUE)","v":1},4392,{"$f":"POISSON(F4396,Berekening!$G$52,TRUE)","v":1},4392]
[{"$f":"POISSON(B4397,Berekening!$G$27,TRUE)","v":1},4393,{"$f":"POISSON(D4397,Berekening!$G$50,TRUE)","v":1},4393,{"$f":"POISSON(F4397,Berekening!$G$52,TRUE)","v":1},4393]
[{"$f":"POISSON(B4398,Berekening!$G$27,TRUE)","v":1},4394,{"$f":"POISSON(D4398,Berekening!$G$50,TRUE)","v":1},4394,{"$f":"POISSON(F4398,Berekening!$G$52,TRUE)","v":1},4394]
[{"$f":"POISSON(B4399,Berekening!$G$27,TRUE)","v":1},4395,{"$f":"POISSON(D4399,Berekening!$G$50,TRUE)","v":1},4395,{"$f":"POISSON(F4399,Berekening!$G$52,TRUE)","v":1},4395]
[{"$f":"POISSON(B4400,Berekening!$G$27,TRUE)","v":1},4396,{"$f":"POISSON(D4400,Berekening!$G$50,TRUE)","v":1},4396,{"$f":"POISSON(F4400,Berekening!$G$52,TRUE)","v":1},4396]
[{"$f":"POISSON(B4401,Berekening!$G$27,TRUE)","v":1},4397,{"$f":"POISSON(D4401,Berekening!$G$50,TRUE)","v":1},4397,{"$f":"POISSON(F4401,Berekening!$G$52,TRUE)","v":1},4397]
[{"$f":"POISSON(B4402,Berekening!$G$27,TRUE)","v":1},4398,{"$f":"POISSON(D4402,Berekening!$G$50,TRUE)","v":1},4398,{"$f":"POISSON(F4402,Berekening!$G$52,TRUE)","v":1},4398]
[{"$f":"POISSON(B4403,Berekening!$G$27,TRUE)","v":1},4399,{"$f":"POISSON(D4403,Berekening!$G$50,TRUE)","v":1},4399,{"$f":"POISSON(F4403,Berekening!$G$52,TRUE)","v":1},4399]
[{"$f":"POISSON(B4404,Berekening!$G$27,TRUE)","v":1},4400,{"$f":"POISSON(D4404,Berekening!$G$50,TRUE)","v":1},4400,{"$f":"POISSON(F4404,Berekening!$G$52,TRUE)","v":1},4400]
[{"$f":"POISSON(B4405,Berekening!$G$27,TRUE)","v":1},4401,{"$f":"POISSON(D4405,Berekening!$G$50,TRUE)","v":1},4401,{"$f":"POISSON(F4405,Berekening!$G$52,TRUE)","v":1},4401]
[{"$f":"POISSON(B4406,Berekening!$G$27,TRUE)","v":1},4402,{"$f":"POISSON(D4406,Berekening!$G$50,TRUE)","v":1},4402,{"$f":"POISSON(F4406,Berekening!$G$52,TRUE)","v":1},4402]
[{"$f":"POISSON(B4407,Berekening!$G$27,TRUE)","v":1},4403,{"$f":"POISSON(D4407,Berekening!$G$50,TRUE)","v":1},4403,{"$f":"POISSON(F4407,Berekening!$G$52,TRUE)","v":1},4403]
[{"$f":"POISSON(B4408,Berekening!$G$27,TRUE)","v":1},4404,{"$f":"POISSON(D4408,Berekening!$G$50,TRUE)","v":1},4404,{"$f":"POISSON(F4408,Berekening!$G$52,TRUE)","v":1},4404]
[{"$f":"POISSON(B4409,Berekening!$G$27,TRUE)","v":1},4405,{"$f":"POISSON(D4409,Berekening!$G$50,TRUE)","v":1},4405,{"$f":"POISSON(F4409,Berekening!$G$52,TRUE)","v":1},4405]
[{"$f":"POISSON(B4410,Berekening!$G$27,TRUE)","v":1},4406,{"$f":"POISSON(D4410,Berekening!$G$50,TRUE)","v":1},4406,{"$f":"POISSON(F4410,Berekening!$G$52,TRUE)","v":1},4406]
[{"$f":"POISSON(B4411,Berekening!$G$27,TRUE)","v":1},4407,{"$f":"POISSON(D4411,Berekening!$G$50,TRUE)","v":1},4407,{"$f":"POISSON(F4411,Berekening!$G$52,TRUE)","v":1},4407]
[{"$f":"POISSON(B4412,Berekening!$G$27,TRUE)","v":1},4408,{"$f":"POISSON(D4412,Berekening!$G$50,TRUE)","v":1},4408,{"$f":"POISSON(F4412,Berekening!$G$52,TRUE)","v":1},4408]
[{"$f":"POISSON(B4413,Berekening!$G$27,TRUE)","v":1},4409,{"$f":"POISSON(D4413,Berekening!$G$50,TRUE)","v":1},4409,{"$f":"POISSON(F4413,Berekening!$G$52,TRUE)","v":1},4409]
[{"$f":"POISSON(B4414,Berekening!$G$27,TRUE)","v":1},4410,{"$f":"POISSON(D4414,Berekening!$G$50,TRUE)","v":1},4410,{"$f":"POISSON(F4414,Berekening!$G$52,TRUE)","v":1},4410]
[{"$f":"POISSON(B4415,Berekening!$G$27,TRUE)","v":1},4411,{"$f":"POISSON(D4415,Berekening!$G$50,TRUE)","v":1},4411,{"$f":"POISSON(F4415,Berekening!$G$52,TRUE)","v":1},4411]
[{"$f":"POISSON(B4416,Berekening!$G$27,TRUE)","v":1},4412,{"$f":"POISSON(D4416,Berekening!$G$50,TRUE)","v":1},4412,{"$f":"POISSON(F4416,Berekening!$G$52,TRUE)","v":1},4412]
[{"$f":"POISSON(B4417,Berekening!$G$27,TRUE)","v":1},4413,{"$f":"POISSON(D4417,Berekening!$G$50,TRUE)","v":1},4413,{"$f":"POISSON(F4417,Berekening!$G$52,TRUE)","v":1},4413]
[{"$f":"POISSON(B4418,Berekening!$G$27,TRUE)","v":1},4414,{"$f":"POISSON(D4418,Berekening!$G$50,TRUE)","v":1},4414,{"$f":"POISSON(F4418,Berekening!$G$52,TRUE)","v":1},4414]
[{"$f":"POISSON(B4419,Berekening!$G$27,TRUE)","v":1},4415,{"$f":"POISSON(D4419,Berekening!$G$50,TRUE)","v":1},4415,{"$f":"POISSON(F4419,Berekening!$G$52,TRUE)","v":1},4415]
[{"$f":"POISSON(B4420,Berekening!$G$27,TRUE)","v":1},4416,{"$f":"POISSON(D4420,Berekening!$G$50,TRUE)","v":1},4416,{"$f":"POISSON(F4420,Berekening!$G$52,TRUE)","v":1},4416]
[{"$f":"POISSON(B4421,Berekening!$G$27,TRUE)","v":1},4417,{"$f":"POISSON(D4421,Berekening!$G$50,TRUE)","v":1},4417,{"$f":"POISSON(F4421,Berekening!$G$52,TRUE)","v":1},4417]
[{"$f":"POISSON(B4422,Berekening!$G$27,TRUE)","v":1},4418,{"$f":"POISSON(D4422,Berekening!$G$50,TRUE)","v":1},4418,{"$f":"POISSON(F4422,Berekening!$G$52,TRUE)","v":1},4418]
[{"$f":"POISSON(B4423,Berekening!$G$27,TRUE)","v":1},4419,{"$f":"POISSON(D4423,Berekening!$G$50,TRUE)","v":1},4419,{"$f":"POISSON(F4423,Berekening!$G$52,TRUE)","v":1},4419]
[{"$f":"POISSON(B4424,Berekening!$G$27,TRUE)","v":1},4420,{"$f":"POISSON(D4424,Berekening!$G$50,TRUE)","v":1},4420,{"$f":"POISSON(F4424,Berekening!$G$52,TRUE)","v":1},4420]
[{"$f":"POISSON(B4425,Berekening!$G$27,TRUE)","v":1},4421,{"$f":"POISSON(D4425,Berekening!$G$50,TRUE)","v":1},4421,{"$f":"POISSON(F4425,Berekening!$G$52,TRUE)","v":1},4421]
[{"$f":"POISSON(B4426,Berekening!$G$27,TRUE)","v":1},4422,{"$f":"POISSON(D4426,Berekening!$G$50,TRUE)","v":1},4422,{"$f":"POISSON(F4426,Berekening!$G$52,TRUE)","v":1},4422]
[{"$f":"POISSON(B4427,Berekening!$G$27,TRUE)","v":1},4423,{"$f":"POISSON(D4427,Berekening!$G$50,TRUE)","v":1},4423,{"$f":"POISSON(F4427,Berekening!$G$52,TRUE)","v":1},4423]
[{"$f":"POISSON(B4428,Berekening!$G$27,TRUE)","v":1},4424,{"$f":"POISSON(D4428,Berekening!$G$50,TRUE)","v":1},4424,{"$f":"POISSON(F4428,Berekening!$G$52,TRUE)","v":1},4424]
[{"$f":"POISSON(B4429,Berekening!$G$27,TRUE)","v":1},4425,{"$f":"POISSON(D4429,Berekening!$G$50,TRUE)","v":1},4425,{"$f":"POISSON(F4429,Berekening!$G$52,TRUE)","v":1},4425]
[{"$f":"POISSON(B4430,Berekening!$G$27,TRUE)","v":1},4426,{"$f":"POISSON(D4430,Berekening!$G$50,TRUE)","v":1},4426,{"$f":"POISSON(F4430,Berekening!$G$52,TRUE)","v":1},4426]
[{"$f":"POISSON(B4431,Berekening!$G$27,TRUE)","v":1},4427,{"$f":"POISSON(D4431,Berekening!$G$50,TRUE)","v":1},4427,{"$f":"POISSON(F4431,Berekening!$G$52,TRUE)","v":1},4427]
[{"$f":"POISSON(B4432,Berekening!$G$27,TRUE)","v":1},4428,{"$f":"POISSON(D4432,Berekening!$G$50,TRUE)","v":1},4428,{"$f":"POISSON(F4432,Berekening!$G$52,TRUE)","v":1},4428]
[{"$f":"POISSON(B4433,Berekening!$G$27,TRUE)","v":1},4429,{"$f":"POISSON(D4433,Berekening!$G$50,TRUE)","v":1},4429,{"$f":"POISSON(F4433,Berekening!$G$52,TRUE)","v":1},4429]
[{"$f":"POISSON(B4434,Berekening!$G$27,TRUE)","v":1},4430,{"$f":"POISSON(D4434,Berekening!$G$50,TRUE)","v":1},4430,{"$f":"POISSON(F4434,Berekening!$G$52,TRUE)","v":1},4430]
[{"$f":"POISSON(B4435,Berekening!$G$27,TRUE)","v":1},4431,{"$f":"POISSON(D4435,Berekening!$G$50,TRUE)","v":1},4431,{"$f":"POISSON(F4435,Berekening!$G$52,TRUE)","v":1},4431]
[{"$f":"POISSON(B4436,Berekening!$G$27,TRUE)","v":1},4432,{"$f":"POISSON(D4436,Berekening!$G$50,TRUE)","v":1},4432,{"$f":"POISSON(F4436,Berekening!$G$52,TRUE)","v":1},4432]
[{"$f":"POISSON(B4437,Berekening!$G$27,TRUE)","v":1},4433,{"$f":"POISSON(D4437,Berekening!$G$50,TRUE)","v":1},4433,{"$f":"POISSON(F4437,Berekening!$G$52,TRUE)","v":1},4433]
[{"$f":"POISSON(B4438,Berekening!$G$27,TRUE)","v":1},4434,{"$f":"POISSON(D4438,Berekening!$G$50,TRUE)","v":1},4434,{"$f":"POISSON(F4438,Berekening!$G$52,TRUE)","v":1},4434]
[{"$f":"POISSON(B4439,Berekening!$G$27,TRUE)","v":1},4435,{"$f":"POISSON(D4439,Berekening!$G$50,TRUE)","v":1},4435,{"$f":"POISSON(F4439,Berekening!$G$52,TRUE)","v":1},4435]
[{"$f":"POISSON(B4440,Berekening!$G$27,TRUE)","v":1},4436,{"$f":"POISSON(D4440,Berekening!$G$50,TRUE)","v":1},4436,{"$f":"POISSON(F4440,Berekening!$G$52,TRUE)","v":1},4436]
[{"$f":"POISSON(B4441,Berekening!$G$27,TRUE)","v":1},4437,{"$f":"POISSON(D4441,Berekening!$G$50,TRUE)","v":1},4437,{"$f":"POISSON(F4441,Berekening!$G$52,TRUE)","v":1},4437]
[{"$f":"POISSON(B4442,Berekening!$G$27,TRUE)","v":1},4438,{"$f":"POISSON(D4442,Berekening!$G$50,TRUE)","v":1},4438,{"$f":"POISSON(F4442,Berekening!$G$52,TRUE)","v":1},4438]
[{"$f":"POISSON(B4443,Berekening!$G$27,TRUE)","v":1},4439,{"$f":"POISSON(D4443,Berekening!$G$50,TRUE)","v":1},4439,{"$f":"POISSON(F4443,Berekening!$G$52,TRUE)","v":1},4439]
[{"$f":"POISSON(B4444,Berekening!$G$27,TRUE)","v":1},4440,{"$f":"POISSON(D4444,Berekening!$G$50,TRUE)","v":1},4440,{"$f":"POISSON(F4444,Berekening!$G$52,TRUE)","v":1},4440]
[{"$f":"POISSON(B4445,Berekening!$G$27,TRUE)","v":1},4441,{"$f":"POISSON(D4445,Berekening!$G$50,TRUE)","v":1},4441,{"$f":"POISSON(F4445,Berekening!$G$52,TRUE)","v":1},4441]
[{"$f":"POISSON(B4446,Berekening!$G$27,TRUE)","v":1},4442,{"$f":"POISSON(D4446,Berekening!$G$50,TRUE)","v":1},4442,{"$f":"POISSON(F4446,Berekening!$G$52,TRUE)","v":1},4442]
[{"$f":"POISSON(B4447,Berekening!$G$27,TRUE)","v":1},4443,{"$f":"POISSON(D4447,Berekening!$G$50,TRUE)","v":1},4443,{"$f":"POISSON(F4447,Berekening!$G$52,TRUE)","v":1},4443]
[{"$f":"POISSON(B4448,Berekening!$G$27,TRUE)","v":1},4444,{"$f":"POISSON(D4448,Berekening!$G$50,TRUE)","v":1},4444,{"$f":"POISSON(F4448,Berekening!$G$52,TRUE)","v":1},4444]
[{"$f":"POISSON(B4449,Berekening!$G$27,TRUE)","v":1},4445,{"$f":"POISSON(D4449,Berekening!$G$50,TRUE)","v":1},4445,{"$f":"POISSON(F4449,Berekening!$G$52,TRUE)","v":1},4445]
[{"$f":"POISSON(B4450,Berekening!$G$27,TRUE)","v":1},4446,{"$f":"POISSON(D4450,Berekening!$G$50,TRUE)","v":1},4446,{"$f":"POISSON(F4450,Berekening!$G$52,TRUE)","v":1},4446]
[{"$f":"POISSON(B4451,Berekening!$G$27,TRUE)","v":1},4447,{"$f":"POISSON(D4451,Berekening!$G$50,TRUE)","v":1},4447,{"$f":"POISSON(F4451,Berekening!$G$52,TRUE)","v":1},4447]
[{"$f":"POISSON(B4452,Berekening!$G$27,TRUE)","v":1},4448,{"$f":"POISSON(D4452,Berekening!$G$50,TRUE)","v":1},4448,{"$f":"POISSON(F4452,Berekening!$G$52,TRUE)","v":1},4448]
[{"$f":"POISSON(B4453,Berekening!$G$27,TRUE)","v":1},4449,{"$f":"POISSON(D4453,Berekening!$G$50,TRUE)","v":1},4449,{"$f":"POISSON(F4453,Berekening!$G$52,TRUE)","v":1},4449]
[{"$f":"POISSON(B4454,Berekening!$G$27,TRUE)","v":1},4450,{"$f":"POISSON(D4454,Berekening!$G$50,TRUE)","v":1},4450,{"$f":"POISSON(F4454,Berekening!$G$52,TRUE)","v":1},4450]
[{"$f":"POISSON(B4455,Berekening!$G$27,TRUE)","v":1},4451,{"$f":"POISSON(D4455,Berekening!$G$50,TRUE)","v":1},4451,{"$f":"POISSON(F4455,Berekening!$G$52,TRUE)","v":1},4451]
[{"$f":"POISSON(B4456,Berekening!$G$27,TRUE)","v":1},4452,{"$f":"POISSON(D4456,Berekening!$G$50,TRUE)","v":1},4452,{"$f":"POISSON(F4456,Berekening!$G$52,TRUE)","v":1},4452]
[{"$f":"POISSON(B4457,Berekening!$G$27,TRUE)","v":1},4453,{"$f":"POISSON(D4457,Berekening!$G$50,TRUE)","v":1},4453,{"$f":"POISSON(F4457,Berekening!$G$52,TRUE)","v":1},4453]
[{"$f":"POISSON(B4458,Berekening!$G$27,TRUE)","v":1},4454,{"$f":"POISSON(D4458,Berekening!$G$50,TRUE)","v":1},4454,{"$f":"POISSON(F4458,Berekening!$G$52,TRUE)","v":1},4454]
[{"$f":"POISSON(B4459,Berekening!$G$27,TRUE)","v":1},4455,{"$f":"POISSON(D4459,Berekening!$G$50,TRUE)","v":1},4455,{"$f":"POISSON(F4459,Berekening!$G$52,TRUE)","v":1},4455]
[{"$f":"POISSON(B4460,Berekening!$G$27,TRUE)","v":1},4456,{"$f":"POISSON(D4460,Berekening!$G$50,TRUE)","v":1},4456,{"$f":"POISSON(F4460,Berekening!$G$52,TRUE)","v":1},4456]
[{"$f":"POISSON(B4461,Berekening!$G$27,TRUE)","v":1},4457,{"$f":"POISSON(D4461,Berekening!$G$50,TRUE)","v":1},4457,{"$f":"POISSON(F4461,Berekening!$G$52,TRUE)","v":1},4457]
[{"$f":"POISSON(B4462,Berekening!$G$27,TRUE)","v":1},4458,{"$f":"POISSON(D4462,Berekening!$G$50,TRUE)","v":1},4458,{"$f":"POISSON(F4462,Berekening!$G$52,TRUE)","v":1},4458]
[{"$f":"POISSON(B4463,Berekening!$G$27,TRUE)","v":1},4459,{"$f":"POISSON(D4463,Berekening!$G$50,TRUE)","v":1},4459,{"$f":"POISSON(F4463,Berekening!$G$52,TRUE)","v":1},4459]
[{"$f":"POISSON(B4464,Berekening!$G$27,TRUE)","v":1},4460,{"$f":"POISSON(D4464,Berekening!$G$50,TRUE)","v":1},4460,{"$f":"POISSON(F4464,Berekening!$G$52,TRUE)","v":1},4460]
[{"$f":"POISSON(B4465,Berekening!$G$27,TRUE)","v":1},4461,{"$f":"POISSON(D4465,Berekening!$G$50,TRUE)","v":1},4461,{"$f":"POISSON(F4465,Berekening!$G$52,TRUE)","v":1},4461]
[{"$f":"POISSON(B4466,Berekening!$G$27,TRUE)","v":1},4462,{"$f":"POISSON(D4466,Berekening!$G$50,TRUE)","v":1},4462,{"$f":"POISSON(F4466,Berekening!$G$52,TRUE)","v":1},4462]
[{"$f":"POISSON(B4467,Berekening!$G$27,TRUE)","v":1},4463,{"$f":"POISSON(D4467,Berekening!$G$50,TRUE)","v":1},4463,{"$f":"POISSON(F4467,Berekening!$G$52,TRUE)","v":1},4463]
[{"$f":"POISSON(B4468,Berekening!$G$27,TRUE)","v":1},4464,{"$f":"POISSON(D4468,Berekening!$G$50,TRUE)","v":1},4464,{"$f":"POISSON(F4468,Berekening!$G$52,TRUE)","v":1},4464]
[{"$f":"POISSON(B4469,Berekening!$G$27,TRUE)","v":1},4465,{"$f":"POISSON(D4469,Berekening!$G$50,TRUE)","v":1},4465,{"$f":"POISSON(F4469,Berekening!$G$52,TRUE)","v":1},4465]
[{"$f":"POISSON(B4470,Berekening!$G$27,TRUE)","v":1},4466,{"$f":"POISSON(D4470,Berekening!$G$50,TRUE)","v":1},4466,{"$f":"POISSON(F4470,Berekening!$G$52,TRUE)","v":1},4466]
[{"$f":"POISSON(B4471,Berekening!$G$27,TRUE)","v":1},4467,{"$f":"POISSON(D4471,Berekening!$G$50,TRUE)","v":1},4467,{"$f":"POISSON(F4471,Berekening!$G$52,TRUE)","v":1},4467]
[{"$f":"POISSON(B4472,Berekening!$G$27,TRUE)","v":1},4468,{"$f":"POISSON(D4472,Berekening!$G$50,TRUE)","v":1},4468,{"$f":"POISSON(F4472,Berekening!$G$52,TRUE)","v":1},4468]
[{"$f":"POISSON(B4473,Berekening!$G$27,TRUE)","v":1},4469,{"$f":"POISSON(D4473,Berekening!$G$50,TRUE)","v":1},4469,{"$f":"POISSON(F4473,Berekening!$G$52,TRUE)","v":1},4469]
[{"$f":"POISSON(B4474,Berekening!$G$27,TRUE)","v":1},4470,{"$f":"POISSON(D4474,Berekening!$G$50,TRUE)","v":1},4470,{"$f":"POISSON(F4474,Berekening!$G$52,TRUE)","v":1},4470]
[{"$f":"POISSON(B4475,Berekening!$G$27,TRUE)","v":1},4471,{"$f":"POISSON(D4475,Berekening!$G$50,TRUE)","v":1},4471,{"$f":"POISSON(F4475,Berekening!$G$52,TRUE)","v":1},4471]
[{"$f":"POISSON(B4476,Berekening!$G$27,TRUE)","v":1},4472,{"$f":"POISSON(D4476,Berekening!$G$50,TRUE)","v":1},4472,{"$f":"POISSON(F4476,Berekening!$G$52,TRUE)","v":1},4472]
[{"$f":"POISSON(B4477,Berekening!$G$27,TRUE)","v":1},4473,{"$f":"POISSON(D4477,Berekening!$G$50,TRUE)","v":1},4473,{"$f":"POISSON(F4477,Berekening!$G$52,TRUE)","v":1},4473]
[{"$f":"POISSON(B4478,Berekening!$G$27,TRUE)","v":1},4474,{"$f":"POISSON(D4478,Berekening!$G$50,TRUE)","v":1},4474,{"$f":"POISSON(F4478,Berekening!$G$52,TRUE)","v":1},4474]
[{"$f":"POISSON(B4479,Berekening!$G$27,TRUE)","v":1},4475,{"$f":"POISSON(D4479,Berekening!$G$50,TRUE)","v":1},4475,{"$f":"POISSON(F4479,Berekening!$G$52,TRUE)","v":1},4475]
[{"$f":"POISSON(B4480,Berekening!$G$27,TRUE)","v":1},4476,{"$f":"POISSON(D4480,Berekening!$G$50,TRUE)","v":1},4476,{"$f":"POISSON(F4480,Berekening!$G$52,TRUE)","v":1},4476]
[{"$f":"POISSON(B4481,Berekening!$G$27,TRUE)","v":1},4477,{"$f":"POISSON(D4481,Berekening!$G$50,TRUE)","v":1},4477,{"$f":"POISSON(F4481,Berekening!$G$52,TRUE)","v":1},4477]
[{"$f":"POISSON(B4482,Berekening!$G$27,TRUE)","v":1},4478,{"$f":"POISSON(D4482,Berekening!$G$50,TRUE)","v":1},4478,{"$f":"POISSON(F4482,Berekening!$G$52,TRUE)","v":1},4478]
[{"$f":"POISSON(B4483,Berekening!$G$27,TRUE)","v":1},4479,{"$f":"POISSON(D4483,Berekening!$G$50,TRUE)","v":1},4479,{"$f":"POISSON(F4483,Berekening!$G$52,TRUE)","v":1},4479]
[{"$f":"POISSON(B4484,Berekening!$G$27,TRUE)","v":1},4480,{"$f":"POISSON(D4484,Berekening!$G$50,TRUE)","v":1},4480,{"$f":"POISSON(F4484,Berekening!$G$52,TRUE)","v":1},4480]
[{"$f":"POISSON(B4485,Berekening!$G$27,TRUE)","v":1},4481,{"$f":"POISSON(D4485,Berekening!$G$50,TRUE)","v":1},4481,{"$f":"POISSON(F4485,Berekening!$G$52,TRUE)","v":1},4481]
[{"$f":"POISSON(B4486,Berekening!$G$27,TRUE)","v":1},4482,{"$f":"POISSON(D4486,Berekening!$G$50,TRUE)","v":1},4482,{"$f":"POISSON(F4486,Berekening!$G$52,TRUE)","v":1},4482]
[{"$f":"POISSON(B4487,Berekening!$G$27,TRUE)","v":1},4483,{"$f":"POISSON(D4487,Berekening!$G$50,TRUE)","v":1},4483,{"$f":"POISSON(F4487,Berekening!$G$52,TRUE)","v":1},4483]
[{"$f":"POISSON(B4488,Berekening!$G$27,TRUE)","v":1},4484,{"$f":"POISSON(D4488,Berekening!$G$50,TRUE)","v":1},4484,{"$f":"POISSON(F4488,Berekening!$G$52,TRUE)","v":1},4484]
[{"$f":"POISSON(B4489,Berekening!$G$27,TRUE)","v":1},4485,{"$f":"POISSON(D4489,Berekening!$G$50,TRUE)","v":1},4485,{"$f":"POISSON(F4489,Berekening!$G$52,TRUE)","v":1},4485]
[{"$f":"POISSON(B4490,Berekening!$G$27,TRUE)","v":1},4486,{"$f":"POISSON(D4490,Berekening!$G$50,TRUE)","v":1},4486,{"$f":"POISSON(F4490,Berekening!$G$52,TRUE)","v":1},4486]
[{"$f":"POISSON(B4491,Berekening!$G$27,TRUE)","v":1},4487,{"$f":"POISSON(D4491,Berekening!$G$50,TRUE)","v":1},4487,{"$f":"POISSON(F4491,Berekening!$G$52,TRUE)","v":1},4487]
[{"$f":"POISSON(B4492,Berekening!$G$27,TRUE)","v":1},4488,{"$f":"POISSON(D4492,Berekening!$G$50,TRUE)","v":1},4488,{"$f":"POISSON(F4492,Berekening!$G$52,TRUE)","v":1},4488]
[{"$f":"POISSON(B4493,Berekening!$G$27,TRUE)","v":1},4489,{"$f":"POISSON(D4493,Berekening!$G$50,TRUE)","v":1},4489,{"$f":"POISSON(F4493,Berekening!$G$52,TRUE)","v":1},4489]
[{"$f":"POISSON(B4494,Berekening!$G$27,TRUE)","v":1},4490,{"$f":"POISSON(D4494,Berekening!$G$50,TRUE)","v":1},4490,{"$f":"POISSON(F4494,Berekening!$G$52,TRUE)","v":1},4490]
[{"$f":"POISSON(B4495,Berekening!$G$27,TRUE)","v":1},4491,{"$f":"POISSON(D4495,Berekening!$G$50,TRUE)","v":1},4491,{"$f":"POISSON(F4495,Berekening!$G$52,TRUE)","v":1},4491]
[{"$f":"POISSON(B4496,Berekening!$G$27,TRUE)","v":1},4492,{"$f":"POISSON(D4496,Berekening!$G$50,TRUE)","v":1},4492,{"$f":"POISSON(F4496,Berekening!$G$52,TRUE)","v":1},4492]
[{"$f":"POISSON(B4497,Berekening!$G$27,TRUE)","v":1},4493,{"$f":"POISSON(D4497,Berekening!$G$50,TRUE)","v":1},4493,{"$f":"POISSON(F4497,Berekening!$G$52,TRUE)","v":1},4493]
[{"$f":"POISSON(B4498,Berekening!$G$27,TRUE)","v":1},4494,{"$f":"POISSON(D4498,Berekening!$G$50,TRUE)","v":1},4494,{"$f":"POISSON(F4498,Berekening!$G$52,TRUE)","v":1},4494]
[{"$f":"POISSON(B4499,Berekening!$G$27,TRUE)","v":1},4495,{"$f":"POISSON(D4499,Berekening!$G$50,TRUE)","v":1},4495,{"$f":"POISSON(F4499,Berekening!$G$52,TRUE)","v":1},4495]
[{"$f":"POISSON(B4500,Berekening!$G$27,TRUE)","v":1},4496,{"$f":"POISSON(D4500,Berekening!$G$50,TRUE)","v":1},4496,{"$f":"POISSON(F4500,Berekening!$G$52,TRUE)","v":1},4496]
[{"$f":"POISSON(B4501,Berekening!$G$27,TRUE)","v":1},4497,{"$f":"POISSON(D4501,Berekening!$G$50,TRUE)","v":1},4497,{"$f":"POISSON(F4501,Berekening!$G$52,TRUE)","v":1},4497]
[{"$f":"POISSON(B4502,Berekening!$G$27,TRUE)","v":1},4498,{"$f":"POISSON(D4502,Berekening!$G$50,TRUE)","v":1},4498,{"$f":"POISSON(F4502,Berekening!$G$52,TRUE)","v":1},4498]
[{"$f":"POISSON(B4503,Berekening!$G$27,TRUE)","v":1},4499,{"$f":"POISSON(D4503,Berekening!$G$50,TRUE)","v":1},4499,{"$f":"POISSON(F4503,Berekening!$G$52,TRUE)","v":1},4499]
[{"$f":"POISSON(B4504,Berekening!$G$27,TRUE)","v":1},4500,{"$f":"POISSON(D4504,Berekening!$G$50,TRUE)","v":1},4500,{"$f":"POISSON(F4504,Berekening!$G$52,TRUE)","v":1},4500]
[{"$f":"POISSON(B4505,Berekening!$G$27,TRUE)","v":1},4501,{"$f":"POISSON(D4505,Berekening!$G$50,TRUE)","v":1},4501,{"$f":"POISSON(F4505,Berekening!$G$52,TRUE)","v":1},4501]
[{"$f":"POISSON(B4506,Berekening!$G$27,TRUE)","v":1},4502,{"$f":"POISSON(D4506,Berekening!$G$50,TRUE)","v":1},4502,{"$f":"POISSON(F4506,Berekening!$G$52,TRUE)","v":1},4502]
[{"$f":"POISSON(B4507,Berekening!$G$27,TRUE)","v":1},4503,{"$f":"POISSON(D4507,Berekening!$G$50,TRUE)","v":1},4503,{"$f":"POISSON(F4507,Berekening!$G$52,TRUE)","v":1},4503]
[{"$f":"POISSON(B4508,Berekening!$G$27,TRUE)","v":1},4504,{"$f":"POISSON(D4508,Berekening!$G$50,TRUE)","v":1},4504,{"$f":"POISSON(F4508,Berekening!$G$52,TRUE)","v":1},4504]
[{"$f":"POISSON(B4509,Berekening!$G$27,TRUE)","v":1},4505,{"$f":"POISSON(D4509,Berekening!$G$50,TRUE)","v":1},4505,{"$f":"POISSON(F4509,Berekening!$G$52,TRUE)","v":1},4505]
[{"$f":"POISSON(B4510,Berekening!$G$27,TRUE)","v":1},4506,{"$f":"POISSON(D4510,Berekening!$G$50,TRUE)","v":1},4506,{"$f":"POISSON(F4510,Berekening!$G$52,TRUE)","v":1},4506]
[{"$f":"POISSON(B4511,Berekening!$G$27,TRUE)","v":1},4507,{"$f":"POISSON(D4511,Berekening!$G$50,TRUE)","v":1},4507,{"$f":"POISSON(F4511,Berekening!$G$52,TRUE)","v":1},4507]
[{"$f":"POISSON(B4512,Berekening!$G$27,TRUE)","v":1},4508,{"$f":"POISSON(D4512,Berekening!$G$50,TRUE)","v":1},4508,{"$f":"POISSON(F4512,Berekening!$G$52,TRUE)","v":1},4508]
[{"$f":"POISSON(B4513,Berekening!$G$27,TRUE)","v":1},4509,{"$f":"POISSON(D4513,Berekening!$G$50,TRUE)","v":1},4509,{"$f":"POISSON(F4513,Berekening!$G$52,TRUE)","v":1},4509]
[{"$f":"POISSON(B4514,Berekening!$G$27,TRUE)","v":1},4510,{"$f":"POISSON(D4514,Berekening!$G$50,TRUE)","v":1},4510,{"$f":"POISSON(F4514,Berekening!$G$52,TRUE)","v":1},4510]
[{"$f":"POISSON(B4515,Berekening!$G$27,TRUE)","v":1},4511,{"$f":"POISSON(D4515,Berekening!$G$50,TRUE)","v":1},4511,{"$f":"POISSON(F4515,Berekening!$G$52,TRUE)","v":1},4511]
[{"$f":"POISSON(B4516,Berekening!$G$27,TRUE)","v":1},4512,{"$f":"POISSON(D4516,Berekening!$G$50,TRUE)","v":1},4512,{"$f":"POISSON(F4516,Berekening!$G$52,TRUE)","v":1},4512]
[{"$f":"POISSON(B4517,Berekening!$G$27,TRUE)","v":1},4513,{"$f":"POISSON(D4517,Berekening!$G$50,TRUE)","v":1},4513,{"$f":"POISSON(F4517,Berekening!$G$52,TRUE)","v":1},4513]
[{"$f":"POISSON(B4518,Berekening!$G$27,TRUE)","v":1},4514,{"$f":"POISSON(D4518,Berekening!$G$50,TRUE)","v":1},4514,{"$f":"POISSON(F4518,Berekening!$G$52,TRUE)","v":1},4514]
[{"$f":"POISSON(B4519,Berekening!$G$27,TRUE)","v":1},4515,{"$f":"POISSON(D4519,Berekening!$G$50,TRUE)","v":1},4515,{"$f":"POISSON(F4519,Berekening!$G$52,TRUE)","v":1},4515]
[{"$f":"POISSON(B4520,Berekening!$G$27,TRUE)","v":1},4516,{"$f":"POISSON(D4520,Berekening!$G$50,TRUE)","v":1},4516,{"$f":"POISSON(F4520,Berekening!$G$52,TRUE)","v":1},4516]
[{"$f":"POISSON(B4521,Berekening!$G$27,TRUE)","v":1},4517,{"$f":"POISSON(D4521,Berekening!$G$50,TRUE)","v":1},4517,{"$f":"POISSON(F4521,Berekening!$G$52,TRUE)","v":1},4517]
[{"$f":"POISSON(B4522,Berekening!$G$27,TRUE)","v":1},4518,{"$f":"POISSON(D4522,Berekening!$G$50,TRUE)","v":1},4518,{"$f":"POISSON(F4522,Berekening!$G$52,TRUE)","v":1},4518]
[{"$f":"POISSON(B4523,Berekening!$G$27,TRUE)","v":1},4519,{"$f":"POISSON(D4523,Berekening!$G$50,TRUE)","v":1},4519,{"$f":"POISSON(F4523,Berekening!$G$52,TRUE)","v":1},4519]
[{"$f":"POISSON(B4524,Berekening!$G$27,TRUE)","v":1},4520,{"$f":"POISSON(D4524,Berekening!$G$50,TRUE)","v":1},4520,{"$f":"POISSON(F4524,Berekening!$G$52,TRUE)","v":1},4520]
[{"$f":"POISSON(B4525,Berekening!$G$27,TRUE)","v":1},4521,{"$f":"POISSON(D4525,Berekening!$G$50,TRUE)","v":1},4521,{"$f":"POISSON(F4525,Berekening!$G$52,TRUE)","v":1},4521]
[{"$f":"POISSON(B4526,Berekening!$G$27,TRUE)","v":1},4522,{"$f":"POISSON(D4526,Berekening!$G$50,TRUE)","v":1},4522,{"$f":"POISSON(F4526,Berekening!$G$52,TRUE)","v":1},4522]
[{"$f":"POISSON(B4527,Berekening!$G$27,TRUE)","v":1},4523,{"$f":"POISSON(D4527,Berekening!$G$50,TRUE)","v":1},4523,{"$f":"POISSON(F4527,Berekening!$G$52,TRUE)","v":1},4523]
[{"$f":"POISSON(B4528,Berekening!$G$27,TRUE)","v":1},4524,{"$f":"POISSON(D4528,Berekening!$G$50,TRUE)","v":1},4524,{"$f":"POISSON(F4528,Berekening!$G$52,TRUE)","v":1},4524]
[{"$f":"POISSON(B4529,Berekening!$G$27,TRUE)","v":1},4525,{"$f":"POISSON(D4529,Berekening!$G$50,TRUE)","v":1},4525,{"$f":"POISSON(F4529,Berekening!$G$52,TRUE)","v":1},4525]
[{"$f":"POISSON(B4530,Berekening!$G$27,TRUE)","v":1},4526,{"$f":"POISSON(D4530,Berekening!$G$50,TRUE)","v":1},4526,{"$f":"POISSON(F4530,Berekening!$G$52,TRUE)","v":1},4526]
[{"$f":"POISSON(B4531,Berekening!$G$27,TRUE)","v":1},4527,{"$f":"POISSON(D4531,Berekening!$G$50,TRUE)","v":1},4527,{"$f":"POISSON(F4531,Berekening!$G$52,TRUE)","v":1},4527]
[{"$f":"POISSON(B4532,Berekening!$G$27,TRUE)","v":1},4528,{"$f":"POISSON(D4532,Berekening!$G$50,TRUE)","v":1},4528,{"$f":"POISSON(F4532,Berekening!$G$52,TRUE)","v":1},4528]
[{"$f":"POISSON(B4533,Berekening!$G$27,TRUE)","v":1},4529,{"$f":"POISSON(D4533,Berekening!$G$50,TRUE)","v":1},4529,{"$f":"POISSON(F4533,Berekening!$G$52,TRUE)","v":1},4529]
[{"$f":"POISSON(B4534,Berekening!$G$27,TRUE)","v":1},4530,{"$f":"POISSON(D4534,Berekening!$G$50,TRUE)","v":1},4530,{"$f":"POISSON(F4534,Berekening!$G$52,TRUE)","v":1},4530]
[{"$f":"POISSON(B4535,Berekening!$G$27,TRUE)","v":1},4531,{"$f":"POISSON(D4535,Berekening!$G$50,TRUE)","v":1},4531,{"$f":"POISSON(F4535,Berekening!$G$52,TRUE)","v":1},4531]
[{"$f":"POISSON(B4536,Berekening!$G$27,TRUE)","v":1},4532,{"$f":"POISSON(D4536,Berekening!$G$50,TRUE)","v":1},4532,{"$f":"POISSON(F4536,Berekening!$G$52,TRUE)","v":1},4532]
[{"$f":"POISSON(B4537,Berekening!$G$27,TRUE)","v":1},4533,{"$f":"POISSON(D4537,Berekening!$G$50,TRUE)","v":1},4533,{"$f":"POISSON(F4537,Berekening!$G$52,TRUE)","v":1},4533]
[{"$f":"POISSON(B4538,Berekening!$G$27,TRUE)","v":1},4534,{"$f":"POISSON(D4538,Berekening!$G$50,TRUE)","v":1},4534,{"$f":"POISSON(F4538,Berekening!$G$52,TRUE)","v":1},4534]
[{"$f":"POISSON(B4539,Berekening!$G$27,TRUE)","v":1},4535,{"$f":"POISSON(D4539,Berekening!$G$50,TRUE)","v":1},4535,{"$f":"POISSON(F4539,Berekening!$G$52,TRUE)","v":1},4535]
[{"$f":"POISSON(B4540,Berekening!$G$27,TRUE)","v":1},4536,{"$f":"POISSON(D4540,Berekening!$G$50,TRUE)","v":1},4536,{"$f":"POISSON(F4540,Berekening!$G$52,TRUE)","v":1},4536]
[{"$f":"POISSON(B4541,Berekening!$G$27,TRUE)","v":1},4537,{"$f":"POISSON(D4541,Berekening!$G$50,TRUE)","v":1},4537,{"$f":"POISSON(F4541,Berekening!$G$52,TRUE)","v":1},4537]
[{"$f":"POISSON(B4542,Berekening!$G$27,TRUE)","v":1},4538,{"$f":"POISSON(D4542,Berekening!$G$50,TRUE)","v":1},4538,{"$f":"POISSON(F4542,Berekening!$G$52,TRUE)","v":1},4538]
[{"$f":"POISSON(B4543,Berekening!$G$27,TRUE)","v":1},4539,{"$f":"POISSON(D4543,Berekening!$G$50,TRUE)","v":1},4539,{"$f":"POISSON(F4543,Berekening!$G$52,TRUE)","v":1},4539]
[{"$f":"POISSON(B4544,Berekening!$G$27,TRUE)","v":1},4540,{"$f":"POISSON(D4544,Berekening!$G$50,TRUE)","v":1},4540,{"$f":"POISSON(F4544,Berekening!$G$52,TRUE)","v":1},4540]
[{"$f":"POISSON(B4545,Berekening!$G$27,TRUE)","v":1},4541,{"$f":"POISSON(D4545,Berekening!$G$50,TRUE)","v":1},4541,{"$f":"POISSON(F4545,Berekening!$G$52,TRUE)","v":1},4541]
[{"$f":"POISSON(B4546,Berekening!$G$27,TRUE)","v":1},4542,{"$f":"POISSON(D4546,Berekening!$G$50,TRUE)","v":1},4542,{"$f":"POISSON(F4546,Berekening!$G$52,TRUE)","v":1},4542]
[{"$f":"POISSON(B4547,Berekening!$G$27,TRUE)","v":1},4543,{"$f":"POISSON(D4547,Berekening!$G$50,TRUE)","v":1},4543,{"$f":"POISSON(F4547,Berekening!$G$52,TRUE)","v":1},4543]
[{"$f":"POISSON(B4548,Berekening!$G$27,TRUE)","v":1},4544,{"$f":"POISSON(D4548,Berekening!$G$50,TRUE)","v":1},4544,{"$f":"POISSON(F4548,Berekening!$G$52,TRUE)","v":1},4544]
[{"$f":"POISSON(B4549,Berekening!$G$27,TRUE)","v":1},4545,{"$f":"POISSON(D4549,Berekening!$G$50,TRUE)","v":1},4545,{"$f":"POISSON(F4549,Berekening!$G$52,TRUE)","v":1},4545]
[{"$f":"POISSON(B4550,Berekening!$G$27,TRUE)","v":1},4546,{"$f":"POISSON(D4550,Berekening!$G$50,TRUE)","v":1},4546,{"$f":"POISSON(F4550,Berekening!$G$52,TRUE)","v":1},4546]
[{"$f":"POISSON(B4551,Berekening!$G$27,TRUE)","v":1},4547,{"$f":"POISSON(D4551,Berekening!$G$50,TRUE)","v":1},4547,{"$f":"POISSON(F4551,Berekening!$G$52,TRUE)","v":1},4547]
[{"$f":"POISSON(B4552,Berekening!$G$27,TRUE)","v":1},4548,{"$f":"POISSON(D4552,Berekening!$G$50,TRUE)","v":1},4548,{"$f":"POISSON(F4552,Berekening!$G$52,TRUE)","v":1},4548]
[{"$f":"POISSON(B4553,Berekening!$G$27,TRUE)","v":1},4549,{"$f":"POISSON(D4553,Berekening!$G$50,TRUE)","v":1},4549,{"$f":"POISSON(F4553,Berekening!$G$52,TRUE)","v":1},4549]
[{"$f":"POISSON(B4554,Berekening!$G$27,TRUE)","v":1},4550,{"$f":"POISSON(D4554,Berekening!$G$50,TRUE)","v":1},4550,{"$f":"POISSON(F4554,Berekening!$G$52,TRUE)","v":1},4550]
[{"$f":"POISSON(B4555,Berekening!$G$27,TRUE)","v":1},4551,{"$f":"POISSON(D4555,Berekening!$G$50,TRUE)","v":1},4551,{"$f":"POISSON(F4555,Berekening!$G$52,TRUE)","v":1},4551]
[{"$f":"POISSON(B4556,Berekening!$G$27,TRUE)","v":1},4552,{"$f":"POISSON(D4556,Berekening!$G$50,TRUE)","v":1},4552,{"$f":"POISSON(F4556,Berekening!$G$52,TRUE)","v":1},4552]
[{"$f":"POISSON(B4557,Berekening!$G$27,TRUE)","v":1},4553,{"$f":"POISSON(D4557,Berekening!$G$50,TRUE)","v":1},4553,{"$f":"POISSON(F4557,Berekening!$G$52,TRUE)","v":1},4553]
[{"$f":"POISSON(B4558,Berekening!$G$27,TRUE)","v":1},4554,{"$f":"POISSON(D4558,Berekening!$G$50,TRUE)","v":1},4554,{"$f":"POISSON(F4558,Berekening!$G$52,TRUE)","v":1},4554]
[{"$f":"POISSON(B4559,Berekening!$G$27,TRUE)","v":1},4555,{"$f":"POISSON(D4559,Berekening!$G$50,TRUE)","v":1},4555,{"$f":"POISSON(F4559,Berekening!$G$52,TRUE)","v":1},4555]
[{"$f":"POISSON(B4560,Berekening!$G$27,TRUE)","v":1},4556,{"$f":"POISSON(D4560,Berekening!$G$50,TRUE)","v":1},4556,{"$f":"POISSON(F4560,Berekening!$G$52,TRUE)","v":1},4556]
[{"$f":"POISSON(B4561,Berekening!$G$27,TRUE)","v":1},4557,{"$f":"POISSON(D4561,Berekening!$G$50,TRUE)","v":1},4557,{"$f":"POISSON(F4561,Berekening!$G$52,TRUE)","v":1},4557]
[{"$f":"POISSON(B4562,Berekening!$G$27,TRUE)","v":1},4558,{"$f":"POISSON(D4562,Berekening!$G$50,TRUE)","v":1},4558,{"$f":"POISSON(F4562,Berekening!$G$52,TRUE)","v":1},4558]
[{"$f":"POISSON(B4563,Berekening!$G$27,TRUE)","v":1},4559,{"$f":"POISSON(D4563,Berekening!$G$50,TRUE)","v":1},4559,{"$f":"POISSON(F4563,Berekening!$G$52,TRUE)","v":1},4559]
[{"$f":"POISSON(B4564,Berekening!$G$27,TRUE)","v":1},4560,{"$f":"POISSON(D4564,Berekening!$G$50,TRUE)","v":1},4560,{"$f":"POISSON(F4564,Berekening!$G$52,TRUE)","v":1},4560]
[{"$f":"POISSON(B4565,Berekening!$G$27,TRUE)","v":1},4561,{"$f":"POISSON(D4565,Berekening!$G$50,TRUE)","v":1},4561,{"$f":"POISSON(F4565,Berekening!$G$52,TRUE)","v":1},4561]
[{"$f":"POISSON(B4566,Berekening!$G$27,TRUE)","v":1},4562,{"$f":"POISSON(D4566,Berekening!$G$50,TRUE)","v":1},4562,{"$f":"POISSON(F4566,Berekening!$G$52,TRUE)","v":1},4562]
[{"$f":"POISSON(B4567,Berekening!$G$27,TRUE)","v":1},4563,{"$f":"POISSON(D4567,Berekening!$G$50,TRUE)","v":1},4563,{"$f":"POISSON(F4567,Berekening!$G$52,TRUE)","v":1},4563]
[{"$f":"POISSON(B4568,Berekening!$G$27,TRUE)","v":1},4564,{"$f":"POISSON(D4568,Berekening!$G$50,TRUE)","v":1},4564,{"$f":"POISSON(F4568,Berekening!$G$52,TRUE)","v":1},4564]
[{"$f":"POISSON(B4569,Berekening!$G$27,TRUE)","v":1},4565,{"$f":"POISSON(D4569,Berekening!$G$50,TRUE)","v":1},4565,{"$f":"POISSON(F4569,Berekening!$G$52,TRUE)","v":1},4565]
[{"$f":"POISSON(B4570,Berekening!$G$27,TRUE)","v":1},4566,{"$f":"POISSON(D4570,Berekening!$G$50,TRUE)","v":1},4566,{"$f":"POISSON(F4570,Berekening!$G$52,TRUE)","v":1},4566]
[{"$f":"POISSON(B4571,Berekening!$G$27,TRUE)","v":1},4567,{"$f":"POISSON(D4571,Berekening!$G$50,TRUE)","v":1},4567,{"$f":"POISSON(F4571,Berekening!$G$52,TRUE)","v":1},4567]
[{"$f":"POISSON(B4572,Berekening!$G$27,TRUE)","v":1},4568,{"$f":"POISSON(D4572,Berekening!$G$50,TRUE)","v":1},4568,{"$f":"POISSON(F4572,Berekening!$G$52,TRUE)","v":1},4568]
[{"$f":"POISSON(B4573,Berekening!$G$27,TRUE)","v":1},4569,{"$f":"POISSON(D4573,Berekening!$G$50,TRUE)","v":1},4569,{"$f":"POISSON(F4573,Berekening!$G$52,TRUE)","v":1},4569]
[{"$f":"POISSON(B4574,Berekening!$G$27,TRUE)","v":1},4570,{"$f":"POISSON(D4574,Berekening!$G$50,TRUE)","v":1},4570,{"$f":"POISSON(F4574,Berekening!$G$52,TRUE)","v":1},4570]
[{"$f":"POISSON(B4575,Berekening!$G$27,TRUE)","v":1},4571,{"$f":"POISSON(D4575,Berekening!$G$50,TRUE)","v":1},4571,{"$f":"POISSON(F4575,Berekening!$G$52,TRUE)","v":1},4571]
[{"$f":"POISSON(B4576,Berekening!$G$27,TRUE)","v":1},4572,{"$f":"POISSON(D4576,Berekening!$G$50,TRUE)","v":1},4572,{"$f":"POISSON(F4576,Berekening!$G$52,TRUE)","v":1},4572]
[{"$f":"POISSON(B4577,Berekening!$G$27,TRUE)","v":1},4573,{"$f":"POISSON(D4577,Berekening!$G$50,TRUE)","v":1},4573,{"$f":"POISSON(F4577,Berekening!$G$52,TRUE)","v":1},4573]
[{"$f":"POISSON(B4578,Berekening!$G$27,TRUE)","v":1},4574,{"$f":"POISSON(D4578,Berekening!$G$50,TRUE)","v":1},4574,{"$f":"POISSON(F4578,Berekening!$G$52,TRUE)","v":1},4574]
[{"$f":"POISSON(B4579,Berekening!$G$27,TRUE)","v":1},4575,{"$f":"POISSON(D4579,Berekening!$G$50,TRUE)","v":1},4575,{"$f":"POISSON(F4579,Berekening!$G$52,TRUE)","v":1},4575]
[{"$f":"POISSON(B4580,Berekening!$G$27,TRUE)","v":1},4576,{"$f":"POISSON(D4580,Berekening!$G$50,TRUE)","v":1},4576,{"$f":"POISSON(F4580,Berekening!$G$52,TRUE)","v":1},4576]
[{"$f":"POISSON(B4581,Berekening!$G$27,TRUE)","v":1},4577,{"$f":"POISSON(D4581,Berekening!$G$50,TRUE)","v":1},4577,{"$f":"POISSON(F4581,Berekening!$G$52,TRUE)","v":1},4577]
[{"$f":"POISSON(B4582,Berekening!$G$27,TRUE)","v":1},4578,{"$f":"POISSON(D4582,Berekening!$G$50,TRUE)","v":1},4578,{"$f":"POISSON(F4582,Berekening!$G$52,TRUE)","v":1},4578]
[{"$f":"POISSON(B4583,Berekening!$G$27,TRUE)","v":1},4579,{"$f":"POISSON(D4583,Berekening!$G$50,TRUE)","v":1},4579,{"$f":"POISSON(F4583,Berekening!$G$52,TRUE)","v":1},4579]
[{"$f":"POISSON(B4584,Berekening!$G$27,TRUE)","v":1},4580,{"$f":"POISSON(D4584,Berekening!$G$50,TRUE)","v":1},4580,{"$f":"POISSON(F4584,Berekening!$G$52,TRUE)","v":1},4580]
[{"$f":"POISSON(B4585,Berekening!$G$27,TRUE)","v":1},4581,{"$f":"POISSON(D4585,Berekening!$G$50,TRUE)","v":1},4581,{"$f":"POISSON(F4585,Berekening!$G$52,TRUE)","v":1},4581]
[{"$f":"POISSON(B4586,Berekening!$G$27,TRUE)","v":1},4582,{"$f":"POISSON(D4586,Berekening!$G$50,TRUE)","v":1},4582,{"$f":"POISSON(F4586,Berekening!$G$52,TRUE)","v":1},4582]
[{"$f":"POISSON(B4587,Berekening!$G$27,TRUE)","v":1},4583,{"$f":"POISSON(D4587,Berekening!$G$50,TRUE)","v":1},4583,{"$f":"POISSON(F4587,Berekening!$G$52,TRUE)","v":1},4583]
[{"$f":"POISSON(B4588,Berekening!$G$27,TRUE)","v":1},4584,{"$f":"POISSON(D4588,Berekening!$G$50,TRUE)","v":1},4584,{"$f":"POISSON(F4588,Berekening!$G$52,TRUE)","v":1},4584]
[{"$f":"POISSON(B4589,Berekening!$G$27,TRUE)","v":1},4585,{"$f":"POISSON(D4589,Berekening!$G$50,TRUE)","v":1},4585,{"$f":"POISSON(F4589,Berekening!$G$52,TRUE)","v":1},4585]
[{"$f":"POISSON(B4590,Berekening!$G$27,TRUE)","v":1},4586,{"$f":"POISSON(D4590,Berekening!$G$50,TRUE)","v":1},4586,{"$f":"POISSON(F4590,Berekening!$G$52,TRUE)","v":1},4586]
[{"$f":"POISSON(B4591,Berekening!$G$27,TRUE)","v":1},4587,{"$f":"POISSON(D4591,Berekening!$G$50,TRUE)","v":1},4587,{"$f":"POISSON(F4591,Berekening!$G$52,TRUE)","v":1},4587]
[{"$f":"POISSON(B4592,Berekening!$G$27,TRUE)","v":1},4588,{"$f":"POISSON(D4592,Berekening!$G$50,TRUE)","v":1},4588,{"$f":"POISSON(F4592,Berekening!$G$52,TRUE)","v":1},4588]
[{"$f":"POISSON(B4593,Berekening!$G$27,TRUE)","v":1},4589,{"$f":"POISSON(D4593,Berekening!$G$50,TRUE)","v":1},4589,{"$f":"POISSON(F4593,Berekening!$G$52,TRUE)","v":1},4589]
[{"$f":"POISSON(B4594,Berekening!$G$27,TRUE)","v":1},4590,{"$f":"POISSON(D4594,Berekening!$G$50,TRUE)","v":1},4590,{"$f":"POISSON(F4594,Berekening!$G$52,TRUE)","v":1},4590]
[{"$f":"POISSON(B4595,Berekening!$G$27,TRUE)","v":1},4591,{"$f":"POISSON(D4595,Berekening!$G$50,TRUE)","v":1},4591,{"$f":"POISSON(F4595,Berekening!$G$52,TRUE)","v":1},4591]
[{"$f":"POISSON(B4596,Berekening!$G$27,TRUE)","v":1},4592,{"$f":"POISSON(D4596,Berekening!$G$50,TRUE)","v":1},4592,{"$f":"POISSON(F4596,Berekening!$G$52,TRUE)","v":1},4592]
[{"$f":"POISSON(B4597,Berekening!$G$27,TRUE)","v":1},4593,{"$f":"POISSON(D4597,Berekening!$G$50,TRUE)","v":1},4593,{"$f":"POISSON(F4597,Berekening!$G$52,TRUE)","v":1},4593]
[{"$f":"POISSON(B4598,Berekening!$G$27,TRUE)","v":1},4594,{"$f":"POISSON(D4598,Berekening!$G$50,TRUE)","v":1},4594,{"$f":"POISSON(F4598,Berekening!$G$52,TRUE)","v":1},4594]
[{"$f":"POISSON(B4599,Berekening!$G$27,TRUE)","v":1},4595,{"$f":"POISSON(D4599,Berekening!$G$50,TRUE)","v":1},4595,{"$f":"POISSON(F4599,Berekening!$G$52,TRUE)","v":1},4595]
[{"$f":"POISSON(B4600,Berekening!$G$27,TRUE)","v":1},4596,{"$f":"POISSON(D4600,Berekening!$G$50,TRUE)","v":1},4596,{"$f":"POISSON(F4600,Berekening!$G$52,TRUE)","v":1},4596]
[{"$f":"POISSON(B4601,Berekening!$G$27,TRUE)","v":1},4597,{"$f":"POISSON(D4601,Berekening!$G$50,TRUE)","v":1},4597,{"$f":"POISSON(F4601,Berekening!$G$52,TRUE)","v":1},4597]
[{"$f":"POISSON(B4602,Berekening!$G$27,TRUE)","v":1},4598,{"$f":"POISSON(D4602,Berekening!$G$50,TRUE)","v":1},4598,{"$f":"POISSON(F4602,Berekening!$G$52,TRUE)","v":1},4598]
[{"$f":"POISSON(B4603,Berekening!$G$27,TRUE)","v":1},4599,{"$f":"POISSON(D4603,Berekening!$G$50,TRUE)","v":1},4599,{"$f":"POISSON(F4603,Berekening!$G$52,TRUE)","v":1},4599]
[{"$f":"POISSON(B4604,Berekening!$G$27,TRUE)","v":1},4600,{"$f":"POISSON(D4604,Berekening!$G$50,TRUE)","v":1},4600,{"$f":"POISSON(F4604,Berekening!$G$52,TRUE)","v":1},4600]
[{"$f":"POISSON(B4605,Berekening!$G$27,TRUE)","v":1},4601,{"$f":"POISSON(D4605,Berekening!$G$50,TRUE)","v":1},4601,{"$f":"POISSON(F4605,Berekening!$G$52,TRUE)","v":1},4601]
[{"$f":"POISSON(B4606,Berekening!$G$27,TRUE)","v":1},4602,{"$f":"POISSON(D4606,Berekening!$G$50,TRUE)","v":1},4602,{"$f":"POISSON(F4606,Berekening!$G$52,TRUE)","v":1},4602]
[{"$f":"POISSON(B4607,Berekening!$G$27,TRUE)","v":1},4603,{"$f":"POISSON(D4607,Berekening!$G$50,TRUE)","v":1},4603,{"$f":"POISSON(F4607,Berekening!$G$52,TRUE)","v":1},4603]
[{"$f":"POISSON(B4608,Berekening!$G$27,TRUE)","v":1},4604,{"$f":"POISSON(D4608,Berekening!$G$50,TRUE)","v":1},4604,{"$f":"POISSON(F4608,Berekening!$G$52,TRUE)","v":1},4604]
[{"$f":"POISSON(B4609,Berekening!$G$27,TRUE)","v":1},4605,{"$f":"POISSON(D4609,Berekening!$G$50,TRUE)","v":1},4605,{"$f":"POISSON(F4609,Berekening!$G$52,TRUE)","v":1},4605]
[{"$f":"POISSON(B4610,Berekening!$G$27,TRUE)","v":1},4606,{"$f":"POISSON(D4610,Berekening!$G$50,TRUE)","v":1},4606,{"$f":"POISSON(F4610,Berekening!$G$52,TRUE)","v":1},4606]
[{"$f":"POISSON(B4611,Berekening!$G$27,TRUE)","v":1},4607,{"$f":"POISSON(D4611,Berekening!$G$50,TRUE)","v":1},4607,{"$f":"POISSON(F4611,Berekening!$G$52,TRUE)","v":1},4607]
[{"$f":"POISSON(B4612,Berekening!$G$27,TRUE)","v":1},4608,{"$f":"POISSON(D4612,Berekening!$G$50,TRUE)","v":1},4608,{"$f":"POISSON(F4612,Berekening!$G$52,TRUE)","v":1},4608]
[{"$f":"POISSON(B4613,Berekening!$G$27,TRUE)","v":1},4609,{"$f":"POISSON(D4613,Berekening!$G$50,TRUE)","v":1},4609,{"$f":"POISSON(F4613,Berekening!$G$52,TRUE)","v":1},4609]
[{"$f":"POISSON(B4614,Berekening!$G$27,TRUE)","v":1},4610,{"$f":"POISSON(D4614,Berekening!$G$50,TRUE)","v":1},4610,{"$f":"POISSON(F4614,Berekening!$G$52,TRUE)","v":1},4610]
[{"$f":"POISSON(B4615,Berekening!$G$27,TRUE)","v":1},4611,{"$f":"POISSON(D4615,Berekening!$G$50,TRUE)","v":1},4611,{"$f":"POISSON(F4615,Berekening!$G$52,TRUE)","v":1},4611]
[{"$f":"POISSON(B4616,Berekening!$G$27,TRUE)","v":1},4612,{"$f":"POISSON(D4616,Berekening!$G$50,TRUE)","v":1},4612,{"$f":"POISSON(F4616,Berekening!$G$52,TRUE)","v":1},4612]
[{"$f":"POISSON(B4617,Berekening!$G$27,TRUE)","v":1},4613,{"$f":"POISSON(D4617,Berekening!$G$50,TRUE)","v":1},4613,{"$f":"POISSON(F4617,Berekening!$G$52,TRUE)","v":1},4613]
[{"$f":"POISSON(B4618,Berekening!$G$27,TRUE)","v":1},4614,{"$f":"POISSON(D4618,Berekening!$G$50,TRUE)","v":1},4614,{"$f":"POISSON(F4618,Berekening!$G$52,TRUE)","v":1},4614]
[{"$f":"POISSON(B4619,Berekening!$G$27,TRUE)","v":1},4615,{"$f":"POISSON(D4619,Berekening!$G$50,TRUE)","v":1},4615,{"$f":"POISSON(F4619,Berekening!$G$52,TRUE)","v":1},4615]
[{"$f":"POISSON(B4620,Berekening!$G$27,TRUE)","v":1},4616,{"$f":"POISSON(D4620,Berekening!$G$50,TRUE)","v":1},4616,{"$f":"POISSON(F4620,Berekening!$G$52,TRUE)","v":1},4616]
[{"$f":"POISSON(B4621,Berekening!$G$27,TRUE)","v":1},4617,{"$f":"POISSON(D4621,Berekening!$G$50,TRUE)","v":1},4617,{"$f":"POISSON(F4621,Berekening!$G$52,TRUE)","v":1},4617]
[{"$f":"POISSON(B4622,Berekening!$G$27,TRUE)","v":1},4618,{"$f":"POISSON(D4622,Berekening!$G$50,TRUE)","v":1},4618,{"$f":"POISSON(F4622,Berekening!$G$52,TRUE)","v":1},4618]
[{"$f":"POISSON(B4623,Berekening!$G$27,TRUE)","v":1},4619,{"$f":"POISSON(D4623,Berekening!$G$50,TRUE)","v":1},4619,{"$f":"POISSON(F4623,Berekening!$G$52,TRUE)","v":1},4619]
[{"$f":"POISSON(B4624,Berekening!$G$27,TRUE)","v":1},4620,{"$f":"POISSON(D4624,Berekening!$G$50,TRUE)","v":1},4620,{"$f":"POISSON(F4624,Berekening!$G$52,TRUE)","v":1},4620]
[{"$f":"POISSON(B4625,Berekening!$G$27,TRUE)","v":1},4621,{"$f":"POISSON(D4625,Berekening!$G$50,TRUE)","v":1},4621,{"$f":"POISSON(F4625,Berekening!$G$52,TRUE)","v":1},4621]
[{"$f":"POISSON(B4626,Berekening!$G$27,TRUE)","v":1},4622,{"$f":"POISSON(D4626,Berekening!$G$50,TRUE)","v":1},4622,{"$f":"POISSON(F4626,Berekening!$G$52,TRUE)","v":1},4622]
[{"$f":"POISSON(B4627,Berekening!$G$27,TRUE)","v":1},4623,{"$f":"POISSON(D4627,Berekening!$G$50,TRUE)","v":1},4623,{"$f":"POISSON(F4627,Berekening!$G$52,TRUE)","v":1},4623]
[{"$f":"POISSON(B4628,Berekening!$G$27,TRUE)","v":1},4624,{"$f":"POISSON(D4628,Berekening!$G$50,TRUE)","v":1},4624,{"$f":"POISSON(F4628,Berekening!$G$52,TRUE)","v":1},4624]
[{"$f":"POISSON(B4629,Berekening!$G$27,TRUE)","v":1},4625,{"$f":"POISSON(D4629,Berekening!$G$50,TRUE)","v":1},4625,{"$f":"POISSON(F4629,Berekening!$G$52,TRUE)","v":1},4625]
[{"$f":"POISSON(B4630,Berekening!$G$27,TRUE)","v":1},4626,{"$f":"POISSON(D4630,Berekening!$G$50,TRUE)","v":1},4626,{"$f":"POISSON(F4630,Berekening!$G$52,TRUE)","v":1},4626]
[{"$f":"POISSON(B4631,Berekening!$G$27,TRUE)","v":1},4627,{"$f":"POISSON(D4631,Berekening!$G$50,TRUE)","v":1},4627,{"$f":"POISSON(F4631,Berekening!$G$52,TRUE)","v":1},4627]
[{"$f":"POISSON(B4632,Berekening!$G$27,TRUE)","v":1},4628,{"$f":"POISSON(D4632,Berekening!$G$50,TRUE)","v":1},4628,{"$f":"POISSON(F4632,Berekening!$G$52,TRUE)","v":1},4628]
[{"$f":"POISSON(B4633,Berekening!$G$27,TRUE)","v":1},4629,{"$f":"POISSON(D4633,Berekening!$G$50,TRUE)","v":1},4629,{"$f":"POISSON(F4633,Berekening!$G$52,TRUE)","v":1},4629]
[{"$f":"POISSON(B4634,Berekening!$G$27,TRUE)","v":1},4630,{"$f":"POISSON(D4634,Berekening!$G$50,TRUE)","v":1},4630,{"$f":"POISSON(F4634,Berekening!$G$52,TRUE)","v":1},4630]
[{"$f":"POISSON(B4635,Berekening!$G$27,TRUE)","v":1},4631,{"$f":"POISSON(D4635,Berekening!$G$50,TRUE)","v":1},4631,{"$f":"POISSON(F4635,Berekening!$G$52,TRUE)","v":1},4631]
[{"$f":"POISSON(B4636,Berekening!$G$27,TRUE)","v":1},4632,{"$f":"POISSON(D4636,Berekening!$G$50,TRUE)","v":1},4632,{"$f":"POISSON(F4636,Berekening!$G$52,TRUE)","v":1},4632]
[{"$f":"POISSON(B4637,Berekening!$G$27,TRUE)","v":1},4633,{"$f":"POISSON(D4637,Berekening!$G$50,TRUE)","v":1},4633,{"$f":"POISSON(F4637,Berekening!$G$52,TRUE)","v":1},4633]
[{"$f":"POISSON(B4638,Berekening!$G$27,TRUE)","v":1},4634,{"$f":"POISSON(D4638,Berekening!$G$50,TRUE)","v":1},4634,{"$f":"POISSON(F4638,Berekening!$G$52,TRUE)","v":1},4634]
[{"$f":"POISSON(B4639,Berekening!$G$27,TRUE)","v":1},4635,{"$f":"POISSON(D4639,Berekening!$G$50,TRUE)","v":1},4635,{"$f":"POISSON(F4639,Berekening!$G$52,TRUE)","v":1},4635]
[{"$f":"POISSON(B4640,Berekening!$G$27,TRUE)","v":1},4636,{"$f":"POISSON(D4640,Berekening!$G$50,TRUE)","v":1},4636,{"$f":"POISSON(F4640,Berekening!$G$52,TRUE)","v":1},4636]
[{"$f":"POISSON(B4641,Berekening!$G$27,TRUE)","v":1},4637,{"$f":"POISSON(D4641,Berekening!$G$50,TRUE)","v":1},4637,{"$f":"POISSON(F4641,Berekening!$G$52,TRUE)","v":1},4637]
[{"$f":"POISSON(B4642,Berekening!$G$27,TRUE)","v":1},4638,{"$f":"POISSON(D4642,Berekening!$G$50,TRUE)","v":1},4638,{"$f":"POISSON(F4642,Berekening!$G$52,TRUE)","v":1},4638]
[{"$f":"POISSON(B4643,Berekening!$G$27,TRUE)","v":1},4639,{"$f":"POISSON(D4643,Berekening!$G$50,TRUE)","v":1},4639,{"$f":"POISSON(F4643,Berekening!$G$52,TRUE)","v":1},4639]
[{"$f":"POISSON(B4644,Berekening!$G$27,TRUE)","v":1},4640,{"$f":"POISSON(D4644,Berekening!$G$50,TRUE)","v":1},4640,{"$f":"POISSON(F4644,Berekening!$G$52,TRUE)","v":1},4640]
[{"$f":"POISSON(B4645,Berekening!$G$27,TRUE)","v":1},4641,{"$f":"POISSON(D4645,Berekening!$G$50,TRUE)","v":1},4641,{"$f":"POISSON(F4645,Berekening!$G$52,TRUE)","v":1},4641]
[{"$f":"POISSON(B4646,Berekening!$G$27,TRUE)","v":1},4642,{"$f":"POISSON(D4646,Berekening!$G$50,TRUE)","v":1},4642,{"$f":"POISSON(F4646,Berekening!$G$52,TRUE)","v":1},4642]
[{"$f":"POISSON(B4647,Berekening!$G$27,TRUE)","v":1},4643,{"$f":"POISSON(D4647,Berekening!$G$50,TRUE)","v":1},4643,{"$f":"POISSON(F4647,Berekening!$G$52,TRUE)","v":1},4643]
[{"$f":"POISSON(B4648,Berekening!$G$27,TRUE)","v":1},4644,{"$f":"POISSON(D4648,Berekening!$G$50,TRUE)","v":1},4644,{"$f":"POISSON(F4648,Berekening!$G$52,TRUE)","v":1},4644]
[{"$f":"POISSON(B4649,Berekening!$G$27,TRUE)","v":1},4645,{"$f":"POISSON(D4649,Berekening!$G$50,TRUE)","v":1},4645,{"$f":"POISSON(F4649,Berekening!$G$52,TRUE)","v":1},4645]
[{"$f":"POISSON(B4650,Berekening!$G$27,TRUE)","v":1},4646,{"$f":"POISSON(D4650,Berekening!$G$50,TRUE)","v":1},4646,{"$f":"POISSON(F4650,Berekening!$G$52,TRUE)","v":1},4646]
[{"$f":"POISSON(B4651,Berekening!$G$27,TRUE)","v":1},4647,{"$f":"POISSON(D4651,Berekening!$G$50,TRUE)","v":1},4647,{"$f":"POISSON(F4651,Berekening!$G$52,TRUE)","v":1},4647]
[{"$f":"POISSON(B4652,Berekening!$G$27,TRUE)","v":1},4648,{"$f":"POISSON(D4652,Berekening!$G$50,TRUE)","v":1},4648,{"$f":"POISSON(F4652,Berekening!$G$52,TRUE)","v":1},4648]
[{"$f":"POISSON(B4653,Berekening!$G$27,TRUE)","v":1},4649,{"$f":"POISSON(D4653,Berekening!$G$50,TRUE)","v":1},4649,{"$f":"POISSON(F4653,Berekening!$G$52,TRUE)","v":1},4649]
[{"$f":"POISSON(B4654,Berekening!$G$27,TRUE)","v":1},4650,{"$f":"POISSON(D4654,Berekening!$G$50,TRUE)","v":1},4650,{"$f":"POISSON(F4654,Berekening!$G$52,TRUE)","v":1},4650]
[{"$f":"POISSON(B4655,Berekening!$G$27,TRUE)","v":1},4651,{"$f":"POISSON(D4655,Berekening!$G$50,TRUE)","v":1},4651,{"$f":"POISSON(F4655,Berekening!$G$52,TRUE)","v":1},4651]
[{"$f":"POISSON(B4656,Berekening!$G$27,TRUE)","v":1},4652,{"$f":"POISSON(D4656,Berekening!$G$50,TRUE)","v":1},4652,{"$f":"POISSON(F4656,Berekening!$G$52,TRUE)","v":1},4652]
[{"$f":"POISSON(B4657,Berekening!$G$27,TRUE)","v":1},4653,{"$f":"POISSON(D4657,Berekening!$G$50,TRUE)","v":1},4653,{"$f":"POISSON(F4657,Berekening!$G$52,TRUE)","v":1},4653]
[{"$f":"POISSON(B4658,Berekening!$G$27,TRUE)","v":1},4654,{"$f":"POISSON(D4658,Berekening!$G$50,TRUE)","v":1},4654,{"$f":"POISSON(F4658,Berekening!$G$52,TRUE)","v":1},4654]
[{"$f":"POISSON(B4659,Berekening!$G$27,TRUE)","v":1},4655,{"$f":"POISSON(D4659,Berekening!$G$50,TRUE)","v":1},4655,{"$f":"POISSON(F4659,Berekening!$G$52,TRUE)","v":1},4655]
[{"$f":"POISSON(B4660,Berekening!$G$27,TRUE)","v":1},4656,{"$f":"POISSON(D4660,Berekening!$G$50,TRUE)","v":1},4656,{"$f":"POISSON(F4660,Berekening!$G$52,TRUE)","v":1},4656]
[{"$f":"POISSON(B4661,Berekening!$G$27,TRUE)","v":1},4657,{"$f":"POISSON(D4661,Berekening!$G$50,TRUE)","v":1},4657,{"$f":"POISSON(F4661,Berekening!$G$52,TRUE)","v":1},4657]
[{"$f":"POISSON(B4662,Berekening!$G$27,TRUE)","v":1},4658,{"$f":"POISSON(D4662,Berekening!$G$50,TRUE)","v":1},4658,{"$f":"POISSON(F4662,Berekening!$G$52,TRUE)","v":1},4658]
[{"$f":"POISSON(B4663,Berekening!$G$27,TRUE)","v":1},4659,{"$f":"POISSON(D4663,Berekening!$G$50,TRUE)","v":1},4659,{"$f":"POISSON(F4663,Berekening!$G$52,TRUE)","v":1},4659]
[{"$f":"POISSON(B4664,Berekening!$G$27,TRUE)","v":1},4660,{"$f":"POISSON(D4664,Berekening!$G$50,TRUE)","v":1},4660,{"$f":"POISSON(F4664,Berekening!$G$52,TRUE)","v":1},4660]
[{"$f":"POISSON(B4665,Berekening!$G$27,TRUE)","v":1},4661,{"$f":"POISSON(D4665,Berekening!$G$50,TRUE)","v":1},4661,{"$f":"POISSON(F4665,Berekening!$G$52,TRUE)","v":1},4661]
[{"$f":"POISSON(B4666,Berekening!$G$27,TRUE)","v":1},4662,{"$f":"POISSON(D4666,Berekening!$G$50,TRUE)","v":1},4662,{"$f":"POISSON(F4666,Berekening!$G$52,TRUE)","v":1},4662]
[{"$f":"POISSON(B4667,Berekening!$G$27,TRUE)","v":1},4663,{"$f":"POISSON(D4667,Berekening!$G$50,TRUE)","v":1},4663,{"$f":"POISSON(F4667,Berekening!$G$52,TRUE)","v":1},4663]
[{"$f":"POISSON(B4668,Berekening!$G$27,TRUE)","v":1},4664,{"$f":"POISSON(D4668,Berekening!$G$50,TRUE)","v":1},4664,{"$f":"POISSON(F4668,Berekening!$G$52,TRUE)","v":1},4664]
[{"$f":"POISSON(B4669,Berekening!$G$27,TRUE)","v":1},4665,{"$f":"POISSON(D4669,Berekening!$G$50,TRUE)","v":1},4665,{"$f":"POISSON(F4669,Berekening!$G$52,TRUE)","v":1},4665]
[{"$f":"POISSON(B4670,Berekening!$G$27,TRUE)","v":1},4666,{"$f":"POISSON(D4670,Berekening!$G$50,TRUE)","v":1},4666,{"$f":"POISSON(F4670,Berekening!$G$52,TRUE)","v":1},4666]
[{"$f":"POISSON(B4671,Berekening!$G$27,TRUE)","v":1},4667,{"$f":"POISSON(D4671,Berekening!$G$50,TRUE)","v":1},4667,{"$f":"POISSON(F4671,Berekening!$G$52,TRUE)","v":1},4667]
[{"$f":"POISSON(B4672,Berekening!$G$27,TRUE)","v":1},4668,{"$f":"POISSON(D4672,Berekening!$G$50,TRUE)","v":1},4668,{"$f":"POISSON(F4672,Berekening!$G$52,TRUE)","v":1},4668]
[{"$f":"POISSON(B4673,Berekening!$G$27,TRUE)","v":1},4669,{"$f":"POISSON(D4673,Berekening!$G$50,TRUE)","v":1},4669,{"$f":"POISSON(F4673,Berekening!$G$52,TRUE)","v":1},4669]
[{"$f":"POISSON(B4674,Berekening!$G$27,TRUE)","v":1},4670,{"$f":"POISSON(D4674,Berekening!$G$50,TRUE)","v":1},4670,{"$f":"POISSON(F4674,Berekening!$G$52,TRUE)","v":1},4670]
[{"$f":"POISSON(B4675,Berekening!$G$27,TRUE)","v":1},4671,{"$f":"POISSON(D4675,Berekening!$G$50,TRUE)","v":1},4671,{"$f":"POISSON(F4675,Berekening!$G$52,TRUE)","v":1},4671]
[{"$f":"POISSON(B4676,Berekening!$G$27,TRUE)","v":1},4672,{"$f":"POISSON(D4676,Berekening!$G$50,TRUE)","v":1},4672,{"$f":"POISSON(F4676,Berekening!$G$52,TRUE)","v":1},4672]
[{"$f":"POISSON(B4677,Berekening!$G$27,TRUE)","v":1},4673,{"$f":"POISSON(D4677,Berekening!$G$50,TRUE)","v":1},4673,{"$f":"POISSON(F4677,Berekening!$G$52,TRUE)","v":1},4673]
[{"$f":"POISSON(B4678,Berekening!$G$27,TRUE)","v":1},4674,{"$f":"POISSON(D4678,Berekening!$G$50,TRUE)","v":1},4674,{"$f":"POISSON(F4678,Berekening!$G$52,TRUE)","v":1},4674]
[{"$f":"POISSON(B4679,Berekening!$G$27,TRUE)","v":1},4675,{"$f":"POISSON(D4679,Berekening!$G$50,TRUE)","v":1},4675,{"$f":"POISSON(F4679,Berekening!$G$52,TRUE)","v":1},4675]
[{"$f":"POISSON(B4680,Berekening!$G$27,TRUE)","v":1},4676,{"$f":"POISSON(D4680,Berekening!$G$50,TRUE)","v":1},4676,{"$f":"POISSON(F4680,Berekening!$G$52,TRUE)","v":1},4676]
[{"$f":"POISSON(B4681,Berekening!$G$27,TRUE)","v":1},4677,{"$f":"POISSON(D4681,Berekening!$G$50,TRUE)","v":1},4677,{"$f":"POISSON(F4681,Berekening!$G$52,TRUE)","v":1},4677]
[{"$f":"POISSON(B4682,Berekening!$G$27,TRUE)","v":1},4678,{"$f":"POISSON(D4682,Berekening!$G$50,TRUE)","v":1},4678,{"$f":"POISSON(F4682,Berekening!$G$52,TRUE)","v":1},4678]
[{"$f":"POISSON(B4683,Berekening!$G$27,TRUE)","v":1},4679,{"$f":"POISSON(D4683,Berekening!$G$50,TRUE)","v":1},4679,{"$f":"POISSON(F4683,Berekening!$G$52,TRUE)","v":1},4679]
[{"$f":"POISSON(B4684,Berekening!$G$27,TRUE)","v":1},4680,{"$f":"POISSON(D4684,Berekening!$G$50,TRUE)","v":1},4680,{"$f":"POISSON(F4684,Berekening!$G$52,TRUE)","v":1},4680]
[{"$f":"POISSON(B4685,Berekening!$G$27,TRUE)","v":1},4681,{"$f":"POISSON(D4685,Berekening!$G$50,TRUE)","v":1},4681,{"$f":"POISSON(F4685,Berekening!$G$52,TRUE)","v":1},4681]
[{"$f":"POISSON(B4686,Berekening!$G$27,TRUE)","v":1},4682,{"$f":"POISSON(D4686,Berekening!$G$50,TRUE)","v":1},4682,{"$f":"POISSON(F4686,Berekening!$G$52,TRUE)","v":1},4682]
[{"$f":"POISSON(B4687,Berekening!$G$27,TRUE)","v":1},4683,{"$f":"POISSON(D4687,Berekening!$G$50,TRUE)","v":1},4683,{"$f":"POISSON(F4687,Berekening!$G$52,TRUE)","v":1},4683]
[{"$f":"POISSON(B4688,Berekening!$G$27,TRUE)","v":1},4684,{"$f":"POISSON(D4688,Berekening!$G$50,TRUE)","v":1},4684,{"$f":"POISSON(F4688,Berekening!$G$52,TRUE)","v":1},4684]
[{"$f":"POISSON(B4689,Berekening!$G$27,TRUE)","v":1},4685,{"$f":"POISSON(D4689,Berekening!$G$50,TRUE)","v":1},4685,{"$f":"POISSON(F4689,Berekening!$G$52,TRUE)","v":1},4685]
[{"$f":"POISSON(B4690,Berekening!$G$27,TRUE)","v":1},4686,{"$f":"POISSON(D4690,Berekening!$G$50,TRUE)","v":1},4686,{"$f":"POISSON(F4690,Berekening!$G$52,TRUE)","v":1},4686]
[{"$f":"POISSON(B4691,Berekening!$G$27,TRUE)","v":1},4687,{"$f":"POISSON(D4691,Berekening!$G$50,TRUE)","v":1},4687,{"$f":"POISSON(F4691,Berekening!$G$52,TRUE)","v":1},4687]
[{"$f":"POISSON(B4692,Berekening!$G$27,TRUE)","v":1},4688,{"$f":"POISSON(D4692,Berekening!$G$50,TRUE)","v":1},4688,{"$f":"POISSON(F4692,Berekening!$G$52,TRUE)","v":1},4688]
[{"$f":"POISSON(B4693,Berekening!$G$27,TRUE)","v":1},4689,{"$f":"POISSON(D4693,Berekening!$G$50,TRUE)","v":1},4689,{"$f":"POISSON(F4693,Berekening!$G$52,TRUE)","v":1},4689]
[{"$f":"POISSON(B4694,Berekening!$G$27,TRUE)","v":1},4690,{"$f":"POISSON(D4694,Berekening!$G$50,TRUE)","v":1},4690,{"$f":"POISSON(F4694,Berekening!$G$52,TRUE)","v":1},4690]
[{"$f":"POISSON(B4695,Berekening!$G$27,TRUE)","v":1},4691,{"$f":"POISSON(D4695,Berekening!$G$50,TRUE)","v":1},4691,{"$f":"POISSON(F4695,Berekening!$G$52,TRUE)","v":1},4691]
[{"$f":"POISSON(B4696,Berekening!$G$27,TRUE)","v":1},4692,{"$f":"POISSON(D4696,Berekening!$G$50,TRUE)","v":1},4692,{"$f":"POISSON(F4696,Berekening!$G$52,TRUE)","v":1},4692]
[{"$f":"POISSON(B4697,Berekening!$G$27,TRUE)","v":1},4693,{"$f":"POISSON(D4697,Berekening!$G$50,TRUE)","v":1},4693,{"$f":"POISSON(F4697,Berekening!$G$52,TRUE)","v":1},4693]
[{"$f":"POISSON(B4698,Berekening!$G$27,TRUE)","v":1},4694,{"$f":"POISSON(D4698,Berekening!$G$50,TRUE)","v":1},4694,{"$f":"POISSON(F4698,Berekening!$G$52,TRUE)","v":1},4694]
[{"$f":"POISSON(B4699,Berekening!$G$27,TRUE)","v":1},4695,{"$f":"POISSON(D4699,Berekening!$G$50,TRUE)","v":1},4695,{"$f":"POISSON(F4699,Berekening!$G$52,TRUE)","v":1},4695]
[{"$f":"POISSON(B4700,Berekening!$G$27,TRUE)","v":1},4696,{"$f":"POISSON(D4700,Berekening!$G$50,TRUE)","v":1},4696,{"$f":"POISSON(F4700,Berekening!$G$52,TRUE)","v":1},4696]
[{"$f":"POISSON(B4701,Berekening!$G$27,TRUE)","v":1},4697,{"$f":"POISSON(D4701,Berekening!$G$50,TRUE)","v":1},4697,{"$f":"POISSON(F4701,Berekening!$G$52,TRUE)","v":1},4697]
[{"$f":"POISSON(B4702,Berekening!$G$27,TRUE)","v":1},4698,{"$f":"POISSON(D4702,Berekening!$G$50,TRUE)","v":1},4698,{"$f":"POISSON(F4702,Berekening!$G$52,TRUE)","v":1},4698]
[{"$f":"POISSON(B4703,Berekening!$G$27,TRUE)","v":1},4699,{"$f":"POISSON(D4703,Berekening!$G$50,TRUE)","v":1},4699,{"$f":"POISSON(F4703,Berekening!$G$52,TRUE)","v":1},4699]
[{"$f":"POISSON(B4704,Berekening!$G$27,TRUE)","v":1},4700,{"$f":"POISSON(D4704,Berekening!$G$50,TRUE)","v":1},4700,{"$f":"POISSON(F4704,Berekening!$G$52,TRUE)","v":1},4700]
[{"$f":"POISSON(B4705,Berekening!$G$27,TRUE)","v":1},4701,{"$f":"POISSON(D4705,Berekening!$G$50,TRUE)","v":1},4701,{"$f":"POISSON(F4705,Berekening!$G$52,TRUE)","v":1},4701]
[{"$f":"POISSON(B4706,Berekening!$G$27,TRUE)","v":1},4702,{"$f":"POISSON(D4706,Berekening!$G$50,TRUE)","v":1},4702,{"$f":"POISSON(F4706,Berekening!$G$52,TRUE)","v":1},4702]
[{"$f":"POISSON(B4707,Berekening!$G$27,TRUE)","v":1},4703,{"$f":"POISSON(D4707,Berekening!$G$50,TRUE)","v":1},4703,{"$f":"POISSON(F4707,Berekening!$G$52,TRUE)","v":1},4703]
[{"$f":"POISSON(B4708,Berekening!$G$27,TRUE)","v":1},4704,{"$f":"POISSON(D4708,Berekening!$G$50,TRUE)","v":1},4704,{"$f":"POISSON(F4708,Berekening!$G$52,TRUE)","v":1},4704]
[{"$f":"POISSON(B4709,Berekening!$G$27,TRUE)","v":1},4705,{"$f":"POISSON(D4709,Berekening!$G$50,TRUE)","v":1},4705,{"$f":"POISSON(F4709,Berekening!$G$52,TRUE)","v":1},4705]
[{"$f":"POISSON(B4710,Berekening!$G$27,TRUE)","v":1},4706,{"$f":"POISSON(D4710,Berekening!$G$50,TRUE)","v":1},4706,{"$f":"POISSON(F4710,Berekening!$G$52,TRUE)","v":1},4706]
[{"$f":"POISSON(B4711,Berekening!$G$27,TRUE)","v":1},4707,{"$f":"POISSON(D4711,Berekening!$G$50,TRUE)","v":1},4707,{"$f":"POISSON(F4711,Berekening!$G$52,TRUE)","v":1},4707]
[{"$f":"POISSON(B4712,Berekening!$G$27,TRUE)","v":1},4708,{"$f":"POISSON(D4712,Berekening!$G$50,TRUE)","v":1},4708,{"$f":"POISSON(F4712,Berekening!$G$52,TRUE)","v":1},4708]
[{"$f":"POISSON(B4713,Berekening!$G$27,TRUE)","v":1},4709,{"$f":"POISSON(D4713,Berekening!$G$50,TRUE)","v":1},4709,{"$f":"POISSON(F4713,Berekening!$G$52,TRUE)","v":1},4709]
[{"$f":"POISSON(B4714,Berekening!$G$27,TRUE)","v":1},4710,{"$f":"POISSON(D4714,Berekening!$G$50,TRUE)","v":1},4710,{"$f":"POISSON(F4714,Berekening!$G$52,TRUE)","v":1},4710]
[{"$f":"POISSON(B4715,Berekening!$G$27,TRUE)","v":1},4711,{"$f":"POISSON(D4715,Berekening!$G$50,TRUE)","v":1},4711,{"$f":"POISSON(F4715,Berekening!$G$52,TRUE)","v":1},4711]
[{"$f":"POISSON(B4716,Berekening!$G$27,TRUE)","v":1},4712,{"$f":"POISSON(D4716,Berekening!$G$50,TRUE)","v":1},4712,{"$f":"POISSON(F4716,Berekening!$G$52,TRUE)","v":1},4712]
[{"$f":"POISSON(B4717,Berekening!$G$27,TRUE)","v":1},4713,{"$f":"POISSON(D4717,Berekening!$G$50,TRUE)","v":1},4713,{"$f":"POISSON(F4717,Berekening!$G$52,TRUE)","v":1},4713]
[{"$f":"POISSON(B4718,Berekening!$G$27,TRUE)","v":1},4714,{"$f":"POISSON(D4718,Berekening!$G$50,TRUE)","v":1},4714,{"$f":"POISSON(F4718,Berekening!$G$52,TRUE)","v":1},4714]
[{"$f":"POISSON(B4719,Berekening!$G$27,TRUE)","v":1},4715,{"$f":"POISSON(D4719,Berekening!$G$50,TRUE)","v":1},4715,{"$f":"POISSON(F4719,Berekening!$G$52,TRUE)","v":1},4715]
[{"$f":"POISSON(B4720,Berekening!$G$27,TRUE)","v":1},4716,{"$f":"POISSON(D4720,Berekening!$G$50,TRUE)","v":1},4716,{"$f":"POISSON(F4720,Berekening!$G$52,TRUE)","v":1},4716]
[{"$f":"POISSON(B4721,Berekening!$G$27,TRUE)","v":1},4717,{"$f":"POISSON(D4721,Berekening!$G$50,TRUE)","v":1},4717,{"$f":"POISSON(F4721,Berekening!$G$52,TRUE)","v":1},4717]
[{"$f":"POISSON(B4722,Berekening!$G$27,TRUE)","v":1},4718,{"$f":"POISSON(D4722,Berekening!$G$50,TRUE)","v":1},4718,{"$f":"POISSON(F4722,Berekening!$G$52,TRUE)","v":1},4718]
[{"$f":"POISSON(B4723,Berekening!$G$27,TRUE)","v":1},4719,{"$f":"POISSON(D4723,Berekening!$G$50,TRUE)","v":1},4719,{"$f":"POISSON(F4723,Berekening!$G$52,TRUE)","v":1},4719]
[{"$f":"POISSON(B4724,Berekening!$G$27,TRUE)","v":1},4720,{"$f":"POISSON(D4724,Berekening!$G$50,TRUE)","v":1},4720,{"$f":"POISSON(F4724,Berekening!$G$52,TRUE)","v":1},4720]
[{"$f":"POISSON(B4725,Berekening!$G$27,TRUE)","v":1},4721,{"$f":"POISSON(D4725,Berekening!$G$50,TRUE)","v":1},4721,{"$f":"POISSON(F4725,Berekening!$G$52,TRUE)","v":1},4721]
[{"$f":"POISSON(B4726,Berekening!$G$27,TRUE)","v":1},4722,{"$f":"POISSON(D4726,Berekening!$G$50,TRUE)","v":1},4722,{"$f":"POISSON(F4726,Berekening!$G$52,TRUE)","v":1},4722]
[{"$f":"POISSON(B4727,Berekening!$G$27,TRUE)","v":1},4723,{"$f":"POISSON(D4727,Berekening!$G$50,TRUE)","v":1},4723,{"$f":"POISSON(F4727,Berekening!$G$52,TRUE)","v":1},4723]
[{"$f":"POISSON(B4728,Berekening!$G$27,TRUE)","v":1},4724,{"$f":"POISSON(D4728,Berekening!$G$50,TRUE)","v":1},4724,{"$f":"POISSON(F4728,Berekening!$G$52,TRUE)","v":1},4724]
[{"$f":"POISSON(B4729,Berekening!$G$27,TRUE)","v":1},4725,{"$f":"POISSON(D4729,Berekening!$G$50,TRUE)","v":1},4725,{"$f":"POISSON(F4729,Berekening!$G$52,TRUE)","v":1},4725]
[{"$f":"POISSON(B4730,Berekening!$G$27,TRUE)","v":1},4726,{"$f":"POISSON(D4730,Berekening!$G$50,TRUE)","v":1},4726,{"$f":"POISSON(F4730,Berekening!$G$52,TRUE)","v":1},4726]
[{"$f":"POISSON(B4731,Berekening!$G$27,TRUE)","v":1},4727,{"$f":"POISSON(D4731,Berekening!$G$50,TRUE)","v":1},4727,{"$f":"POISSON(F4731,Berekening!$G$52,TRUE)","v":1},4727]
[{"$f":"POISSON(B4732,Berekening!$G$27,TRUE)","v":1},4728,{"$f":"POISSON(D4732,Berekening!$G$50,TRUE)","v":1},4728,{"$f":"POISSON(F4732,Berekening!$G$52,TRUE)","v":1},4728]
[{"$f":"POISSON(B4733,Berekening!$G$27,TRUE)","v":1},4729,{"$f":"POISSON(D4733,Berekening!$G$50,TRUE)","v":1},4729,{"$f":"POISSON(F4733,Berekening!$G$52,TRUE)","v":1},4729]
[{"$f":"POISSON(B4734,Berekening!$G$27,TRUE)","v":1},4730,{"$f":"POISSON(D4734,Berekening!$G$50,TRUE)","v":1},4730,{"$f":"POISSON(F4734,Berekening!$G$52,TRUE)","v":1},4730]
[{"$f":"POISSON(B4735,Berekening!$G$27,TRUE)","v":1},4731,{"$f":"POISSON(D4735,Berekening!$G$50,TRUE)","v":1},4731,{"$f":"POISSON(F4735,Berekening!$G$52,TRUE)","v":1},4731]
[{"$f":"POISSON(B4736,Berekening!$G$27,TRUE)","v":1},4732,{"$f":"POISSON(D4736,Berekening!$G$50,TRUE)","v":1},4732,{"$f":"POISSON(F4736,Berekening!$G$52,TRUE)","v":1},4732]
[{"$f":"POISSON(B4737,Berekening!$G$27,TRUE)","v":1},4733,{"$f":"POISSON(D4737,Berekening!$G$50,TRUE)","v":1},4733,{"$f":"POISSON(F4737,Berekening!$G$52,TRUE)","v":1},4733]
[{"$f":"POISSON(B4738,Berekening!$G$27,TRUE)","v":1},4734,{"$f":"POISSON(D4738,Berekening!$G$50,TRUE)","v":1},4734,{"$f":"POISSON(F4738,Berekening!$G$52,TRUE)","v":1},4734]
[{"$f":"POISSON(B4739,Berekening!$G$27,TRUE)","v":1},4735,{"$f":"POISSON(D4739,Berekening!$G$50,TRUE)","v":1},4735,{"$f":"POISSON(F4739,Berekening!$G$52,TRUE)","v":1},4735]
[{"$f":"POISSON(B4740,Berekening!$G$27,TRUE)","v":1},4736,{"$f":"POISSON(D4740,Berekening!$G$50,TRUE)","v":1},4736,{"$f":"POISSON(F4740,Berekening!$G$52,TRUE)","v":1},4736]
[{"$f":"POISSON(B4741,Berekening!$G$27,TRUE)","v":1},4737,{"$f":"POISSON(D4741,Berekening!$G$50,TRUE)","v":1},4737,{"$f":"POISSON(F4741,Berekening!$G$52,TRUE)","v":1},4737]
[{"$f":"POISSON(B4742,Berekening!$G$27,TRUE)","v":1},4738,{"$f":"POISSON(D4742,Berekening!$G$50,TRUE)","v":1},4738,{"$f":"POISSON(F4742,Berekening!$G$52,TRUE)","v":1},4738]
[{"$f":"POISSON(B4743,Berekening!$G$27,TRUE)","v":1},4739,{"$f":"POISSON(D4743,Berekening!$G$50,TRUE)","v":1},4739,{"$f":"POISSON(F4743,Berekening!$G$52,TRUE)","v":1},4739]
[{"$f":"POISSON(B4744,Berekening!$G$27,TRUE)","v":1},4740,{"$f":"POISSON(D4744,Berekening!$G$50,TRUE)","v":1},4740,{"$f":"POISSON(F4744,Berekening!$G$52,TRUE)","v":1},4740]
[{"$f":"POISSON(B4745,Berekening!$G$27,TRUE)","v":1},4741,{"$f":"POISSON(D4745,Berekening!$G$50,TRUE)","v":1},4741,{"$f":"POISSON(F4745,Berekening!$G$52,TRUE)","v":1},4741]
[{"$f":"POISSON(B4746,Berekening!$G$27,TRUE)","v":1},4742,{"$f":"POISSON(D4746,Berekening!$G$50,TRUE)","v":1},4742,{"$f":"POISSON(F4746,Berekening!$G$52,TRUE)","v":1},4742]
[{"$f":"POISSON(B4747,Berekening!$G$27,TRUE)","v":1},4743,{"$f":"POISSON(D4747,Berekening!$G$50,TRUE)","v":1},4743,{"$f":"POISSON(F4747,Berekening!$G$52,TRUE)","v":1},4743]
[{"$f":"POISSON(B4748,Berekening!$G$27,TRUE)","v":1},4744,{"$f":"POISSON(D4748,Berekening!$G$50,TRUE)","v":1},4744,{"$f":"POISSON(F4748,Berekening!$G$52,TRUE)","v":1},4744]
[{"$f":"POISSON(B4749,Berekening!$G$27,TRUE)","v":1},4745,{"$f":"POISSON(D4749,Berekening!$G$50,TRUE)","v":1},4745,{"$f":"POISSON(F4749,Berekening!$G$52,TRUE)","v":1},4745]
[{"$f":"POISSON(B4750,Berekening!$G$27,TRUE)","v":1},4746,{"$f":"POISSON(D4750,Berekening!$G$50,TRUE)","v":1},4746,{"$f":"POISSON(F4750,Berekening!$G$52,TRUE)","v":1},4746]
[{"$f":"POISSON(B4751,Berekening!$G$27,TRUE)","v":1},4747,{"$f":"POISSON(D4751,Berekening!$G$50,TRUE)","v":1},4747,{"$f":"POISSON(F4751,Berekening!$G$52,TRUE)","v":1},4747]
[{"$f":"POISSON(B4752,Berekening!$G$27,TRUE)","v":1},4748,{"$f":"POISSON(D4752,Berekening!$G$50,TRUE)","v":1},4748,{"$f":"POISSON(F4752,Berekening!$G$52,TRUE)","v":1},4748]
[{"$f":"POISSON(B4753,Berekening!$G$27,TRUE)","v":1},4749,{"$f":"POISSON(D4753,Berekening!$G$50,TRUE)","v":1},4749,{"$f":"POISSON(F4753,Berekening!$G$52,TRUE)","v":1},4749]
[{"$f":"POISSON(B4754,Berekening!$G$27,TRUE)","v":1},4750,{"$f":"POISSON(D4754,Berekening!$G$50,TRUE)","v":1},4750,{"$f":"POISSON(F4754,Berekening!$G$52,TRUE)","v":1},4750]
[{"$f":"POISSON(B4755,Berekening!$G$27,TRUE)","v":1},4751,{"$f":"POISSON(D4755,Berekening!$G$50,TRUE)","v":1},4751,{"$f":"POISSON(F4755,Berekening!$G$52,TRUE)","v":1},4751]
[{"$f":"POISSON(B4756,Berekening!$G$27,TRUE)","v":1},4752,{"$f":"POISSON(D4756,Berekening!$G$50,TRUE)","v":1},4752,{"$f":"POISSON(F4756,Berekening!$G$52,TRUE)","v":1},4752]
[{"$f":"POISSON(B4757,Berekening!$G$27,TRUE)","v":1},4753,{"$f":"POISSON(D4757,Berekening!$G$50,TRUE)","v":1},4753,{"$f":"POISSON(F4757,Berekening!$G$52,TRUE)","v":1},4753]
[{"$f":"POISSON(B4758,Berekening!$G$27,TRUE)","v":1},4754,{"$f":"POISSON(D4758,Berekening!$G$50,TRUE)","v":1},4754,{"$f":"POISSON(F4758,Berekening!$G$52,TRUE)","v":1},4754]
[{"$f":"POISSON(B4759,Berekening!$G$27,TRUE)","v":1},4755,{"$f":"POISSON(D4759,Berekening!$G$50,TRUE)","v":1},4755,{"$f":"POISSON(F4759,Berekening!$G$52,TRUE)","v":1},4755]
[{"$f":"POISSON(B4760,Berekening!$G$27,TRUE)","v":1},4756,{"$f":"POISSON(D4760,Berekening!$G$50,TRUE)","v":1},4756,{"$f":"POISSON(F4760,Berekening!$G$52,TRUE)","v":1},4756]
[{"$f":"POISSON(B4761,Berekening!$G$27,TRUE)","v":1},4757,{"$f":"POISSON(D4761,Berekening!$G$50,TRUE)","v":1},4757,{"$f":"POISSON(F4761,Berekening!$G$52,TRUE)","v":1},4757]
[{"$f":"POISSON(B4762,Berekening!$G$27,TRUE)","v":1},4758,{"$f":"POISSON(D4762,Berekening!$G$50,TRUE)","v":1},4758,{"$f":"POISSON(F4762,Berekening!$G$52,TRUE)","v":1},4758]
[{"$f":"POISSON(B4763,Berekening!$G$27,TRUE)","v":1},4759,{"$f":"POISSON(D4763,Berekening!$G$50,TRUE)","v":1},4759,{"$f":"POISSON(F4763,Berekening!$G$52,TRUE)","v":1},4759]
[{"$f":"POISSON(B4764,Berekening!$G$27,TRUE)","v":1},4760,{"$f":"POISSON(D4764,Berekening!$G$50,TRUE)","v":1},4760,{"$f":"POISSON(F4764,Berekening!$G$52,TRUE)","v":1},4760]
[{"$f":"POISSON(B4765,Berekening!$G$27,TRUE)","v":1},4761,{"$f":"POISSON(D4765,Berekening!$G$50,TRUE)","v":1},4761,{"$f":"POISSON(F4765,Berekening!$G$52,TRUE)","v":1},4761]
[{"$f":"POISSON(B4766,Berekening!$G$27,TRUE)","v":1},4762,{"$f":"POISSON(D4766,Berekening!$G$50,TRUE)","v":1},4762,{"$f":"POISSON(F4766,Berekening!$G$52,TRUE)","v":1},4762]
[{"$f":"POISSON(B4767,Berekening!$G$27,TRUE)","v":1},4763,{"$f":"POISSON(D4767,Berekening!$G$50,TRUE)","v":1},4763,{"$f":"POISSON(F4767,Berekening!$G$52,TRUE)","v":1},4763]
[{"$f":"POISSON(B4768,Berekening!$G$27,TRUE)","v":1},4764,{"$f":"POISSON(D4768,Berekening!$G$50,TRUE)","v":1},4764,{"$f":"POISSON(F4768,Berekening!$G$52,TRUE)","v":1},4764]
[{"$f":"POISSON(B4769,Berekening!$G$27,TRUE)","v":1},4765,{"$f":"POISSON(D4769,Berekening!$G$50,TRUE)","v":1},4765,{"$f":"POISSON(F4769,Berekening!$G$52,TRUE)","v":1},4765]
[{"$f":"POISSON(B4770,Berekening!$G$27,TRUE)","v":1},4766,{"$f":"POISSON(D4770,Berekening!$G$50,TRUE)","v":1},4766,{"$f":"POISSON(F4770,Berekening!$G$52,TRUE)","v":1},4766]
[{"$f":"POISSON(B4771,Berekening!$G$27,TRUE)","v":1},4767,{"$f":"POISSON(D4771,Berekening!$G$50,TRUE)","v":1},4767,{"$f":"POISSON(F4771,Berekening!$G$52,TRUE)","v":1},4767]
[{"$f":"POISSON(B4772,Berekening!$G$27,TRUE)","v":1},4768,{"$f":"POISSON(D4772,Berekening!$G$50,TRUE)","v":1},4768,{"$f":"POISSON(F4772,Berekening!$G$52,TRUE)","v":1},4768]
[{"$f":"POISSON(B4773,Berekening!$G$27,TRUE)","v":1},4769,{"$f":"POISSON(D4773,Berekening!$G$50,TRUE)","v":1},4769,{"$f":"POISSON(F4773,Berekening!$G$52,TRUE)","v":1},4769]
[{"$f":"POISSON(B4774,Berekening!$G$27,TRUE)","v":1},4770,{"$f":"POISSON(D4774,Berekening!$G$50,TRUE)","v":1},4770,{"$f":"POISSON(F4774,Berekening!$G$52,TRUE)","v":1},4770]
[{"$f":"POISSON(B4775,Berekening!$G$27,TRUE)","v":1},4771,{"$f":"POISSON(D4775,Berekening!$G$50,TRUE)","v":1},4771,{"$f":"POISSON(F4775,Berekening!$G$52,TRUE)","v":1},4771]
[{"$f":"POISSON(B4776,Berekening!$G$27,TRUE)","v":1},4772,{"$f":"POISSON(D4776,Berekening!$G$50,TRUE)","v":1},4772,{"$f":"POISSON(F4776,Berekening!$G$52,TRUE)","v":1},4772]
[{"$f":"POISSON(B4777,Berekening!$G$27,TRUE)","v":1},4773,{"$f":"POISSON(D4777,Berekening!$G$50,TRUE)","v":1},4773,{"$f":"POISSON(F4777,Berekening!$G$52,TRUE)","v":1},4773]
[{"$f":"POISSON(B4778,Berekening!$G$27,TRUE)","v":1},4774,{"$f":"POISSON(D4778,Berekening!$G$50,TRUE)","v":1},4774,{"$f":"POISSON(F4778,Berekening!$G$52,TRUE)","v":1},4774]
[{"$f":"POISSON(B4779,Berekening!$G$27,TRUE)","v":1},4775,{"$f":"POISSON(D4779,Berekening!$G$50,TRUE)","v":1},4775,{"$f":"POISSON(F4779,Berekening!$G$52,TRUE)","v":1},4775]
[{"$f":"POISSON(B4780,Berekening!$G$27,TRUE)","v":1},4776,{"$f":"POISSON(D4780,Berekening!$G$50,TRUE)","v":1},4776,{"$f":"POISSON(F4780,Berekening!$G$52,TRUE)","v":1},4776]
[{"$f":"POISSON(B4781,Berekening!$G$27,TRUE)","v":1},4777,{"$f":"POISSON(D4781,Berekening!$G$50,TRUE)","v":1},4777,{"$f":"POISSON(F4781,Berekening!$G$52,TRUE)","v":1},4777]
[{"$f":"POISSON(B4782,Berekening!$G$27,TRUE)","v":1},4778,{"$f":"POISSON(D4782,Berekening!$G$50,TRUE)","v":1},4778,{"$f":"POISSON(F4782,Berekening!$G$52,TRUE)","v":1},4778]
[{"$f":"POISSON(B4783,Berekening!$G$27,TRUE)","v":1},4779,{"$f":"POISSON(D4783,Berekening!$G$50,TRUE)","v":1},4779,{"$f":"POISSON(F4783,Berekening!$G$52,TRUE)","v":1},4779]
[{"$f":"POISSON(B4784,Berekening!$G$27,TRUE)","v":1},4780,{"$f":"POISSON(D4784,Berekening!$G$50,TRUE)","v":1},4780,{"$f":"POISSON(F4784,Berekening!$G$52,TRUE)","v":1},4780]
[{"$f":"POISSON(B4785,Berekening!$G$27,TRUE)","v":1},4781,{"$f":"POISSON(D4785,Berekening!$G$50,TRUE)","v":1},4781,{"$f":"POISSON(F4785,Berekening!$G$52,TRUE)","v":1},4781]
[{"$f":"POISSON(B4786,Berekening!$G$27,TRUE)","v":1},4782,{"$f":"POISSON(D4786,Berekening!$G$50,TRUE)","v":1},4782,{"$f":"POISSON(F4786,Berekening!$G$52,TRUE)","v":1},4782]
[{"$f":"POISSON(B4787,Berekening!$G$27,TRUE)","v":1},4783,{"$f":"POISSON(D4787,Berekening!$G$50,TRUE)","v":1},4783,{"$f":"POISSON(F4787,Berekening!$G$52,TRUE)","v":1},4783]
[{"$f":"POISSON(B4788,Berekening!$G$27,TRUE)","v":1},4784,{"$f":"POISSON(D4788,Berekening!$G$50,TRUE)","v":1},4784,{"$f":"POISSON(F4788,Berekening!$G$52,TRUE)","v":1},4784]
[{"$f":"POISSON(B4789,Berekening!$G$27,TRUE)","v":1},4785,{"$f":"POISSON(D4789,Berekening!$G$50,TRUE)","v":1},4785,{"$f":"POISSON(F4789,Berekening!$G$52,TRUE)","v":1},4785]
[{"$f":"POISSON(B4790,Berekening!$G$27,TRUE)","v":1},4786,{"$f":"POISSON(D4790,Berekening!$G$50,TRUE)","v":1},4786,{"$f":"POISSON(F4790,Berekening!$G$52,TRUE)","v":1},4786]
[{"$f":"POISSON(B4791,Berekening!$G$27,TRUE)","v":1},4787,{"$f":"POISSON(D4791,Berekening!$G$50,TRUE)","v":1},4787,{"$f":"POISSON(F4791,Berekening!$G$52,TRUE)","v":1},4787]
[{"$f":"POISSON(B4792,Berekening!$G$27,TRUE)","v":1},4788,{"$f":"POISSON(D4792,Berekening!$G$50,TRUE)","v":1},4788,{"$f":"POISSON(F4792,Berekening!$G$52,TRUE)","v":1},4788]
[{"$f":"POISSON(B4793,Berekening!$G$27,TRUE)","v":1},4789,{"$f":"POISSON(D4793,Berekening!$G$50,TRUE)","v":1},4789,{"$f":"POISSON(F4793,Berekening!$G$52,TRUE)","v":1},4789]
[{"$f":"POISSON(B4794,Berekening!$G$27,TRUE)","v":1},4790,{"$f":"POISSON(D4794,Berekening!$G$50,TRUE)","v":1},4790,{"$f":"POISSON(F4794,Berekening!$G$52,TRUE)","v":1},4790]
[{"$f":"POISSON(B4795,Berekening!$G$27,TRUE)","v":1},4791,{"$f":"POISSON(D4795,Berekening!$G$50,TRUE)","v":1},4791,{"$f":"POISSON(F4795,Berekening!$G$52,TRUE)","v":1},4791]
[{"$f":"POISSON(B4796,Berekening!$G$27,TRUE)","v":1},4792,{"$f":"POISSON(D4796,Berekening!$G$50,TRUE)","v":1},4792,{"$f":"POISSON(F4796,Berekening!$G$52,TRUE)","v":1},4792]
[{"$f":"POISSON(B4797,Berekening!$G$27,TRUE)","v":1},4793,{"$f":"POISSON(D4797,Berekening!$G$50,TRUE)","v":1},4793,{"$f":"POISSON(F4797,Berekening!$G$52,TRUE)","v":1},4793]
[{"$f":"POISSON(B4798,Berekening!$G$27,TRUE)","v":1},4794,{"$f":"POISSON(D4798,Berekening!$G$50,TRUE)","v":1},4794,{"$f":"POISSON(F4798,Berekening!$G$52,TRUE)","v":1},4794]
[{"$f":"POISSON(B4799,Berekening!$G$27,TRUE)","v":1},4795,{"$f":"POISSON(D4799,Berekening!$G$50,TRUE)","v":1},4795,{"$f":"POISSON(F4799,Berekening!$G$52,TRUE)","v":1},4795]
[{"$f":"POISSON(B4800,Berekening!$G$27,TRUE)","v":1},4796,{"$f":"POISSON(D4800,Berekening!$G$50,TRUE)","v":1},4796,{"$f":"POISSON(F4800,Berekening!$G$52,TRUE)","v":1},4796]
[{"$f":"POISSON(B4801,Berekening!$G$27,TRUE)","v":1},4797,{"$f":"POISSON(D4801,Berekening!$G$50,TRUE)","v":1},4797,{"$f":"POISSON(F4801,Berekening!$G$52,TRUE)","v":1},4797]
[{"$f":"POISSON(B4802,Berekening!$G$27,TRUE)","v":1},4798,{"$f":"POISSON(D4802,Berekening!$G$50,TRUE)","v":1},4798,{"$f":"POISSON(F4802,Berekening!$G$52,TRUE)","v":1},4798]
[{"$f":"POISSON(B4803,Berekening!$G$27,TRUE)","v":1},4799,{"$f":"POISSON(D4803,Berekening!$G$50,TRUE)","v":1},4799,{"$f":"POISSON(F4803,Berekening!$G$52,TRUE)","v":1},4799]
[{"$f":"POISSON(B4804,Berekening!$G$27,TRUE)","v":1},4800,{"$f":"POISSON(D4804,Berekening!$G$50,TRUE)","v":1},4800,{"$f":"POISSON(F4804,Berekening!$G$52,TRUE)","v":1},4800]
[{"$f":"POISSON(B4805,Berekening!$G$27,TRUE)","v":1},4801,{"$f":"POISSON(D4805,Berekening!$G$50,TRUE)","v":1},4801,{"$f":"POISSON(F4805,Berekening!$G$52,TRUE)","v":1},4801]
[{"$f":"POISSON(B4806,Berekening!$G$27,TRUE)","v":1},4802,{"$f":"POISSON(D4806,Berekening!$G$50,TRUE)","v":1},4802,{"$f":"POISSON(F4806,Berekening!$G$52,TRUE)","v":1},4802]
[{"$f":"POISSON(B4807,Berekening!$G$27,TRUE)","v":1},4803,{"$f":"POISSON(D4807,Berekening!$G$50,TRUE)","v":1},4803,{"$f":"POISSON(F4807,Berekening!$G$52,TRUE)","v":1},4803]
[{"$f":"POISSON(B4808,Berekening!$G$27,TRUE)","v":1},4804,{"$f":"POISSON(D4808,Berekening!$G$50,TRUE)","v":1},4804,{"$f":"POISSON(F4808,Berekening!$G$52,TRUE)","v":1},4804]
[{"$f":"POISSON(B4809,Berekening!$G$27,TRUE)","v":1},4805,{"$f":"POISSON(D4809,Berekening!$G$50,TRUE)","v":1},4805,{"$f":"POISSON(F4809,Berekening!$G$52,TRUE)","v":1},4805]
[{"$f":"POISSON(B4810,Berekening!$G$27,TRUE)","v":1},4806,{"$f":"POISSON(D4810,Berekening!$G$50,TRUE)","v":1},4806,{"$f":"POISSON(F4810,Berekening!$G$52,TRUE)","v":1},4806]
[{"$f":"POISSON(B4811,Berekening!$G$27,TRUE)","v":1},4807,{"$f":"POISSON(D4811,Berekening!$G$50,TRUE)","v":1},4807,{"$f":"POISSON(F4811,Berekening!$G$52,TRUE)","v":1},4807]
[{"$f":"POISSON(B4812,Berekening!$G$27,TRUE)","v":1},4808,{"$f":"POISSON(D4812,Berekening!$G$50,TRUE)","v":1},4808,{"$f":"POISSON(F4812,Berekening!$G$52,TRUE)","v":1},4808]
[{"$f":"POISSON(B4813,Berekening!$G$27,TRUE)","v":1},4809,{"$f":"POISSON(D4813,Berekening!$G$50,TRUE)","v":1},4809,{"$f":"POISSON(F4813,Berekening!$G$52,TRUE)","v":1},4809]
[{"$f":"POISSON(B4814,Berekening!$G$27,TRUE)","v":1},4810,{"$f":"POISSON(D4814,Berekening!$G$50,TRUE)","v":1},4810,{"$f":"POISSON(F4814,Berekening!$G$52,TRUE)","v":1},4810]
[{"$f":"POISSON(B4815,Berekening!$G$27,TRUE)","v":1},4811,{"$f":"POISSON(D4815,Berekening!$G$50,TRUE)","v":1},4811,{"$f":"POISSON(F4815,Berekening!$G$52,TRUE)","v":1},4811]
[{"$f":"POISSON(B4816,Berekening!$G$27,TRUE)","v":1},4812,{"$f":"POISSON(D4816,Berekening!$G$50,TRUE)","v":1},4812,{"$f":"POISSON(F4816,Berekening!$G$52,TRUE)","v":1},4812]
[{"$f":"POISSON(B4817,Berekening!$G$27,TRUE)","v":1},4813,{"$f":"POISSON(D4817,Berekening!$G$50,TRUE)","v":1},4813,{"$f":"POISSON(F4817,Berekening!$G$52,TRUE)","v":1},4813]
[{"$f":"POISSON(B4818,Berekening!$G$27,TRUE)","v":1},4814,{"$f":"POISSON(D4818,Berekening!$G$50,TRUE)","v":1},4814,{"$f":"POISSON(F4818,Berekening!$G$52,TRUE)","v":1},4814]
[{"$f":"POISSON(B4819,Berekening!$G$27,TRUE)","v":1},4815,{"$f":"POISSON(D4819,Berekening!$G$50,TRUE)","v":1},4815,{"$f":"POISSON(F4819,Berekening!$G$52,TRUE)","v":1},4815]
[{"$f":"POISSON(B4820,Berekening!$G$27,TRUE)","v":1},4816,{"$f":"POISSON(D4820,Berekening!$G$50,TRUE)","v":1},4816,{"$f":"POISSON(F4820,Berekening!$G$52,TRUE)","v":1},4816]
[{"$f":"POISSON(B4821,Berekening!$G$27,TRUE)","v":1},4817,{"$f":"POISSON(D4821,Berekening!$G$50,TRUE)","v":1},4817,{"$f":"POISSON(F4821,Berekening!$G$52,TRUE)","v":1},4817]
[{"$f":"POISSON(B4822,Berekening!$G$27,TRUE)","v":1},4818,{"$f":"POISSON(D4822,Berekening!$G$50,TRUE)","v":1},4818,{"$f":"POISSON(F4822,Berekening!$G$52,TRUE)","v":1},4818]
[{"$f":"POISSON(B4823,Berekening!$G$27,TRUE)","v":1},4819,{"$f":"POISSON(D4823,Berekening!$G$50,TRUE)","v":1},4819,{"$f":"POISSON(F4823,Berekening!$G$52,TRUE)","v":1},4819]
[{"$f":"POISSON(B4824,Berekening!$G$27,TRUE)","v":1},4820,{"$f":"POISSON(D4824,Berekening!$G$50,TRUE)","v":1},4820,{"$f":"POISSON(F4824,Berekening!$G$52,TRUE)","v":1},4820]
[{"$f":"POISSON(B4825,Berekening!$G$27,TRUE)","v":1},4821,{"$f":"POISSON(D4825,Berekening!$G$50,TRUE)","v":1},4821,{"$f":"POISSON(F4825,Berekening!$G$52,TRUE)","v":1},4821]
[{"$f":"POISSON(B4826,Berekening!$G$27,TRUE)","v":1},4822,{"$f":"POISSON(D4826,Berekening!$G$50,TRUE)","v":1},4822,{"$f":"POISSON(F4826,Berekening!$G$52,TRUE)","v":1},4822]
[{"$f":"POISSON(B4827,Berekening!$G$27,TRUE)","v":1},4823,{"$f":"POISSON(D4827,Berekening!$G$50,TRUE)","v":1},4823,{"$f":"POISSON(F4827,Berekening!$G$52,TRUE)","v":1},4823]
[{"$f":"POISSON(B4828,Berekening!$G$27,TRUE)","v":1},4824,{"$f":"POISSON(D4828,Berekening!$G$50,TRUE)","v":1},4824,{"$f":"POISSON(F4828,Berekening!$G$52,TRUE)","v":1},4824]
[{"$f":"POISSON(B4829,Berekening!$G$27,TRUE)","v":1},4825,{"$f":"POISSON(D4829,Berekening!$G$50,TRUE)","v":1},4825,{"$f":"POISSON(F4829,Berekening!$G$52,TRUE)","v":1},4825]
[{"$f":"POISSON(B4830,Berekening!$G$27,TRUE)","v":1},4826,{"$f":"POISSON(D4830,Berekening!$G$50,TRUE)","v":1},4826,{"$f":"POISSON(F4830,Berekening!$G$52,TRUE)","v":1},4826]
[{"$f":"POISSON(B4831,Berekening!$G$27,TRUE)","v":1},4827,{"$f":"POISSON(D4831,Berekening!$G$50,TRUE)","v":1},4827,{"$f":"POISSON(F4831,Berekening!$G$52,TRUE)","v":1},4827]
[{"$f":"POISSON(B4832,Berekening!$G$27,TRUE)","v":1},4828,{"$f":"POISSON(D4832,Berekening!$G$50,TRUE)","v":1},4828,{"$f":"POISSON(F4832,Berekening!$G$52,TRUE)","v":1},4828]
[{"$f":"POISSON(B4833,Berekening!$G$27,TRUE)","v":1},4829,{"$f":"POISSON(D4833,Berekening!$G$50,TRUE)","v":1},4829,{"$f":"POISSON(F4833,Berekening!$G$52,TRUE)","v":1},4829]
[{"$f":"POISSON(B4834,Berekening!$G$27,TRUE)","v":1},4830,{"$f":"POISSON(D4834,Berekening!$G$50,TRUE)","v":1},4830,{"$f":"POISSON(F4834,Berekening!$G$52,TRUE)","v":1},4830]
[{"$f":"POISSON(B4835,Berekening!$G$27,TRUE)","v":1},4831,{"$f":"POISSON(D4835,Berekening!$G$50,TRUE)","v":1},4831,{"$f":"POISSON(F4835,Berekening!$G$52,TRUE)","v":1},4831]
[{"$f":"POISSON(B4836,Berekening!$G$27,TRUE)","v":1},4832,{"$f":"POISSON(D4836,Berekening!$G$50,TRUE)","v":1},4832,{"$f":"POISSON(F4836,Berekening!$G$52,TRUE)","v":1},4832]
[{"$f":"POISSON(B4837,Berekening!$G$27,TRUE)","v":1},4833,{"$f":"POISSON(D4837,Berekening!$G$50,TRUE)","v":1},4833,{"$f":"POISSON(F4837,Berekening!$G$52,TRUE)","v":1},4833]
[{"$f":"POISSON(B4838,Berekening!$G$27,TRUE)","v":1},4834,{"$f":"POISSON(D4838,Berekening!$G$50,TRUE)","v":1},4834,{"$f":"POISSON(F4838,Berekening!$G$52,TRUE)","v":1},4834]
[{"$f":"POISSON(B4839,Berekening!$G$27,TRUE)","v":1},4835,{"$f":"POISSON(D4839,Berekening!$G$50,TRUE)","v":1},4835,{"$f":"POISSON(F4839,Berekening!$G$52,TRUE)","v":1},4835]
[{"$f":"POISSON(B4840,Berekening!$G$27,TRUE)","v":1},4836,{"$f":"POISSON(D4840,Berekening!$G$50,TRUE)","v":1},4836,{"$f":"POISSON(F4840,Berekening!$G$52,TRUE)","v":1},4836]
[{"$f":"POISSON(B4841,Berekening!$G$27,TRUE)","v":1},4837,{"$f":"POISSON(D4841,Berekening!$G$50,TRUE)","v":1},4837,{"$f":"POISSON(F4841,Berekening!$G$52,TRUE)","v":1},4837]
[{"$f":"POISSON(B4842,Berekening!$G$27,TRUE)","v":1},4838,{"$f":"POISSON(D4842,Berekening!$G$50,TRUE)","v":1},4838,{"$f":"POISSON(F4842,Berekening!$G$52,TRUE)","v":1},4838]
[{"$f":"POISSON(B4843,Berekening!$G$27,TRUE)","v":1},4839,{"$f":"POISSON(D4843,Berekening!$G$50,TRUE)","v":1},4839,{"$f":"POISSON(F4843,Berekening!$G$52,TRUE)","v":1},4839]
[{"$f":"POISSON(B4844,Berekening!$G$27,TRUE)","v":1},4840,{"$f":"POISSON(D4844,Berekening!$G$50,TRUE)","v":1},4840,{"$f":"POISSON(F4844,Berekening!$G$52,TRUE)","v":1},4840]
[{"$f":"POISSON(B4845,Berekening!$G$27,TRUE)","v":1},4841,{"$f":"POISSON(D4845,Berekening!$G$50,TRUE)","v":1},4841,{"$f":"POISSON(F4845,Berekening!$G$52,TRUE)","v":1},4841]
[{"$f":"POISSON(B4846,Berekening!$G$27,TRUE)","v":1},4842,{"$f":"POISSON(D4846,Berekening!$G$50,TRUE)","v":1},4842,{"$f":"POISSON(F4846,Berekening!$G$52,TRUE)","v":1},4842]
[{"$f":"POISSON(B4847,Berekening!$G$27,TRUE)","v":1},4843,{"$f":"POISSON(D4847,Berekening!$G$50,TRUE)","v":1},4843,{"$f":"POISSON(F4847,Berekening!$G$52,TRUE)","v":1},4843]
[{"$f":"POISSON(B4848,Berekening!$G$27,TRUE)","v":1},4844,{"$f":"POISSON(D4848,Berekening!$G$50,TRUE)","v":1},4844,{"$f":"POISSON(F4848,Berekening!$G$52,TRUE)","v":1},4844]
[{"$f":"POISSON(B4849,Berekening!$G$27,TRUE)","v":1},4845,{"$f":"POISSON(D4849,Berekening!$G$50,TRUE)","v":1},4845,{"$f":"POISSON(F4849,Berekening!$G$52,TRUE)","v":1},4845]
[{"$f":"POISSON(B4850,Berekening!$G$27,TRUE)","v":1},4846,{"$f":"POISSON(D4850,Berekening!$G$50,TRUE)","v":1},4846,{"$f":"POISSON(F4850,Berekening!$G$52,TRUE)","v":1},4846]
[{"$f":"POISSON(B4851,Berekening!$G$27,TRUE)","v":1},4847,{"$f":"POISSON(D4851,Berekening!$G$50,TRUE)","v":1},4847,{"$f":"POISSON(F4851,Berekening!$G$52,TRUE)","v":1},4847]
[{"$f":"POISSON(B4852,Berekening!$G$27,TRUE)","v":1},4848,{"$f":"POISSON(D4852,Berekening!$G$50,TRUE)","v":1},4848,{"$f":"POISSON(F4852,Berekening!$G$52,TRUE)","v":1},4848]
[{"$f":"POISSON(B4853,Berekening!$G$27,TRUE)","v":1},4849,{"$f":"POISSON(D4853,Berekening!$G$50,TRUE)","v":1},4849,{"$f":"POISSON(F4853,Berekening!$G$52,TRUE)","v":1},4849]
[{"$f":"POISSON(B4854,Berekening!$G$27,TRUE)","v":1},4850,{"$f":"POISSON(D4854,Berekening!$G$50,TRUE)","v":1},4850,{"$f":"POISSON(F4854,Berekening!$G$52,TRUE)","v":1},4850]
[{"$f":"POISSON(B4855,Berekening!$G$27,TRUE)","v":1},4851,{"$f":"POISSON(D4855,Berekening!$G$50,TRUE)","v":1},4851,{"$f":"POISSON(F4855,Berekening!$G$52,TRUE)","v":1},4851]
[{"$f":"POISSON(B4856,Berekening!$G$27,TRUE)","v":1},4852,{"$f":"POISSON(D4856,Berekening!$G$50,TRUE)","v":1},4852,{"$f":"POISSON(F4856,Berekening!$G$52,TRUE)","v":1},4852]
[{"$f":"POISSON(B4857,Berekening!$G$27,TRUE)","v":1},4853,{"$f":"POISSON(D4857,Berekening!$G$50,TRUE)","v":1},4853,{"$f":"POISSON(F4857,Berekening!$G$52,TRUE)","v":1},4853]
[{"$f":"POISSON(B4858,Berekening!$G$27,TRUE)","v":1},4854,{"$f":"POISSON(D4858,Berekening!$G$50,TRUE)","v":1},4854,{"$f":"POISSON(F4858,Berekening!$G$52,TRUE)","v":1},4854]
[{"$f":"POISSON(B4859,Berekening!$G$27,TRUE)","v":1},4855,{"$f":"POISSON(D4859,Berekening!$G$50,TRUE)","v":1},4855,{"$f":"POISSON(F4859,Berekening!$G$52,TRUE)","v":1},4855]
[{"$f":"POISSON(B4860,Berekening!$G$27,TRUE)","v":1},4856,{"$f":"POISSON(D4860,Berekening!$G$50,TRUE)","v":1},4856,{"$f":"POISSON(F4860,Berekening!$G$52,TRUE)","v":1},4856]
[{"$f":"POISSON(B4861,Berekening!$G$27,TRUE)","v":1},4857,{"$f":"POISSON(D4861,Berekening!$G$50,TRUE)","v":1},4857,{"$f":"POISSON(F4861,Berekening!$G$52,TRUE)","v":1},4857]
[{"$f":"POISSON(B4862,Berekening!$G$27,TRUE)","v":1},4858,{"$f":"POISSON(D4862,Berekening!$G$50,TRUE)","v":1},4858,{"$f":"POISSON(F4862,Berekening!$G$52,TRUE)","v":1},4858]
[{"$f":"POISSON(B4863,Berekening!$G$27,TRUE)","v":1},4859,{"$f":"POISSON(D4863,Berekening!$G$50,TRUE)","v":1},4859,{"$f":"POISSON(F4863,Berekening!$G$52,TRUE)","v":1},4859]
[{"$f":"POISSON(B4864,Berekening!$G$27,TRUE)","v":1},4860,{"$f":"POISSON(D4864,Berekening!$G$50,TRUE)","v":1},4860,{"$f":"POISSON(F4864,Berekening!$G$52,TRUE)","v":1},4860]
[{"$f":"POISSON(B4865,Berekening!$G$27,TRUE)","v":1},4861,{"$f":"POISSON(D4865,Berekening!$G$50,TRUE)","v":1},4861,{"$f":"POISSON(F4865,Berekening!$G$52,TRUE)","v":1},4861]
[{"$f":"POISSON(B4866,Berekening!$G$27,TRUE)","v":1},4862,{"$f":"POISSON(D4866,Berekening!$G$50,TRUE)","v":1},4862,{"$f":"POISSON(F4866,Berekening!$G$52,TRUE)","v":1},4862]
[{"$f":"POISSON(B4867,Berekening!$G$27,TRUE)","v":1},4863,{"$f":"POISSON(D4867,Berekening!$G$50,TRUE)","v":1},4863,{"$f":"POISSON(F4867,Berekening!$G$52,TRUE)","v":1},4863]
[{"$f":"POISSON(B4868,Berekening!$G$27,TRUE)","v":1},4864,{"$f":"POISSON(D4868,Berekening!$G$50,TRUE)","v":1},4864,{"$f":"POISSON(F4868,Berekening!$G$52,TRUE)","v":1},4864]
[{"$f":"POISSON(B4869,Berekening!$G$27,TRUE)","v":1},4865,{"$f":"POISSON(D4869,Berekening!$G$50,TRUE)","v":1},4865,{"$f":"POISSON(F4869,Berekening!$G$52,TRUE)","v":1},4865]
[{"$f":"POISSON(B4870,Berekening!$G$27,TRUE)","v":1},4866,{"$f":"POISSON(D4870,Berekening!$G$50,TRUE)","v":1},4866,{"$f":"POISSON(F4870,Berekening!$G$52,TRUE)","v":1},4866]
[{"$f":"POISSON(B4871,Berekening!$G$27,TRUE)","v":1},4867,{"$f":"POISSON(D4871,Berekening!$G$50,TRUE)","v":1},4867,{"$f":"POISSON(F4871,Berekening!$G$52,TRUE)","v":1},4867]
[{"$f":"POISSON(B4872,Berekening!$G$27,TRUE)","v":1},4868,{"$f":"POISSON(D4872,Berekening!$G$50,TRUE)","v":1},4868,{"$f":"POISSON(F4872,Berekening!$G$52,TRUE)","v":1},4868]
[{"$f":"POISSON(B4873,Berekening!$G$27,TRUE)","v":1},4869,{"$f":"POISSON(D4873,Berekening!$G$50,TRUE)","v":1},4869,{"$f":"POISSON(F4873,Berekening!$G$52,TRUE)","v":1},4869]
[{"$f":"POISSON(B4874,Berekening!$G$27,TRUE)","v":1},4870,{"$f":"POISSON(D4874,Berekening!$G$50,TRUE)","v":1},4870,{"$f":"POISSON(F4874,Berekening!$G$52,TRUE)","v":1},4870]
[{"$f":"POISSON(B4875,Berekening!$G$27,TRUE)","v":1},4871,{"$f":"POISSON(D4875,Berekening!$G$50,TRUE)","v":1},4871,{"$f":"POISSON(F4875,Berekening!$G$52,TRUE)","v":1},4871]
[{"$f":"POISSON(B4876,Berekening!$G$27,TRUE)","v":1},4872,{"$f":"POISSON(D4876,Berekening!$G$50,TRUE)","v":1},4872,{"$f":"POISSON(F4876,Berekening!$G$52,TRUE)","v":1},4872]
[{"$f":"POISSON(B4877,Berekening!$G$27,TRUE)","v":1},4873,{"$f":"POISSON(D4877,Berekening!$G$50,TRUE)","v":1},4873,{"$f":"POISSON(F4877,Berekening!$G$52,TRUE)","v":1},4873]
[{"$f":"POISSON(B4878,Berekening!$G$27,TRUE)","v":1},4874,{"$f":"POISSON(D4878,Berekening!$G$50,TRUE)","v":1},4874,{"$f":"POISSON(F4878,Berekening!$G$52,TRUE)","v":1},4874]
[{"$f":"POISSON(B4879,Berekening!$G$27,TRUE)","v":1},4875,{"$f":"POISSON(D4879,Berekening!$G$50,TRUE)","v":1},4875,{"$f":"POISSON(F4879,Berekening!$G$52,TRUE)","v":1},4875]
[{"$f":"POISSON(B4880,Berekening!$G$27,TRUE)","v":1},4876,{"$f":"POISSON(D4880,Berekening!$G$50,TRUE)","v":1},4876,{"$f":"POISSON(F4880,Berekening!$G$52,TRUE)","v":1},4876]
[{"$f":"POISSON(B4881,Berekening!$G$27,TRUE)","v":1},4877,{"$f":"POISSON(D4881,Berekening!$G$50,TRUE)","v":1},4877,{"$f":"POISSON(F4881,Berekening!$G$52,TRUE)","v":1},4877]
[{"$f":"POISSON(B4882,Berekening!$G$27,TRUE)","v":1},4878,{"$f":"POISSON(D4882,Berekening!$G$50,TRUE)","v":1},4878,{"$f":"POISSON(F4882,Berekening!$G$52,TRUE)","v":1},4878]
[{"$f":"POISSON(B4883,Berekening!$G$27,TRUE)","v":1},4879,{"$f":"POISSON(D4883,Berekening!$G$50,TRUE)","v":1},4879,{"$f":"POISSON(F4883,Berekening!$G$52,TRUE)","v":1},4879]
[{"$f":"POISSON(B4884,Berekening!$G$27,TRUE)","v":1},4880,{"$f":"POISSON(D4884,Berekening!$G$50,TRUE)","v":1},4880,{"$f":"POISSON(F4884,Berekening!$G$52,TRUE)","v":1},4880]
[{"$f":"POISSON(B4885,Berekening!$G$27,TRUE)","v":1},4881,{"$f":"POISSON(D4885,Berekening!$G$50,TRUE)","v":1},4881,{"$f":"POISSON(F4885,Berekening!$G$52,TRUE)","v":1},4881]
[{"$f":"POISSON(B4886,Berekening!$G$27,TRUE)","v":1},4882,{"$f":"POISSON(D4886,Berekening!$G$50,TRUE)","v":1},4882,{"$f":"POISSON(F4886,Berekening!$G$52,TRUE)","v":1},4882]
[{"$f":"POISSON(B4887,Berekening!$G$27,TRUE)","v":1},4883,{"$f":"POISSON(D4887,Berekening!$G$50,TRUE)","v":1},4883,{"$f":"POISSON(F4887,Berekening!$G$52,TRUE)","v":1},4883]
[{"$f":"POISSON(B4888,Berekening!$G$27,TRUE)","v":1},4884,{"$f":"POISSON(D4888,Berekening!$G$50,TRUE)","v":1},4884,{"$f":"POISSON(F4888,Berekening!$G$52,TRUE)","v":1},4884]
[{"$f":"POISSON(B4889,Berekening!$G$27,TRUE)","v":1},4885,{"$f":"POISSON(D4889,Berekening!$G$50,TRUE)","v":1},4885,{"$f":"POISSON(F4889,Berekening!$G$52,TRUE)","v":1},4885]
[{"$f":"POISSON(B4890,Berekening!$G$27,TRUE)","v":1},4886,{"$f":"POISSON(D4890,Berekening!$G$50,TRUE)","v":1},4886,{"$f":"POISSON(F4890,Berekening!$G$52,TRUE)","v":1},4886]
[{"$f":"POISSON(B4891,Berekening!$G$27,TRUE)","v":1},4887,{"$f":"POISSON(D4891,Berekening!$G$50,TRUE)","v":1},4887,{"$f":"POISSON(F4891,Berekening!$G$52,TRUE)","v":1},4887]
[{"$f":"POISSON(B4892,Berekening!$G$27,TRUE)","v":1},4888,{"$f":"POISSON(D4892,Berekening!$G$50,TRUE)","v":1},4888,{"$f":"POISSON(F4892,Berekening!$G$52,TRUE)","v":1},4888]
[{"$f":"POISSON(B4893,Berekening!$G$27,TRUE)","v":1},4889,{"$f":"POISSON(D4893,Berekening!$G$50,TRUE)","v":1},4889,{"$f":"POISSON(F4893,Berekening!$G$52,TRUE)","v":1},4889]
[{"$f":"POISSON(B4894,Berekening!$G$27,TRUE)","v":1},4890,{"$f":"POISSON(D4894,Berekening!$G$50,TRUE)","v":1},4890,{"$f":"POISSON(F4894,Berekening!$G$52,TRUE)","v":1},4890]
[{"$f":"POISSON(B4895,Berekening!$G$27,TRUE)","v":1},4891,{"$f":"POISSON(D4895,Berekening!$G$50,TRUE)","v":1},4891,{"$f":"POISSON(F4895,Berekening!$G$52,TRUE)","v":1},4891]
[{"$f":"POISSON(B4896,Berekening!$G$27,TRUE)","v":1},4892,{"$f":"POISSON(D4896,Berekening!$G$50,TRUE)","v":1},4892,{"$f":"POISSON(F4896,Berekening!$G$52,TRUE)","v":1},4892]
[{"$f":"POISSON(B4897,Berekening!$G$27,TRUE)","v":1},4893,{"$f":"POISSON(D4897,Berekening!$G$50,TRUE)","v":1},4893,{"$f":"POISSON(F4897,Berekening!$G$52,TRUE)","v":1},4893]
[{"$f":"POISSON(B4898,Berekening!$G$27,TRUE)","v":1},4894,{"$f":"POISSON(D4898,Berekening!$G$50,TRUE)","v":1},4894,{"$f":"POISSON(F4898,Berekening!$G$52,TRUE)","v":1},4894]
[{"$f":"POISSON(B4899,Berekening!$G$27,TRUE)","v":1},4895,{"$f":"POISSON(D4899,Berekening!$G$50,TRUE)","v":1},4895,{"$f":"POISSON(F4899,Berekening!$G$52,TRUE)","v":1},4895]
[{"$f":"POISSON(B4900,Berekening!$G$27,TRUE)","v":1},4896,{"$f":"POISSON(D4900,Berekening!$G$50,TRUE)","v":1},4896,{"$f":"POISSON(F4900,Berekening!$G$52,TRUE)","v":1},4896]
[{"$f":"POISSON(B4901,Berekening!$G$27,TRUE)","v":1},4897,{"$f":"POISSON(D4901,Berekening!$G$50,TRUE)","v":1},4897,{"$f":"POISSON(F4901,Berekening!$G$52,TRUE)","v":1},4897]
[{"$f":"POISSON(B4902,Berekening!$G$27,TRUE)","v":1},4898,{"$f":"POISSON(D4902,Berekening!$G$50,TRUE)","v":1},4898,{"$f":"POISSON(F4902,Berekening!$G$52,TRUE)","v":1},4898]
[{"$f":"POISSON(B4903,Berekening!$G$27,TRUE)","v":1},4899,{"$f":"POISSON(D4903,Berekening!$G$50,TRUE)","v":1},4899,{"$f":"POISSON(F4903,Berekening!$G$52,TRUE)","v":1},4899]
[{"$f":"POISSON(B4904,Berekening!$G$27,TRUE)","v":1},4900,{"$f":"POISSON(D4904,Berekening!$G$50,TRUE)","v":1},4900,{"$f":"POISSON(F4904,Berekening!$G$52,TRUE)","v":1},4900]
[{"$f":"POISSON(B4905,Berekening!$G$27,TRUE)","v":1},4901,{"$f":"POISSON(D4905,Berekening!$G$50,TRUE)","v":1},4901,{"$f":"POISSON(F4905,Berekening!$G$52,TRUE)","v":1},4901]
[{"$f":"POISSON(B4906,Berekening!$G$27,TRUE)","v":1},4902,{"$f":"POISSON(D4906,Berekening!$G$50,TRUE)","v":1},4902,{"$f":"POISSON(F4906,Berekening!$G$52,TRUE)","v":1},4902]
[{"$f":"POISSON(B4907,Berekening!$G$27,TRUE)","v":1},4903,{"$f":"POISSON(D4907,Berekening!$G$50,TRUE)","v":1},4903,{"$f":"POISSON(F4907,Berekening!$G$52,TRUE)","v":1},4903]
[{"$f":"POISSON(B4908,Berekening!$G$27,TRUE)","v":1},4904,{"$f":"POISSON(D4908,Berekening!$G$50,TRUE)","v":1},4904,{"$f":"POISSON(F4908,Berekening!$G$52,TRUE)","v":1},4904]
[{"$f":"POISSON(B4909,Berekening!$G$27,TRUE)","v":1},4905,{"$f":"POISSON(D4909,Berekening!$G$50,TRUE)","v":1},4905,{"$f":"POISSON(F4909,Berekening!$G$52,TRUE)","v":1},4905]
[{"$f":"POISSON(B4910,Berekening!$G$27,TRUE)","v":1},4906,{"$f":"POISSON(D4910,Berekening!$G$50,TRUE)","v":1},4906,{"$f":"POISSON(F4910,Berekening!$G$52,TRUE)","v":1},4906]
[{"$f":"POISSON(B4911,Berekening!$G$27,TRUE)","v":1},4907,{"$f":"POISSON(D4911,Berekening!$G$50,TRUE)","v":1},4907,{"$f":"POISSON(F4911,Berekening!$G$52,TRUE)","v":1},4907]
[{"$f":"POISSON(B4912,Berekening!$G$27,TRUE)","v":1},4908,{"$f":"POISSON(D4912,Berekening!$G$50,TRUE)","v":1},4908,{"$f":"POISSON(F4912,Berekening!$G$52,TRUE)","v":1},4908]
[{"$f":"POISSON(B4913,Berekening!$G$27,TRUE)","v":1},4909,{"$f":"POISSON(D4913,Berekening!$G$50,TRUE)","v":1},4909,{"$f":"POISSON(F4913,Berekening!$G$52,TRUE)","v":1},4909]
[{"$f":"POISSON(B4914,Berekening!$G$27,TRUE)","v":1},4910,{"$f":"POISSON(D4914,Berekening!$G$50,TRUE)","v":1},4910,{"$f":"POISSON(F4914,Berekening!$G$52,TRUE)","v":1},4910]
[{"$f":"POISSON(B4915,Berekening!$G$27,TRUE)","v":1},4911,{"$f":"POISSON(D4915,Berekening!$G$50,TRUE)","v":1},4911,{"$f":"POISSON(F4915,Berekening!$G$52,TRUE)","v":1},4911]
[{"$f":"POISSON(B4916,Berekening!$G$27,TRUE)","v":1},4912,{"$f":"POISSON(D4916,Berekening!$G$50,TRUE)","v":1},4912,{"$f":"POISSON(F4916,Berekening!$G$52,TRUE)","v":1},4912]
[{"$f":"POISSON(B4917,Berekening!$G$27,TRUE)","v":1},4913,{"$f":"POISSON(D4917,Berekening!$G$50,TRUE)","v":1},4913,{"$f":"POISSON(F4917,Berekening!$G$52,TRUE)","v":1},4913]
[{"$f":"POISSON(B4918,Berekening!$G$27,TRUE)","v":1},4914,{"$f":"POISSON(D4918,Berekening!$G$50,TRUE)","v":1},4914,{"$f":"POISSON(F4918,Berekening!$G$52,TRUE)","v":1},4914]
[{"$f":"POISSON(B4919,Berekening!$G$27,TRUE)","v":1},4915,{"$f":"POISSON(D4919,Berekening!$G$50,TRUE)","v":1},4915,{"$f":"POISSON(F4919,Berekening!$G$52,TRUE)","v":1},4915]
[{"$f":"POISSON(B4920,Berekening!$G$27,TRUE)","v":1},4916,{"$f":"POISSON(D4920,Berekening!$G$50,TRUE)","v":1},4916,{"$f":"POISSON(F4920,Berekening!$G$52,TRUE)","v":1},4916]
[{"$f":"POISSON(B4921,Berekening!$G$27,TRUE)","v":1},4917,{"$f":"POISSON(D4921,Berekening!$G$50,TRUE)","v":1},4917,{"$f":"POISSON(F4921,Berekening!$G$52,TRUE)","v":1},4917]
[{"$f":"POISSON(B4922,Berekening!$G$27,TRUE)","v":1},4918,{"$f":"POISSON(D4922,Berekening!$G$50,TRUE)","v":1},4918,{"$f":"POISSON(F4922,Berekening!$G$52,TRUE)","v":1},4918]
[{"$f":"POISSON(B4923,Berekening!$G$27,TRUE)","v":1},4919,{"$f":"POISSON(D4923,Berekening!$G$50,TRUE)","v":1},4919,{"$f":"POISSON(F4923,Berekening!$G$52,TRUE)","v":1},4919]
[{"$f":"POISSON(B4924,Berekening!$G$27,TRUE)","v":1},4920,{"$f":"POISSON(D4924,Berekening!$G$50,TRUE)","v":1},4920,{"$f":"POISSON(F4924,Berekening!$G$52,TRUE)","v":1},4920]
[{"$f":"POISSON(B4925,Berekening!$G$27,TRUE)","v":1},4921,{"$f":"POISSON(D4925,Berekening!$G$50,TRUE)","v":1},4921,{"$f":"POISSON(F4925,Berekening!$G$52,TRUE)","v":1},4921]
[{"$f":"POISSON(B4926,Berekening!$G$27,TRUE)","v":1},4922,{"$f":"POISSON(D4926,Berekening!$G$50,TRUE)","v":1},4922,{"$f":"POISSON(F4926,Berekening!$G$52,TRUE)","v":1},4922]
[{"$f":"POISSON(B4927,Berekening!$G$27,TRUE)","v":1},4923,{"$f":"POISSON(D4927,Berekening!$G$50,TRUE)","v":1},4923,{"$f":"POISSON(F4927,Berekening!$G$52,TRUE)","v":1},4923]
[{"$f":"POISSON(B4928,Berekening!$G$27,TRUE)","v":1},4924,{"$f":"POISSON(D4928,Berekening!$G$50,TRUE)","v":1},4924,{"$f":"POISSON(F4928,Berekening!$G$52,TRUE)","v":1},4924]
[{"$f":"POISSON(B4929,Berekening!$G$27,TRUE)","v":1},4925,{"$f":"POISSON(D4929,Berekening!$G$50,TRUE)","v":1},4925,{"$f":"POISSON(F4929,Berekening!$G$52,TRUE)","v":1},4925]
[{"$f":"POISSON(B4930,Berekening!$G$27,TRUE)","v":1},4926,{"$f":"POISSON(D4930,Berekening!$G$50,TRUE)","v":1},4926,{"$f":"POISSON(F4930,Berekening!$G$52,TRUE)","v":1},4926]
[{"$f":"POISSON(B4931,Berekening!$G$27,TRUE)","v":1},4927,{"$f":"POISSON(D4931,Berekening!$G$50,TRUE)","v":1},4927,{"$f":"POISSON(F4931,Berekening!$G$52,TRUE)","v":1},4927]
[{"$f":"POISSON(B4932,Berekening!$G$27,TRUE)","v":1},4928,{"$f":"POISSON(D4932,Berekening!$G$50,TRUE)","v":1},4928,{"$f":"POISSON(F4932,Berekening!$G$52,TRUE)","v":1},4928]
[{"$f":"POISSON(B4933,Berekening!$G$27,TRUE)","v":1},4929,{"$f":"POISSON(D4933,Berekening!$G$50,TRUE)","v":1},4929,{"$f":"POISSON(F4933,Berekening!$G$52,TRUE)","v":1},4929]
[{"$f":"POISSON(B4934,Berekening!$G$27,TRUE)","v":1},4930,{"$f":"POISSON(D4934,Berekening!$G$50,TRUE)","v":1},4930,{"$f":"POISSON(F4934,Berekening!$G$52,TRUE)","v":1},4930]
[{"$f":"POISSON(B4935,Berekening!$G$27,TRUE)","v":1},4931,{"$f":"POISSON(D4935,Berekening!$G$50,TRUE)","v":1},4931,{"$f":"POISSON(F4935,Berekening!$G$52,TRUE)","v":1},4931]
[{"$f":"POISSON(B4936,Berekening!$G$27,TRUE)","v":1},4932,{"$f":"POISSON(D4936,Berekening!$G$50,TRUE)","v":1},4932,{"$f":"POISSON(F4936,Berekening!$G$52,TRUE)","v":1},4932]
[{"$f":"POISSON(B4937,Berekening!$G$27,TRUE)","v":1},4933,{"$f":"POISSON(D4937,Berekening!$G$50,TRUE)","v":1},4933,{"$f":"POISSON(F4937,Berekening!$G$52,TRUE)","v":1},4933]
[{"$f":"POISSON(B4938,Berekening!$G$27,TRUE)","v":1},4934,{"$f":"POISSON(D4938,Berekening!$G$50,TRUE)","v":1},4934,{"$f":"POISSON(F4938,Berekening!$G$52,TRUE)","v":1},4934]
[{"$f":"POISSON(B4939,Berekening!$G$27,TRUE)","v":1},4935,{"$f":"POISSON(D4939,Berekening!$G$50,TRUE)","v":1},4935,{"$f":"POISSON(F4939,Berekening!$G$52,TRUE)","v":1},4935]
[{"$f":"POISSON(B4940,Berekening!$G$27,TRUE)","v":1},4936,{"$f":"POISSON(D4940,Berekening!$G$50,TRUE)","v":1},4936,{"$f":"POISSON(F4940,Berekening!$G$52,TRUE)","v":1},4936]
[{"$f":"POISSON(B4941,Berekening!$G$27,TRUE)","v":1},4937,{"$f":"POISSON(D4941,Berekening!$G$50,TRUE)","v":1},4937,{"$f":"POISSON(F4941,Berekening!$G$52,TRUE)","v":1},4937]
[{"$f":"POISSON(B4942,Berekening!$G$27,TRUE)","v":1},4938,{"$f":"POISSON(D4942,Berekening!$G$50,TRUE)","v":1},4938,{"$f":"POISSON(F4942,Berekening!$G$52,TRUE)","v":1},4938]
[{"$f":"POISSON(B4943,Berekening!$G$27,TRUE)","v":1},4939,{"$f":"POISSON(D4943,Berekening!$G$50,TRUE)","v":1},4939,{"$f":"POISSON(F4943,Berekening!$G$52,TRUE)","v":1},4939]
[{"$f":"POISSON(B4944,Berekening!$G$27,TRUE)","v":1},4940,{"$f":"POISSON(D4944,Berekening!$G$50,TRUE)","v":1},4940,{"$f":"POISSON(F4944,Berekening!$G$52,TRUE)","v":1},4940]
[{"$f":"POISSON(B4945,Berekening!$G$27,TRUE)","v":1},4941,{"$f":"POISSON(D4945,Berekening!$G$50,TRUE)","v":1},4941,{"$f":"POISSON(F4945,Berekening!$G$52,TRUE)","v":1},4941]
[{"$f":"POISSON(B4946,Berekening!$G$27,TRUE)","v":1},4942,{"$f":"POISSON(D4946,Berekening!$G$50,TRUE)","v":1},4942,{"$f":"POISSON(F4946,Berekening!$G$52,TRUE)","v":1},4942]
[{"$f":"POISSON(B4947,Berekening!$G$27,TRUE)","v":1},4943,{"$f":"POISSON(D4947,Berekening!$G$50,TRUE)","v":1},4943,{"$f":"POISSON(F4947,Berekening!$G$52,TRUE)","v":1},4943]
[{"$f":"POISSON(B4948,Berekening!$G$27,TRUE)","v":1},4944,{"$f":"POISSON(D4948,Berekening!$G$50,TRUE)","v":1},4944,{"$f":"POISSON(F4948,Berekening!$G$52,TRUE)","v":1},4944]
[{"$f":"POISSON(B4949,Berekening!$G$27,TRUE)","v":1},4945,{"$f":"POISSON(D4949,Berekening!$G$50,TRUE)","v":1},4945,{"$f":"POISSON(F4949,Berekening!$G$52,TRUE)","v":1},4945]
[{"$f":"POISSON(B4950,Berekening!$G$27,TRUE)","v":1},4946,{"$f":"POISSON(D4950,Berekening!$G$50,TRUE)","v":1},4946,{"$f":"POISSON(F4950,Berekening!$G$52,TRUE)","v":1},4946]
[{"$f":"POISSON(B4951,Berekening!$G$27,TRUE)","v":1},4947,{"$f":"POISSON(D4951,Berekening!$G$50,TRUE)","v":1},4947,{"$f":"POISSON(F4951,Berekening!$G$52,TRUE)","v":1},4947]
[{"$f":"POISSON(B4952,Berekening!$G$27,TRUE)","v":1},4948,{"$f":"POISSON(D4952,Berekening!$G$50,TRUE)","v":1},4948,{"$f":"POISSON(F4952,Berekening!$G$52,TRUE)","v":1},4948]
[{"$f":"POISSON(B4953,Berekening!$G$27,TRUE)","v":1},4949,{"$f":"POISSON(D4953,Berekening!$G$50,TRUE)","v":1},4949,{"$f":"POISSON(F4953,Berekening!$G$52,TRUE)","v":1},4949]
[{"$f":"POISSON(B4954,Berekening!$G$27,TRUE)","v":1},4950,{"$f":"POISSON(D4954,Berekening!$G$50,TRUE)","v":1},4950,{"$f":"POISSON(F4954,Berekening!$G$52,TRUE)","v":1},4950]
[{"$f":"POISSON(B4955,Berekening!$G$27,TRUE)","v":1},4951,{"$f":"POISSON(D4955,Berekening!$G$50,TRUE)","v":1},4951,{"$f":"POISSON(F4955,Berekening!$G$52,TRUE)","v":1},4951]
[{"$f":"POISSON(B4956,Berekening!$G$27,TRUE)","v":1},4952,{"$f":"POISSON(D4956,Berekening!$G$50,TRUE)","v":1},4952,{"$f":"POISSON(F4956,Berekening!$G$52,TRUE)","v":1},4952]
[{"$f":"POISSON(B4957,Berekening!$G$27,TRUE)","v":1},4953,{"$f":"POISSON(D4957,Berekening!$G$50,TRUE)","v":1},4953,{"$f":"POISSON(F4957,Berekening!$G$52,TRUE)","v":1},4953]
[{"$f":"POISSON(B4958,Berekening!$G$27,TRUE)","v":1},4954,{"$f":"POISSON(D4958,Berekening!$G$50,TRUE)","v":1},4954,{"$f":"POISSON(F4958,Berekening!$G$52,TRUE)","v":1},4954]
[{"$f":"POISSON(B4959,Berekening!$G$27,TRUE)","v":1},4955,{"$f":"POISSON(D4959,Berekening!$G$50,TRUE)","v":1},4955,{"$f":"POISSON(F4959,Berekening!$G$52,TRUE)","v":1},4955]
[{"$f":"POISSON(B4960,Berekening!$G$27,TRUE)","v":1},4956,{"$f":"POISSON(D4960,Berekening!$G$50,TRUE)","v":1},4956,{"$f":"POISSON(F4960,Berekening!$G$52,TRUE)","v":1},4956]
[{"$f":"POISSON(B4961,Berekening!$G$27,TRUE)","v":1},4957,{"$f":"POISSON(D4961,Berekening!$G$50,TRUE)","v":1},4957,{"$f":"POISSON(F4961,Berekening!$G$52,TRUE)","v":1},4957]
[{"$f":"POISSON(B4962,Berekening!$G$27,TRUE)","v":1},4958,{"$f":"POISSON(D4962,Berekening!$G$50,TRUE)","v":1},4958,{"$f":"POISSON(F4962,Berekening!$G$52,TRUE)","v":1},4958]
[{"$f":"POISSON(B4963,Berekening!$G$27,TRUE)","v":1},4959,{"$f":"POISSON(D4963,Berekening!$G$50,TRUE)","v":1},4959,{"$f":"POISSON(F4963,Berekening!$G$52,TRUE)","v":1},4959]
[{"$f":"POISSON(B4964,Berekening!$G$27,TRUE)","v":1},4960,{"$f":"POISSON(D4964,Berekening!$G$50,TRUE)","v":1},4960,{"$f":"POISSON(F4964,Berekening!$G$52,TRUE)","v":1},4960]
[{"$f":"POISSON(B4965,Berekening!$G$27,TRUE)","v":1},4961,{"$f":"POISSON(D4965,Berekening!$G$50,TRUE)","v":1},4961,{"$f":"POISSON(F4965,Berekening!$G$52,TRUE)","v":1},4961]
[{"$f":"POISSON(B4966,Berekening!$G$27,TRUE)","v":1},4962,{"$f":"POISSON(D4966,Berekening!$G$50,TRUE)","v":1},4962,{"$f":"POISSON(F4966,Berekening!$G$52,TRUE)","v":1},4962]
[{"$f":"POISSON(B4967,Berekening!$G$27,TRUE)","v":1},4963,{"$f":"POISSON(D4967,Berekening!$G$50,TRUE)","v":1},4963,{"$f":"POISSON(F4967,Berekening!$G$52,TRUE)","v":1},4963]
[{"$f":"POISSON(B4968,Berekening!$G$27,TRUE)","v":1},4964,{"$f":"POISSON(D4968,Berekening!$G$50,TRUE)","v":1},4964,{"$f":"POISSON(F4968,Berekening!$G$52,TRUE)","v":1},4964]
[{"$f":"POISSON(B4969,Berekening!$G$27,TRUE)","v":1},4965,{"$f":"POISSON(D4969,Berekening!$G$50,TRUE)","v":1},4965,{"$f":"POISSON(F4969,Berekening!$G$52,TRUE)","v":1},4965]
[{"$f":"POISSON(B4970,Berekening!$G$27,TRUE)","v":1},4966,{"$f":"POISSON(D4970,Berekening!$G$50,TRUE)","v":1},4966,{"$f":"POISSON(F4970,Berekening!$G$52,TRUE)","v":1},4966]
[{"$f":"POISSON(B4971,Berekening!$G$27,TRUE)","v":1},4967,{"$f":"POISSON(D4971,Berekening!$G$50,TRUE)","v":1},4967,{"$f":"POISSON(F4971,Berekening!$G$52,TRUE)","v":1},4967]
[{"$f":"POISSON(B4972,Berekening!$G$27,TRUE)","v":1},4968,{"$f":"POISSON(D4972,Berekening!$G$50,TRUE)","v":1},4968,{"$f":"POISSON(F4972,Berekening!$G$52,TRUE)","v":1},4968]
[{"$f":"POISSON(B4973,Berekening!$G$27,TRUE)","v":1},4969,{"$f":"POISSON(D4973,Berekening!$G$50,TRUE)","v":1},4969,{"$f":"POISSON(F4973,Berekening!$G$52,TRUE)","v":1},4969]
[{"$f":"POISSON(B4974,Berekening!$G$27,TRUE)","v":1},4970,{"$f":"POISSON(D4974,Berekening!$G$50,TRUE)","v":1},4970,{"$f":"POISSON(F4974,Berekening!$G$52,TRUE)","v":1},4970]
[{"$f":"POISSON(B4975,Berekening!$G$27,TRUE)","v":1},4971,{"$f":"POISSON(D4975,Berekening!$G$50,TRUE)","v":1},4971,{"$f":"POISSON(F4975,Berekening!$G$52,TRUE)","v":1},4971]
[{"$f":"POISSON(B4976,Berekening!$G$27,TRUE)","v":1},4972,{"$f":"POISSON(D4976,Berekening!$G$50,TRUE)","v":1},4972,{"$f":"POISSON(F4976,Berekening!$G$52,TRUE)","v":1},4972]
[{"$f":"POISSON(B4977,Berekening!$G$27,TRUE)","v":1},4973,{"$f":"POISSON(D4977,Berekening!$G$50,TRUE)","v":1},4973,{"$f":"POISSON(F4977,Berekening!$G$52,TRUE)","v":1},4973]
[{"$f":"POISSON(B4978,Berekening!$G$27,TRUE)","v":1},4974,{"$f":"POISSON(D4978,Berekening!$G$50,TRUE)","v":1},4974,{"$f":"POISSON(F4978,Berekening!$G$52,TRUE)","v":1},4974]
[{"$f":"POISSON(B4979,Berekening!$G$27,TRUE)","v":1},4975,{"$f":"POISSON(D4979,Berekening!$G$50,TRUE)","v":1},4975,{"$f":"POISSON(F4979,Berekening!$G$52,TRUE)","v":1},4975]
[{"$f":"POISSON(B4980,Berekening!$G$27,TRUE)","v":1},4976,{"$f":"POISSON(D4980,Berekening!$G$50,TRUE)","v":1},4976,{"$f":"POISSON(F4980,Berekening!$G$52,TRUE)","v":1},4976]
[{"$f":"POISSON(B4981,Berekening!$G$27,TRUE)","v":1},4977,{"$f":"POISSON(D4981,Berekening!$G$50,TRUE)","v":1},4977,{"$f":"POISSON(F4981,Berekening!$G$52,TRUE)","v":1},4977]
[{"$f":"POISSON(B4982,Berekening!$G$27,TRUE)","v":1},4978,{"$f":"POISSON(D4982,Berekening!$G$50,TRUE)","v":1},4978,{"$f":"POISSON(F4982,Berekening!$G$52,TRUE)","v":1},4978]
[{"$f":"POISSON(B4983,Berekening!$G$27,TRUE)","v":1},4979,{"$f":"POISSON(D4983,Berekening!$G$50,TRUE)","v":1},4979,{"$f":"POISSON(F4983,Berekening!$G$52,TRUE)","v":1},4979]
[{"$f":"POISSON(B4984,Berekening!$G$27,TRUE)","v":1},4980,{"$f":"POISSON(D4984,Berekening!$G$50,TRUE)","v":1},4980,{"$f":"POISSON(F4984,Berekening!$G$52,TRUE)","v":1},4980]
[{"$f":"POISSON(B4985,Berekening!$G$27,TRUE)","v":1},4981,{"$f":"POISSON(D4985,Berekening!$G$50,TRUE)","v":1},4981,{"$f":"POISSON(F4985,Berekening!$G$52,TRUE)","v":1},4981]
[{"$f":"POISSON(B4986,Berekening!$G$27,TRUE)","v":1},4982,{"$f":"POISSON(D4986,Berekening!$G$50,TRUE)","v":1},4982,{"$f":"POISSON(F4986,Berekening!$G$52,TRUE)","v":1},4982]
[{"$f":"POISSON(B4987,Berekening!$G$27,TRUE)","v":1},4983,{"$f":"POISSON(D4987,Berekening!$G$50,TRUE)","v":1},4983,{"$f":"POISSON(F4987,Berekening!$G$52,TRUE)","v":1},4983]
[{"$f":"POISSON(B4988,Berekening!$G$27,TRUE)","v":1},4984,{"$f":"POISSON(D4988,Berekening!$G$50,TRUE)","v":1},4984,{"$f":"POISSON(F4988,Berekening!$G$52,TRUE)","v":1},4984]
[{"$f":"POISSON(B4989,Berekening!$G$27,TRUE)","v":1},4985,{"$f":"POISSON(D4989,Berekening!$G$50,TRUE)","v":1},4985,{"$f":"POISSON(F4989,Berekening!$G$52,TRUE)","v":1},4985]
[{"$f":"POISSON(B4990,Berekening!$G$27,TRUE)","v":1},4986,{"$f":"POISSON(D4990,Berekening!$G$50,TRUE)","v":1},4986,{"$f":"POISSON(F4990,Berekening!$G$52,TRUE)","v":1},4986]
[{"$f":"POISSON(B4991,Berekening!$G$27,TRUE)","v":1},4987,{"$f":"POISSON(D4991,Berekening!$G$50,TRUE)","v":1},4987,{"$f":"POISSON(F4991,Berekening!$G$52,TRUE)","v":1},4987]
[{"$f":"POISSON(B4992,Berekening!$G$27,TRUE)","v":1},4988,{"$f":"POISSON(D4992,Berekening!$G$50,TRUE)","v":1},4988,{"$f":"POISSON(F4992,Berekening!$G$52,TRUE)","v":1},4988]
[{"$f":"POISSON(B4993,Berekening!$G$27,TRUE)","v":1},4989,{"$f":"POISSON(D4993,Berekening!$G$50,TRUE)","v":1},4989,{"$f":"POISSON(F4993,Berekening!$G$52,TRUE)","v":1},4989]
[{"$f":"POISSON(B4994,Berekening!$G$27,TRUE)","v":1},4990,{"$f":"POISSON(D4994,Berekening!$G$50,TRUE)","v":1},4990,{"$f":"POISSON(F4994,Berekening!$G$52,TRUE)","v":1},4990]
[{"$f":"POISSON(B4995,Berekening!$G$27,TRUE)","v":1},4991,{"$f":"POISSON(D4995,Berekening!$G$50,TRUE)","v":1},4991,{"$f":"POISSON(F4995,Berekening!$G$52,TRUE)","v":1},4991]
[{"$f":"POISSON(B4996,Berekening!$G$27,TRUE)","v":1},4992,{"$f":"POISSON(D4996,Berekening!$G$50,TRUE)","v":1},4992,{"$f":"POISSON(F4996,Berekening!$G$52,TRUE)","v":1},4992]
[{"$f":"POISSON(B4997,Berekening!$G$27,TRUE)","v":1},4993,{"$f":"POISSON(D4997,Berekening!$G$50,TRUE)","v":1},4993,{"$f":"POISSON(F4997,Berekening!$G$52,TRUE)","v":1},4993]
[{"$f":"POISSON(B4998,Berekening!$G$27,TRUE)","v":1},4994,{"$f":"POISSON(D4998,Berekening!$G$50,TRUE)","v":1},4994,{"$f":"POISSON(F4998,Berekening!$G$52,TRUE)","v":1},4994]
[{"$f":"POISSON(B4999,Berekening!$G$27,TRUE)","v":1},4995,{"$f":"POISSON(D4999,Berekening!$G$50,TRUE)","v":1},4995,{"$f":"POISSON(F4999,Berekening!$G$52,TRUE)","v":1},4995]
[{"$f":"POISSON(B5000,Berekening!$G$27,TRUE)","v":1},4996,{"$f":"POISSON(D5000,Berekening!$G$50,TRUE)","v":1},4996,{"$f":"POISSON(F5000,Berekening!$G$52,TRUE)","v":1},4996]
[{"$f":"POISSON(B5001,Berekening!$G$27,TRUE)","v":1},4997,{"$f":"POISSON(D5001,Berekening!$G$50,TRUE)","v":1},4997,{"$f":"POISSON(F5001,Berekening!$G$52,TRUE)","v":1},4997]
[{"$f":"POISSON(B5002,Berekening!$G$27,TRUE)","v":1},4998,{"$f":"POISSON(D5002,Berekening!$G$50,TRUE)","v":1},4998,{"$f":"POISSON(F5002,Berekening!$G$52,TRUE)","v":1},4998]
[{"$f":"POISSON(B5003,Berekening!$G$27,TRUE)","v":1},4999,{"$f":"POISSON(D5003,Berekening!$G$50,TRUE)","v":1},4999,{"$f":"POISSON(F5003,Berekening!$G$52,TRUE)","v":1},4999]
[{"$f":"POISSON(B5004,Berekening!$G$27,TRUE)","v":1},5000,{"$f":"POISSON(D5004,Berekening!$G$50,TRUE)","v":1},5000,{"$f":"POISSON(F5004,Berekening!$G$52,TRUE)","v":1},5000]

{"sheet":"Sheet1","index":4,"n_rows":231,"n_cols":63,"rows_kept":231,"cut":false,"hidden":true,"merged":[]}
["Incidentie; Landelijk; Invasief"]
[]
[null,null,null,"Invasief"]
[null,null,null,"Man",null,null,null,null,null,null,null,null,null,null,null,null,null,null,null,null,null,null,null,"Vrouw",null,null,null,null,null,null,null,null,null,null,null,null,null,null,null,null,null,null,null,"Man & Vrouw"]
[null,null,null,"Landelijk",null,null,null,null,null,null,null,null,null,null,null,null,null,null,null,null,null,null,null,"Landelijk",null,null,null,null,null,null,null,null,null,null,null,null,null,null,null,null,null,null,null,"Landelijk"]
["tumor",null,"periode","0-4","5-9","10-14","15-19","20-24","25-29","30-34","35-39","40-44","45-49","50-54","55-59","60-64","65-69","70-74","75-79","80-84","85-89","90-94","95+","0-4","5-9","10-14","15-19","20-24","25-29","30-34","35-39","40-44","45-49","50-54","55-59","60-64","65-69","70-74","75-79","80-84","85-89","90-94","95+","0-4","5-9","10-14","15-19","20-24","25-29","30-34","35-39","40-44","45-49","50-54","55-59","60-64","65-69","70-74","75-79","80-84","85-89","90-94","95+"]
["Alle tumoren",null,1989,17.46,13.03,13.58,19.489999999999998,23.74,41.12,50.47,66.92,131.97,218.75,409.14,691.85,1151.96,1763.64,2509.6999999999998,3067.93,3494.97,3476.89,2986.81,1971.43,20.65,9.69,11.53,13.3,27.47,46.64,88.88,153.99,242.06,354.4,468.47,623.29,770.81,996.6,1190.1600000000001,1380.67,1539.91,1538.18,1410.27,1233.93,19.059999999999999,11.36,12.56,16.39,25.61,43.88,69.680000000000007,110.46,187.02,286.57,438.81,657.57,961.39,1380.12,1849.93,2224.3000000000002,2517.44,2507.54,2198.54,1602.68]
["Alle tumoren",null,1990,19.850000000000001,11.69,12.99,21.64,29.89,38.82,51.86,71.73,119.39,223.11,383.67,696.26,1144.75,1781.52,2540.83,3177.71,3450.63,3348,3056.38,2258.4699999999998,15.26,9.2200000000000006,11.13,18.190000000000001,28.73,45.59,84.85,145.44999999999999,249.08,357.23,482,619.80999999999995,801.4,1015.75,1206.31,1422.1,1589.44,1574.27,1563.12,1130.18,17.559999999999999,10.45,12.06,19.920000000000002,29.31,42.2,68.349999999999994,108.59,184.24,290.17,432.83,658.04,973.08,1398.64,1873.57,2299.91,2520.04,2461.13,2309.75,1694.33]
["Alle tumoren",null,1991,20.079999999999998,11.86,11.66,18.010000000000002,29.28,34.909999999999997,50.55,77.959999999999994,112.51,224.47,382.27,704.71,1164.07,1802.58,2547.61,3174.94,3557.98,3573.5,3074.18,2127.66,15,7.33,9.73,15.18,26.47,44.91,88.84,145.63,247.65,381.35,492.57,621.22,823.16,1048.76,1224.77,1406.23,1566.26,1686.3,1422.59,1049.8699999999999,17.54,9.6,10.69,16.600000000000001,27.88,39.909999999999997,69.7,111.8,180.08,302.91000000000003,437.42,662.96,993.62,1425.67,1886.19,2290.58,2562.12,2629.9,2248.38,1588.76]
["Alle tumoren",null,1992,20.62,14.5,13.6,21.27,26.74,35.58,51.5,78.760000000000005,124.55,225.94,390.56,732.42,1179.55,1842.9,2563.2600000000002,3243.05,3685.65,3734.49,3336.71,1937.25,13.76,13.33,9.25,20.09,23.07,46.97,90.86,153.13,245.79,365.41,532.1,684.04,884.17,1103.5899999999999,1228.6500000000001,1479.91,1669.53,1670.18,1550.05,1270.78,17.190000000000001,13.92,11.43,20.68,24.9,41.28,71.180000000000007,115.94,185.17,295.68,461.33,708.23,1031.8599999999999,1473.24,1895.96,2361.48,2677.59,2702.33,2443.38,1604.01]
["Alle tumoren",null,1993,18.21,15.5,11.68,21.95,29.46,48.34,53.67,74.88,118.06,211.81,371.68,697.8,1205.42,1803.63,2556.59,3354.85,3621.5,3623.72,2980.25,1829.4,17.18,9.76,10.85,19.89,26.19,47.35,89.9,148.05000000000001,233.5,394.99,546.48,694.85,897.16,1121.76,1199.4000000000001,1448.83,1641.33,1682.36,1407.57,1068.06,17.7,12.63,11.26,20.92,27.82,47.85,71.790000000000006,111.47,175.78,303.39999999999998,459.08,696.33,1051.29,1462.7,1877.99,2401.84,2631.41,2653.04,2193.91,1448.73]
["Alle tumoren",null,1994,17.260000000000002,13.15,11.26,20.23,28.43,37.29,52.27,74.58,118.88,214.47,389.49,717.83,1221.3800000000001,1891.26,2694.7,3339.11,3809.47,3708.25,3353.31,2639.1,19.739999999999998,9.3699999999999992,10.41,18.940000000000001,26.24,45.99,88.86,165.87,245.59,392.8,554.1,712.08,891.16,1134.3399999999999,1246.31,1515.68,1699.39,1790.45,1581.07,1039.27,18.5,11.26,10.83,19.59,27.34,41.64,70.56,120.23,182.24,303.64,471.79,714.95,1056.27,1512.8,1970.51,2427.39,2754.43,2749.35,2467.19,1839.19]
["Alle tumoren",null,1995,20.440000000000001,13.12,13.42,22.24,28.01,41.49,58.7,69.430000000000007,121.8,215.6,396.61,678.14,1218.1300000000001,1892.47,2650.1,3454.76,3782.6,3620.16,2923.75,2735.98,17.47,10.07,11.09,18.64,25.71,45.7,96.97,150.96,239.2,389.27,568.35,686.99,897.7,1071.24,1224.1199999999999,1503.41,1625.28,1615.71,1478.72,1240.8499999999999,18.95,11.6,12.26,20.440000000000001,26.86,43.6,77.84,110.2,180.5,302.44,482.48,682.57,1057.92,1481.86,1937.11,2479.08,2703.94,2617.9299999999998,2201.2399999999998,1988.42]
["Alle tumoren",null,1996,25.2,11.28,14.67,23.25,30.55,44.06,54.7,79,128.80000000000001,221.86,392.04,702.84,1208.3699999999999,1950.51,2736.31,3376.77,3586.14,3732.84,3218.6,2053.86,20.76,8.43,10.59,20.81,30.58,48.66,94.31,158.34,251.41,399.76,566.22,696.2,869.79,1103.52,1230.0899999999999,1510.73,1685.04,1628.08,1524.35,1436.75,22.98,9.86,12.63,22.03,30.56,46.36,74.5,118.67,190.1,310.81,479.13,699.52,1039.08,1527.02,1983.2,2443.75,2635.59,2680.46,2371.48,1745.3]
["Alle tumoren",null,1997,23.14,10.16,10.85,20.059999999999999,30.04,39.11,52.74,71.5,122.26,221.73,387.44,708.4,1200.31,1950.69,2628.37,3239.77,3562.77,3499.51,2797.79,2191.9,17.72,8.1300000000000008,13.12,18.78,26.96,48.38,91.75,151.58000000000001,248.71,416.48,600.16,713.97,875.25,1101.44,1210.42,1495.11,1651.49,1733.18,1382.49,1113.01,20.43,9.14,11.99,19.420000000000002,28.5,43.75,72.239999999999995,111.54,185.48,319.11,493.8,711.18,1037.78,1526.06,1919.39,2367.44,2607.13,2616.34,2090.14,1652.46]
["Alle tumoren",null,1998,25.11,12.44,13.79,23.25,34.21,42.9,52.79,68.680000000000007,111.95,207.83,390.73,697.94,1205.6400000000001,1881.92,2627.83,3270.35,3381.14,3504.82,2997.42,2230.9699999999998,17.89,10.54,11.14,19.03,29.43,49.96,101.17,157.27000000000001,253.99,412.77,587.61,688.01,893.06,1087.27,1292.8399999999999,1559.7,1643.18,1637.52,1553.95,1088.2,21.5,11.49,12.47,21.14,31.82,46.43,76.98,112.98,182.97,310.3,489.17,692.97,1049.3499999999999,1484.6,1960.33,2415.02,2512.16,2571.17,2275.6799999999998,1659.58]
["Alle tumoren",null,1999,22.33,14.89,11.51,23.64,34.340000000000003,45.7,56.01,75.84,112.73,200.73,393.51,696.22,1207.18,1896.44,2644.5,3282.27,3375.22,3227.08,2779.7,2223.17,16.100000000000001,5.95,11.16,17.04,28.82,55.82,97.37,157.87,276.98,412.19,594.09,702.31,904.32,1101.8599999999999,1423,1599.63,1724.45,1567.04,1498.33,1139.8599999999999,19.21,10.42,11.33,20.34,31.58,50.76,76.69,116.86,194.85,306.45999999999998,493.8,699.26,1055.75,1499.15,2033.75,2440.9499999999998,2549.83,2397.06,2139.02,1681.52]
["Alle tumoren",null,2000,20.079999999999998,15.07,14.72,23.12,32.78,47.45,57.33,72.61,124.34,203.18,389.24,713.16,1211.97,1883.79,2587.34,3178.34,3439.56,3304.06,2463.75,2298.85,20.239999999999998,10.039999999999999,10.11,16.11,27.62,53.34,88.92,155.38999999999999,250.35,436.16,585.97,752.19,901.45,1136.8499999999999,1431.19,1542.73,1616.77,1681.74,1437.59,1054.07,20.16,12.56,12.42,19.61,30.2,50.4,73.12,114,187.34,319.67,487.61,732.67,1056.71,1510.32,2009.27,2360.5300000000002,2528.17,2492.9,1950.67,1676.46]
["Alle tumoren",null,2001,21.14,14.57,14.06,22.72,38.28,49.07,55.83,78.180000000000007,114.7,202.12,392.4,714.42,1196.07,1879.62,2639.06,3224.68,3373.1,3375.05,2675,2208.0700000000002,20.92,9.2799999999999994,10.57,19.71,33.049999999999997,52.1,99.43,163.15,278.85000000000002,419.97,613.85,758.82,950.59,1117.17,1399.2,1538.91,1721.82,1744.26,1406.16,1015.71,21.03,11.93,12.31,21.21,35.67,50.59,77.63,120.67,196.77,311.04000000000002,503.13,736.62,1073.33,1498.4,2019.13,2381.79,2547.46,2559.66,2040.58,1611.89]
["Alle tumoren",null,2002,23.61,16.04,13.12,23.8,37.479999999999997,44.94,61.45,83.58,119.91,207.25,399.25,703.93,1202.18,1876.24,2657.32,3285.48,3445.75,3357.01,3065.69,1740.98,18.489999999999998,9.75,11.89,20.079999999999998,30.38,56.32,96.08,164.44,262.98,428.12,597.44000000000005,762.49,963.24,1185.27,1396.55,1543.24,1760.17,1702.06,1467.2,820.57,21.05,12.9,12.5,21.94,33.93,50.63,78.77,124.01,191.45,317.68,498.35,733.21,1082.71,1530.75,2026.93,2414.36,2602.96,2529.5300000000002,2266.4499999999998,1280.77]
["Alle tumoren",null,2003,23.71,12.3,16.53,24.26,40.35,49.11,56.63,82.62,123.27,216.36,404.99,725.66,1238.43,1943.04,2672.45,3277.16,3546.14,3534.54,2879.51,2162.39,16.84,11.01,13.23,16.57,32.07,51.47,101.91,156.66,278.08999999999997,443.72,604.48,812.97,958.86,1182.98,1449.32,1559.7,1812.41,1816.67,1515.23,1291.6400000000001,20.27,11.65,14.88,20.41,36.21,50.29,79.27,119.64,200.68,330.04,504.74,769.32,1098.6400000000001,1563.01,2060.88,2418.4299999999998,2679.28,2675.6,2197.37,1727.02]
["Alle tumoren",null,2004,19.62,15.24,16.850000000000001,27.45,38.99,51.13,66.430000000000007,84.18,135.19999999999999,221.05,416,785.63,1304.53,2068.42,2827.67,3347.73,3741.08,3431.62,3093.77,2211.1,19.350000000000001,10.79,12.58,14.06,27.75,54.37,104.47,160.68,283.83,454.1,629.88,785.56,997.16,1239.58,1441.99,1601.23,1860.71,1882.45,1741.39,1152.19,19.489999999999998,13.01,14.72,20.76,33.369999999999997,52.75,85.45,122.43,209.51,337.58,522.94000000000005,785.6,1150.8499999999999,1654,2134.83,2474.48,2800.9,2657.04,2417.58,1681.64]
["Alle tumoren",null,2005,27.58,13.18,11.68,24.83,39.9,51.85,67.98,86.48,118.28,219.56,414,752.14,1318.58,1985,2790.16,3364.36,3582.83,3518.71,3191.71,2234.86,20.69,11.55,10.199999999999999,22.62,31.78,48.3,102.4,158.6,283.89,432.13,616.75,806.59,1007.11,1236.3599999999999,1523.94,1654.18,1890.55,1984.8,1735.27,1153.83,24.14,12.36,10.94,23.73,35.840000000000003,50.08,85.19,122.54,201.09,325.83999999999997,515.37,779.37,1162.8499999999999,1610.68,2157.0500000000002,2509.27,2736.69,2751.75,2463.4899999999998,1694.35]
["Alle tumoren",null,2006,22.59,15.61,13.79,21.44,36.89,56.43,67.44,88.43,121.21,208.96,409.71,788.92,1355.75,2033.89,2696.11,3411.47,3671.85,3670.06,2999.43,3072.68,19.899999999999999,10.82,11.98,21.79,29.74,54.6,106.23,167.62,274.20999999999998,465.44,650.21,791.34,1043.22,1246.07,1552.72,1651.27,1932.88,1992.37,1705.43,1169.17,21.25,13.22,12.88,21.62,33.32,55.52,86.83,128.02000000000001,197.71,337.2,529.96,790.13,1199.48,1639.98,2124.41,2531.37,2802.37,2831.21,2352.4299999999998,2120.92]
["Alle tumoren",null,2007,22.07,12.22,13.53,24.61,40.29,56.92,67.08,88.8,125.24,212.53,407.61,785.4,1367.77,2039.81,2833.78,3463.48,3685.48,3735.36,3123.47,2709.82,22.48,9.5299999999999994,11.47,20.010000000000002,35.18,60.3,112.55,176.62,291.88,461.74,647.41,817.76,1059.4000000000001,1288.33,1588.48,1703.36,1906.76,1983.82,1741.37,1499.54,22.28,10.88,12.5,22.31,37.729999999999997,58.61,89.82,132.71,208.56,337.14,527.51,801.58,1213.58,1664.07,2211.13,2583.42,2796.12,2859.59,2432.42,2104.6799999999998]
["Alle tumoren",null,2008,20.41,16.239999999999998,13.16,25.83,36.64,52.91,74.92,90.51,131.16,224.21,432.23,777.45,1368.32,2060.08,2830.24,3510.74,3840.59,3678.91,3201.07,2780.25,18.98,16,15.47,22.32,31.98,68.650000000000006,106.26,173.68,286.14999999999998,455.24,681.21,811.47,1102.79,1347.98,1616.8,1733.02,2044.93,2072.6,1791.49,1214.56,19.690000000000001,16.12,14.31,24.08,34.31,60.78,90.59,132.09,208.66,339.72,556.72,794.46,1235.56,1704.03,2223.52,2621.88,2942.76,2875.75,2496.2800000000002,1997.41]
["Alle tumoren",null,2009,19.37,13.98,13.52,24.91,34.83,68.5,73.61,90.59,129.63,226.93,421.48,789.88,1338.67,2095.52,2820.29,3530.86,3924.09,3826.14,3499.38,2547.14,15.45,10.57,12.71,21,33.42,61.62,114.89,188.14,297.45,468.88,663.74,816.58,1079.04,1399.12,1582.37,1789.15,2001.64,2047.89,1840.44,1501.98,17.41,12.28,13.12,22.96,34.130000000000003,65.06,94.25,139.36000000000001,213.54,347.91,542.61,803.23,1208.8499999999999,1747.32,2201.33,2660,2962.87,2937.01,2669.91,2024.56]
["Alle tumoren",null,2010,25.59,12.79,16.350000000000001,23.21,37.119999999999997,60.17,79.88,90.48,129.83000000000001,238.7,425.14,782.57,1356.8,2133.4299999999998,2803.42,3661.05,3993.49,3841.2,3738.9,2855.35,26.38,10.7,11.15,20.85,32.770000000000003,60.98,109.57,178.65,268.22000000000003,454.81,669.77,824.35,1120.6500000000001,1422.93,1697.85,1825.28,2066.5100000000002,2166.17,1889.23,1550.03,25.98,11.74,13.75,22.03,34.94,60.58,94.72,134.57,199.02,346.75,547.45000000000005,803.46,1238.73,1778.18,2250.64,2743.16,3030,3003.68,2814.06,2202.69]
["Alle tumoren",null,2011,22.07,12.2,14.81,26.51,45.19,55.06,82.9,102.08,141.77000000000001,231.1,425.82,832.06,1395.88,2176.48,2902.77,3647.76,4025.1,3924.53,3514.25,2340.4299999999998,22.46,12.16,14.47,23.09,37.049999999999997,63.44,108,183.96,297.12,495.59,686.44,859.49,1141.68,1480.32,1711.2,1876.39,2137.6,2155.3000000000002,1926.57,1483.38,22.26,12.18,14.64,24.8,41.12,59.25,95.45,143.02000000000001,219.44,363.35,556.13,845.77,1268.78,1828.4,2306.98,2762.07,3081.35,3039.91,2720.41,1911.9]
["Alle tumoren",null,2012,20.7,13.24,13.53,24.34,38.130000000000003,61.46,78.37,99.13,133.97,231.33,410.69,789.41,1359.47,2120.1,2852.19,3546.94,3791.7,3991.94,3273.61,2703.1,21.94,10.46,13.13,22.22,33.799999999999997,64.38,118.83,172.01,282.7,465.48,661.9,850.19,1141.18,1489.48,1795.9,1885.89,2056.0300000000002,2126.42,1808.66,1414.64,21.32,11.85,13.33,23.28,35.96,62.92,98.6,135.57,208.34,348.41,536.29,819.8,1250.33,1804.79,2324.04,2716.42,2923.86,3059.18,2541.14,2058.87]
["Alle tumoren",null,2013,26.75,13.47,14.82,25.17,43.47,62.23,81.77,97.56,134.55000000000001,238.25,420.47,794.01,1313.35,2064.5300000000002,2799.56,3358.83,3775.82,3696.07,3013.82,2476.7800000000002,19.48,11.51,14.1,19.760000000000002,32.090000000000003,63.6,111.91,178.78,307.49,461.01,655.30999999999995,822.58,1148.67,1467.25,1745.08,1877.53,2061.85,1988.2,1736.98,1444.69,23.12,12.49,14.46,22.46,37.78,62.91,96.84,138.16999999999999,221.02,349.63,537.89,808.3,1231.01,1765.89,2272.3200000000002,2618.1799999999998,2918.84,2842.14,2375.4,1960.73]
["Alle tumoren",null,2014,20.99,14.87,17.77,27.01,46.11,62.36,75.400000000000006,94.34,141.97999999999999,229.74,410.96,719.39,1302.3699999999999,2037.11,2669.82,3523.53,3627.55,3555.01,3117.1,2184.92,19.28,12.96,11.52,24.2,34.619999999999997,68.37,129.97999999999999,185.76,300.62,466.61,658.19,810.4,1132.5899999999999,1534.27,1835.97,1969.25,2077.7800000000002,1952.2,1772.5,1241.08,20.14,13.91,14.64,25.61,40.369999999999997,65.37,102.69,140.05000000000001,221.3,348.17,534.57000000000005,764.89,1217.48,1785.69,2252.89,2746.39,2852.67,2753.6,2444.8000000000002,1713]
["Alle tumoren",null,2015,23.89,15.34,16.809999999999999,27.47,34.520000000000003,59.43,72.95,96.57,152.56,221.54,401.74,712.26,1381.48,2156.2199999999998,2708.88,3282.69,3622.96,3407.9,2789.41,2439.61,19.739999999999998,10.14,12.88,22.52,30.05,66.760000000000005,114.03,198.82,284.97000000000003,448.95,678.92,810.76,1194.3,1565.42,1765.38,1862.88,2020.36,1898.54,1713.45,1184.31,21.82,12.74,14.84,24.99,32.29,63.1,93.49,147.69999999999999,218.77,335.24,540.33000000000004,761.51,1287.8900000000001,1860.82,2237.13,2572.7800000000002,2821.66,2653.22,2251.4299999999998,1811.96]
["Alle tumoren",null,2016,23.65,12.61,14.86,28.14,38.58,60.21,79.92,100.29,132.78,233.25,407.22,774.58,1383.39,2010.98,2908.73,3327.29,3701.03,3510.12,2997.8,2558.04,19.7,9.92,14.53,23.35,34.9,68.709999999999994,126.07,192,297.86,460.26,689.66,841.57,1185.96,1460.13,1907.8,1911.31,2107.92,1942.25,1683.62,1396,21.68,11.26,14.69,25.74,36.74,64.459999999999994,103,146.15,215.32,346.75,548.44000000000005,808.07,1284.68,1735.55,2408.2600000000002,2619.3000000000002,2904.47,2726.19,2340.71,1977.02]
["Luchtpijp",null,1989,0,0,0,0,0,0,0,0.17,0.17,0.44,0.51,0.83,0.63,0.71,1.01,0,0,0,0,0,0,0,0,0,0,0,0,0,0,0,0.52,0.27,0,0.28999999999999998,0,0,0,1.1399999999999999,0,0,0,0,0,0,0,0,0,0.09,0.08,0.22,0.52,0.55000000000000004,0.31,0.5,0.5,0,0,0.56999999999999995,0,0]
["Luchtpijp",null,1990,0,0,0,0,0,0,0,0,0.16,0,0,0.56000000000000005,0,0.71,1.48,0,1.21,0,0,0,0,0,0,0,0,0,0,0,0,0.23,0.26,0,0.28000000000000003,0,0.36,0.42,0,0,0,0,0,0,0,0,0,0,0,0,0.08,0.11,0.13,0.28000000000000003,0.14000000000000001,0.35,0.92,0.21,0.6,0,0,0]
["Luchtpijp",null,1991,0,0,0,0,0,0,0,0,0.33,0,0.24,0.28000000000000003,0.61,1.06,0.95,0.68,1.2,0,0,0,0,0,0,0,0,0,0,0,0,0.21,0,0,0,0,0,0,1.1599999999999999,0,0,0,0,0,0,0,0,0,0,0,0.16,0.11,0.12,0.14000000000000001,0.31,0.53,0.47,0.34,1.18,0,0,0]
["Luchtpijp",null,1992,0,0,0,0,0,0,0,0,0,0,0.24,0.27,0.6,0.71,0.92,1.34,0,0,0,0,0,0,0,0,0,0,0,0,0,0.39,0,0,0,0,0,0,0.56999999999999995,0,0,0,0,0,0,0,0,0,0,0,0,0.2,0.12,0.14000000000000001,0.3,0.35,0.46,0.67,0.28999999999999998,0,0,0]
["Luchtpijp",null,1993,0,0,0,0,0,0,0,0,0,0.18,0,0.54,0.3,0.35,0.88,3.38,1.1399999999999999,2.62,0,0,0,0,0,0,0,0,0,0,0,0,0,0.27,0.56000000000000005,0.89,0.33,0.42,0,0,0,0,0,0,0,0,0,0,0,0,0,0.09,0,0.41,0.43,0.62,0.61,1.9,0.56999999999999995,1.31,0,0]
["Luchtpijp",null,1994,0,0,0,0,0,0,0,0,0,0,0.45,1.06,1.19,0.35,0.43,0,3.35,2.58,0,0,0,0,0,0,0,0,0,0.17,0,0,0,0.27,0.28000000000000003,0,0,0,0,0,0,0,0,0,0,0,0,0,0,0.08,0,0,0.23,0.67,0.73,0.18,0.21,0,1.68,1.29,0,0]
["Luchtpijp",null,1995,0,0,0,0,0,0,0,0,0,0,0.44,0.78,0.59,1.04,1.26,1.32,1.1000000000000001,2.54,0,0,0,0,0,0,0,0,0,0,0.35,0,0,0.26,0,0,0.32,0.42,0,0,0,0,0,0,0,0,0,0,0,0,0.18,0,0.22,0.52,0.3,0.52,0.79,0.87,0.55000000000000004,1.27,0,0]
["Luchtpijp",null,1996,0,0,0,0,0,0,0,0,0,0.17,0.41,0.25,0.28999999999999998,1.02,2.1,0.63,0,0,0,0,0,0,0,0,0,0,0,0,0.18,0,0,0,0,0.3,0.32,0,0.54,0.94,0,0,0,0,0,0,0,0,0,0,0.09,0.08,0.21,0.13,0.15,0.66,1.21,0.32,0.27,0.47,0,0]
["Luchtpijp",null,1997,0,0,0,0,0,0,0,0,0.17,0.17,0.38,0.5,0,1.68,0.42,0.61,0,2.4700000000000002,0,0,0,0,0,0,0,0,0,0,0,0.18,0.2,0.25,0.28000000000000003,0,0,0,0.54,1.86,0,0,0,0,0,0,0,0,0,0,0.08,0.17,0.28999999999999998,0.38,0.14000000000000001,0.84,0.21,0.3,0.27,2.16,0,0]
["Luchtpijp",null,1998,0,0,0,0,0,0,0.15,0,0.17,0.17,0.36,0.48,0.87,1.33,0.42,0.57999999999999996,1.08,0,0,0,0,0,0,0,0,0,0,0,0,0,0,0,0.28000000000000003,0.28999999999999998,0.32,0.38,0,1.82,0,0,0,0,0,0,0,0,7.0000000000000007E-2,0,0.08,0.09,0.18,0.24,0.56999999999999995,0.81,0.37,0.48,0.54,0.91,0,0]
["Luchtpijp",null,1999,0,0,0,0,0,0,0,0,0,0,0.35,0.47,1.69,0.99,0,0,0,0,0,42.75,0,0,0,0,0,0,0,0,0,0,0.18,0,0.28000000000000003,0,0,1.1000000000000001,0.55000000000000004,0,0,0,0,0,0,0,0,0,0,0,0,0,0.26,0.23,0.98,0.49,0,0.55000000000000004,0.27,0,0,21.38]
["Luchtpijp",null,2000,0,0,0,0,0,0,0,0,0,0.17,0,0.23,0.55000000000000004,0.33,0.82,1.1100000000000001,0,0,0,0,0,0,0,0,0,0,0,0,0,0,0,0,0.54,0.3,0,0,0,0,0,0,0,0,0,0,0,0,0,0,0,0.09,0,0.11,0.55000000000000004,0.31,0.41,0.55000000000000004,0,0,0,0]
["Luchtpijp",null,2001,0,0,0,0,0,0,0,0,0,0.17,0.17,0,0.27,0,0.4,0,0,0,0,0,0,0,0,0,0,0,0,0,0,0,0.52,0,0,0,0,0,0.52,0,0,0,0,0,0,0,0,0,0,0,0,0.09,0.35,0,0.13,0,0.2,0,0.26,0,0,0]
["Luchtpijp",null,2002,0,0,0,0,0,0,0.15,0,0.16,0.17,0,0,0.26,0.32,0.39,1.0900000000000001,0,2.2200000000000002,0,0,0,0,0,0,0,0,0,0.15,0,0.17,0.18,0,0.26,0,0,0,0.5,0,0,0,0,0,0,0,0,0,0.08,0.08,0.08,0.17,0.09,0,0.26,0.16,0.2,0.55000000000000004,0.25,1.1100000000000001,0,0]
["Luchtpijp",null,2003,0,0,0,0,0,0,0,0,0,0,0.18,0,0.25,0,1.1599999999999999,0,0.89,0,0,0,0,0.21,0,0,0,0,0,0,0,0.17,0,0.38,0.51,0.59,0,0.37,0,0,0,0,0,0.1,0,0,0,0,0,0,0,0.09,0.09,0.19,0.38,0.28999999999999998,0.57999999999999996,0.18,0.45,0,0,0]
["Luchtpijp",null,2004,0,0,0,0,0,0,0,0,0,0,0.18,0.18,0.25,0.62,0.76,0.53,0.86,0,0,0,0,0,0,0,0,0,0,0,0,0,0,0.18,0,1.1599999999999999,0.32,0,0,0.88,0,0,0,0,0,0,0,0,0,0,0,0,0.09,0.18,0.12,0.89,0.54,0.27,0.43,0.44,0,0]
["Luchtpijp",null,2005,0,0,0,0,0,0,0.17,0,0,0,0,0,0,0.6,0,0.52,0.84,0,6.86,0,0,0,0,0,0,0,0,0.31,0,0,0,0,0,0.56999999999999995,0,0,0,0,0,0,0,0,0,0,0,0,0.09,0.15,0,0,0,0,0,0.57999999999999996,0,0.26,0.42,0,3.43,0]
["Luchtpijp",null,2006,0,0,0,0,0,0,0,0,0,0,0,0,0.23,0.28999999999999998,1.1200000000000001,0.5,0.82,1.91,0,0,0,0,0,0,0,0,0,0,0.15,0,0,0.54,0,0.28000000000000003,0.64,0,0.93,0.81,0,0,0,0,0,0,0,0,0,0,0.08,0,0,0.27,0.11,0.28999999999999998,0.88,0.25,0.87,1.36,0,0]
["Luchtpijp",null,2007,0,0,0,0,0,0,0,0,0,0,0.35,0.18,0.42,0,0,0.98,0.8,1.79,0,0,0,0,0,0,0,0,0,0,0,0,0.18,0.18,0.21,0.27,0,0,0.46,0,0,0,0,0,0,0,0,0,0,0,0,0,0.26,0.18,0.31,0.14000000000000001,0,0.49,0.63,0.89,0,0]
["Luchtpijp",null,2008,0,0,0,0,0,0,0,0,0,0.47,0,0.37,0,0,0.36,0.96,0.78,0,0,0,0,0,0,0,0,0,0,0,0,0.16,0.17,0.19,0.39,0.27,0,0,0,0,0,0,0,0,0,0,0,0,0,0,0,0.32,0.09,0.28000000000000003,0.2,0.13,0.18,0.48,0.39,0,0,0]
["Luchtpijp",null,2009,0,0,0.2,0,0,0,0,0,0,0,0.34,0,0.56999999999999995,0.53,0.7,0.47,0,0,0,0,0,0,0,0,0,0,0,0,0,0.16,0,0.19,0,0.52,0,0,0,0,0,0,0,0,0.1,0,0,0,0,0,0,0.08,0.17,0.09,0.28000000000000003,0.53,0.35,0.23,0,0,0,0]
["Luchtpijp",null,2010,0,0,0,0,0,0,0,0,0,0,0.17,0.18,0.37,0.26,0,0.46,0.73,0,0,0,0,0,0,0,0,0,0,0,0,0.16,0,0.18,0.18,0,0,0.36,0,0,0,0,0,0,0,0,0,0,0,0,0,0.08,0.08,0.18,0.28000000000000003,0.13,0,0.41,0.37,0,0,0]
["Luchtpijp",null,2011,0,0,0,0,0,0,0,0,0,0.15,0.17,0,0.92,0,0.33,0.9,0,0,0,0,0,0,0,0,0,0,0,0,0.16,0,0.17,0,0.18,0.71,0,0,0,0,1.68,0,0,0,0,0,0,0,0,0,0.08,0.08,0.17,0,0.55000000000000004,0.36,0.16,0.45,0,0,0.84,0]
["Luchtpijp",null,2012,0,0,0,0,0,0,0,0,0,0,0,0.36,0,0.44,0.32,0.44,0,0,0,0,0,0,0,0,0,0,0,0,0.16,0.16,0.16,0.18,0.56999999999999995,0,0,0,0,0,0,0,0,0,0,0,0,0,0,0,0.08,0.08,0.08,0.27,0.28000000000000003,0.22,0.16,0.22,0,0,0,0]
["Luchtpijp",null,2013,0,0,0,0,0,0,0,0,0,0,0,0.36,0,0,0,0.43,0,0,0,0,0,0,0,0,0,0,0,0,0,0.16,0.16,0,0,0.21,0,0.35,0,0,0,0,0,0,0,0,0,0,0,0,0,0.08,0.08,0.18,0,0.1,0,0.39,0,0,0,0]
["Luchtpijp",null,2014,0,0,0,0,0,0,0,0,0,0,0,0.18,0.19,0.4,0,0.41,0,1.31,0,0,0,0,0,0,0,0.19,0,0,0,0,0,0.18,0.19,0.4,0,0,0.43,0,0,0,0,0,0,0,0,0.1,0,0,0,0,0,0.18,0.19,0.4,0,0.21,0.22,0.66,0,0]
["Luchtpijp",null,2015,0,0,0,0,0,0,0,0,0,0,0,0.17,0.19,0.59,0.86,0,0,0,0,0,0,0,0,0,0,0,0,0.2,0,0.16,0,0,0.56999999999999995,0.19,0.27,0.33,0.43,0.66,0,0,0,0,0,0,0,0,0,0.1,0,0.08,0,0.09,0.38,0.39,0.56000000000000005,0.17,0.22,0.33,0,0]
["Luchtpijp",null,2016,0,0,0,0,0,0,0,0,0,0.16,0,0.17,0,0,0,0.38,0,0,0,0,0,0,0,0,0,0,0,0,0,0,0,0.17,0.19,0.19,0,0.33,0.43,0,1.41,0,0,0,0,0,0,0,0,0,0,0.08,0,0.17,0.09,0.1,0,0.36,0.21,0,0.71,0]
["Long",null,1989,0,0,0,0,0,0.46,0.49,2.9,15.95,45.38,100.43,206.41,329.72,504.15,698.62,755.51,708.29,497.09,197.33,40.229999999999997,0,0,0,0.18,0.16,0.48,2.04,5.89,9.74,19.78,29.66,53.55,57.11,58.81,57.18,55.93,36.72,36.380000000000003,22.9,0,0,0,0,0.09,0.08,0.47,1.26,4.4000000000000004,12.85,32.58,65.040000000000006,129.97999999999999,193.41,281.48,377.9,405.72,372.51,266.74,110.12,20.12]
["Long",null,1990,0,0,0.43,0,0,0.75,2.09,6.3,17.48,36.04,84.98,182.87,342.9,501,721.86,850.27,677.8,454.94,224.07,0,0,0,0,0,0,0.79,2.84,3.02,10.48,15.86,31.91,43.63,70.349999999999994,62.92,63.53,52.48,51.35,35.08,18.91,0,0,0,0.22,0,0,0.77,2.46,4.66,13.98,25.95,58.45,113.25,206.62,281.95999999999998,392.69,451.38,364.58,245.01,121.49,0]
["Long",null,1991,0,0,0.22,0,0.15,0.45,0.79,5.23,14.72,40.89,83.7,199.05,352.26,507.61,722.95,789.16,708.73,463.18,329.69,83.44,0,0,0,0,0.48,0.31,1.81,5.96,8.92,20.49,33.11,49.76,80.680000000000007,68.37,68.31,52.52,41.94,35.090000000000003,24.11,40.380000000000003,0,0,0.11,0,0.32,0.38,1.3,5.59,11.82,30.69,58.4,124.41,216.47,287.99,395.63,420.84,375.33,249.13,176.9,61.91]
["Long",null,1992,0,0,0,0,0,0.15,1.55,3.84,14.94,41.88,79.790000000000006,193.13,337.36,501.13,674.57,784.71,725.41,513.36,264.12,84.23,0,0,0,0,0.16,0,2.2599999999999998,6.23,10.01,17.420000000000002,31.55,52.51,72.05,80.62,69.709999999999994,64.430000000000007,49.34,36.15,20.13,25.67,0,0,0,0,0.08,7.0000000000000007E-2,1.9,5.03,12.47,29.65,55.67,122.82,204.7,290.88,372.14,424.57,387.38,274.76,142.12,54.95]
["Long",null,1993,0,0,0.22,0,0,0.15,1.37,5.44,15.84,36.03,80.63,180.69,341.5,471.8,632.98,757.98,658.66,477.56,235.97,127.63,0,0,0,0,0,1.1000000000000001,1.59,5.29,11.01,23.41,34.67,53.51,87.56,86.75,73.73,69.05,53,42.18,27.76,0,0,0,0.11,0,0,0.63,1.48,5.37,13.43,29.72,57.65,117.1,214.53,279.27,353.35,413.52,355.83,259.87,131.87,63.82]
["Long",null,1994,0,0.21,0,0,0,0.45,0.75,3.57,13.7,33.450000000000003,78.66,188.43,310.17,470.71,634.70000000000005,700.15,704.01,537.13,304.06,175.94,0,0,0,0,0.35,0.31,1.25,7.73,11.92,24.35,33.619999999999997,56.69,81.040000000000006,97.29,72.39,72.28,49.92,46.94,13.44,24.17,0,0.1,0,0,0.17,0.38,1,5.65,12.81,28.9,56.14,122.56,195.61,284,353.55,386.21,376.96,292.02999999999997,158.75,100.05]
["Long",null,1995,0,0.21,0,0.21,0.35,0.15,1.63,4.8,13.69,37.67,81.209999999999994,152.91999999999999,304.45999999999998,460.3,603.91999999999996,759.12,666.68,459.5,221.63,228,0,0,0,0.22,0.36,0.47,1.4,6.62,15.92,21.57,37.58,54.82,81.89,99.55,83.71,79.040000000000006,64.180000000000007,36.29,20.68,11.71,0,0.1,0,0.22,0.36,0.31,1.51,5.71,14.8,29.62,59.4,103.87,193.18,279.93,343.82,419.08,365.43,247.89,121.15,119.85]
["Long",null,1996,0,0,0.22,0.21,0.37,0,0.74,5.36,14.78,36.78,77.91,139.04,290.82,449.93,613.26,742.72,618.53,497.71,286.47000000000003,182.57,0,0,0,0.44,0.19,0.47,1.55,6.03,11.55,26.9,39.35,58.02,80.180000000000007,104.15,88.8,82.25,59.36,38.630000000000003,30.04,11.22,0,0,0.11,0.33,0.28000000000000003,0.24,1.1499999999999999,5.7,13.17,31.84,58.63,98.53,185.5,277.04000000000002,351.03,412.49,338.94,268.17,158.25,96.89]
["Long",null,1997,0,0,0,0,0.39,0.31,1.19,3.42,14.65,37.130000000000003,70.739999999999995,142.88,282.14999999999998,464.23,600.83000000000004,642.11,617.32000000000005,434.35,233.15,134.19999999999999,0,0,0,0.22,0,0.48,1.24,7.71,15.92,27.04,43.07,63.15,82.78,112.39,95.2,84.08,62.89,37.11,21.87,0,0,0,0,0.11,0.2,0.39,1.21,5.56,15.29,32.08,56.9,103.01,182.46,288.31,348.02,363.09,340.11,235.73,127.51,67.099999999999994]
["Long",null,1998,0,0,0,0,0,0.63,0.45,3.21,14.33,29.22,73.650000000000006,143.22,271.32,424.89,554.67999999999995,669.02,581.66,455.79,237.5,87.49,0,0,0,0.22,0,0.49,0.78,7.44,17.09,33.44,40.94,64.12,83.33,119.17,107.39,91.55,56.68,35.44,11.77,20.73,0,0,0,0.11,0,0.56000000000000005,0.61,5.32,15.71,31.33,57.29,103.67,177.32,272.02999999999997,331.03,380.28,319.17,245.62,124.64,54.11]
["Long",null,1999,0,0,0,0,0,0.66,2.23,3.46,12.8,26.94,70.08,136.77000000000001,247.03,408.47,549.73,654.66,582.83000000000004,430.43,228.25,0,0,0,0,0,0,0.34,1.25,6.86,15.98,27.77,45.6,65.77,83.92,116.44,113.72,90.48,61.51,32.090000000000003,13.75,20.170000000000002,0,0,0,0,0,0.5,1.74,5.16,14.39,27.35,57.84,101.27,165.47,262.45,331.72,372.57,322.17,231.26,121,10.09]
["Long",null,2000,0,0,0,0.21,0.21,0,0.89,4.9000000000000004,14.19,27.22,64.06,128.26,230.07,396.38,543.89,615.97,566.83000000000004,452.21,201.95,170.29,0,0,0,0.22,0.21,0.35,1.71,4.78,14.72,35.07,49.66,64.790000000000006,89.28,117.32,126.79,98.66,66.849999999999994,40.549999999999997,15.7,9.76,0,0,0,0.22,0.21,0.18,1.3,4.84,14.45,31.14,56.86,96.52,159.66999999999999,256.85000000000002,335.34,357.32,316.83999999999997,246.38,108.82,90.02]
["Long",null,2001,0.19,0,0,0.21,0.2,0.36,0.45,4.57,10.46,31.11,65.650000000000006,130.93,216.81,381.25,520.61,594.41,542.80999999999995,347.37,237.43,127.39,0,0,0,0,0,0.18,2.3199999999999998,4.76,17.239999999999998,33.43,46.63,79.61,91.66,119.06,130.21,100.79,65.31,39.4,22.11,0,0.1,0,0,0.1,0.1,0.27,1.39,4.67,13.85,32.270000000000003,56.14,105.27,154.22999999999999,250.15,325.41000000000003,347.6,304.06,193.38,129.77000000000001,63.69]
["Long",null,2002,0,0,0,0.21,0.2,0.19,0.6,3.25,10.76,28.42,65.150000000000006,119.75,225.21,376.28,518.74,636.46,540.95000000000005,347.89,253.55,42.46,0,0,0.21,0,0.21,0.19,1.0900000000000001,5.38,16,36.5,51.69,73.069999999999993,90.65,130.61000000000001,143.07,117.3,69.22,44.47,26.2,9.1199999999999992,0,0,0.1,0.1,0.21,0.19,0.85,4.32,13.38,32.46,58.42,96.41,157.93,253.44,330.91,376.88,305.08999999999997,196.18,139.88,25.79]
["Long",null,2003,0,0,0.19,0,0,0.57999999999999996,1.71,4.6100000000000003,10.91,30.33,66.180000000000007,115.36,197.06,351.38,518.55999999999995,593.34,577.01,429.1,215.22,169.6,0,0,0,0,0.42,0.99,1.75,3.86,14.67,39.840000000000003,61.41,80.709999999999994,96.45,127.62,155.02000000000001,127.91,97.89,49.12,25.68,26.72,0,0,0.1,0,0.21,0.79,1.73,4.2300000000000004,12.79,35.090000000000003,63.79,98.03,146.75,239.5,336.79,360.63,337.45,239.11,120.45,98.16]
["Long",null,2004,0,0,0,0.4,0.2,0,1.3,3.59,11.99,29.27,68.209999999999994,123.87,212.86,341.66,513.74,580.48,597,407.33,284.48,125.16,0.2,0,0,0,0,0.8,1.81,4.0199999999999996,17.3,41.1,60.12,87.82,110.91,130.15,149.99,141.93,94.63,59.79,29.13,0,0.1,0,0,0.2,0.1,0.4,1.56,3.8,14.64,35.19,64.16,105.84,161.88,235.9,331.87,361.2,345.81,233.56,156.81,62.58]
["Long",null,2005,0,0,0,0.2,0.2,0.4,0.52,3.31,9.18,25.58,64.44,109.32,219.16,324.79000000000002,494.78,571.62,543.80999999999995,386.6,281.42,121.9,0.2,0,0,0,0.21,1.01,1.56,3.71,16.54,37.659999999999997,66.16,86.2,113.73,146.75,168.65,156.75,102.64,60.43,32.47,8.24,0.1,0,0,0.1,0.21,0.71,1.04,3.51,12.86,31.62,65.3,97.76,166.44,235.77,331.72,364.19,323.23,223.52,156.94999999999999,65.069999999999993]
["Long",null,2006,0,0,0.2,0,0.2,0.6,1.82,3.34,10.98,26.69,61.73,120.12,204.98,318.10000000000002,497.51,608.79,583.49,456.61,235.38,118.18,0,0,0,0,0.63,0.61,1.83,3.88,15.45,37.79,71.75,93.55,124.39,146.91999999999999,186.24,164.87,123.55,76.75,43.88,0,0,0,0.1,0,0.42,0.61,1.82,3.61,13.21,32.24,66.739999999999995,106.83,164.69,232.51,341.88,386.83,353.52,266.68,139.63,59.09]
["Long",null,2007,0,0,0,0,0,1.21,1.72,3.86,8.76,24.41,61.2,117.81,195.31,333.08,487.39,606.23,572.44000000000005,453.75,254.84,37.64,0,0,0,0.41,0,0.4,1.72,3.45,16.14,38.21,75.02,93.14,133.24,146.1,178.16,191.03,118.88,71.819999999999993,39.090000000000003,23.07,0,0,0,0.2,0,0.81,1.72,3.66,12.45,31.31,68.11,105.48,164.27,239.59,332.78,398.63,345.66,262.77999999999997,146.97,30.35]
["Long",null,2008,0,0,0,0.39,0,0.6,1.18,5.07,6.99,22.17,59.89,113.55,194.02,316.74,475.05,603.02,603.35,429.57,267.29000000000002,249.51,0,0,0,0.2,0.41,1.01,0.98,4.4800000000000004,14.03,39.76,74.989999999999995,100.06,136.84,162.36000000000001,196.31,182.42,138.61000000000001,87.8,52.01,0,0,0,0,0.3,0.2,0.81,1.08,4.78,10.51,30.96,67.44,106.8,165.43,239.55,335.68,392.72,370.98,258.69,159.65,124.75]
["Long",null,2009,0.21,0,0.2,0,0.2,1.2,0.99,2.97,9.76,22.15,60.89,113.37,189.59,322.67,465.93,604.04,596.91,473.14,356.7,396.96,0,0,0,0.2,0.81,0.61,1.2,5.47,15.93,31.68,71.23,105.26,129.72,165.44,192.62,199.99,148.24,83.5,43.68,27.81,0.11,0,0.1,0.1,0.5,0.9,1.1000000000000001,4.22,12.84,26.92,66.06,109.31,159.66,244.06,329.28,402.01,372.57,278.32,200.19,212.39]
["Long",null,2010,0,0,0.39,0.19,0.19,0,1.2,4.8600000000000003,8.4,25.43,54.53,113.08,192.78,311.98,433.7,635.1,593.01,413.99,332.72,219.64,0,0,0,0.2,0.39,0.2,0.8,6.26,11.69,31.84,63.3,109.08,149.54,180.64,206.75,205.86,163.44,101.73,52.43,33.26,0,0,0.2,0.2,0.28999999999999998,0.1,1,5.56,10.039999999999999,28.64,58.92,111.08,171.16,246.31,320.23,420.48,378.23,257.86,192.58,126.45]
["Long",null,2011,0,0,0,0.39,0.19,0.2,1.39,3.47,11.21,22.44,56.45,108.48,199.12,303.99,424.71,580.67999999999995,644.89,457.23,276.91000000000003,60.79,0,0,0.41,0,0.78,1.2,1.39,3.28,11.54,36.72,68.94,113.51,142.19999999999999,179.81,197.74,227.3,164.71,119.4,60.63,19.260000000000002,0,0,0.2,0.19,0.48,0.7,1.39,3.37,11.38,29.58,62.69,111,170.66,241.9,311.23,403.99,404.8,288.31,168.77,40.03]
["Long",null,2012,0,0,0,0.59,0,0.2,1.58,3.24,9.34,20.65,46.97,107.56,183.03,274.79000000000002,395.99,575.66,531.08000000000004,520.20000000000005,221.94,232.52,0.22,0,0,0,0.38,0.4,1.59,3.04,12.25,32.6,68.16,116.45,160.33000000000001,190.11,212.22,215.6,179.07,98.92,50.99,24.93,0.11,0,0,0.28999999999999998,0.19,0.3,1.59,3.14,10.79,26.63,57.56,112,171.68,232.45,304.11,395.63,355.08,309.56,136.47,128.72999999999999]
["Long",null,2013,0,0,0.19,0,0.56000000000000005,0.96,1.58,3.34,9.58,24.15,52.04,113.51,177.66,270.29000000000002,400.59,512.47,574.04999999999995,483.34,240.76,253.31,0,0,0,0,0.19,0.78,1.79,3.71,11.04,30.22,59.4,115.65,164.5,196.44,211.21,215.45,205.49,115.4,54.66,24.59,0,0,0.1,0,0.38,0.87,1.69,3.52,10.31,27.19,55.72,114.58,171.08,233.36,305.89999999999998,363.96,389.77,299.37,147.71,138.94999999999999]
["Long",null,2014,0,0,0,0.2,0.19,0.38,1.78,3.78,10.47,19.760000000000002,43.87,96.19,181.6,265.95999999999998,391.09,493.95,554.59,410.6,224.66,159.87,0.23,0,0,0.21,0,0.19,1.59,3.96,10.61,29.15,64.319999999999993,115.5,163.79,206.29,225.16,204.7,169.68,98.82,56.52,30.12,0.11,0,0,0.2,0.09,0.28999999999999998,1.68,3.87,10.54,24.46,54.1,105.84,172.7,236.12,308.13,349.32,362.13,254.71,140.59,95]
["Long",null,2015,0,0,0,0.19,0.37,0.19,1.57,2.99,11.01,21.33,47.58,95.75,176.83,273.27,388.33,478.64,555.37,397.02,219,71.75,0,0,0.2,0.2,0.38,0.19,0.59,4.37,7.46,25.49,63.84,112.18,176.51,216.62,236.94,229.56,211.01,107.86,56.74,22.89,0,0,0.1,0.2,0.37,0.19,1.08,3.68,9.24,23.41,55.71,103.96,176.67,244.94,312.64,354.1,383.19,252.44,137.87,47.32]
["Long",null,2016,0.22,0,0.2,0,0.18,0.18,1.36,3.55,10.81,22.8,46.09,93.92,173.73,257.48,380.7,472.92,508.01,444.76,203.81,85.98,0,0,0.21,0,0.38,0.94,1.37,5.13,11.25,25.32,60,114.03,172.16,213.02,244.8,223.32,195.73,115.21,57.96,16.170000000000002,0.11,0,0.2,0,0.28000000000000003,0.56000000000000005,1.37,4.34,11.03,24.06,53.04,103.98,172.94,235.25,312.75,348.12,351.87,279.98,130.88,51.08]
["Mesothelioom",null,1989,0,0,0,0,0,0,0.16,0,1.34,2.2000000000000002,7.41,9.18,12.28,16.03,19.149999999999999,15.99,13.46,19.329999999999998,35.880000000000003,40.229999999999997,0,0,0,0,0,0,0,0.18,0.18,1.4,0.26,1.63,1.1399999999999999,1.47,1.48,2.13,4.21,2.27,3.27,0,0,0,0,0,0,0,0.08,0.09,0.76,1.8,3.84,5.41,6.71,8.75,10.31,9.06,8.84,10.8,19.57,20.12]
["Mesothelioom",null,1990,0,0,0,0,0.15,0,0,0.51,0.82,3,5.75,8.8800000000000008,12.45,18.690000000000001,18.760000000000002,13.7,16.91,16.34,8.9600000000000009,0,0,0,0,0,0,0,0,0.18,0.17,0.45,0.26,1.0900000000000001,1.99,2.04,2.1800000000000002,2.96,0.59,1.1000000000000001,0,0,0,0,0,0,0.08,0,0,0.34,0.49,1.73,3,4.99,7.22,10.36,10.47,8.33,8.75,8.7200000000000006,4.4800000000000004,0]
["Mesothelioom",null,1991,0,0,0,0,0,0,0.16,0.34,0.65,1.82,4.8899999999999997,9.1199999999999992,10.42,15.9,20.86,25.06,22.71,8.08,8.91,0,0,0,0,0,0,0.16,0,0,0,0.85,0.51,1.0900000000000001,0.85,3.23,1.75,1.26,0.57999999999999996,0,0,0,0,0,0,0,0,0.08,0.08,0.17,0.33,1.34,2.7,5.1100000000000003,5.63,9.56,11.31,13.16,11.65,4.04,4.46,0]
["Mesothelioom",null,1992,0,0,0,0,0,0,0.31,0.17,1.34,3.35,5.75,14.01,11.49,26.12,23.34,36.31,21.09,13.3,35.22,0,0,0,0,0,0,0,0,0.35,0.18,0.2,0.75,1.64,1.4,2.36,2.72,2.09,2.29,2.0699999999999998,2.88,0,0,0,0,0,0,0,0.15,0.26,0.76,1.77,3.25,7.83,6.44,14.24,13.03,19.2,11.69,7.68,19.05,0]
["Mesothelioom",null,1993,0,0,0,0,0,0,0.15,0,0.17,1.58,4.8899999999999997,7.33,16.149999999999999,17.63,21.6,24.32,27.44,13.12,8.74,42.54,0,0,0,0,0,0,0,0.34,0.36,0,0,0.27,1.68,1.78,2.96,1.26,2.82,5.0199999999999996,0,0,0,0,0,0,0,0,0.08,0.17,0.26,0.79,2.4500000000000002,3.8,8.91,9.7100000000000009,12.28,12.79,15.13,9.07,4.37,21.27]
["Mesothelioom",null,1994,0,0,0,0,0,0,0,0,0,1.19,4.0599999999999996,9.83,13.67,17.55,26.84,27.16,25.7,36.15,8.69,0,0,0,0,0,0,0,0.16,0.17,0.18,0.18,0.71,1.34,0.84,1.19,3.51,3.83,4.99,3.91,2.69,0,0,0,0,0,0,0,0.08,0.08,0.09,0.68,2.38,5.59,7.25,9.3699999999999992,15.17,15.5,15.35,20.03,5.69,0]
["Mesothelioom",null,1995,0,0,0,0,0.18,0,0.44,0.48,0.51,2.64,3.95,9.09,15.09,19.399999999999999,24.83,21.18,21.97,45.7,8.52,0,0,0,0,0,0,0,0,0.17,0.35,0,0.23,0.52,1.97,2.38,3.16,3.76,1.65,2.86,0,11.71,0,0,0,0,0.09,0,0.22,0.32,0.43,1.32,2.09,4.8099999999999996,8.5299999999999994,10.89,13.99,12.47,11.81,24.28,4.26,5.85]
["Mesothelioom",null,1996,0,0,0,0.21,0,0,0,0.32,0.68,2.3199999999999998,4.5599999999999996,13.22,17.97,23.88,18.940000000000001,27.86,27.18,27.65,8.43,45.64,0,0,0,0,0,0,0,0,0.35,0.17,0.43,0.26,1.98,2.37,3.18,2.02,2.1800000000000002,1.88,2.5,11.22,0,0,0,0.11,0,0,0,0.16,0.51,1.25,2.5,6.74,9.98,13.13,11.06,14.94,14.68,14.77,5.46,28.43]
["Mesothelioom",null,1997,0,0,0,0,0,0,0,0,0.67,2.5499999999999998,3.62,8.7100000000000009,15.81,22.19,19.73,28.63,22.62,22.21,16.649999999999999,0,0,0,0,0,0,0,0,0,0.52,0.18,0.79,0.76,1.7,2.06,2.2400000000000002,1.56,3.8,4.6399999999999997,0,0,0,0,0,0,0,0,0,0,0.6,1.37,2.21,4.74,8.75,12.13,10.99,15.1,13.21,13.43,8.33,0]
["Mesothelioom",null,1998,0,0,0,0,0,0,0,0.15,0.33,2.77,3.78,10.16,12.99,19.27,23.01,30.94,24.77,11.99,8.19,0,0,0,0,0,0,0,0,0,0,0.36,0.37,0.5,0.56000000000000005,0.88,3.22,3.03,1.64,0.91,0,0,0,0,0,0,0,0,0,0.08,0.17,1.56,2.08,5.33,6.77,10.08,13.12,16.98,13.2,6.45,4.09,0]
["Mesothelioom",null,1999,0,0,0,0,0,0,0.3,0.15,0.82,2.4300000000000002,3.48,8.18,12.42,27.67,26.14,44.95,22.62,16.29,0,0,0,0,0,0,0,0,0,0.16,0.34,0.9,0.54,0.96,2.21,1.77,3.56,3.3,2.75,2.67,0,0,0,0,0,0,0,0,0.15,0.15,0.57999999999999996,1.66,2.0099999999999998,4.57,7.32,14.72,14.85,24.13,12.68,9.48,0,0]
["Mesothelioom",null,2000,0,0,0,0,0,0.17,0,0.15,0.32,2.4300000000000002,3.38,9.7799999999999994,16.510000000000002,22.24,26.5,35.42,16.670000000000002,22.72,8.08,0,0,0,0,0,0,0.18,0,0,0.33,0.18,0.35,0.7,1.89,3.25,3.23,5.8,1.08,1.76,0,0,0,0,0,0,0,0.17,0,7.0000000000000007E-2,0.33,1.3,1.87,5.24,9.1999999999999993,12.74,14.87,20.61,8.8699999999999992,12.24,4.04,0]
["Mesothelioom",null,2001,0,0,0,0,0,0,0,0.15,0.32,0.69,4.0599999999999996,7.29,16.12,21.41,26.39,28.62,28.57,26.89,15.83,0,0,0,0,0,0,0,0,0,0.33,0.35,0.52,0.66,2.13,2.96,4.18,5.84,3.63,2.63,0,0,0,0,0,0,0,0,0,7.0000000000000007E-2,0.32,0.52,2.29,3.97,9.1199999999999992,12.19,15.29,17.23,16.100000000000001,14.76,7.91,0]
["Mesothelioom",null,2002,0,0,0,0,0,0,0,0.3,0.16,1.02,3.82,4.7300000000000004,11.81,23.14,21.99,29.48,19.72,31.02,23.05,0,0,0,0,0,0,0,0,0,0.32,0.52,0.54,1.82,1.57,2.67,4.47,1.1000000000000001,3.51,2.62,0,0,0,0,0,0,0,0,0,0.15,0.24,0.77,2.1800000000000002,3.27,6.69,12.9,13.23,15.29,11.62,16.82,11.53,0]
["Mesothelioom",null,2003,0,0,0,0,0,0.19,0.16,0,0,0.51,2.12,8.75,13.26,23.07,26.68,31.91,34.89,17.690000000000001,29.69,0,0,0,0,0,0,0,0,0.15,0.79,0.69,0.54,0.95,0.77,3.82,0.95,4.8099999999999996,1.45,1.75,2.14,0,0,0,0,0,0,0.1,0.08,0.08,0.39,0.6,1.33,4.8499999999999996,7.01,13.45,13.82,18.36,18.170000000000002,9.7200000000000006,15.91,0]
["Mesothelioom",null,2004,0,0,0,0,0,0,0,0.15,0.46,1.33,3.55,7.19,13.8,24.03,30.18,40.44,30.79,13.14,14.22,0,0,0,0,0,0,0,0,0.31,0.31,0.34,0.54,1.66,2.48,1.45,0.64,3.34,3.75,3.52,0,0,0,0,0,0,0,0,0,0.23,0.38,0.83,2.0499999999999998,4.42,8.14,12.74,15.41,21.89,17.27,8.33,7.11,0]
["Mesothelioom",null,2005,0,0,0,0,0,0,0,0,0.3,0.66,2.13,7.52,12.23,26.37,43.78,41.5,34.25,33.08,13.73,40.630000000000003,0,0,0,0,0,0,0,0,0,0.17,0.18,1.79,1.69,3.68,2.23,5.16,3.24,2.5499999999999998,0,0,0,0,0,0,0,0,0,0,0.15,0.41,1.1599999999999999,4.6500000000000004,6.96,15.02,23.01,23.33,18.739999999999998,17.82,6.86,20.32]
["Mesothelioom",null,2006,0,0,0,0,0,0,0,0,0.15,1.29,1.06,6.66,14.24,26.87,32.770000000000003,42.91,32.869999999999997,26.75,13.45,0,0,0,0,0,0,0,0,0.16,0.62,0.16,0.89,1.61,2.2799999999999998,1.39,2.5499999999999998,4.75,4.63,4.8499999999999996,3.99,0,0,0,0,0,0,0,0,0.08,0.38,0.73,0.98,4.1399999999999997,8.26,14.13,17.66,23.83,18.75,15.8,8.7200000000000006,0]
["Mesothelioom",null,2007,0,0,0,0,0,0,0,0,0.3,0.64,2.97,5.58,10.79,22.51,36.67,36.85,21.71,37.51,13.07,0,0,0,0,0,0,0,0,0,0,0.16,0.88,0.73,1.88,2.74,3.5,4.7,3.24,2.3199999999999998,1.95,7.69,0,0,0,0,0,0,0,0,0.15,0.4,1.93,3.16,6.34,12.62,20.09,20.77,12.47,19.920000000000002,7.51,3.84]
["Mesothelioom",null,2008,0,0,0,0,0,0,0,0,0.15,1.1000000000000001,2.94,6.77,13.12,25.68,35.49,34.99,26.68,25.07,25.46,0,0,0,0,0,0,0,0.2,0,0,0.16,0.87,1.49,1.77,1.87,4.0999999999999996,4.3099999999999996,5.08,2.95,0,0,0,0,0,0,0,0,0.1,0,0.08,0.63,1.91,4.13,7.45,13.78,19.8,19.649999999999999,15.88,14.01,12.73,0]
["Mesothelioom",null,2009,0,0,0,0,0,0,0,0.17,0.46,0.62,2.2200000000000002,5.88,11.71,18.64,37.21,36.61,38.07,25.23,12.3,0,0,0,0,0,0,0,0,0,0.16,0.16,0.52,0.74,1.52,1.55,3.4,4.29,1.84,3.54,5.7,0,0,0,0,0,0,0,0,0.08,0.31,0.39,1.37,3.31,6.61,10.09,20.3,20.45,19.95,14.39,9,0]
["Mesothelioom",null,2010,0,0,0,0,0,0,0,0,0.31,0.77,1.68,4.95,9.91,20.16,35.33,52,45.45,39.43,33.840000000000003,0,0,0,0,0.2,0,0,0,0.17,0,0.16,0.34,0.74,2.0299999999999998,3.28,3.32,2.85,3.19,2.77,1.81,0,0,0,0,0.1,0,0,0,0.09,0.15,0.46,1.01,2.84,5.97,11.72,19.329999999999998,27.43,24.32,21.1,17.82,0]
["Mesothelioom",null,2011,0,0,0,0,0,0,0,0.18,0.15,0.31,2.31,5.63,10.28,20.399999999999999,33.299999999999997,33.36,52.86,42.5,45.31,0,0,0,0,0,0,0,0,0,0,0.31,0.5,1.28,1.29,1.66,4.45,3.56,5.39,4.12,0,6.42,0,0,0,0,0,0,0,0.09,0.08,0.31,1.41,3.46,5.78,11.03,18.87,18.46,29.12,23.31,22.66,3.21]
["Mesothelioom",null,2012,0,0,0,0,0,0,0.2,0.19,0.16,0,2.76,5.94,11.66,19.559999999999999,26.34,49.37,37.4,26.86,13.87,0,0,0,0,0,0,0.4,0.2,0.19,0.16,0,0.49,1.08,1.32,1.0900000000000001,4.37,4.96,6.19,4.78,1.59,0,0,0,0,0,0,0.2,0.2,0.19,0.16,0,1.63,3.51,6.49,10.33,15.35,27.16,21.8,15.82,7.73,0]
["Mesothelioom",null,2013,0,0,0,0,0,0,0,0,0,0.46,1.28,4.09,12.01,15.07,29.75,45.34,50.75,40.96,17.2,0,0,0,0,0.21,0,0,0,0,0,0,0.81,0.89,1.53,2.06,3.41,4.2,4.37,2.72,4.5599999999999996,0,0,0,0,0.1,0,0,0,0,0,0.23,1.04,2.4900000000000002,6.77,8.57,16.579999999999998,24.77,27.56,21.84,10.88,0]
["Mesothelioom",null,2014,0,0,0,0,0,0,0.2,0.2,0.33,1.24,1.42,1.75,8.8000000000000007,16.940000000000001,27.13,50.26,49.25,24.92,12.04,26.65,0,0,0,0,0,0,0.2,0.2,0.17,0.31,0.48,1.05,0.77,2.58,2.2000000000000002,8.2200000000000006,3.04,1.34,2.9,6.02,0,0,0,0,0,0,0.2,0.2,0.25,0.77,0.95,1.4,4.78,9.76,14.67,29.24,26.15,13.13,7.47,16.329999999999998]
["Mesothelioom",null,2015,0,0,0,0,0,0.19,0,0,0.52,0.31,0.62,2.76,6.68,18.579999999999998,27.72,42.83,46.59,38.83,19.21,0,0,0,0,0.2,0,0,0,0.2,0,0.16,1.26,0.86,1.1399999999999999,2.7,3.76,3.68,5.18,1.99,4.26,5.72,0,0,0,0.1,0,0.09,0,0.1,0.26,0.23,0.94,1.81,3.91,10.64,15.74,23.25,25.88,20.41,11.73,2.86]
["Mesothelioom",null,2016,0,0,0,0,0,0.18,0,0.2,0.37,0.16,1.4,2.2000000000000002,10.02,18.18,29.2,41.04,47.12,43.16,7.41,64.489999999999995,0,0,0,0,0,0,0,0,0,0.16,0.79,0.85,0.94,2.5,3.29,5.57,9.01,3.91,4.24,0,0,0,0,0,0,0.09,0,0.1,0.18,0.16,1.0900000000000001,1.52,5.48,10.34,16.25,23.3,28.06,23.53,5.83,32.24]
["Lymfoblastaire leukemie/lymfoom",null,1989,3.62,4.42,1.72,1.72,1.24,0.46,0.65,0.68,1.01,0.22,0.26,0.83,0.31,1.07,1.01,1.39,1.22,0,8.9700000000000006,0,5.33,2.08,2.4900000000000002,0.9,0.81,0.32,0.34,0.18,0,0.47,0.26,0.54,0.28000000000000003,0.88,0.37,2.13,0.6,1.1399999999999999,6.54,0,4.47,3.25,2.11,1.31,1.02,0.39,0.5,0.43,0.5,0.34,0.26,0.69,0.3,0.98,0.69,1.76,0.91,0.56999999999999995,7.76,0]
["Lymfoblastaire leukemie/lymfoom",null,1990,5.0199999999999996,3.97,2.6,1.0900000000000001,1.08,0.45,0.48,0.68,0.33,0.21,0.5,0.83,0.93,1.06,2.4700000000000002,2.74,2.42,2.72,8.9600000000000009,0,5.89,2.2999999999999998,1.36,0.56999999999999995,0.32,0.47,0.17,0.35,0.52,0.68,0.26,0.55000000000000004,0.56999999999999995,0.87,0.36,1.27,1.18,1.1000000000000001,0,0,5.45,3.14,1.98,0.83,0.7,0.46,0.32,0.52,0.42,0.45,0.38,0.69,0.75,0.97,1.42,2.0099999999999998,1.8,1.91,4.4800000000000004,0]
["Lymfoblastaire leukemie/lymfoom",null,1991,6.35,3.51,0.86,2.4900000000000002,1.55,1.04,0.94,1.01,0.49,0.2,0.98,0.83,0.92,0.71,1.42,2.0299999999999998,7.17,2.69,0,41.72,4.71,1.83,2.04,0.4,1.1299999999999999,0.16,0.49,0.35,0.34,0.43,1.01,0,1.1299999999999999,0.59,0.7,0.42,1.75,1.06,0,0,5.53,2.67,1.45,1.45,1.34,0.6,0.72,0.68,0.42,0.31,0.99,0.41,1.02,0.65,1.06,1.23,4.46,1.88,0,20.86]
["Lymfoblastaire leukemie/lymfoom",null,1992,5.46,3.9,2.59,4.01,0.78,0.15,0.93,1.17,0.34,1.1200000000000001,0.24,1.65,1.51,0.71,0.92,0,1.17,2.66,0,0,5.08,4.29,1.1299999999999999,0.63,0.32,0.31,0.48,0.17,0.18,0.39,0.99,1.0900000000000001,1.4,0.59,1.7,1.26,2.87,2.0699999999999998,0,0,5.27,4.09,1.86,2.3199999999999998,0.55000000000000004,0.23,0.71,0.67,0.26,0.75,0.62,1.37,1.46,0.65,1.31,0.63,2.02,2.36,0,0]
["Lymfoblastaire leukemie/lymfoom",null,1993,4.2,3.82,1.51,2.2799999999999998,1.28,0.75,0.61,0.16,0.51,0.7,1.4,0.81,1.5,0,0.44,2.0299999999999998,0,0,8.74,0,4.1900000000000004,2.88,1.81,1.51,0.83,0.63,0.16,0.34,0.18,0.92,0,0.54,0.56000000000000005,1.78,0.99,0.84,0,1,0,0,4.2,3.35,1.66,1.9,1.05,0.69,0.38,0.25,0.34,0.81,0.7,0.68,1.03,0.89,0.71,1.43,0,0.5,4.37,0]
["Lymfoblastaire leukemie/lymfoom",null,1994,5.75,4.17,2.16,1.26,1,0.75,0.6,0.49,1.03,1.19,1.1299999999999999,0.27,0.89,0.7,1.28,2.04,2.23,0,0,0,6.65,1.96,1.58,0.22,1.21,0.16,0.31,0.5,0.18,0.71,0.71,0.53,0.28000000000000003,1.19,0.32,0.85,0,1.96,0,0,6.2,3.07,1.87,0.74,1.1100000000000001,0.45,0.46,0.5,0.6,0.95,0.92,0.4,0.59,0.95,0.8,1.44,1.1200000000000001,0.98,0,0]
["Lymfoblastaire leukemie/lymfoom",null,1995,7.34,3.69,3.25,1.27,1.06,0.6,1.19,0.64,0.86,0.66,0.66,1.04,0.59,1.73,1.68,0.66,0,0,0,0,4.37,2.57,1.36,1.1100000000000001,0.36,0.32,0.62,0.66,0.71,0.35,0.23,0.52,0.84,1.49,0.95,1.25,1.1000000000000001,0.95,0,0,5.85,3.13,2.2999999999999998,1.19,0.71,0.46,0.9,0.65,0.78,0.5,0.44,0.78,0.72,1.61,1.32,0.96,0.55000000000000004,0.48,0,0]
["Lymfoblastaire leukemie/lymfoom",null,1996,7,2.82,2.59,3.59,1.69,0.91,0.3,0.47,0.17,0.66,0.21,0.51,0.59,0,0.42,1.27,3.26,5.03,0,0,6.71,2.95,1.35,0.89,0.96,0.47,0.31,0.33,0.7,0.69,0.86,0.77,0.28000000000000003,0.59,0.32,0.81,1.0900000000000001,0,0,0,6.86,2.89,1.97,2.2400000000000002,1.32,0.69,0.3,0.4,0.44,0.68,0.54,0.64,0.44,0.3,0.37,1.04,2.1800000000000002,2.5099999999999998,0,0]
["Lymfoblastaire leukemie/lymfoom",null,1997,8.85,3.59,1.92,1.9,1.18,0.46,0.59,0.62,0.67,0.51,0,0.75,1.17,0.67,0.42,0.61,3.23,4.9400000000000004,0,44.73,4.22,2.71,1.56,1.1000000000000001,1.41,0.8,0.62,0.32,0.69,0.18,0.4,0.25,0,1.47,0.64,0.78,1.08,0.93,0,0,6.54,3.15,1.74,1.5,1.29,0.63,0.61,0.47,0.68,0.34,0.2,0.5,0.59,1.07,0.53,0.7,2.16,2.93,0,22.37]
["Lymfoblastaire leukemie/lymfoom",null,1998,6.63,4.34,3.13,1.69,1.01,1.1000000000000001,0,1.07,0.17,1.38,0.9,0.24,0.87,0.33,0,0,0,0,0,0,5.05,2.0699999999999998,1.75,1.1100000000000001,0.83,0.32,0.47,0.79,0.17,0,0.37,0.5,0.84,0.88,0.97,0.76,1.0900000000000001,0.91,0,0,5.84,3.21,2.44,1.4,0.92,0.71,0.23,0.93,0.17,0.69,0.64,0.37,0.85,0.61,0.48,0.38,0.55000000000000004,0.45,0,0]
["Lymfoblastaire leukemie/lymfoom",null,1999,8.3699999999999992,6.27,2.67,2.11,0.41,1.1499999999999999,0.74,0.9,0.66,0.17,0.35,0.94,0.85,0.33,2.0699999999999998,1.1200000000000001,2.15,0,0,0,3.97,2.2599999999999998,0.86,0.66,0.84,0.34,0.93,0,0.5,0.18,0.54,0.48,0.55000000000000004,0.88,0.97,2.93,0.55000000000000004,1.78,0,0,6.17,4.26,1.76,1.39,0.63,0.74,0.84,0.45,0.57999999999999996,0.18,0.44,0.71,0.7,0.61,1.52,2.0299999999999998,1.35,0.89,0,0]
["Lymfoblastaire leukemie/lymfoom",null,2000,5.91,5.48,3.83,1.68,2.4700000000000002,0.35,0.74,0.3,0.32,0.69,0.17,1.59,0.28000000000000003,0.33,0,1.1100000000000001,0,2.27,0,0,6.81,2.46,2.11,1.1000000000000001,0.63,0.53,0.47,0.62,0.33,0.53,0.35,0.7,1.08,0.89,1.29,0.36,1.08,0,0,0,6.36,3.97,2.97,1.39,1.55,0.44,0.61,0.46,0.33,0.61,0.26,1.1499999999999999,0.68,0.61,0.65,0.73,0.54,1.1399999999999999,0,0]
["Lymfoblastaire leukemie/lymfoom",null,2001,6.98,4.7300000000000004,2.97,1.88,2.46,1.0900000000000001,0.3,1.03,0.95,0.34,1.18,1.07,0.81,0.32,1.6,0.55000000000000004,0,0,0,0,6.7,2.68,0.62,0.44,1.05,0.55000000000000004,0.31,0,0.16,0.35,0.17,0.44,0.8,0.89,0.96,0.37,1.04,0.88,0,0,6.84,3.7,1.8,1.1599999999999999,1.75,0.82,0.3,0.52,0.56000000000000005,0.35,0.68,0.76,0.8,0.61,1.28,0.46,0.52,0.44,0,0]
["Lymfoblastaire leukemie/lymfoom",null,2002,7.29,5.54,3.33,1.23,1.22,0.94,0.6,0.3,0.31,0.68,0.52,0.98,0.52,1.29,1.57,0.55000000000000004,2.82,2.2200000000000002,0,0,3.62,1.87,1.64,0.65,0.62,0.38,0.31,0,0.48,0.17,1.07,0.61,0.52,1.48,0.64,0.37,1.5,2.62,2.1800000000000002,0,5.46,3.71,2.48,0.94,0.92,0.66,0.46,0.15,0.4,0.43,0.8,0.8,0.52,1.38,1.1000000000000001,0.46,2.16,2.42,1.0900000000000001,0]
["Lymfoblastaire leukemie/lymfoom",null,2003,7.84,3.57,2.92,2.4300000000000002,2.04,0.39,1.0900000000000001,0.45,0.92,0.17,1.06,0.56000000000000005,1.02,0.32,1.55,0,4.47,2.21,0,0,7.42,3.53,3.05,1.27,0.42,1.18,0.79,0.62,0.47,0.52,0.72,0.38,0.51,0.88,1.91,1.1100000000000001,0.97,0,0,0,7.63,3.55,2.99,1.85,1.23,0.79,0.94,0.53,0.7,0.34,0.89,0.47,0.77,0.6,1.73,0.55000000000000004,2.72,1.1100000000000001,0,0]
["Lymfoblastaire leukemie/lymfoom",null,2004,5.77,3.56,3.1,1.2,1.02,0.4,0.49,0.9,0.91,0.33,0.36,0.54,0.74,0.31,1.53,2.13,0.86,2.19,0,0,5.44,1.66,1.42,1.26,0.21,0.2,0.16,0.46,0.47,0.68,0.36,0.55000000000000004,0.25,0.57999999999999996,0.32,0.74,0.94,0,2.08,0,5.61,2.61,2.2599999999999998,1.23,0.61,0.3,0.33,0.68,0.69,0.5,0.36,0.55000000000000004,0.49,0.44,0.92,1.43,0.9,1.0900000000000001,1.04,0]
["Lymfoblastaire leukemie/lymfoom",null,2005,7.43,4.13,2.73,2.19,1.23,0.6,0.17,0.6,0.45,0.66,0.53,0.35,0.72,1.2,0,3.11,1.67,0,0,0,6.35,3.92,0.82,1.25,0.42,0.61,0.17,0.77,0.31,0.33,0.54,0.89,0.48,1.1299999999999999,0.32,1.48,0.92,0.85,2.0299999999999998,0,6.89,4.0199999999999996,1.77,1.72,0.82,0.6,0.17,0.69,0.38,0.49,0.54,0.62,0.6,1.17,0.16,2.29,1.3,0.43,1.01,0]
["Lymfoblastaire leukemie/lymfoom",null,2006,6.2,4.29,2.76,1.97,1.23,0.81,0.36,0.76,0,0.97,0.35,0.53,0.23,0.57999999999999996,0.37,1.01,4.1100000000000003,3.82,6.73,0,5.66,3.06,2.27,1.44,1.05,0.61,0.37,0.62,0.15,0.82,0.18,0.72,1.59,0.83,0.96,0.73,3.24,1.62,1.99,0,5.93,3.68,2.5099999999999998,1.7,1.1399999999999999,0.71,0.36,0.69,0.08,0.9,0.27,0.62,0.91,0.71,0.66,0.87,3.67,2.72,4.3600000000000003,0]
["Lymfoblastaire leukemie/lymfoom",null,2007,5.1100000000000003,5.04,1.99,2.15,1.63,0.4,0.76,0.46,0.3,0.64,0.35,0.72,0.62,1.71,0.73,1.97,0.8,0,0,0,6,3.25,2.29,0.82,1.25,0.61,0.38,0.63,0.47,0.32,0.88,0.37,2.09,0.82,0.95,1.45,1.39,0.77,0,0,5.55,4.1399999999999997,2.14,1.48,1.44,0.51,0.56999999999999995,0.55000000000000004,0.38,0.48,0.62,0.54,1.36,1.27,0.84,1.71,1.1000000000000001,0.39,0,0]
["Lymfoblastaire leukemie/lymfoom",null,2008,5,5.22,2.39,2.91,0.8,0,0.39,1.1100000000000001,0.46,1.42,0.17,0.73,0.59,1.38,0.36,1.92,3.92,0,0,0,6.76,4.25,1.67,0.81,0.61,0.81,0,0.8,0.62,0.48,0.35,0.37,0.59,1.34,1.26,0.36,0,1.48,1.93,0,5.88,4.74,2.0299999999999998,1.86,0.71,0.41,0.2,0.95,0.54,0.95,0.26,0.55000000000000004,0.59,1.36,0.81,1.1399999999999999,1.96,0.74,0.96,0]
["Lymfoblastaire leukemie/lymfoom",null,2009,6.53,3.5,2.19,1.74,0.79,1,0.8,1.32,0.61,0.77,0.34,0.92,0.94,1.06,1.74,1.41,1.52,0,0,0,4.1900000000000004,2.2400000000000002,1.04,1.41,0.6,1.01,0.4,0,0.31,0,0.69,0.37,1.33,0.52,0.93,1.07,0,2.12,0,0,5.36,2.87,1.61,1.58,0.7,1,0.6,0.66,0.46,0.39,0.51,0.65,1.1399999999999999,0.79,1.33,1.24,0.76,1.06,0,0]
["Lymfoblastaire leukemie/lymfoom",null,2010,5.92,2.56,3.15,2.5099999999999998,1.74,1.39,1,0.52,0.31,0.92,0.5,0.55000000000000004,0.92,0.78,2.69,0,2.93,0,5.64,0,8.1999999999999993,2.88,1.24,0.81,0.99,0,0.2,0,0.31,0.31,0.17,0.37,1.1100000000000001,0.25,1.51,1.07,2.2799999999999998,0.69,0,0,7.06,2.72,2.2000000000000002,1.66,1.36,0.7,0.6,0.26,0.31,0.62,0.34,0.46,1.01,0.51,2.1,0.54,2.6,0.35,2.82,0]
["Lymfoblastaire leukemie/lymfoom",null,2011,5.73,3,2.5299999999999998,3.31,0.76,0.99,0.2,0.55000000000000004,0.61,1.07,0.33,0.73,0.37,1.46,0.65,0.45,2.11,0,0,0,6.67,3.35,2.4500000000000002,2.04,0.97,0.2,0.4,0.18,0.47,0.16,0.83,0.73,0.74,1.19,1.48,0.36,1.35,0,0,0,6.2,3.18,2.4900000000000002,2.68,0.86,0.59,0.3,0.36,0.54,0.61,0.57999999999999996,0.73,0.55000000000000004,1.32,1.07,0.4,1.73,0,0,0]
["Lymfoblastaire leukemie/lymfoom",null,2012,4.91,3.26,3.48,2.36,1.88,0.78,0.99,0.56999999999999995,0.16,0.46,0.49,0.54,0.56000000000000005,1.56,0.63,0,0.68,0,4.62,0,5.37,3.41,2.02,0.82,0.38,0,0.4,0.95,0.31,0.78,0.33,1.08,1.1299999999999999,0.87,1.1599999999999999,0.35,0.88,0,0,0,5.14,3.34,2.75,1.59,1.1299999999999999,0.39,0.69,0.76,0.23,0.62,0.41,0.81,0.85,1.21,0.9,0.18,0.78,0,2.31,0]
["Lymfoblastaire leukemie/lymfoom",null,2013,7.55,4.5599999999999996,3.08,2.16,1.1200000000000001,0.57999999999999996,0.99,0.2,0.96,0.46,0.16,1.25,1.52,0.63,0.61,1.71,0.66,0,4.3,0,4.53,2.17,1.81,1.65,0.19,0.2,0.4,0.59,0.48,0.78,0.32,0.71,0.38,0.21,0.85,0.7,0.44,0.68,0,0,6.04,3.37,2.4500000000000002,1.9,0.66,0.39,0.69,0.39,0.72,0.62,0.24,0.98,0.95,0.42,0.73,1.21,0.55000000000000004,0.34,2.15,0]
["Lymfoblastaire leukemie/lymfoom",null,2014,5.9,3.56,2.7,4.1100000000000003,0.56000000000000005,0.95,1.38,0.8,1,1.08,0.63,0.53,0.56999999999999995,0.4,0.88,2.06,1.28,0,0,0,6.88,2.64,1.41,0.62,1.1399999999999999,0.39,0.79,0.99,0.66,0.16,0.32,0.88,0.19,0.99,1.38,1.03,0.43,0,0,0,6.39,3.1,2.06,2.36,0.85,0.67,1.0900000000000001,0.89,0.83,0.62,0.47,0.7,0.38,0.7,1.1299999999999999,1.54,0.86,0,0,0]
["Lymfoblastaire leukemie/lymfoom",null,2015,8.41,4.83,2.93,2.71,0.18,0.75,0.78,0.8,1.05,0.62,1.0900000000000001,0.34,0.38,0.59,2,0.4,0.62,0,0,0,6.04,2.86,1.84,1.01,0.76,0.56999999999999995,0.4,0.6,0.69,0,0.47,0.52,0.56999999999999995,0.19,0.27,1.34,1.29,0.66,0,0,7.22,3.85,2.39,1.86,0.47,0.66,0.59,0.7,0.87,0.31,0.78,0.43,0.48,0.39,1.1299999999999999,0.87,0.96,0.33,0,0]
["Lymfoblastaire leukemie/lymfoom",null,2016,6.47,4.62,0.99,3.61,0.92,0.55000000000000004,0.57999999999999996,0.39,0.55000000000000004,0.78,0.78,0.85,1.32,1.56,1.34,0.77,0.6,1.2,0,0,4.93,3.09,1.87,1,0.76,0.19,0,0.2,0.18,0.31,0.79,0.85,0.75,0.57999999999999996,1.77,0.33,1.29,1.3,0,0,5.7,3.85,1.43,2.31,0.84,0.37,0.28999999999999998,0.3,0.37,0.54,0.78,0.85,1.04,1.07,1.55,0.55000000000000004,0.95,1.25,0,0]
["Acute myeloïde leukemie",null,1989,1.92,0.66,0.86,0.52,0.16,0.61,0.65,1.37,1.85,2.2000000000000002,4.34,5.29,10.08,14.25,9.58,15.99,17.13,19.329999999999998,17.940000000000001,40.229999999999997,1.55,0.23,0.68,0.18,0.32,1.27,1.19,1.61,2.48,2.33,3.67,3.26,4.55,5,10.33,11.1,7.22,13.64,9.82,0,1.74,0.45,0.77,0.35,0.24,0.94,0.92,1.49,2.16,2.2599999999999998,4.01,4.2699999999999996,7.31,9.6300000000000008,9.9499999999999993,13.54,12.18,16.489999999999998,13.88,20.12]
["Acute myeloïde leukemie",null,1990,1.25,0.44,0.87,0.73,0.93,0.45,1.61,2.21,1.47,1.72,3.25,6.11,4.67,9.17,16.79,21.92,24.16,16.34,26.89,0,0.65,0.46,1.59,0.95,0.65,1.42,0.67,1.42,1.55,2.27,1.8,4.09,5.67,7.87,6.17,8.4600000000000009,8.85,10.96,3.15,0,0.95,0.45,1.23,0.84,0.79,0.94,1.1399999999999999,1.82,1.51,1.99,2.5299999999999998,5.0999999999999996,5.17,8.52,11.48,15.19,16.510000000000002,13.65,15.02,0]
["Acute myeloïde leukemie",null,1991,1.23,0.22,0.43,0.56999999999999995,0.93,0.75,0.63,0.84,0.98,3.04,4.6500000000000004,4.1500000000000004,5.82,10.95,11.38,17.61,17.93,35.01,8.91,41.72,1.29,0.23,0.45,0.4,1.1299999999999999,0.79,0.49,1.75,0.86,1.92,2.27,3.55,4.8,6.46,7.01,14.28,12.23,13.82,3.01,0,1.26,0.22,0.44,0.49,1.03,0.77,0.56000000000000005,1.3,0.92,2.48,3.46,3.85,5.31,8.6999999999999993,9.19,15.95,15.08,24.42,5.96,20.86]
["Acute myeloïde leukemie",null,1992,0.81,1.3,0.22,0.8,0.78,0.74,0.93,2.34,1.68,2.98,4.79,6.04,8.77,13.06,12.36,15.47,25.78,26.6,35.22,42.11,1.27,0.68,0.68,0.63,0.49,1.41,1.1299999999999999,1.56,1.05,1.76,1.99,5.74,3.08,5.91,12.92,10.88,10.33,7.23,5.75,12.84,1.04,0.99,0.45,0.72,0.63,1.08,1.03,1.95,1.37,2.37,3.39,5.89,5.93,9.48,12.64,13.17,18.05,16.91,20.48,27.48]
["Acute myeloïde leukemie",null,1993,1.6,0,1.08,1.04,0.8,1.34,1.52,1.1499999999999999,1.53,1.93,3.5,4.34,8.67,13.05,15.87,20.94,17.149999999999999,31.49,17.48,0,0.21,0.22,0.45,0.43,0.66,0.31,1.27,1.02,1.95,1.47,2.91,1.9,3.64,6.83,10.53,8.84,15.79,14.06,2.78,12.42,0.91,0.11,0.77,0.73,0.73,0.83,1.4,1.0900000000000001,1.74,1.7,3.2,3.12,6.15,9.94,13.2,14.89,16.47,22.77,10.130000000000001,6.21]
["Acute myeloïde leukemie",null,1994,1.59,0.63,0.22,1.05,1.17,0.75,0.45,0.49,2.06,2.89,4.51,3.72,8.6199999999999992,9.83,14.91,22.41,15.64,18.079999999999998,17.37,0,1.04,0,0.68,0.88,0.86,0.47,1.72,1.85,1.78,1.07,2.82,4.55,4.21,7.76,5.42,16.579999999999998,12.2,6.84,13.44,12.08,1.31,0.31,0.45,0.97,1.02,0.61,1.0900000000000001,1.17,1.92,1.98,3.66,4.13,6.41,8.7899999999999991,10.17,19.5,13.92,12.46,15.41,6.04]
["Acute myeloïde leukemie",null,1995,0.6,0.82,1.08,1.27,0.35,1.05,0.89,1.28,1.88,3.14,3.07,5.71,11.54,11.78,12.63,22.5,17.57,33,17.05,0,1.25,0,0.45,0.67,0.36,1.1000000000000001,1.4,0.83,1.24,1.21,4.13,4.46,5.35,5.96,10.42,10.87,9.32,15.28,5.17,0,0.92,0.41,0.77,0.97,0.36,1.08,1.1399999999999999,1.05,1.56,2.17,3.6,5.09,8.44,8.8699999999999992,11.53,16.690000000000001,13.45,24.14,11.11,0]
["Acute myeloïde leukemie",null,1996,2.2000000000000002,0.2,0.43,1.48,1.1200000000000001,1.51,0.59,1.42,1.87,1.33,2.9,5.59,9.1300000000000008,13.99,17.68,23.43,22.83,15.08,25.28,0,1.05,0,0.68,0.66,1.35,0.47,1.71,1.96,2.4500000000000002,2.76,1.3,4.13,4.5199999999999996,7.71,7.96,14.92,14.7,6.6,0,11.22,1.62,0.1,0.55000000000000004,1.07,1.24,0.99,1.1499999999999999,1.69,2.16,2.04,2.1,4.8600000000000003,6.83,10.85,12.82,19.170000000000002,18.77,10.84,12.64,5.61]
["Acute myeloïde leukemie",null,1997,1.21,0.6,0.85,0.63,0.98,1.38,1.33,1.71,1.35,3.07,4.1900000000000004,5.72,8.7799999999999994,9.75,13.86,20.100000000000001,26.93,17.28,16.649999999999999,0,0.84,0.63,0.44,0.44,0.6,1.1100000000000001,1.71,2.41,2.08,3.53,2.58,4.3099999999999996,4.24,5.31,6.41,14.86,12.47,12.06,12.15,0,1.03,0.61,0.65,0.54,0.79,1.25,1.52,2.06,1.71,3.3,3.39,5.0199999999999996,6.51,7.53,10.130000000000001,17.48,19.7,14.67,14.4,0]
["Acute myeloïde leukemie",null,1998,0.8,0,0,0.85,1.42,0.79,0.59,0.61,1.83,2.25,3.24,1.94,9.5299999999999994,11.29,14.22,25.69,21.54,9.6,8.19,0,1.68,1.03,1.31,0.44,0.62,0.97,1.87,2.37,2.56,1.97,3.74,5.69,5.61,8.24,7.74,15.13,15.81,10,16.48,10.36,1.24,0.52,0.66,0.64,1.02,0.88,1.23,1.49,2.2000000000000002,2.11,3.49,3.81,7.57,9.77,10.98,20.41,18.670000000000002,9.8000000000000007,12.34,5.18]
["Acute myeloïde leukemie",null,1999,0.8,0.98,0.62,0.42,0.82,0.98,1.49,1.2,1.31,2.95,3.13,4.68,9.0299999999999994,12.52,19.079999999999998,17.420000000000002,23.7,23.27,24.45,0,0.63,0,0.64,0.88,0.63,1.34,1.87,0.47,2.02,1.79,2.7,4.08,7.18,5.01,10.039999999999999,13.19,10.43,13.37,9.16,0,0.71,0.49,0.63,0.65,0.73,1.1599999999999999,1.68,0.84,1.67,2.37,2.92,4.38,8.11,8.76,14.56,15.3,17.07,18.32,16.809999999999999,0]
["Acute myeloïde leukemie",null,2000,1.57,0,0.81,0.63,0.21,0.86,0.45,1.34,0.97,2.08,2.7,4.32,7.71,12.43,14.68,24.9,20.84,15.91,0,0,0.62,0.61,0.21,0.22,0.63,0.53,0.93,0.93,2.15,2.67,3.85,4.68,4.5999999999999996,7.39,9.6999999999999993,9.7899999999999991,13.48,13.22,8.9700000000000006,0,1.1000000000000001,0.31,0.51,0.43,0.42,0.7,0.69,1.1299999999999999,1.56,2.38,3.28,4.5,6.15,9.91,12.19,17.350000000000001,17.16,14.56,4.49,0]
["Acute myeloïde leukemie",null,2001,1.55,0.2,0.99,0.83,0.2,1.0900000000000001,1.49,1.18,1.27,2.41,4.0599999999999996,5.36,6.99,15.9,15.99,31.92,32.51,29.13,15.83,42.46,1.02,0.21,0.41,0.22,1.26,0.74,1.24,1.69,2.11,2.11,3.49,3.53,3.99,4.1500000000000004,9.9700000000000006,9.86,12.96,10.51,8.84,9.4,1.28,0.2,0.7,0.53,0.73,0.91,1.37,1.44,1.69,2.2599999999999998,3.78,4.4400000000000004,5.49,10.02,12.98,20.89,22.73,19.82,12.34,25.93]
["Acute myeloïde leukemie",null,2002,1.54,0.59,1.57,1.03,0.41,1.32,1.21,1.33,1.56,3.74,4.17,5.32,7.09,13.17,21.6,22.93,18.78,24.37,23.05,42.46,1.21,0.41,0.82,0.86,1.04,0.77,1.0900000000000001,1.38,1.6,3.48,1.97,5.47,6.27,6.52,12.45,12.87,16.55,11.34,6.55,0,1.37,0.5,1.19,0.94,0.72,1.04,1.1499999999999999,1.36,1.58,3.61,3.07,5.39,6.68,9.85,17.03,17.899999999999999,17.670000000000002,17.850000000000001,14.8,21.23]
["Acute myeloïde leukemie",null,2003,1.1499999999999999,0.6,1.36,1.41,1.02,1.75,0.78,1.19,1.54,2.5299999999999998,3.35,6.33,9.18,12.96,16.63,16.23,27.73,22.12,29.69,0,1,0,0.61,0,0.62,1.38,1.1100000000000001,1.54,1.58,1.72,2.54,5.15,7.65,9.1199999999999992,10.19,16.27,16.48,14.04,4.28,8.91,1.07,0.3,0.99,0.71,0.82,1.57,0.94,1.37,1.56,2.12,2.94,5.74,8.42,11.04,13.41,16.25,22.1,18.079999999999998,16.98,4.45]
["Acute myeloïde leukemie",null,2004,1.1499999999999999,0.4,0.57999999999999996,0.6,0.82,0.8,0.65,1.2,1.52,2.99,4.26,5.03,7.14,13.56,17.57,14.37,31.65,32.85,35.56,0,1.41,0.83,0.61,0,1.04,0.6,1.1499999999999999,1.86,2.81,3.72,2.54,4.97,5.2,9.83,11.78,12.23,18.27,13.19,16.64,0,1.28,0.61,0.59,0.3,0.93,0.7,0.9,1.53,2.16,3.36,3.4,5,6.17,11.69,14.68,13.3,24.96,23.02,26.1,0]
["Acute myeloïde leukemie",null,2005,1.76,0.59,0.97,0.99,0.2,1.21,1.2,1.35,1.2,1.31,2.66,5.6,7.91,8.99,17.739999999999998,24.9,26.73,14.47,13.73,81.27,1.64,0.21,0.41,2.2799999999999998,0.42,1.62,0.35,1.24,3.4,2.33,1.63,3.93,6.52,5.95,9.25,12.17,12.48,14.47,10.15,8.24,1.7,0.4,0.69,1.64,0.31,1.41,0.78,1.3,2.2999999999999998,1.82,2.14,4.7699999999999996,7.22,7.47,13.49,18.53,19.61,14.47,11.94,44.75]
["Acute myeloïde leukemie",null,2006,1.2,0.39,0.99,0.59,0.61,1.21,0.91,1.06,1.65,2.59,2.29,5.44,7.91,13.44,14.52,21.71,14.79,26.75,20.18,39.39,1.47,0.41,0.41,1.23,0.42,0.81,1.83,2.17,2.16,2.46,4.47,4.47,3.87,7.79,8.61,13.89,17.12,9.6999999999999993,15.96,0,1.33,0.4,0.7,0.91,0.52,1.01,1.37,1.62,1.91,2.5299999999999998,3.38,4.95,5.89,10.61,11.57,17.8,15.96,18.22,18.07,19.7]
["Acute myeloïde leukemie",null,2007,1.43,0.19,0.99,0.59,1.02,0.61,0.76,0.62,1.06,2.71,2.8,5.94,5.6,12.54,15.77,22.6,28.14,17.86,19.600000000000001,0,1.07,0.41,0.42,1.23,1.67,0.81,0.96,2.04,1.86,2.75,2.2999999999999998,4.58,3.35,6.57,7,13.39,14.34,14.67,7.82,7.69,1.25,0.3,0.71,0.91,1.34,0.71,0.86,1.33,1.46,2.73,2.5499999999999998,5.26,4.4800000000000004,9.5500000000000007,11.38,17.989999999999998,21.24,16.27,13.71,3.84]
["Acute myeloïde leukemie",null,2008,1.67,0.97,0.4,0.39,0.2,1.61,1.57,0.79,1.06,2.83,3.98,4.75,7.44,10.220000000000001,18.64,27.32,29.03,16.71,6.36,0,0.87,0.2,0.84,0.41,0.61,1.42,1.38,1.76,1.87,2.2400000000000002,3.15,4.2699999999999996,6.11,7.48,9.14,13.29,14.78,20.66,9.6300000000000008,0,1.27,0.57999999999999996,0.62,0.4,0.41,1.51,1.48,1.28,1.47,2.5299999999999998,3.56,4.51,6.78,8.85,13.89,20.3,21.91,18.690000000000001,8,0]
["Acute myeloïde leukemie",null,2009,1.05,0.57999999999999996,0.6,0.57999999999999996,0.39,0.8,1.39,0.99,2.44,2.0099999999999998,2.73,6.61,8.8800000000000008,11.71,14.95,21.59,31.22,20.5,43.05,33.08,0.88,0.41,0.42,0.4,0.2,1.62,1.99,1,2.19,2.36,2.92,4.09,5.71,8.5399999999999991,9.2799999999999994,16.809999999999999,13.35,21.23,9.5,0,0.97,0.49,0.51,0.49,0.3,1.21,1.69,0.99,2.31,2.19,2.83,5.35,7.29,10.130000000000001,12.11,19.2,22.28,20.87,26.27,16.54]
["Acute myeloïde leukemie",null,2010,1.27,0.59,0.59,0.39,1.1599999999999999,1.59,1,2.2599999999999998,1.22,2.2999999999999998,3.36,6.41,8.25,11.37,15.48,18.87,31.52,18.2,22.56,0,0.44,0.21,0,1.01,1.18,0.6,1.2,2.09,1.71,2.65,3.39,4.8099999999999996,4.43,9.33,14.81,14.98,18.21,13.15,7.23,0,0.86,0.4,0.3,0.7,1.17,1.1000000000000001,1.1000000000000001,2.17,1.47,2.48,3.37,5.61,6.34,10.35,15.14,16.93,24.87,15.67,14.89,0]
["Acute myeloïde leukemie",null,2011,1.06,0.4,0.57999999999999996,0.78,1.1399999999999999,0.99,0.99,1.46,1.54,2.44,3.14,4.54,10.28,12.63,20.239999999999998,28.85,28.9,29.31,15.1,0,1.33,0.21,0.41,0.61,0.78,1,0.99,2,1.56,3.27,2.5,3.11,4.6100000000000003,9.75,10.97,13.52,19.75,18.53,10.1,0,1.2,0.3,0.5,0.7,0.96,0.99,0.99,1.73,1.55,2.85,2.82,3.83,7.44,11.19,15.6,21.19,24.32,23.92,12.6,0]
["Acute myeloïde leukemie",null,2012,1.92,0.81,0.77,0.79,0.75,1.56,0.99,1.53,1.71,3.67,3.58,4.8600000000000003,5.27,13.78,19.670000000000002,23.36,29.24,21.2,9.25,0,1.34,1.07,1.41,0.41,0.77,0.99,0.6,0.76,1.26,2.34,3.93,4.1500000000000004,5.67,7.2,8.44,10.97,18.13,16.37,14.34,0,1.63,0.94,1.0900000000000001,0.6,0.76,1.28,0.79,1.1399999999999999,1.48,3.01,3.75,4.5,5.47,10.49,14.06,17.170000000000002,23.68,18.79,11.79,0]
["Acute myeloïde leukemie",null,2013,1.51,0.21,0.57999999999999996,0.59,0.37,0.96,1.19,1.77,0.64,1.38,3.52,4.9800000000000004,9.34,10.89,15.34,21.82,17.79,24.58,25.8,0,1.36,0.22,0.81,1.03,0.76,1.57,0.4,1.76,0.64,2.35,3.55,5.17,4.97,7.41,11.36,13.64,14.86,14.93,6.07,6.15,1.43,0.21,0.69,0.81,0.56999999999999995,1.26,0.79,1.76,0.64,1.87,3.54,5.07,7.15,9.15,13.35,17.73,16.329999999999998,19.760000000000002,15.93,3.07]
["Acute myeloïde leukemie",null,2014,1.31,0.21,0.39,1.17,1.1100000000000001,0.56999999999999995,0.2,1,1.83,1.08,3.63,5.26,8.0399999999999991,14.32,18.88,20.6,26.23,17.05,48.14,0,1.38,0.44,1.01,0.41,0.38,1.35,0.99,2.1800000000000002,1.49,2.35,3.82,3.68,6.7,9.32,13.76,11.98,12.58,9.41,15.94,0,1.34,0.32,0.7,0.79,0.75,0.96,0.6,1.59,1.66,1.72,3.73,4.47,7.37,11.82,16.32,16.29,19.41,13.23,32.04,0]
["Acute myeloïde leukemie",null,2015,1.99,0.21,0.59,0.77,0.37,1.1200000000000001,0.59,1.99,1.92,2.4700000000000002,3.74,5.34,6.49,11.54,13.43,23.79,31.68,23.8,19.21,23.92,2.09,0,0.61,0.2,0.95,1.33,0.59,2.58,1.56,1.72,3.78,4.1399999999999997,5.9,6.74,9.93,10.69,12.51,10.59,9.93,5.72,2.04,0.11,0.6,0.49,0.66,1.23,0.59,2.29,1.74,2.1,3.76,4.74,6.19,9.14,11.68,17.239999999999998,22.1,17.190000000000001,14.57,14.82]
["Acute myeloïde leukemie",null,2016,0.89,1.47,0.99,0.76,0.74,1.46,0.57999999999999996,1.38,1.1000000000000001,2.33,2.64,4.91,7.18,13.1,15.81,29.53,24.77,27.57,7.41,21.5,0.23,0.66,0.83,1,0.56999999999999995,0.56000000000000005,0.39,0.79,1.45,2.34,3.46,4.57,6.01,7.31,11.13,11.13,12.45,11.07,12.72,0,0.56000000000000005,1.07,0.91,0.88,0.66,1.01,0.49,1.0900000000000001,1.28,2.34,3.05,4.74,6.6,10.210000000000001,13.47,20.329999999999998,18.61,19.32,10.07,10.75]
[]
["Long & Luchtpijp",null,1989,0,0,0,0,0,0.46,0.49,3.07,16.12,45.82,100.94000000000001,207.24,330.35,504.85999999999996,699.63,755.51,708.29,497.09,197.33,40.229999999999997,0,0,0,0.18,0.16,0.48,2.04,5.89,9.74,19.78,30.18,53.82,57.11,59.1,57.18,55.93,36.72,37.520000000000003,22.9,0,0,0,0,0.09,0.08,0.47,1.26,4.49,12.93,32.799999999999997,65.56,130.53,193.72,281.98,378.4,405.72,372.51,267.31,110.12,20.12]
["Long & Luchtpijp",null,1990,0,0,0.43,0,0,0.75,2.09,6.3,17.64,36.04,84.98,183.43,342.9,501.71,723.34,850.27,679.01,454.94,224.07,0,0,0,0,0,0,0.79,2.84,3.02,10.48,16.09,32.17,43.63,70.63,62.92,63.89,52.9,51.35,35.08,18.91,0,0,0,0.22,0,0,0.77,2.46,4.66,14.06,26.06,58.580000000000005,113.53,206.76,282.31,393.61,451.59,365.18,245.01,121.49,0]
["Long & Luchtpijp",null,1991,0,0,0.22,0,0.15,0.45,0.79,5.23,15.05,40.89,83.94,199.33,352.87,508.67,723.90000000000009,789.83999999999992,709.93000000000006,463.18,329.69,83.44,0,0,0,0,0.48,0.31,1.81,5.96,8.92,20.7,33.11,49.76,80.680000000000007,68.37,68.31,52.52,43.099999999999994,35.090000000000003,24.11,40.380000000000003,0,0,0.11,0,0.32,0.38,1.3,5.59,11.98,30.8,58.519999999999996,124.55,216.78,288.52,396.1,421.17999999999995,376.51,249.13,176.9,61.91]
["Long & Luchtpijp",null,1992,0,0,0,0,0,0.15,1.55,3.84,14.94,41.88,80.03,193.4,337.96000000000004,501.84,675.49,786.05000000000007,725.41,513.36,264.12,84.23,0,0,0,0,0.16,0,2.2599999999999998,6.23,10.01,17.810000000000002,31.55,52.51,72.05,80.62,69.709999999999994,64.430000000000007,49.910000000000004,36.15,20.13,25.67,0,0,0,0,0.08,7.0000000000000007E-2,1.9,5.03,12.47,29.849999999999998,55.79,122.96,205,291.23,372.59999999999997,425.24,387.67,274.76,142.12,54.95]
["Long & Luchtpijp",null,1993,0,0,0.22,0,0,0.15,1.37,5.44,15.84,36.21,80.63,181.23,341.8,472.15000000000003,633.86,761.36,659.8,480.18,235.97,127.63,0,0,0,0,0,1.1000000000000001,1.59,5.29,11.01,23.41,34.67,53.78,88.12,87.64,74.06,69.47,53,42.18,27.76,0,0,0,0.11,0,0,0.63,1.48,5.37,13.43,29.81,57.65,117.50999999999999,214.96,279.89,353.96000000000004,415.41999999999996,356.4,261.18,131.87,63.82]
["Long & Luchtpijp",null,1994,0,0.21,0,0,0,0.45,0.75,3.57,13.7,33.450000000000003,79.11,189.49,311.36,471.06,635.13,700.15,707.36,539.71,304.06,175.94,0,0,0,0,0.35,0.31,1.25,7.9,11.92,24.35,33.619999999999997,56.96,81.320000000000007,97.29,72.39,72.28,49.92,46.94,13.44,24.17,0,0.1,0,0,0.17,0.38,1,5.73,12.81,28.9,56.37,123.23,196.34,284.18,353.76,386.21,378.64,293.32,158.75,100.05]
["Long & Luchtpijp",null,1995,0,0.21,0,0.21,0.35,0.15,1.63,4.8,13.69,37.67,81.649999999999991,153.69999999999999,305.04999999999995,461.34000000000003,605.17999999999995,760.44,667.78,462.04,221.63,228,0,0,0,0.22,0.36,0.47,1.4,6.62,16.27,21.57,37.58,55.08,81.89,99.55,84.029999999999987,79.460000000000008,64.180000000000007,36.29,20.68,11.71,0,0.1,0,0.22,0.36,0.31,1.51,5.71,14.98,29.62,59.62,104.39,193.48000000000002,280.45,344.61,419.95,365.98,249.16,121.15,119.85]
["Long & Luchtpijp",null,1996,0,0,0.22,0.21,0.37,0,0.74,5.36,14.78,36.950000000000003,78.319999999999993,139.29,291.11,450.95,615.36,743.35,618.53,497.71,286.47000000000003,182.57,0,0,0,0.44,0.19,0.47,1.55,6.03,11.73,26.9,39.35,58.02,80.180000000000007,104.45,89.11999999999999,82.25,59.9,39.57,30.04,11.22,0,0,0.11,0.33,0.28000000000000003,0.24,1.1499999999999999,5.7,13.26,31.919999999999998,58.84,98.66,185.65,277.70000000000005,352.23999999999995,412.81,339.21,268.64000000000004,158.25,96.89]
["Long & Luchtpijp",null,1997,0,0,0,0,0.39,0.31,1.19,3.42,14.82,37.300000000000004,71.11999999999999,143.38,282.14999999999998,465.91,601.25,642.72,617.32000000000005,436.82000000000005,233.15,134.19999999999999,0,0,0,0.22,0,0.48,1.24,7.71,15.92,27.22,43.27,63.4,83.06,112.39,95.2,84.08,63.43,38.97,21.87,0,0,0,0,0.11,0.2,0.39,1.21,5.56,15.37,32.25,57.19,103.39,182.6,289.14999999999998,348.22999999999996,363.39,340.38,237.89,127.51,67.099999999999994]
["Long & Luchtpijp",null,1998,0,0,0,0,0,0.63,0.6,3.21,14.5,29.39,74.010000000000005,143.69999999999999,272.19,426.21999999999997,555.09999999999991,669.6,582.74,455.79,237.5,87.49,0,0,0,0.22,0,0.49,0.78,7.44,17.09,33.44,40.94,64.12,83.61,119.46000000000001,107.71,91.929999999999993,56.68,37.26,11.77,20.73,0,0,0,0.11,0,0.56000000000000005,0.67999999999999994,5.32,15.790000000000001,31.419999999999998,57.47,103.91,177.89,272.83999999999997,331.4,380.76,319.71000000000004,246.53,124.64,54.11]
["Long & Luchtpijp",null,1999,0,0,0,0,0,0.66,2.23,3.46,12.8,26.94,70.429999999999993,137.24,248.72,409.46000000000004,549.73,654.66,582.83000000000004,430.43,228.25,42.75,0,0,0,0,0,0.34,1.25,6.86,15.98,27.77,45.78,65.77,84.2,116.44,113.72,91.58,62.059999999999995,32.090000000000003,13.75,20.170000000000002,0,0,0,0,0,0.5,1.74,5.16,14.39,27.35,58.1,101.5,166.45,262.94,331.72,373.12,322.44,231.26,121,31.47]
["Long & Luchtpijp",null,2000,0,0,0,0.21,0.21,0,0.89,4.9000000000000004,14.19,27.39,64.06,128.48999999999998,230.62,396.71,544.71,617.08000000000004,566.83000000000004,452.21,201.95,170.29,0,0,0,0.22,0.21,0.35,1.71,4.78,14.72,35.07,49.66,64.790000000000006,89.820000000000007,117.61999999999999,126.79,98.66,66.849999999999994,40.549999999999997,15.7,9.76,0,0,0,0.22,0.21,0.18,1.3,4.84,14.45,31.23,56.86,96.63,160.22,257.16000000000003,335.75,357.87,316.83999999999997,246.38,108.82,90.02]
["Long & Luchtpijp",null,2001,0.19,0,0,0.21,0.2,0.36,0.45,4.57,10.46,31.28,65.820000000000007,130.93,217.08,381.25,521.01,594.41,542.80999999999995,347.37,237.43,127.39,0,0,0,0,0,0.18,2.3199999999999998,4.76,17.239999999999998,33.43,47.150000000000006,79.61,91.66,119.06,130.21,100.79,65.83,39.4,22.11,0,0.1,0,0,0.1,0.1,0.27,1.39,4.67,13.85,32.360000000000007,56.49,105.27,154.35999999999999,250.15,325.61,347.6,304.32,193.38,129.77000000000001,63.69]
["Long & Luchtpijp",null,2002,0,0,0,0.21,0.2,0.19,0.75,3.25,10.92,28.590000000000003,65.150000000000006,119.75,225.47,376.59999999999997,519.13,637.55000000000007,540.95000000000005,350.11,253.55,42.46,0,0,0.21,0,0.21,0.19,1.0900000000000001,5.53,16,36.67,51.87,73.069999999999993,90.910000000000011,130.61000000000001,143.07,117.3,69.72,44.47,26.2,9.1199999999999992,0,0,0.1,0.1,0.21,0.19,0.92999999999999994,4.4000000000000004,13.46,32.630000000000003,58.510000000000005,96.41,158.19,253.6,331.11,377.43,305.33999999999997,197.29000000000002,139.88,25.79]
["Long & Luchtpijp",null,2003,0,0,0.19,0,0,0.57999999999999996,1.71,4.6100000000000003,10.91,30.33,66.360000000000014,115.36,197.31,351.38,519.71999999999991,593.34,577.9,429.1,215.22,169.6,0,0.21,0,0,0.42,0.99,1.75,3.86,14.67,40.010000000000005,61.41,81.089999999999989,96.960000000000008,128.21,155.02000000000001,128.28,97.89,49.12,25.68,26.72,0,0.1,0.1,0,0.21,0.79,1.73,4.2300000000000004,12.79,35.180000000000007,63.88,98.22,147.13,239.79,337.37,360.81,337.9,239.11,120.45,98.16]
["Long & Luchtpijp",null,2004,0,0,0,0.4,0.2,0,1.3,3.59,11.99,29.27,68.39,124.05000000000001,213.11,342.28000000000003,514.5,581.01,597.86,407.33,284.48,125.16,0.2,0,0,0,0,0.8,1.81,4.0199999999999996,17.3,41.1,60.12,88,110.91,131.31,150.31,141.93,94.63,60.67,29.13,0,0.1,0,0,0.2,0.1,0.4,1.56,3.8,14.64,35.19,64.25,106.02000000000001,162,236.79,332.41,361.46999999999997,346.24,234,156.81,62.58]
["Long & Luchtpijp",null,2005,0,0,0,0.2,0.2,0.4,0.69000000000000006,3.31,9.18,25.58,64.44,109.32,219.16,325.39000000000004,494.78,572.14,544.65,386.6,288.28000000000003,121.9,0.2,0,0,0,0.21,1.01,1.56,4.0199999999999996,16.54,37.659999999999997,66.16,86.2,113.73,147.32,168.65,156.75,102.64,60.43,32.47,8.24,0.1,0,0,0.1,0.21,0.71,1.1300000000000001,3.6599999999999997,12.86,31.62,65.3,97.76,166.44,236.35000000000002,331.72,364.45,323.65000000000003,223.52,160.38,65.069999999999993]
["Long & Luchtpijp",null,2006,0,0,0.2,0,0.2,0.6,1.82,3.34,10.98,26.69,61.73,120.12,205.20999999999998,318.39000000000004,498.63,609.29,584.31000000000006,458.52000000000004,235.38,118.18,0,0,0,0,0.63,0.61,1.83,3.88,15.6,37.79,71.75,94.09,124.39,147.19999999999999,186.88,164.87,124.48,77.56,43.88,0,0,0,0.1,0,0.42,0.61,1.82,3.61,13.290000000000001,32.24,66.739999999999995,107.1,164.8,232.79999999999998,342.76,387.08,354.39,268.04000000000002,139.63,59.09]
["Long & Luchtpijp",null,2007,0,0,0,0,0,1.21,1.72,3.86,8.76,24.41,61.550000000000004,117.99000000000001,195.73,333.08,487.39,607.21,573.24,455.54,254.84,37.64,0,0,0,0.41,0,0.4,1.72,3.45,16.14,38.21,75.2,93.320000000000007,133.45000000000002,146.37,178.16,191.03,119.33999999999999,71.819999999999993,39.090000000000003,23.07,0,0,0,0.2,0,0.81,1.72,3.66,12.45,31.31,68.37,105.66000000000001,164.58,239.73,332.78,399.12,346.29,263.66999999999996,146.97,30.35]
["Long & Luchtpijp",null,2008,0,0,0,0.39,0,0.6,1.18,5.07,6.99,22.64,59.89,113.92,194.02,316.74,475.41,603.98,604.13,429.57,267.29000000000002,249.51,0,0,0,0.2,0.41,1.01,0.98,4.4800000000000004,14.03,39.919999999999995,75.16,100.25,137.22999999999999,162.63000000000002,196.31,182.42,138.61000000000001,87.8,52.01,0,0,0,0,0.3,0.2,0.81,1.08,4.78,10.51,31.28,67.53,107.08,165.63,239.68,335.86,393.20000000000005,371.37,258.69,159.65,124.75]
["Long & Luchtpijp",null,2009,0.21,0,0.4,0,0.2,1.2,0.99,2.97,9.76,22.15,61.230000000000004,113.37,190.16,323.2,466.63,604.51,596.91,473.14,356.7,396.96,0,0,0,0.2,0.81,0.61,1.2,5.47,15.93,31.84,71.23,105.45,129.72,165.96,192.62,199.99,148.24,83.5,43.68,27.81,0.11,0,0.2,0.1,0.5,0.9,1.1000000000000001,4.22,12.84,27,66.23,109.4,159.94,244.59,329.63,402.24,372.57,278.32,200.19,212.39]
["Long & Luchtpijp",null,2010,0,0,0.39,0.19,0.19,0,1.2,4.8600000000000003,8.4,25.43,54.7,113.26,193.15,312.24,433.7,635.56000000000006,593.74,413.99,332.72,219.64,0,0,0,0.2,0.39,0.2,0.8,6.26,11.69,32,63.3,109.26,149.72,180.64,206.75,206.22000000000003,163.44,101.73,52.43,33.26,0,0,0.2,0.2,0.28999999999999998,0.1,1,5.56,10.039999999999999,28.72,59,111.26,171.44,246.44,320.23,420.89000000000004,378.6,257.86,192.58,126.45]
["Long & Luchtpijp",null,2011,0,0,0,0.39,0.19,0.2,1.39,3.47,11.21,22.59,56.620000000000005,108.48,200.04,303.99,425.03999999999996,581.57999999999993,644.89,457.23,276.91000000000003,60.79,0,0,0.41,0,0.78,1.2,1.39,3.28,11.7,36.72,69.11,113.51,142.38,180.52,197.74,227.3,164.71,119.4,62.31,19.260000000000002,0,0,0.2,0.19,0.48,0.7,1.39,3.37,11.46,29.659999999999997,62.86,111,171.21,242.26000000000002,311.39000000000004,404.44,404.8,288.31,169.61,40.03]
["Long & Luchtpijp",null,2012,0,0,0,0.59,0,0.2,1.58,3.24,9.34,20.65,46.97,107.92,183.03,275.23,396.31,576.1,531.08000000000004,520.20000000000005,221.94,232.52,0.22,0,0,0,0.38,0.4,1.59,3.04,12.41,32.76,68.319999999999993,116.63000000000001,160.9,190.11,212.22,215.6,179.07,98.92,50.99,24.93,0.11,0,0,0.28999999999999998,0.19,0.3,1.59,3.14,10.87,26.709999999999997,57.64,112.27,171.96,232.67,304.27000000000004,395.85,355.08,309.56,136.47,128.72999999999999]
["Long & Luchtpijp",null,2013,0,0,0.19,0,0.56000000000000005,0.96,1.58,3.34,9.58,24.15,52.04,113.87,177.66,270.29000000000002,400.59,512.9,574.04999999999995,483.34,240.76,253.31,0,0,0,0,0.19,0.78,1.79,3.71,11.04,30.38,59.559999999999995,115.65,164.5,196.65,211.21,215.79999999999998,205.49,115.4,54.66,24.59,0,0,0.1,0,0.38,0.87,1.69,3.52,10.31,27.27,55.8,114.76,171.08,233.46,305.89999999999998,364.34999999999997,389.77,299.37,147.71,138.94999999999999]
["Long & Luchtpijp",null,2014,0,0,0,0.2,0.19,0.38,1.78,3.78,10.47,19.760000000000002,43.87,96.37,181.79,266.35999999999996,391.09,494.36,554.59,411.91,224.66,159.87,0.23,0,0,0.21,0,0.38,1.59,3.96,10.61,29.15,64.319999999999993,115.68,163.98,206.69,225.16,204.7,170.11,98.82,56.52,30.12,0.11,0,0,0.2,0.09,0.39,1.68,3.87,10.54,24.46,54.1,106.02000000000001,172.89,236.52,308.13,349.53,362.35,255.37,140.59,95]
["Long & Luchtpijp",null,2015,0,0,0,0.19,0.37,0.19,1.57,2.99,11.01,21.33,47.58,95.92,177.02,273.85999999999996,389.19,478.64,555.37,397.02,219,71.75,0,0,0.2,0.2,0.38,0.19,0.59,4.57,7.46,25.65,63.84,112.18,177.07999999999998,216.81,237.21,229.89000000000001,211.44,108.52,56.74,22.89,0,0,0.1,0.2,0.37,0.19,1.08,3.7800000000000002,9.24,23.49,55.71,104.05,177.04999999999998,245.32999999999998,313.2,354.27000000000004,383.41,252.77,137.87,47.32]
["Long & Luchtpijp",null,2016,0.22,0,0.2,0,0.18,0.18,1.36,3.55,10.81,22.96,46.09,94.09,173.73,257.48,380.7,473.3,508.01,444.76,203.81,85.98,0,0,0.21,0,0.38,0.94,1.37,5.13,11.25,25.32,60,114.2,172.35,213.21,244.8,223.65,196.16,115.21,59.37,16.170000000000002,0.11,0,0.2,0,0.28000000000000003,0.56000000000000005,1.37,4.34,11.03,24.139999999999997,53.04,104.15,173.03,235.35,312.75,348.48,352.08,279.98,131.59,51.08]
["ALL & AML",null,1989,5.54,5.08,2.58,2.2400000000000002,1.4,1.07,1.3,2.0500000000000003,2.8600000000000003,2.4200000000000004,4.5999999999999996,6.12,10.39,15.32,10.59,17.38,18.349999999999998,19.329999999999998,26.910000000000004,40.229999999999997,6.88,2.31,3.1700000000000004,1.08,1.1300000000000001,1.59,1.53,1.79,2.48,2.8,3.9299999999999997,3.8,4.83,5.88,10.7,13.23,7.8199999999999994,14.780000000000001,16.36,0,6.21,3.7,2.88,1.6600000000000001,1.26,1.33,1.42,1.92,2.66,2.5999999999999996,4.2699999999999996,4.9599999999999991,7.6099999999999994,10.610000000000001,10.639999999999999,15.299999999999999,13.09,17.059999999999999,21.64,20.12]
["ALL & AML",null,1990,6.27,4.41,3.47,1.82,2.0100000000000002,0.9,2.09,2.89,1.8,1.93,3.75,6.94,5.6,10.23,19.259999999999998,24.660000000000004,26.58,19.059999999999999,35.85,0,6.54,2.76,2.95,1.52,0.97,1.89,0.84000000000000008,1.77,2.0700000000000003,2.95,2.06,4.6399999999999997,6.24,8.74,6.53,9.73,10.029999999999999,12.06,3.15,0,6.4,3.5900000000000003,3.21,1.67,1.49,1.4,1.46,2.34,1.93,2.44,2.9099999999999997,5.7899999999999991,5.92,9.49,12.9,17.2,18.310000000000002,15.56,19.5,0]
["ALL & AML",null,1991,7.58,3.73,1.29,3.06,2.48,1.79,1.5699999999999998,1.85,1.47,3.24,5.6300000000000008,4.9800000000000004,6.74,11.66,12.8,19.64,25.1,37.699999999999996,8.91,83.44,6,2.06,2.4900000000000002,0.8,2.2599999999999998,0.95000000000000007,0.98,2.1,1.2,2.35,3.2800000000000002,3.55,5.93,7.05,7.71,14.7,13.98,14.88,3.01,0,6.79,2.89,1.89,1.94,2.37,1.37,1.28,1.98,1.34,2.79,4.45,4.26,6.33,9.35,10.25,17.18,19.54,26.3,5.96,41.72]
["ALL & AML",null,1992,6.27,5.2,2.81,4.8099999999999996,1.56,0.89,1.86,3.51,2.02,4.0999999999999996,5.03,7.6899999999999995,10.28,13.77,13.28,15.47,26.950000000000003,29.26,35.22,42.11,6.35,4.97,1.81,1.26,0.81,1.72,1.6099999999999999,1.73,1.23,2.15,2.98,6.83,4.4800000000000004,6.5,14.62,12.14,13.2,9.3000000000000007,5.75,12.84,6.31,5.08,2.31,3.04,1.1800000000000002,1.31,1.74,2.62,1.6300000000000001,3.12,4.01,7.26,7.39,10.130000000000001,13.950000000000001,13.8,20.07,19.27,20.48,27.48]
["ALL & AML",null,1993,5.8000000000000007,3.82,2.59,3.32,2.08,2.09,2.13,1.3099999999999998,2.04,2.63,4.9000000000000004,5.15,10.17,13.05,16.309999999999999,22.970000000000002,17.149999999999999,31.49,26.22,0,4.4000000000000004,3.1,2.2600000000000002,1.94,1.49,0.94,1.43,1.36,2.13,2.39,2.91,2.44,4.2,8.61,11.52,9.68,15.79,15.06,2.78,12.42,5.1100000000000003,3.46,2.4299999999999997,2.63,1.78,1.52,1.7799999999999998,1.34,2.08,2.5099999999999998,3.9000000000000004,3.8000000000000003,7.1800000000000006,10.83,13.91,16.32,16.47,23.27,14.5,6.21]
["ALL & AML",null,1994,7.34,4.8,2.3800000000000003,2.31,2.17,1.5,1.05,0.98,3.09,4.08,5.64,3.99,9.51,10.53,16.190000000000001,24.45,17.87,18.079999999999998,17.37,0,7.69,1.96,2.2600000000000002,1.1000000000000001,2.0699999999999998,0.63,2.0299999999999998,2.35,1.96,1.78,3.53,5.08,4.49,8.9499999999999993,5.74,17.43,12.2,8.8000000000000007,13.44,12.08,7.51,3.38,2.3200000000000003,1.71,2.13,1.06,1.55,1.67,2.52,2.9299999999999997,4.58,4.53,7,9.7399999999999984,10.97,20.94,15.04,13.440000000000001,15.41,6.04]
["ALL & AML",null,1995,7.9399999999999995,4.51,4.33,2.54,1.4100000000000001,1.65,2.08,1.92,2.7399999999999998,3.8000000000000003,3.73,6.75,12.129999999999999,13.51,14.31,23.16,17.57,33,17.05,0,5.62,2.57,1.81,1.7800000000000002,0.72,1.4200000000000002,2.02,1.49,1.95,1.56,4.3600000000000003,4.9800000000000004,6.1899999999999995,7.45,11.37,12.12,10.42,16.23,5.17,0,6.77,3.54,3.07,2.16,1.0699999999999998,1.54,2.04,1.7000000000000002,2.34,2.67,4.04,5.87,9.16,10.479999999999999,12.85,17.650000000000002,14,24.62,11.11,0]
["ALL & AML",null,1996,9.1999999999999993,3.02,3.02,5.07,2.81,2.42,0.8899999999999999,1.89,2.04,1.9900000000000002,3.11,6.1,9.7200000000000006,13.99,18.100000000000001,24.7,26.089999999999996,20.11,25.28,0,7.76,2.95,2.0300000000000002,1.55,2.31,0.94,2.02,2.29,3.1500000000000004,3.4499999999999997,2.16,4.9000000000000004,4.8,8.3000000000000007,8.2799999999999994,15.73,15.79,6.6,0,11.22,8.48,2.99,2.52,3.3100000000000005,2.56,1.68,1.45,2.09,2.6,2.72,2.64,5.5,7.2700000000000005,11.15,13.19,20.21,20.95,13.35,12.64,5.61]
["ALL & AML",null,1997,10.059999999999999,4.1899999999999995,2.77,2.5299999999999998,2.16,1.8399999999999999,1.92,2.33,2.02,3.58,4.1900000000000004,6.47,9.9499999999999993,10.42,14.28,20.71,30.16,22.220000000000002,16.649999999999999,44.73,5.0599999999999996,3.34,2,1.54,2.0099999999999998,1.9100000000000001,2.33,2.73,2.77,3.71,2.98,4.5599999999999996,4.24,6.7799999999999994,7.05,15.639999999999999,13.55,12.99,12.15,0,7.57,3.76,2.39,2.04,2.08,1.88,2.13,2.5300000000000002,2.39,3.6399999999999997,3.5900000000000003,5.52,7.1,8.6,10.66,18.18,21.86,17.600000000000001,14.4,22.37]
["ALL & AML",null,1998,7.43,4.34,3.13,2.54,2.4299999999999997,1.8900000000000001,0.59,1.6800000000000002,2,3.63,4.1400000000000006,2.1799999999999997,10.399999999999999,11.62,14.22,25.69,21.54,9.6,8.19,0,6.7299999999999995,3.0999999999999996,3.06,1.55,1.45,1.29,2.34,3.16,2.73,1.97,4.1100000000000003,6.19,6.45,9.120000000000001,8.7100000000000009,15.89,16.900000000000002,10.91,16.48,10.36,7.08,3.73,3.1,2.04,1.94,1.5899999999999999,1.46,2.42,2.37,2.8,4.13,4.18,8.42,10.379999999999999,11.46,20.79,19.220000000000002,10.25,12.34,5.18]
["ALL & AML",null,1999,9.17,7.25,3.29,2.5299999999999998,1.23,2.13,2.23,2.1,1.9700000000000002,3.12,3.48,5.6199999999999992,9.879999999999999,12.85,21.15,18.540000000000003,25.849999999999998,23.27,24.45,0,4.6000000000000005,2.2599999999999998,1.5,1.54,1.47,1.6800000000000002,2.8000000000000003,0.47,2.52,1.97,3.24,4.5600000000000005,7.7299999999999995,5.89,11.01,16.12,10.98,15.149999999999999,9.16,0,6.88,4.75,2.39,2.04,1.3599999999999999,1.9,2.52,1.29,2.25,2.5500000000000003,3.36,5.09,8.8099999999999987,9.3699999999999992,16.080000000000002,17.330000000000002,18.420000000000002,19.21,16.809999999999999,0]
["ALL & AML",null,2000,7.48,5.48,4.6400000000000006,2.31,2.68,1.21,1.19,1.6400000000000001,1.29,2.77,2.87,5.91,7.99,12.76,14.68,26.009999999999998,20.84,18.18,0,0,7.43,3.07,2.3199999999999998,1.32,1.26,1.06,1.4,1.55,2.48,3.2,4.2,5.38,5.68,8.2799999999999994,10.989999999999998,10.149999999999999,14.56,13.22,8.9700000000000006,0,7.4600000000000009,4.28,3.4800000000000004,1.8199999999999998,1.97,1.1399999999999999,1.2999999999999998,1.5899999999999999,1.8900000000000001,2.9899999999999998,3.54,5.65,6.83,10.52,12.84,18.080000000000002,17.7,15.700000000000001,4.49,0]
["ALL & AML",null,2001,8.5300000000000011,4.9300000000000006,3.96,2.71,2.66,2.1800000000000002,1.79,2.21,2.2199999999999998,2.75,5.2399999999999993,6.4300000000000006,7.8000000000000007,16.22,17.59,32.47,32.51,29.13,15.83,42.46,7.7200000000000006,2.89,1.03,0.66,2.31,1.29,1.55,1.69,2.27,2.46,3.66,3.9699999999999998,4.79,5.04,10.93,10.229999999999999,14,11.39,8.84,9.4,8.1199999999999992,3.9000000000000004,2.5,1.69,2.48,1.73,1.6700000000000002,1.96,2.25,2.61,4.46,5.2,6.29,10.629999999999999,14.26,21.35,23.25,20.260000000000002,12.34,25.93]
["ALL & AML",null,2002,8.83,6.13,4.9000000000000004,2.2599999999999998,1.63,2.2599999999999998,1.81,1.6300000000000001,1.87,4.42,4.6899999999999995,6.3000000000000007,7.6099999999999994,14.46,23.17,23.48,21.6,26.59,23.05,42.46,4.83,2.2800000000000002,2.46,1.51,1.6600000000000001,1.1499999999999999,1.4000000000000001,1.38,2.08,3.65,3.04,6.08,6.7899999999999991,8,13.09,13.239999999999998,18.05,13.96,8.73,0,6.83,4.21,3.67,1.88,1.6400000000000001,1.7000000000000002,1.6099999999999999,1.51,1.98,4.04,3.87,6.1899999999999995,7.1999999999999993,11.23,18.130000000000003,18.36,19.830000000000002,20.270000000000003,15.89,21.23]
["ALL & AML",null,2003,8.99,4.17,4.28,3.84,3.06,2.14,1.87,1.64,2.46,2.6999999999999997,4.41,6.8900000000000006,10.199999999999999,13.280000000000001,18.18,16.23,32.200000000000003,24.330000000000002,29.69,0,8.42,3.53,3.6599999999999997,1.27,1.04,2.5599999999999996,1.9000000000000001,2.16,2.0499999999999998,2.2400000000000002,3.26,5.53,8.16,10,12.1,17.38,17.45,14.04,4.28,8.91,8.6999999999999993,3.8499999999999996,3.9800000000000004,2.56,2.0499999999999998,2.3600000000000003,1.88,1.9000000000000001,2.2599999999999998,2.46,3.83,6.21,9.19,11.639999999999999,15.14,16.8,24.82,19.189999999999998,16.98,4.45]
["ALL & AML",null,2004,6.92,3.96,3.68,1.7999999999999998,1.8399999999999999,1.2000000000000002,1.1400000000000001,2.1,2.4300000000000002,3.3200000000000003,4.62,5.57,7.88,13.870000000000001,19.100000000000001,16.5,32.51,35.04,35.56,0,6.8500000000000005,2.4899999999999998,2.0299999999999998,1.26,1.25,0.8,1.3099999999999998,2.3200000000000003,3.2800000000000002,4.4000000000000004,2.9,5.52,5.45,10.41,12.1,12.97,19.21,13.19,18.72,0,6.8900000000000006,3.2199999999999998,2.8499999999999996,1.53,1.54,1,1.23,2.21,2.85,3.86,3.76,5.55,6.66,12.129999999999999,15.6,14.73,25.86,24.11,27.14,0]
["ALL & AML",null,2005,9.19,4.72,3.7,3.1799999999999997,1.43,1.81,1.3699999999999999,1.9500000000000002,1.65,1.9700000000000002,3.1900000000000004,5.9499999999999993,8.6300000000000008,10.19,17.739999999999998,28.009999999999998,28.4,14.47,13.73,81.27,7.9899999999999993,4.13,1.23,3.53,0.84,2.23,0.52,2.0099999999999998,3.71,2.66,2.17,4.82,7,7.08,9.57,13.65,13.4,15.32,12.18,8.24,8.59,4.42,2.46,3.36,1.1299999999999999,2.0099999999999998,0.95000000000000007,1.99,2.6799999999999997,2.31,2.68,5.39,7.8199999999999994,8.64,13.65,20.82,20.91,14.9,12.95,44.75]
["ALL & AML",null,2006,7.4,4.68,3.75,2.56,1.8399999999999999,2.02,1.27,1.82,1.65,3.5599999999999996,2.64,5.9700000000000006,8.14,14.02,14.889999999999999,22.720000000000002,18.899999999999999,30.57,26.91,39.39,7.13,3.47,2.68,2.67,1.47,1.42,2.2000000000000002,2.79,2.31,3.28,4.6499999999999995,5.1899999999999995,5.46,8.6199999999999992,9.57,14.620000000000001,20.36,11.32,17.95,0,7.26,4.08,3.21,2.61,1.66,1.72,1.73,2.31,1.99,3.4299999999999997,3.65,5.57,6.8,11.32,12.23,18.670000000000002,19.630000000000003,20.939999999999998,22.43,19.7]
["ALL & AML",null,2007,6.54,5.23,2.98,2.7399999999999998,2.65,1.01,1.52,1.08,1.36,3.35,3.15,6.66,6.22,14.25,16.5,24.57,28.94,17.86,19.600000000000001,0,7.07,3.66,2.71,2.0499999999999998,2.92,1.42,1.3399999999999999,2.67,2.33,3.07,3.1799999999999997,4.95,5.4399999999999995,7.3900000000000006,7.95,14.84,15.73,15.44,7.82,7.69,6.8,4.4399999999999995,2.85,2.39,2.7800000000000002,1.22,1.43,1.8800000000000001,1.8399999999999999,3.21,3.17,5.8,5.8400000000000007,10.82,12.22,19.7,22.34,16.66,13.71,3.84]
["ALL & AML",null,2008,6.67,6.1899999999999995,2.79,3.3000000000000003,1,1.61,1.96,1.9000000000000001,1.52,4.25,4.1500000000000004,5.48,8.0300000000000011,11.600000000000001,19,29.240000000000002,32.950000000000003,16.71,6.36,0,7.63,4.45,2.5099999999999998,1.22,1.22,2.23,1.38,2.56,2.4900000000000002,2.72,3.5,4.6399999999999997,6.7,8.82,10.4,13.649999999999999,14.78,22.14,11.56,0,7.15,5.32,2.65,2.2600000000000002,1.1199999999999999,1.92,1.68,2.23,2.0099999999999998,3.4799999999999995,3.8200000000000003,5.0599999999999996,7.37,10.209999999999999,14.700000000000001,21.44,23.87,19.43,8.9600000000000009,0]
["ALL & AML",null,2009,7.58,4.08,2.79,2.3199999999999998,1.1800000000000002,1.8,2.19,2.31,3.05,2.78,3.07,7.53,9.82,12.770000000000001,16.689999999999998,23,32.74,20.5,43.05,33.08,5.07,2.6500000000000004,1.46,1.81,0.8,2.63,2.39,1,2.5,2.36,3.61,4.46,7.04,9.0599999999999987,10.209999999999999,17.88,13.35,23.35,9.5,0,6.33,3.3600000000000003,2.12,2.0700000000000003,1,2.21,2.29,1.65,2.77,2.58,3.34,6,8.43,10.920000000000002,13.44,20.439999999999998,23.040000000000003,21.93,26.27,16.54]
["ALL & AML",null,2010,7.1899999999999995,3.15,3.7399999999999998,2.9,2.9,2.98,2,2.78,1.53,3.2199999999999998,3.86,6.96,9.17,12.149999999999999,18.170000000000002,18.87,34.450000000000003,18.2,28.2,0,8.6399999999999988,3.09,1.24,1.82,2.17,0.6,1.4,2.09,2.02,2.96,3.56,5.18,5.54,9.58,16.32,16.05,20.490000000000002,13.84,7.23,0,7.92,3.12,2.5,2.36,2.5300000000000002,1.8,1.7000000000000002,2.4299999999999997,1.78,3.1,3.71,6.07,7.35,10.86,17.240000000000002,17.47,27.470000000000002,16.02,17.71,0]
["ALL & AML",null,2011,6.7900000000000009,3.4,3.11,4.09,1.9,1.98,1.19,2.0099999999999998,2.15,3.51,3.47,5.27,10.649999999999999,14.09,20.889999999999997,29.3,31.009999999999998,29.31,15.1,0,8,3.56,2.8600000000000003,2.65,1.75,1.2,1.3900000000000001,2.1800000000000002,2.0300000000000002,3.43,3.33,3.84,5.3500000000000005,10.94,12.450000000000001,13.879999999999999,21.1,18.53,10.1,0,7.4,3.48,2.99,3.38,1.8199999999999998,1.58,1.29,2.09,2.09,3.46,3.4,4.5600000000000005,7.99,12.51,16.669999999999998,21.59,26.05,23.92,12.6,0]
["ALL & AML",null,2012,6.83,4.07,4.25,3.15,2.63,2.34,1.98,2.1,1.8699999999999999,4.13,4.07,5.4,5.83,15.34,20.3,23.36,29.919999999999998,21.2,13.870000000000001,0,6.71,4.4800000000000004,3.4299999999999997,1.23,1.1499999999999999,0.99,1,1.71,1.57,3.12,4.26,5.23,6.8,8.07,9.6,11.32,19.009999999999998,16.37,14.34,0,6.77,4.2799999999999994,3.84,2.19,1.89,1.67,1.48,1.9,1.71,3.63,4.16,5.3100000000000005,6.3199999999999994,11.7,14.96,17.350000000000001,24.46,18.79,14.1,0]
["ALL & AML",null,2013,9.06,4.7699999999999996,3.66,2.75,1.4900000000000002,1.54,2.1799999999999997,1.97,1.6,1.8399999999999999,3.68,6.23,10.86,11.520000000000001,15.95,23.53,18.45,24.58,30.1,0,5.8900000000000006,2.39,2.62,2.6799999999999997,0.95,1.77,0.8,2.35,1.1200000000000001,3.13,3.8699999999999997,5.88,5.35,7.62,12.209999999999999,14.34,15.299999999999999,15.61,6.07,6.15,7.47,3.58,3.14,2.71,1.23,1.65,1.48,2.15,1.3599999999999999,2.4900000000000002,3.7800000000000002,6.0500000000000007,8.1,9.57,14.08,18.940000000000001,16.88,20.100000000000001,18.079999999999998,3.07]
["ALL & AML",null,2014,7.2100000000000009,3.77,3.0900000000000003,5.28,1.6700000000000002,1.52,1.5799999999999998,1.8,2.83,2.16,4.26,5.79,8.61,14.72,19.759999999999998,22.66,27.51,17.05,48.14,0,8.26,3.08,2.42,1.03,1.52,1.7400000000000002,1.78,3.17,2.15,2.5100000000000002,4.1399999999999997,4.5600000000000005,6.8900000000000006,10.31,15.14,13.01,13.01,9.41,15.94,0,7.7299999999999995,3.42,2.76,3.15,1.6,1.63,1.69,2.48,2.4899999999999998,2.34,4.2,5.17,7.75,12.52,17.45,17.829999999999998,20.27,13.23,32.04,0]
["ALL & AML",null,2015,10.4,5.04,3.52,3.48,0.55000000000000004,1.87,1.37,2.79,2.9699999999999998,3.0900000000000003,4.83,5.68,6.87,12.129999999999999,15.43,24.189999999999998,32.299999999999997,23.8,19.21,23.92,8.129999999999999,2.86,2.4500000000000002,1.21,1.71,1.9,0.99,3.18,2.25,1.72,4.25,4.66,6.4700000000000006,6.9300000000000006,10.199999999999999,12.03,13.8,11.25,9.93,5.72,9.26,3.96,2.99,2.35,1.1299999999999999,1.8900000000000001,1.18,2.99,2.61,2.41,4.54,5.17,6.67,9.5300000000000011,12.809999999999999,18.11,23.060000000000002,17.52,14.57,14.82]
["ALL & AML",null,2016,7.3599999999999994,6.09,1.98,4.37,1.6600000000000001,2.0099999999999998,1.1599999999999999,1.77,1.6500000000000001,3.1100000000000003,3.42,5.76,8.5,14.66,17.150000000000002,30.3,25.37,28.77,7.41,21.5,5.16,3.75,2.7,2,1.33,0.75,0.39,0.99,1.63,2.65,4.25,5.42,6.76,7.89,12.9,11.46,13.739999999999998,12.370000000000001,12.72,0,6.26,4.92,2.34,3.19,1.5,1.38,0.78,1.3900000000000001,1.65,2.88,3.83,5.59,7.64,11.280000000000001,15.020000000000001,20.88,19.559999999999999,20.57,10.07,10.75]